{"text_format":"1","workbook":"xlsx","n_sheets":14,"sheets":["T","U","C","Prefiltro","Propuesta de Certificados","Formato 1","Formato 2","Formato 3","Formato 4","Formato 5","Formato 6","Formato 7","ESCOMBRERA","Etapa A4 A5"],"not_rendered":{"charts":2,"images":0,"macros":1,"external_links":0,"defined_names":71,"comments":2,"pivot_tables":0},"unopened":[],"bounds":{"document_bytes":16777216,"sheet_cells":100000,"rows_first":2000,"rows_last":500,"rows_between":2000,"halvings":0,"cell_chars":16384,"cell_head_chars":4096},"cells_cut":0,"cells_raw":0,"read":"whole","date_system":"1900"}

{"sheet":"T","index":0,"n_rows":676,"n_cols":37,"rows_kept":676,"cut":false,"hidden":true,"merged":[[503,0,503,2],[504,0,504,2],[538,0,538,3]]}
["INFORMACIÓN TABLAS",null,null,null,null,null,null,null,null,null,null,null,null,null,null,null,null,null,null,null,null,null,null,null,null,null,null,null,null,null,null,null,null,null,null,null,0]
[null,null,null,null,null,null,null,null,null,null,null,null,null,null,null,null,null,null,null,null,null,null,null,null,null,null,null,null,null,null,null,null,null,null,null,0,0.05]
[null,"I+",null,"I+ TRADICIONAL","TRADICIONAL",null,null,null,null,null,null,null,null,null,null,null,null,null,null,"HABIDO",null,null,null,null,null,null,null,null,null,null,null,null,"ARBOLES",null,null,1,{"$f":"AK2+0.05","v":0.1}]
[null,"II+",null,"II+ TRADICIONAL","TRADICIONAL",null,null,"ABANCAY ",null,null,"BAJO",null,null,null,"1 Litoral tropical","C","1 2a 3b2",null,null,"NO HABIDO",null,null,null,null,"Color","Refl. %",null,null,"Material (temperatura del material)","Emisividad",null,null,"alamo",null,null,2,{"$f":"AK3+0.05","v":0.15000000000000002}]
[null,"III+",null,"III+ TRADICIONAL","TRADICIONAL",null,null,"ANDAHUAYLAS ",null,null,"MEDIO",null,null,null,"2a Litoral subtropical Norte","C","1 2a 3b2",null,null,"NO HALLADO",null,null,null,null,"Blanco",0.8,null,null,"Acero laminado en frío (93 °C)",0.8,null,null,"algarrobo",null,null,3,0.2]
[null,"NO APLICA",null,"I+ INTERNACIONAL","INTERNACIONAL",null,null,"AREQUIPA ",null,null,"ALTO",null,null,null,"2b Litoral subtropical Centro","B","2b",null,null,null,null,null,null,null,"Vidrio plateado",0.8,null,null,"Acero oxidado (200 °C)",0.79,null,null,"calistemo",null,null,4,0.25]
[null,1,null,"II+ INTERNACIONAL","INTERNACIONAL",null,null,"AYACUCHO ",null,null,null,null,null,null,"2c Litoral subtropical Sur","B","2c",null,null,"ACTIVO",null,null,null,null,"Aluminio pulido",0.8,null,null,"Aluminio muy pulido (100 °C)",0.09,null,null,"caoba",null,null,5,0.3]
[null,2,null,"III+ INTERNACIONAL","INTERNACIONAL",null,null,"BAGUA ",null,null,null,null,null,null,"3a Desértico Alto","A","3a",null,null,"SUSPENSIÓN TEMPORAL",null,null,null,null,"Crema claro",0.7,null,null,"Arcilla (70 °C)",0.91,null,null,"casuarina",null,null,6,0.35]
[null,null,null,null,null,null,null,"BARRANCA ",null,null,"Anteproyecto en consulta",null,null,null,"3b1 Desértico Bajo","A","3b1",null,null,"BAJA PROVISIONAL",null,null,null,null,"Marmol blanco",0.6,null,null,"Asfalto",0.9,null,null,"caucho",null,null,7,0.39999999999999997]
[null,"Etapas",null,"TRADICIONAL",null,null,null,"CAJAMARCA ",null,null,"Licencia de edificación",null,null,null,"3b2 Desértico Bajo Norte ","C","1 2a 3b2",null,null,"BAJA DEFINITIVA",null,null,null,null,"Aluminio mate",0.55000000000000004,null,null,"Caucho, blando, gris (23 °C)",0.89,null,null,"cedro",null,null,8,0.44999999999999996]
[null,"Sectores",null,"INTERNACIONAL",null,null,null,"CALLAO ",null,null,null,null,null,null,"4a1 Continental templado Occidental (entre 500 y 1000 msnm)","B","4a",null,null,"BAJA PROVISIONAL DE OFICIO",null,null,null,null,"Acero pulido",0.55000000000000004,null,null,"Cinc oxidado",0.1,null,null,"ceibo",null,null,9,0.49999999999999994]
[null,"Torres",null,null,null,null,null,"CAMANA ",null,null,null,null,null,null,"4a2 Continental templado Occidental (entre 1000 y 2000 msnm)","B","4a",null,null,"BAJA DEFINITIVA DE OFICIO",null,null,null,null,"Amarillo claro",0.5,null,null,"Cobre ligeramente deslustrado (20 °C)",0.04,null,null,"cipres",null,null,10,0.54999999999999993]
[null,"Edificios",null,null,null,null,null,"CASMA ",null,null,null,null,null,null,"4b Continental templado Oriental-Ceja de Selva (entre 1500 y 2000 msnm)","B","4b",null,null,null,null,null,null,null,"Celeste claro",0.5,null,null,"Cobre oxidado (130 °C)",0.76,null,null,"eucalipto de costa ",null,null,11,0.6]
[null,"Otro",null,null,null,null,null,"CASTILLA _ APLAO ",null,null,null,null,null,null,"5 Continental frío","D",5,null,null,"DNI  DOCUMENTO NACIONAL DE IDENTIDAD",null,null,null,null,"Verde claro",0.45,null,null,"Corcho (20 °C)",0.7,null,null,"eucalipto de sierra",null,null,12,0.65]
[null,null,null,null,null,null,null,"CAÑETE ",null,null,null,null,null,null,"6 Continental muy frío","E",6,null,null,"CE  CARNÉ DE EXTRANJERÍA",null,null,null,null,"Gris claro",0.45,null,null,"Cristal (90 °C)",0.94,null,null,"falso boliche",null,null,13,0.70000000000000007]
[null,"SI",null,null,null,null,null,"CHACHAPOYAS ",null,null,null,null,null,null,"7 Selva tropical alta hasta 1500 msnm","C",7,null,null,"PASAP.  PASAPORTE",null,null,null,null,"Rosa claro",0.45,null,null,"Cromo (40 °C)",0.08,null,null,"ficus",null,null,14,0.75000000000000011]
[null,"NO",null,null,null,null,null,"CHEPEN ",null,null,null,null,null,null,"8 Selva tropical baja","C",7,null,null,"PTP  PERMISO TEMPORAL DE PERMANENCIA ",null,null,null,null,"Amarillo oscuro",0.4,null,null,"Goma dura (23 °C)",0.94,null,null,"fresno",null,null,15,0.80000000000000016]
[null,null,null,null,null,null,null,"CHICLAYO ",null,null,null,null,null,null,null,null,null,null,null,null,null,null,null,null,"Revoque claro",0.35,null,null,"Granito (20 °C)",0.45,null,null,"graviela",null,null,16,0.8500000000000002]
[null,null,null,null,null,null,null,"CHIMBOTE ",null,null,null,null,null,null,"Zona 1 (Desértico Marino)",null,null,null,null,null,null,null,null,null,"Marrón claro",0.3,null,null,"Hielo liso (0 °C)",0.97,null,null,"huaranguillo",null,null,17,0.90000000000000024]
[null,"Encimera / Cocina a gas propietario",null,null,null,null,null,"CHINCHA ",null,null,null,null,null,null,"Zona 2 (Desértico)",null,null,null,null,"Goteo estándar",0.7,null,null,null,"Concreto claro",0.3,null,null,"Hierro con costra de fundición (100 °C)",0.8,null,null,"huaranhuay",null,null,18,0.95000000000000029]
[null,"Encimera eléctrica por inducción",null,null,null,null,null,"CHOTA ",null,null,null,null,null,null,"Zona 3 (Interandino Bajo)",null,null,null,null,"Aspersión fija",0.9,null,null,null,"Ladrillo claro",0.3,null,null,"Concreto (25 °C)",0.93,null,null,"jacaranda",null,null,19,1.0000000000000002]
[null,null,null,null,null,null,null,"CUSCO ",null,null,null,null,null,null,"Zona 4 (Meso andino)",null,null,null,null,"Microaspersión",0.7,null,null,null,"Madera clara",0.3,null,null,"Ladrillo en general, mortero, revoque (20 °C)",0.93,null,null,"melia",null,null,20]
[null,null,null,null,null,null,null,"ESPINAR ",null,null,null,null,null,null,"Zona 5 (Alto andino)",null,null,null,null,"Rotatorio",0.7,null,null,null,"Revoque oscuro",0.2,null,null,"Latón oxidado (200 °C)",0.61,null,null,"mimosa",null,null,21]
[null,null,null,null,null,null,null,"HUACHO ",null,null,null,null,null,null,"Zona 6 (Nevado)",null,null,null,null,null,null,null,null,null,"Concreto oscuro",0.15,null,null,"Madera (70 °C)",0.94,null,null,"mioporo",null,null,22]
[null,null,null,null,null,null,null,"HUAMACHUCO ",null,null,null,null,null,null,"Zona 7 (Ceja de Montaña)",null,null,null,null,null,null,null,null,null,"Ladrillo oscuro",0.15,null,null,"Mampostería (40 °C)",0.93,null,null,"molle costeño",null,null,23]
[null,null,null,null,null,null,null,"HUANCAVELICA ",null,null,null,null,null,null,"Zona 8 (Subtropical Húmedo)",null,null,null,null,null,null,null,null,null,"Granito",0.15,null,null,"Mármol blanco (40 °C)",0.95,null,null,"molle peruano",null,null,24]
[null,null,null,null,null,null,null,"HUANCAYO ",null,null,null,null,null,null,"Zona 9 (Tropical Húmedo)",null,null,null,null,null,null,null,null,null,"Gris oscuro",0.1,null,null,"Papel (20 °C)",0.97,null,null,"mora",null,null,25]
[null,null,null,null,null,null,null,"HUANTA ",null,null,null,null,null,null,null,null,null,null,null,"Alto requerimiento (hídrico - Césped)",0.8,null,null,null,"Verde oscuro",0.1,null,null,"Piedra arenisca o gres (40 °C)",0.67,null,null,"oreja de negro",null,null,26]
[null,null,null,null,null,null,null,"HUANUCO ",null,null,null,null,null,null,null,null,null,null,null,"Requerimientos medios",0.5,null,null,null,"Azul oscuro",0.1,null,null,"Plásticos: PE, PP, PVC (20 °C)",0.94,null,null,"palmera abanico",null,null,27]
[null,null,null,null,null,null,null,"HUARAL ",null,null,null,null,null,null,"Calentadores de paso GN",null,null,null,null,"Bajo requermiento hídrico",0.2,null,null,null,"Rojo oscuro",0.1,null,null,"Plomo (40 °C)",0.43,null,null,"palmera fenix",null,null,28]
[null,"No aplica porque no tiene área verde o se encuentra fuera de los parámetros mínimos",null,null,null,null,null,"HUARAZ ",null,null,null,null,null,null,"Calentador centralizado a GN",null,null,null,null,null,null,null,null,null,"Madera oscura",0.1,null,null,"Plomo oxidado (40 °C)",0.43,null,null,"palmera hawaiana",null,null,29]
[null,"No, porque contará con un sistema de riego tecnificado.",null,null,null,null,null,"ICA ",null,null,null,null,null,null,"Calentadores de paso GLP",null,null,null,null,null,null,null,null,null,"Negro",0.05,null,null,"Plomo, gris oxidado (40 °C)",0.28000000000000003,null,null,"palmera robelina",null,null,30]
[null,"Si",null,null,null,null,null,"ILO ",null,null,null,null,null,null,"Calentador centralizado a GLP",null,null,null,null,null,null,null,null,null,null,null,null,null,"Porcelana (20 °C)",0.92,null,null,"palmera roja",null,null,31]
[null,null,null,null,null,null,null,"ISLAY _ MOLLENDO ",null,null,null,null,null,null,"Calentador de paso (electricidad)",null,null,null,null,null,null,null,null,null,null,null,null,null,null,null,null,null,"palmera verde",null,null,32]
[null,null,null,null,null,null,null,"JAEN ",null,null,null,null,null,null,"Calentador de acumulación (electricidad)",null,null,null,null,null,null,null,null,null,null,null,null,null,null,null,null,null,"papelillo",null,null,33]
[null,"Si",null,null,null,null,null,"JUANJUI ",null,null,null,null,null,null,"Bomba de calor ACS (electricidad)",null,null,null,null,null,null,null,null,null,null,null,null,null,null,null,null,null,"parkinsonia",null,null,34]
[null,"No",null,null,null,null,null,"JULIACA ",null,null,null,null,null,null,null,null,null,null,null,null,null,null,null,null,null,null,null,null,null,null,null,null,"ponciana",null,null,35]
[null,null,null,null,null,null,null,"LA MERCED (SELVA CENTRAL) ",null,null,null,null,null,null,null,null,null,null,null,null,null,null,null,null,null,null,null,null,null,null,null,null,"sauce",null,null,36]
[null,null,null,null,null,null,null,"LIMA ",null,null,null,null,null,null,null,null,null,null,null,null,null,null,null,null,null,null,null,null,null,null,null,null,"sauce lloron",null,null,37]
[null,"Si, para riego de áreas verdes",null,null,null,null,null,"MADRE DE DIOS ",null,null,null,null,null,null,null,null,null,null,null,null,null,null,null,null,null,null,null,null,null,null,null,null,"tarnarix",null,null,38]
[null,"Si, para arrastre hidráulico de excretas",null,null,null,null,null,"MAYNAS ",null,null,null,null,null,null,null,null,null,null,null,null,null,null,null,null,null,null,null,null,null,null,null,null,"tara",null,null,39]
[null,"Si, para riego y arrastre hidráulico",null,null,null,null,null,"MOQUEGUA ",null,null,null,null,null,null,null,null,null,null,null,null,null,null,null,null,null,null,null,null,null,null,null,null,"tipa",null,null,40]
[null,"No aplica porque no tiene área verde o se encuentra fuera de los parámetros mínimos",null,null,null,null,null,"MOYOBAMBA ",null,null,null,null,null,null,null,null,null,null,null,null,null,null,null,null,null,null,null,null,null,null,null,null,"tulipan africano",null,null,41]
[null,"No, porque contará con un sistema de riego tecnificado.",null,null,null,null,null,"NAZCA ",null,null,null,null,null,null,null,null,null,null,null,null,null,null,null,null,null,null,null,null,null,null,null,null,null,null,null,42]
[null,null,null,null,null,null,null,"OTUZCO ",null,null,null,null,null,null,null,null,null,null,null,null,null,null,null,null,null,null,null,null,null,null,null,null,null,null,null,43]
[null,null,null,null,null,null,null,"PASCO ",null,null,null,null,null,null,null,null,null,null,null,null,null,null,null,null,null,null,null,null,null,null,null,null,null,null,null,44]
[null,null,null,null,null,null,null,"PISCO ",null,null,null,null,null,null,null,null,null,null,null,null,null,null,null,null,null,null,null,null,null,null,null,null,null,null,null,45]
[null,null,null,null,null,null,null,"PIURA ",null,null,null,null,null,null,null,null,null,null,null,null,null,null,null,null,null,null,null,null,null,null,null,null,null,null,null,46]
[null,null,null,null,null,null,null,"PUCALLPA ",null,null,null,null,null,null,null,null,null,null,null,null,null,null,null,null,null,null,null,null,null,null,null,null,null,null,null,47]
[null,null,null,null,null,null,null,"PUNO ",null,null,null,null,null,null,null,null,null,null,null,null,null,null,null,null,null,null,null,null,null,null,null,null,null,null,null,48]
[null,null,null,null,null,null,null,"QUILLABAMBA ",null,null,null,null,null,null,null,null,null,null,null,null,null,null,null,null,null,null,null,null,null,null,null,null,null,null,null,49]
[null,null,null,null,null,null,null,"SAN PEDRO ",null,null,null,null,null,null,null,null,null,null,null,null,null,null,null,null,null,null,null,null,null,null,null,null,null,null,null,50]
[null,null,null,null,null,null,null,"SATIPO "]
[null,null,null,null,null,null,null,"SICUANI "]
[null,null,null,null,null,null,null,"SULLANA "]
[null,null,null,null,null,null,null,"TACNA "]
[null,null,null,null,null,null,null,"TARAPOTO "]
[null,null,null,null,null,null,null,"TARMA "]
[null,null,null,null,null,null,null,"TINGO MARIA "]
[null,null,null,null,null,null,null,"TRUJILLO "]
[null,null,null,null,null,null,null,"TUMBES "]
[null,null,null,null,null,null,null,"YURIMAGUAS"]
[]
[]
[null,null,null,null,null,"111 - CULTIVO DE CEREALES (EXCEPTO ARROZ), LEGUMBRES Y SEMILLAS OLEAGINOSAS"]
[null,null,null,null,null,"112 - CULTIVO DE ARROZ"]
[null,null,null,null,null,"113 - CULTIVO DE HORTALIZAS Y MELONES, RAÍCES Y TUBÉRCULOS."]
[null,null,null,null,null,"114 - CULTIVO DE CAÑA DE AZÚCAR"]
[null,null,null,null,null,"115 - CULTIVO DE TABACO"]
[null,null,null,null,null,"116 - CULTIVO DE PLANTAS DE FIBRA"]
[null,null,null,null,null,"119 - CULTIVO DE OTRAS PLANTAS NO PERENNES"]
[null,null,null,null,null,"121 - CULTIVO DE UVA"]
[null,null,null,null,null,"122 - CULTIVO DE FRUTAS TROPICALES Y SUBTROPICALES"]
[null,null,null,null,null,"123 - CULTIVO DE  CÍTRICOS"]
[null,null,null,null,null,"124 - CULTIVO DE FRUTAS DE PEPITA Y DE HUESO"]
[null,null,null,null,null,"125 - CULTIVO DE OTROS FRUTOS Y NUECES DE ÁRBOLES Y ARBUSTOS "]
[null,null,null,null,null,"126 - CULTIVO DE FRUTOS OLEAGINOSOS"]
[null,null,null,null,null,"127 - CULTIVO DE PLANTAS CON LAS QUE SE PREPARAN BEBIDAS"]
[null,null,null,null,null,"128 - CULTIVO DE ESPECIAS Y DE PLANTAS AROMÁTICAS, MEDICINALES Y FARMACEUTICAS"]
[null,null,null,null,null,"129 - CULTIVO DE OTRAS PLANTAS NO PERENNES"]
[null,null,null,null,null,"130 - PROPAGACIÓN DE PLANTAS"]
[null,null,null,null,null,"141 - CRÍA DE GANADO BOVINO Y BÚFALOS"]
[null,null,null,null,null,"142 - CRÍA DE CABALLOS Y OTROS EQUINOS"]
[null,null,null,null,null,"143 - CRÍA DE CAMELLOS Y OTROS CAMÉLIDOS"]
[null,null,null,null,null,"144 - CRÍA DE OVEJAS Y CABRAS"]
[null,null,null,null,null,"145 - CRÍA DE CERDOS"]
[null,null,null,null,null,"146 - CRÍA DE AVES DE CORRAL"]
[null,null,null,null,null,"149 - CRÍA DE OTROS ANIMALES"]
[null,null,null,null,null,"150 - CULTIVO DE PRODUCTOS AGRÌCOLAS EN COMBINACIÒN CON LA CRÌA DE ANIMALES"]
[null,null,null,null,null,"161 - ACTIVIDADES DE APOYO A LA AGRICULTURA"]
[null,null,null,null,null,"162 - ACTIVIDADES DE APOYO A LA GANADERÍA"]
[null,null,null,null,null,"163 - ACTIVIDADES POSCOSECHA"]
[null,null,null,null,null,"164 - TRATAMIENTO DE SEMILLAS PARA PROPAGACIÓN"]
[null,null,null,null,null,"170 - CAZA ORDINARIA Y MEDIANTE TRAMPAS Y ACTIVIDADES DE SERVICIOS CONEXAS"]
[null,null,null,null,null,"210 - SILVICULTURA Y OTRAS ACTIVIDADES FORESTALES"]
[null,null,null,null,null,"220 - EXTRACCIÓN DE MADERA"]
[null,null,null,null,null,"230 - RECOLECCIÓN DE PRODUCTOS FORESTALES DISTINTOS DE LA MADERA"]
[null,null,null,null,null,"240 - SERVICIOS DE APOYO A LA SILVICULTURA"]
[null,null,null,null,null,"311 - PESCA MARÍTIMA"]
[null,null,null,null,null,"312 - PESCA DE AGUA DULCE"]
[null,null,null,null,null,"321 - ACUICULTURA MARÍTIMA"]
[null,null,null,null,null,"322 - ACUICULTURA DE AGUA DULCE"]
[null,null,null,null,null,"510 - EXTRACCIÓN DE CARBÓN DE PIEDRA"]
[null,null,null,null,null,"520 - EXTRACCIÓN DE LIGNITO"]
[null,null,null,null,null,"610 - EXTRACCIÓN DE PETRÓLEO CRUDO"]
[null,null,null,null,null,"620 - EXTRACCIÓN DE GAS NATURAL"]
[null,null,null,null,null,"710 - EXTRACCIÓN DE MINERALES DE HIERRO"]
[null,null,null,null,null,"721 - EXTRACCIÓN DE MINERALES DE URANIO Y TORIO"]
[null,null,null,null,null,"729 - EXTRACCIÓN DE OTROS MINERALES METALÍFEROS NO FERROSOS"]
[null,null,null,null,null,"810 - EXTRACCIÓN DE PIEDRA, ARENA Y ARCILLA"]
[null,null,null,null,null,"891 - EXTRACCIÓN DE MINERALES PARA LA FABRICACIÓN DE ABONOS Y PRODUCTOS QUÍMICOS"]
[null,null,null,null,null,"892 - EXTRACCIÓN DE TURBA"]
[null,null,null,null,null,"893 - EXTRACCIÓN DE SAL"]
[null,null,null,null,null,"899 - EXPLOTACIÓN DE OTRAS MINAS Y CANTERAS N.C.P."]
[null,null,null,null,null,"910 - ACTIVIDADES DE APOYO PARA LA EXTRACCIÓN DE PETRÓLEO Y GAS NATURAL"]
[null,null,null,null,null,"990 - ACTIVIDADES DE APOYO PARA OTRAS ACTIVIDADES DE EXPLOTACIÓN DE MINAS Y CANTERAS"]
[null,null,null,null,null,"1010 - ELABORACIÒN Y CONSERVACIÓN DE CARNE"]
[null,null,null,null,null,"1020 - ELABORACIÒN Y CONSERVACIÓN DE PESCADOS, CRUSTÁCEOS Y MOLUSCOS"]
[null,null,null,null,null,"1030 - ELABORACIÒN Y CONSERVACIÓN DE FRUTAS,LEGUMBRES Y HORTALIZAS"]
[null,null,null,null,null,"1040 - ELABORACIÓN DE ACEITES Y GRASAS DE ORIGEN VEGETAL Y ANIMAL"]
[null,null,null,null,null,"1050 - ELABORACIÓN DE PRODUCTOS LÁCTEOS"]
[null,null,null,null,null,"1061 - ELABORACIÓN DE PRODUCTOS DE MOLINERÍA."]
[null,null,null,null,null,"1062 - ELABORACIÓN DE ALMIDONES Y PRODUCTOS DERIVADOS DEL ALMIDÓN."]
[null,null,null,null,null,"1071 - ELABORACIÓN DE PRODUCTOS DE PANADERÍA"]
[null,null,null,null,null,"1072 - ELABORACIÓN DE AZÚCAR"]
[null,null,null,null,null,"1073 - ELABORACIÓN DE CACAO Y CHOCOLATE Y DE PRODUCTOS DE CONFITERÍA"]
[null,null,null,null,null,"1074 - ELABORACIÓN DE MACARRONES, FIDEOS, ALCUZCUS Y PRODUCTOS FARINÁCEOS SIMILARES"]
[null,null,null,null,null,"1075 - ELABORACIÓN DE COMIDAS Y PLATOS PREPARADOS"]
[null,null,null,null,null,"1079 - ELABORACIÓN DE OTROS PRODUCTOS ALIMENTICIOS N.C.P."]
[null,null,null,null,null,"1080 - ELABORACIÓN DE PIENSOS PREPARADOS PARA ANIMALES"]
[null,null,null,null,null,"1101 - DESTILACIÓN, RECTIFICACIÓN Y MEZCLA DE BEBIDAS ALCOHÓLICAS"]
[null,null,null,null,null,"1102 - ELABORACIÓN DE VINOS"]
[null,null,null,null,null,"1103 - ELABORACIÓN DE BEBIDAS MALTEADAS Y DE MALTA"]
[null,null,null,null,null,"1104 - ELABORACIÓN DE BEBIDAS NO ALCOHÓLICAS; PRODUCCIÓN DE AGUAS MINERALES Y OTRAS AGUAS EMBOTELLADAS"]
[null,null,null,null,null,"1200 - ELABORACIÓN DE PRODUCTOS DE TABACO"]
[null,null,null,null,null,"1311 - PREPARACIÓN E HILATURA DE FIBRAS TEXTILES"]
[null,null,null,null,null,"1312 - TEJEDURA DE PRODUCTOS TEXTILES"]
[null,null,null,null,null,"1313 - ACABADO DE PRODUCTOS TEXTILES"]
[null,null,null,null,null,"1391 - FABRICACIÓN DE TEJIDOS DE PUNTO Y GANCHILLO"]
[null,null,null,null,null,"1392 - FABRICACIÓN DE ARTÍCULOS CONFECCIONADOS DE MATERIALES TEXTILES, EXCEPTO PRENDAS DE VESTIR"]
[null,null,null,null,null,"1393 - FABRICACIÓN DE TAPICES Y ALFOMBRAS"]
[null,null,null,null,null,"1394 - FABRICACIÓN DE CUERDAS, CORDELES, BRAMANTES Y REDES"]
[null,null,null,null,null,"1399 - FABRICACIÓN DE OTROS PRODUCTOS TEXTILES N.C.P."]
[null,null,null,null,null,"1410 - FABRICACIÓN DE PRENDAS DE VESTIR, EXCEPTO PRENDAS DE PIEL"]
[null,null,null,null,null,"1420 - FABRICACIÓN DE ARTÍCULOS DE PIEL"]
[null,null,null,null,null,"1430 - FABRICACIÓN DE ARTICULOS DE PUNTO Y GANCHILLO"]
[null,null,null,null,null,"1511 - CURTIDO Y ADOBO DE CUEROS; ADOBO Y TEÑIDO DE PIELES"]
[null,null,null,null,null,"1512 - FABRICACIÓN DE MALETAS, BOLSOS DE MANO, Y ARTÍCULOS SIMILARES,Y DE ARTICULOS DE TALABARTERÍA Y GUARNICIONERÍA"]
[null,null,null,null,null,"1520 - FABRICACIÓN DE CALZADO"]
[null,null,null,null,null,"1610 - ASERRADOS Y ACEPILLADURA DE MADERA"]
[null,null,null,null,null,"1621 - FABRICACIÓN DE HOJAS DE MADERA PARA ENCHAPADO Y TABLEROS A BASE DE MADERA"]
[null,null,null,null,null,"1622 - FABRICACIÓN DE PARTES Y PIEZAS DE CARPINTERÍA PARA EDIFICIOS Y CONSTRUCCIONES"]
[null,null,null,null,null,"1623 - FABRICACIÓN DE RECIPIENTES DE MADERA"]
[null,null,null,null,null,"1629 - FABRICACIÓN DE OTROS PRODUCTOS DE MADERA; FABRICACIÓN DE ARTÍCULOS DE CORCHO, PAJA Y MATERIALES TRENZABLES."]
[null,null,null,null,null,"1701 - FABRICACIÓN DE PASTA DE MADERA, PAPEL Y CARTÓN"]
[null,null,null,null,null,"1702 - FABRICACIÓN DEL PAPEL Y CARTÓN ONDULADO Y DE ENVASES DE PAPEL Y CARTÓN"]
[null,null,null,null,null,"1709 - FABRICACIÓN DE OTROS ARTÍCULOS DEL PAPEL Y CARTÓN"]
[null,null,null,null,null,"1811 - IMPRESIÓN"]
[null,null,null,null,null,"1812 - ACTIVIDADES DE SERVICIOS RELACIONADAS CON LA IMPRESIÓN"]
[null,null,null,null,null,"1820 - REPRODUCCIÓN DE GRABACIONES"]
[null,null,null,null,null,"1910 - FABRICACIÓN DE PRODUCTOS DE HORNOS DE COQUE"]
[null,null,null,null,null,"1920 - FABRICACIÓN DE PRODUCTOS DE LA REFINACIÓN DEL PETRÓLEO"]
[null,null,null,null,null,"2011 - FABRICACIÓN DE SUSTANCIAS QUÍMICAS BÁSICAS"]
[null,null,null,null,null,"2012 - FABRICACIÓN ABONOS Y COMPUESTOS DE NITRÓGENO"]
[null,null,null,null,null,"2013 - FABRICACIÓN DE PLÁSTICOS Y DE CAUCHO SINTÉTICO EN FORMAS PRIMARIAS"]
[null,null,null,null,null,"2021 - FABRICACIÓN DE PLAGUICIDAS Y OTROS PRODUCTOS QUÍMICOS DE USO AGROPECUARIO"]
[null,null,null,null,null,"2022 - FABRICACIÓN DE PINTURAS, BARNICES Y PRODUCTOS DE REVESTIMIENTO SIMILARES, TINTAS DE IMPRENTA Y MASILLAS"]
[null,null,null,null,null,"2023 - FABRICACIÓN DE JABONES Y DETERGENTES, PREPARADOS PARA LIMPIAR Y PULIR, PERFUMES Y PREPARADOS DE TOCADOR."]
[null,null,null,null,null,"2029 - FABRICACIÓN DE OTROS PRODUCTOS QUÍMICOS N.C.P."]
[null,null,null,null,null,"2030 - FABRICACIÓN DE FIBRAS ARTIFICIALES"]
[null,null,null,null,null,"2100 - FABRICACIÓN DE PRODUCTOS FARMACÉUTICOS, SUSTANCIAS QUÍMICAS MEDICINALES Y PRODUCTOS BOTÁNICOS DE USO FARMACÉUTICO"]
[null,null,null,null,null,"2211 - FABRICACIÓN DE CUBIERTAS Y CÁMARAS DE CAUCHO; RECAUCHUTADO Y RENOVACIÓN DE CUBIERTAS DE CAUCHO"]
[null,null,null,null,null,"2219 - FABRICACIÓN DE OTROS PRODUCTOS DE CAUCHO"]
[null,null,null,null,null,"2220 - FABRICACIÓN DE PRODUCTOS DE PLÁSTICO"]
[null,null,null,null,null,"2310 - FABRICACIÓN DE VIDRIO Y DE PRODUCTOS DE VIDRIO"]
[null,null,null,null,null,"2391 - FABRICACIÓN DE PRODUCTOS REFRACTARIOS"]
[null,null,null,null,null,"2392 - FABRICACIÓN DE MATERIALES DE CONSTRUCCIÓN DE ARCILLA"]
[null,null,null,null,null,"2393 - FABRICACIÓN DE OTROS PRODUCTOS DE PORCELANA Y DE CERÁMICA"]
[null,null,null,null,null,"2394 - FABRICACIÓN DE CEMENTO, CAL Y YESO"]
[null,null,null,null,null,"2395 - FABRICACIÓN DE ARTÍCULOS DE HORMIGÓN, DE CEMENTO Y DE YESO"]
[null,null,null,null,null,"2396 - CORTE, TALLA Y ACABADO DE LA PIEDRA"]
[null,null,null,null,null,"2399 - FABRICACIÓN DE OTROS PRODUCTOS MINERALES NO METÁLICOS N.C.P."]
[null,null,null,null,null,"2410 - INDUSTRIAS BÁSICAS DE HIERRO Y ACERO "]
[null,null,null,null,null,"2420 - FABRICACIÓN DE PRODUCTOS PRIMARIOS DE METALES PRECIOSOS Y OTROS METALES NO FERROSOS"]
[null,null,null,null,null,"2431 - FUNDICIÓN DE HIERRO Y ACERO"]
[null,null,null,null,null,"2432 - FUNDICIÓN DE METALES NO FERROSOS"]
[null,null,null,null,null,"2511 - FABRICACIÓN DE PRODUCTOS METÁLICOS PARA USO ESTRUCTURAL"]
[null,null,null,null,null,"2512 - FABRICACIÓN DE TANQUES, DEPÓSITOS Y RECIPIENTES DE METAL"]
[null,null,null,null,null,"2513 - FABRICACIÓN DE LOS GENERADORES DEL VAPOR, EXCEPTO CALDERAS DE AGUA CALIENTE PARA CALEFACCIÓN CENTRAL"]
[null,null,null,null,null,"2520 - FABRICACIÓN DE ARMAS Y MUNICIONES"]
[null,null,null,null,null,"2591 - FORJA, PRENSADO, ESTAMPADO Y LAMINADO DE METALES; PULVIMETALURGIA"]
[null,null,null,null,null,"2592 - TRATAMIENTO Y REVESTIMIENTO DE METALES; MAQUINADO"]
[null,null,null,null,null,"2593 - FABRICACIÓN DE ARTÍCULOS DE CUCHILLERÍA, HERRAMIENTAS DE MANO Y ARTÍCULOS DE FERRETERÍA"]
[null,null,null,null,null,"2599 - FABRICACIÓN DE OTROS PRODUCTOS ELABORADOS DE METAL N.C.P."]
[null,null,null,null,null,"2610 - FABRICACIÓN DE COMPONENTES Y TABLEROS ELECTRÓNICOS"]
[null,null,null,null,null,"2620 - FABRICACIÓN DE ORDENADORES Y EQUIPO PERIFÉRICO"]
[null,null,null,null,null,"2630 - FABRICACIÓN DE EQUIPOS DE COMUNICACIONES"]
[null,null,null,null,null,"2640 - FABRICACIÓN DE APARATOS ELECTRÓNICOS DE CONSUMO"]
[null,null,null,null,null,"2651 - FABRICACIÓN DE EQUIPO DE MEDICIÓN, PRUEBA, NAVEGACIÓN Y CONTROL"]
[null,null,null,null,null,"2652 - FABRICACIÓN DE RELOJES"]
[null,null,null,null,null,"2660 - FABRICACIÓN DE EQUIPO DE IRRADIACIÓN Y EQUIPO ELECTRÓNICO DE USO MÉDICO Y TERAPÉUTICO"]
[null,null,null,null,null,"2670 - FABRICACIÓN DE INSTRUMENTOS ÓPTICOS Y EQUIPO FOTOGRÁFICO"]
[null,null,null,null,null,"2680 - FABRICACIÓN DE SOPORTES MAGNÉTICOS Y ÓPTICOS"]
[null,null,null,null,null,"2710 - FABRICACIÓN DE MOTORES, GENERADORES Y TRANSFORMADORES ELÉCTRICOS Y APARATOS DE DISTRIBUCIÓN Y CONTROL DE LA ENERGÍA ELÉCTRICA"]
[null,null,null,null,null,"2720 - FABRICACIÓN DE PILAS, BATERÍAS Y ACUMULADORES"]
[null,null,null,null,null,"2731 - FABRICACIÓN DE CABLES DE FIBRA ÓPTICA"]
[null,null,null,null,null,"2732 - FABRICACIÓN DE OTROS HILOS Y CABLES ELÉCTRICOS"]
[null,null,null,null,null,"2733 - FABRICACIÓN DE DISPOSITIVOS DE CABLEADO"]
[null,null,null,null,null,"2740 - FABRICACIÓN DE EQUIPO ELÉCTRICO DE ILUMINACIÓN"]
[null,null,null,null,null,"2750 - FABRICACIÓN DE APARATOS DE USO DOMÉSTICO"]
[null,null,null,null,null,"2790 - FABRICACIÓN DE OTROS TIPOS DE EQUIPO ELÉCTRICO"]
[null,null,null,null,null,"2811 - FABRICACIÓN DE MOTORES Y TURBINAS, EXCEPTO MOTORES PARA AERONAVES, VEHÍCULOS AUTOMOTORES Y MOTOCICLETAS"]
[null,null,null,null,null,"2812 - FABRICACIÓN DE EQUIPO DE PROPULSIÓN DE FLUIDOS"]
[null,null,null,null,null,"2813 - FABRICACIÓN DE BOMBAS, COMPRESORES, GRIFOS Y VÁLVULAS"]
[null,null,null,null,null,"2814 - FABRICACIÓN DE COJINETES, ENGRANAJES, TRENES DE ENGRANAJES Y PIEZAS DE TRANSMISIÓN"]
[null,null,null,null,null,"2815 - FABRICACIÓN DE HORNOS, HOGARES Y QUEMADORES"]
[null,null,null,null,null,"2816 - FABRICACIÓN DE EQUIPO DE ELEVACIÓN Y MANIPULACIÓN"]
[null,null,null,null,null,"2817 - FABRICACIÓN DE MAQUINARIA Y EQUIPO DE OFICINA (EXCEPTO ORDENADORES Y EQUIPO PERIFÉRICO)"]
[null,null,null,null,null,"2818 - FABRICACIÓN DE HERRAMIENTAS DE MANO MOTORIZADAS"]
[null,null,null,null,null,"2819 - FABRICACIÓN DE OTROS TIPOS DE MAQUINARIA DE USO GENERAL"]
[null,null,null,null,null,"2821 - FABRICACIÓN DE MAQUINARIA AGROPECUARIA Y FORESTAL"]
[null,null,null,null,null,"2822 - FABRICACIÓN DE MAQUINARIA PARA LA CONFORMACIÓN DE METALES Y DE MÁQUINAS HERRAMIENTA"]
[null,null,null,null,null,"2823 - FABRICACIÓN DE MAQUINARIA METALÚRGICA"]
[null,null,null,null,null,"2824 - FABRICACIÓN DE MAQUINARIA PARA EXPLOTACIÓN DE MINAS Y CANTERAS Y PARA OBRAS DE CONSTRUCCIÓN"]
[null,null,null,null,null,"2825 - FABRICACIÓN DE MAQUINARIA PARA LA ELABORACIÓN DE ALIMENTOS, BEBIDAS Y TABACO"]
[null,null,null,null,null,"2826 - FABRICACIÓN DE MAQUINARIA PARA LA ELABORACIÓN DE PRODUCTOS TEXTILES, PRENDAS DE VESTIR Y CUEROS"]
[null,null,null,null,null,"2829 - FABRICACIÓN DE OTROS TIPOS DE MAQUINARIA DE USO ESPECIAL"]
[null,null,null,null,null,"2910 - FABRICACIÓN DE VEHÍCULOS AUTOMOTORES"]
[null,null,null,null,null,"2920 - FABRICACIÓN DE CARROCERÍAS PARA VEHÍCULOS AUTOMOTORES; FABRICACIÓN DE REMOLQUES Y SEMIRREMOLQUES"]
[null,null,null,null,null,"2930 - FABRICACIÓN DE PARTES, PIEZAS Y ACCESORIOS PARA VEHÍCULOS DE AUTOMOTORES"]
[null,null,null,null,null,"3011 - CONSTRUCCIÓN DE BUQUES Y ESTRUCTURAS FLOTANTES"]
[null,null,null,null,null,"3012 - CONSTRUCCIÓN DE EMBARCACIONES DE RECREO Y DEPORTE"]
[null,null,null,null,null,"3020 - FABRICACIÓN DE LOCOMOTORAS Y DE MATERIAL RODANTE"]
[null,null,null,null,null,"3030 - FABRICACIÓN DE AERONAVES Y  NAVES ESPACIALES Y MAQUINARIA CONEXA"]
[null,null,null,null,null,"3040 - FABRICACIÓN DE VEHÍCULOS MILITARES DE COMBATE"]
[null,null,null,null,null,"3091 - FABRICACIÓN DE MOTOCICLETAS"]
[null,null,null,null,null,"3092 - FABRICACIÓN DE BICICLETAS Y DE SILLONES DE RUEDAS PARA INVÁLIDOS"]
[null,null,null,null,null,"3099 - FABRICACIÓN DE OTROS TIPOS DE EQUIPO DE TRANSPORTE N.C.P."]
[null,null,null,null,null,"3100 - FABRICACIÓN DE MUEBLES"]
[null,null,null,null,null,"3211 - FABRICACIÓN DE JOYAS Y ARTÍCULOS CONEXOS"]
[null,null,null,null,null,"3212 - FABRICACIÓN DE BISUTERÍA Y ARTÍCULOS CONEXOS"]
[null,null,null,null,null,"3220 - FABRICACIÓN DE INSTRUMENTOS DE MÚSICA"]
[null,null,null,null,null,"3230 - FABRICACIÓN DE ARTÍCULOS DE DEPORTE"]
[null,null,null,null,null,"3240 - FABRICACIÓN DE JUEGOS Y JUGUETES"]
[null,null,null,null,null,"3250 - FABRICACIÓN DE INSTRUMENTOS Y MATERIALES MÉDICOS Y ODONTOLÓGICOS"]
[null,null,null,null,null,"3290 - OTRAS INDUSTRIAS MANUFACTURERAS N.C.P."]
[null,null,null,null,null,"3311 - REPARACIÓN DE PRODUCTOS ELABORADOS DE METAL"]
[null,null,null,null,null,"3312 - REPARACIÓN DE MAQUINARIA"]
[null,null,null,null,null,"3313 - REPARACIÓN DE EQUIPO ELECTRÓNICO Y ÓPTICO"]
[null,null,null,null,null,"3314 - REPARACIÓN DE EQUIPO ELÉCTRICO"]
[null,null,null,null,null,"3315 - REPARACIÓN DE EQUIPO DE TRANSPORTE, EXCEPTO VEHÍCULOS AUTOMOTORES"]
[null,null,null,null,null,"3319 - REPARACIÓN DE OTROS TIPOS DE EQUIPO"]
[null,null,null,null,null,"3320 - INSTALACIÓN DE MAQUINARIA Y EQUIPO INDUSTRIALES"]
[null,null,null,null,null,"3510 - GENERACIÓN, TRANSMISIÓN Y DISTRIBUCIÓN DE ENERGÍA ELÉCTRICA"]
[null,null,null,null,null,"3520 - FABRICACIÓN DEL GAS; DISTRIBUCIÓN DE COMBUSTIBLES GASEOSOS POR TUBERÍAS"]
[null,null,null,null,null,"3530 - SUMINISTRO DE VAPOR Y AIRE ACONDICIONADO"]
[null,null,null,null,null,"3600 - CAPTACIÓN, TRATAMIENTO Y DISTRIBUCIÓN DE AGUA"]
[null,null,null,null,null,"3700 - EVACUACIÓN DE AGUAS RESIDUALES"]
[null,null,null,null,null,"3811 - RECOGIDA DE DESECHOS NO PELIGROSOS"]
[null,null,null,null,null,"3812 - RECOGIDA DE DESECHOS PELIGROSOS"]
[null,null,null,null,null,"3821 - TRATAMIENTO Y ELIMINACIÓN DE DESECHOS NO PELIGROSOS"]
[null,null,null,null,null,"3822 - TRATAMIENTO Y ELIMINACIÓN DE DESECHOS PELIGROSOS"]
[null,null,null,null,null,"3830 - RECUPERACIÓN DE MATERIALES"]
[null,null,null,null,null,"3900 - ACTIVIDADES DE DESCONTAMINACIÓN Y OTROS SERVICIOS DE GESTIÓN DE DESECHOS"]
[null,null,null,null,null,"4100 - CONSTRUCCIÓN DE EDIFICIOS"]
[null,null,null,null,null,"4210 - CONSTRUCCIÓN DE CARRETERAS Y LÍNEAS DE FERROCARRIL"]
[null,null,null,null,null,"4220 - CONSTRUCCIÓN DE PROYECTOS DE SERVICIO PÚBLICO"]
[null,null,null,null,null,"4290 - CONSTRUCCIÓN DE OTRAS OBRAS DE INGENIERÍA CIVIL"]
[null,null,null,null,null,"4311 - DEMOLICIÓN"]
[null,null,null,null,null,"4312 - PREPARACIÓN DEL TERRENO"]
[null,null,null,null,null,"4321 - INSTALACIONES ELÉCTRICAS"]
[null,null,null,null,null,"4322 - INSTALACIONES DE FONTANERÍA, CALEFACCIÓN Y AIRE ACONDICIONADO"]
[null,null,null,null,null,"4329 - OTRAS INSTALACIONES PARA OBRAS DE CONSTRUCCIÓN"]
[null,null,null,null,null,"4330 - TERMINACIÓN Y ACABADO DE EDIFICIOS"]
[null,null,null,null,null,"4390 - OTRAS ACTIVIDADES ESPECIALIZADAS DE LA CONSTRUCCIÓN"]
[null,null,null,null,null,"4510 - VENTA DE VEHÍCULOS AUTOMOTORES"]
[null,null,null,null,null,"4520 - MANTENIMIENTO Y REPARACIÓN DE VEHÍCULOS AUTOMOTORES"]
[null,null,null,null,null,"4530 - VENTAS DE PARTES, PIEZAS Y ACCESORIOS PARA VEHÍCULOS AUTOMOTORES"]
[null,null,null,null,null,"4540 - VENTA, MANTENIMIENTO Y REPARACIÓN DE MOTOCICLETAS Y DE SUS PARTES, PIEZAS Y ACCESORIOS."]
[null,null,null,null,null,"4610 - VENTA AL POR MAYOR A CAMBIO DE UNA RETRIBUCIÓN O POR CONTRATA"]
[null,null,null,null,null,"4620 - VENTA AL POR MAYOR DE MATERIAS PRIMAS AGROPECUARIAS Y ANIMALES VIVOS."]
[null,null,null,null,null,"4630 - VENTA AL POR MAYOR DE ALIMENTOS, BEBIDAS Y TABACO."]
[null,null,null,null,null,"4641 - VENTA AL POR MAYOR DE PRODUCTOS TEXTILES, PRENDAS DE VESTIR Y CALZADO"]
[null,null,null,null,null,"4649 - VENTA AL POR MAYOR DE OTROS ENSERES DOMÉSTICOS"]
[null,null,null,null,null,"4651 - VENTA AL POR MAYOR DE ORDENADORES, EQUIPO PERIFÉRICO Y PROGRAMAS DE INFORMÁTICA"]
[null,null,null,null,null,"4652 - VENTA AL POR MAYOR DE EQUIPO, PARTES Y PIEZAS ELECTRÓNICOS Y DE TELECOMUNICACIONES"]
[null,null,null,null,null,"4653 - VENTA AL POR MAYOR DE MAQUINARIA, EQUIPO Y MATERIALES AGROPECUARIOS "]
[null,null,null,null,null,"4659 - VENTA AL POR MAYOR DE OTROS TIPOS DE MAQUINARIA Y EQUIPO"]
[null,null,null,null,null,"4661 - VENTA AL POR MAYOR DE COMBUSTIBLES SÓLIDOS, LÍQUIDOS Y GASEOSOS Y  PRODUCTOS CONEXOS"]
[null,null,null,null,null,"4662 - VENTA AL POR MAYOR DE METALES Y MINERALES METALÍFEROS"]
[null,null,null,null,null,"4663 - VENTA AL POR MAYOR DE MATERIALES DE CONSTRUCCIÓN, ARTÍCULOS DE FERRETERÍA Y EQUIPO Y MATERIALES DE FONTANERÍA Y CALEFACCIÓN."]
[null,null,null,null,null,"4669 - VENTA AL POR MAYOR DE DESPERDICIOS, DESECHOS, CHATARRA Y OTROS PRODUCTOS N.C.P "]
[null,null,null,null,null,"4690 - VENTA AL POR MAYOR NO ESPECIALIZADA "]
[null,null,null,null,null,"4711 - VENTA AL POR MENOR EN COMERCIOS NO ESPECIALIZADOS CON PREDOMINIO DE LA VENTA DE ALIMENTOS, BEBIDAS O TABACO"]
[null,null,null,null,null,"4719 - OTRAS ACTIVIDADES DE VENTA AL POR MENOR EN COMERCIOS NO ESPECIALIZADOS"]
[null,null,null,null,null,"4721 - VENTA AL POR MENOR DE ALIMENTOS EN COMERCIOS ESPECIALIZADOS"]
[null,null,null,null,null,"4722 - VENTA AL POR MENOR DE BEBIDAS EN COMERCIOS ESPECIALIZADOS"]
[null,null,null,null,null,"4723 - VENTA AL POR MENOR DE PRODUCTOS DE TABACO EN COMERCIOS ESPECIALIZADOS"]
[null,null,null,null,null,"4730 - VENTA AL POR MENOR DE COMBUSTIBLES PARA VEHÍCULOS AUTOMOTORES EN COMERCIOS ESPECIALIZADOS"]
[null,null,null,null,null,"4741 - VENTA AL POR MENOR DE ORDENADORES, EQUIPO PERIFÉRICO, PROGRAMAS INFORMÁTICOS Y EQUIPO DE TELECOMUNICACIONES EN COMERCIOS ESPECIALIZADOS"]
[null,null,null,null,null,"4742 - VENTA AL POR MENOR DE EQUIPO DE SONIDO Y DE VÍDEO EN COMERCIOS ESPECIALIZADOS"]
[null,null,null,null,null,"4751 - VENTA AL POR MENOR DE PRODUCTOS TEXTILES EN COMERCIOS ESPECIALIZADOS"]
[null,null,null,null,null,"4752 - VENTA AL POR MENOR DE ARTÍCULOS DE FERRETERÍA, PINTURAS Y PRODUCTOS DE VIDRIO EN COMERCIOS ESPECIALIZADOS"]
[null,null,null,null,null,"4753 - VENTA AL POR MENOR DE TAPICES, ALFOMBRAS Y CUBRIMIENTOS PARA PAREDES Y PISOS EN COMERCIOS ESPECIALIZADOS"]
[null,null,null,null,null,"4759 - VENTA AL POR MENOR DE APARATOS ELÉCTRICOS DE USO DOMÉSTICO,  MUEBLES, EQUIPO DE ILUMINACIÓN Y OTROS ENSERES DOMÉSTICOS EN COMERCIOS ESPECIALIZADOS"]
[null,null,null,null,null,"4761 - VENTA AL POR MENOR DE LIBROS, PERIÓDICOS Y ARTÍCULOS DE PAPELERÍA EN COMERCIOS ESPECIALIZADOS"]
[null,null,null,null,null,"4762 - VENTA AL POR MENOR DE GRABACIONES DE MÚSICA Y DE VÍDEO EN COMERCIOS ESPECIALIZADOS"]
[null,null,null,null,null,"4763 - VENTA AL POR MENOR DE EQUIPO DE DEPORTE EN COMERCIOS ESPECIALIZADOS"]
[null,null,null,null,null,"4764 - VENTA AL POR MENOR DE JUEGOS Y  JUGUETES EN COMERCIOS ESPECIALIZADOS"]
[null,null,null,null,null,"4771 - VENTA AL POR MENOR DE PRENDAS DE VESTIR, CALZADO Y ARTÍCULOS DE CUERO EN COMERCIOS ESPECIALIZADOS"]
[null,null,null,null,null,"4772 - VENTA AL POR MENOR DE PRODUCTOS FARMACÉUTICOS Y MEDICINALES, COSMÉTICOS Y ARTÍCULOS DE TOCADOR EN COMERCIOS ESPECIALIZADOS   "]
[null,null,null,null,null,"4773 - VENTA AL POR MENOR DE OTROS PRODUCTOS NUEVOS EN COMERCIOS ESPECIALIZADOS"]
[null,null,null,null,null,"4774 - VENTA AL POR MENOR DE ARTÍCULOS DE SEGUNDA MANO"]
[null,null,null,null,null,"4781 - VENTA AL POR MENOR DE ALIMENTOS, BEBIDAS Y TABACO EN PUESTOS DE VENTA Y MERCADOS "]
[null,null,null,null,null,"4782 - VENTA AL POR MENOR DE PRODUCTOS TEXTILES, PRENDAS DE VESTIR Y CALZADO EN PUESTOS DE VENTA Y MERCADOS"]
[null,null,null,null,null,"4789 - VENTA AL POR MENOR DE OTROS PRODUCTOS EN PUESTOS DE VENTA Y MERCADOS"]
[null,null,null,null,null,"4791 - VENTA AL POR MENOR POR CORREO Y POR INTERNET"]
[null,null,null,null,null,"4799 - OTRAS ACTIVIDADES DE VENTA AL POR MENOR NO REALIZADAS EN COMERCIOS, PUESTOS DE VENTA O MERCADOS"]
[null,null,null,null,null,"4911 - TRANSPORTE INTERURBANO DE PASAJEROS POR FERROCARRIL"]
[null,null,null,null,null,"4912 - TRANSPORTE DE CARGA POR FERROCARRIL"]
[null,null,null,null,null,"4921 - TRANSPORTE URBANO Y SUBURBANO DE PASAJEROS POR VÍA TERRESTRE "]
[null,null,null,null,null,"4922 - OTRAS ACTIVIDADES DE TRANSPORTE POR VÍA TERRESTRE"]
[null,null,null,null,null,"4923 - TRANSPORTE DE CARGA POR CARRETERA"]
[null,null,null,null,null,"4930 - TRANSPORTE POR TUBERÍAS"]
[null,null,null,null,null,"5011 - TRANSPORTE DE PASAJEROS MARÍTIMO Y DE CABOTAJE"]
[null,null,null,null,null,"5012 - TRANSPORTE DE CARGA MARÍTIMO Y DE CABOTAJE"]
[null,null,null,null,null,"5021 - TRANSPORTE DE PASAJEROS POR VÍAS DE NAVEGACIÓN INTERIORES"]
[null,null,null,null,null,"5022 - TRANSPORTE DE CARGA, POR VÍAS DE NAVEGACIÓN INTERIORES"]
[null,null,null,null,null,"5110 - TRANSPORTE DE PASAJEROS POR VÍA AÉREA"]
[null,null,null,null,null,"5120 - TRANSPORTE DE CARGA POR VÍA AÉREA"]
[null,null,null,null,null,"5210 - ALMACENAMIENTO Y DEPÓSITO"]
[null,null,null,null,null,"5221 - ACTIVIDADES DE SERVICIOS VINCULADAS AL TRANSPORTE TERRESTRE"]
[null,null,null,null,null,"5222 - ACTIVIDADES DE SERVICIOS VINCULADAS AL TRANSPORTE ACUÁTICO"]
[null,null,null,null,null,"5223 - ACTIVIDADES DE SERVICIOS VINCULADAS AL TRANSPORTE AÉREO"]
[null,null,null,null,null,"5224 - MANIPULACIÓN DE CARGA"]
[null,null,null,null,null,"5229 - OTRAS ACTIVIDADES DE APOYO AL TRANSPORTE"]
[null,null,null,null,null,"5310 - ACTIVIDADES POSTALES"]
[null,null,null,null,null,"5320 - ACTIVIDADES DE MENSAJERÍA"]
[null,null,null,null,null,"5510 - ACTIVIDADES DE ALOJAMIENTO PARA ESTANCIAS CORTAS"]
[null,null,null,null,null,"5520 - ACTIVIDADES DE CAMPAMENTOS, PARQUES DE VEHÍCULOS RECREATIVOS Y PARQUES DE CARAVANAS"]
[null,null,null,null,null,"5590 - OTRAS ACTIVIDADES DE ALOJAMIENTO"]
[null,null,null,null,null,"5610 - ACTIVIDADES DE RESTAURANTES Y DE SERVICIO MÓVIL DE COMIDAS"]
[null,null,null,null,null,"5621 - SUMINISTRO DE COMIDAS POR ENCARGO"]
[null,null,null,null,null,"5629 - OTRAS ACTIVIDADES DE SERVICIO DE COMIDAS"]
[null,null,null,null,null,"5630 - ACTIVIDADES DE SERVICIO DE BEBIDAS"]
[null,null,null,null,null,"5811 - EDICIÓN DE LIBROS"]
[null,null,null,null,null,"5812 - EDICIÓN DE DIRECTORIOS Y LISTAS DE CORREO"]
[null,null,null,null,null,"5813 - EDICIÓN DE PERIÓDICOS, REVISTAS Y OTRAS PUBLICACIONES PERIÓDICAS"]
[null,null,null,null,null,"5819 - OTRAS ACTIVIDADES DE EDICIÓN"]
[null,null,null,null,null,"5820 - EDICIÓN DE PROGRAMAS DE INFORMÁTICOS"]
[null,null,null,null,null,"5911 - ACTIVIDADES DE PRODUCCIÓN DE PELÍCULAS CINEMATOGRÁFICAS, VÍDEOS Y PROGRAMAS DE TELEVISIÓN"]
[null,null,null,null,null,"5912 - ACTIVIDADES DE POSTPRODUCCIÓN DE PELÍCULAS CINEMATOGRÁFICAS, VÍDEOS Y PROGRAMAS DE TELEVISIÓN"]
[null,null,null,null,null,"5913 - ACTIVIDADES DE DISTRIBUCIÓN DE PELÍCULAS CINEMATOGRÁFICAS, VÍDEOS Y PROGRAMAS DE TELEVISIÓN"]
[null,null,null,null,null,"5914 - ACTIVIDADES DE EXHIBICIÓN DE PELÍCULAS CINEMATOGRÁFICAS Y CINTAS DE VÍDEO "]
[null,null,null,null,null,"5920 - ACTIVIDADES DE GRABACIÓN DE SONIDO Y EDICIÓN DE MÚSICA"]
[null,null,null,null,null,"6010 - TRANSMISIONES DE RADIO"]
[null,null,null,null,null,"6020 - PROGRAMACIÓN Y TRANSMISIONES DE TELEVISIÓN"]
[null,null,null,null,null,"6110 - ACTIVIDADES DE TELECOMUNICACIONES ALÁMBRICAS"]
[null,null,null,null,null,"6120 - ACTIVIDADES DE TELECOMUNICACIONES INALÁMBRICAS"]
[null,null,null,null,null,"6130 - ACTIVIDADES DE TELECOMUNICACIONES POR SATÉLITE."]
[null,null,null,null,null,"6190 - OTRAS ACTIVIDADES DE TELECOMUNICACIÓN."]
[null,null,null,null,null,"6201 - PROGRAMACIÓN INFORMÁTICA"]
[null,null,null,null,null,"6202 - CONSULTORÍA DE INFORMÁTICA Y DE GESTIÓN DE INSTALACIONES INFORMÁTICAS"]
[null,null,null,null,null,"6209 - OTRAS ACTIVIDADES DE TECNOLOGÍA DE LA INFORMACIÓN Y DE SERVICIOS INFORMÁTICOS"]
[null,null,null,null,null,"6311 - PROCESAMIENTO DE DATOS, HOSPEDAJE Y ACTIVIDADES CONEXAS"]
[null,null,null,null,null,"6312 - PORTALES WEB"]
[null,null,null,null,null,"6391 - ACTIVIDADES DE AGENCIAS DE NOTICIAS"]
[null,null,null,null,null,"6399 - OTRAS ACTIVIDADES DE SERVICIOS DE INFORMACIÓN N.C.P."]
[null,null,null,null,null,"6411 - BANCA CENTRAL"]
[null,null,null,null,null,"6419 - OTROS TIPOS DE INTERMEDIACIÓN MONETARIA."]
[null,null,null,null,null,"6420 - ACTIVIDADES DE SOCIEDADES DE CARTERA"]
[null,null,null,null,null,"6430 - FONDOS Y SOCIEDADES DE INVERSIÓN Y ENTIDADES FINANCIERAS SIMILARES"]
[null,null,null,null,null,"6491 - ARRENDAMIENTO FINANCIERO"]
[null,null,null,null,null,"6492 - OTRAS ACTIVIDADES DE CONCESIÓN DE CRÉDITO"]
[null,null,null,null,null,"6499 - OTRAS ACTIVIDADES DE SERVICIOS FINANCIEROS, EXCEPTO LAS DE SEGUROS Y FONDOS DE PENSIONES, N.C.P."]
[null,null,null,null,null,"6511 - SEGUROS DE VIDA"]
[null,null,null,null,null,"6512 - SEGUROS GENERALES"]
[null,null,null,null,null,"6520 - REASEGUROS"]
[null,null,null,null,null,"6530 - FONDOS DE PENSIONES"]
[null,null,null,null,null,"6611 - ADMINISTRACIÓN DE MERCADOS FINANCIEROS"]
[null,null,null,null,null,"6612 - CORRETAJE DE VALORES Y DE CONTRATOS DE PRODUCTOS BÁSICOS"]
[null,null,null,null,null,"6619 - OTRAS ACTIVIDADES AUXILIARES DE LAS ACTIVIDADES DE SERVICIOS FINANCIEROS"]
[null,null,null,null,null,"6621 - EVALUACIÓN DE RIESGOS Y DAÑOS"]
[null,null,null,null,null,"6622 - ACTIVIDADES DE AGENTES Y CORREDORES DE SEGUROS"]
[null,null,null,null,null,"6629 - OTRAS ACTIVIDADES AUXILIARES DE LAS ACTIVIDADES DE SEGUROS Y FONDOS DE PENSIONES"]
[null,null,null,null,null,"6630 - ACTIVIDADES DE GESTIÓN DE FONDOS"]
[null,null,null,null,null,"6810 - ACTIVIDADES INMOBILIARIAS REALIZADAS CON BIENES PROPIOS O ARRENDADOS"]
[null,null,null,null,null,"6820 - ACTIVIDADES INMOBILIARIAS REALIZADAS A CAMBIO DE UNA RETRIBUCIÓN O POR CONTRATA"]
[null,null,null,null,null,"6910 - ACTIVIDADES JURÍDICAS"]
[null,null,null,null,null,"6920 - ACTIVIDADES DE CONTABILIDAD, TENEDURÍA DE LIBROS Y AUDITORÍA; CONSULTORÍA FISCAL"]
[null,null,null,null,null,"7010 - ACTIVIDADES DE OFICINAS CENTRALES"]
[null,null,null,null,null,"7020 - ACTIVIDADES DE CONSULTORÍA DE GESTIÓN"]
[null,null,null,null,null,"7110 - ACTIVIDADES DE ARQUITECTURA E INGENIERÍA Y ACTIVIDADES CONEXAS DE CONSULTORÍA TÉCNICA"]
[null,null,null,null,null,"7120 - ENSAYOS Y ANÁLISIS TÉCNICOS"]
[null,null,null,null,null,"7210 - INVESTIGACIÓN Y DESARROLLO EXPERIMENTAL EN EL CAMPO DE LAS CIENCIAS NATURALES Y LA INGENIERÍA"]
[null,null,null,null,null,"7220 - INVESTIGACIÓN Y DESARROLLO EXPERIMENTAL EN EL CAMPO DE LAS CIENCIAS SOCIALES Y LAS HUMANIDADES"]
[null,null,null,null,null,"7310 - PUBLICIDAD"]
[null,null,null,null,null,"7320 - ESTUDIOS DE MERCADO Y ENCUESTAS DE OPINIÓN PÚBLICA"]
[null,null,null,null,null,"7410 - ACTIVIDADES ESPECIALIZADAS DE DISEÑO"]
[null,null,null,null,null,"7420 - ACTIVIDADES DE FOTOGRAFÍA"]
[null,null,null,null,null,"7490 - OTRAS ACTIVIDADES PROFESIONALES, CIENTÍFICAS Y TÉCNICAS N.C.P."]
[null,null,null,null,null,"7500 - ACTIVIDADES VETERINARIAS"]
[null,null,null,null,null,"7710 - ALQUILER Y ARRENDAMIENTO DE VEHÍCULOS AUTOMOTORES"]
[null,null,null,null,null,"7721 - ALQUILER Y ARRENDAMIENTO DE EQUIPO RECREATIVO Y DEPORTIVO"]
[null,null,null,null,null,"7722 - ALQUILER DE CINTAS DE VÍDEO Y DISCOS"]
[null,null,null,null,null,"7729 - ALQUILER Y ARRENDAMIENTO DE OTROS EFECTOS PERSONALES Y ENSERES DOMÉSTICOS "]
[null,null,null,null,null,"7730 - ALQUILER Y ARRENDAMIENTO DE OTROS TIPOS DE MAQUINARIA, EQUIPO Y BIENES TANGIBLES"]
[null,null,null,null,null,"7740 - ARRENDAMIENTO DE PROPIEDAD INTELECTUAL Y PRODUCTOS SIMILARES, EXCEPTO OBRAS PROTEGIDAS  POR DERECHOS DE AUTOR"]
[null,null,null,null,null,"7810 - ACTIVIDADES DE AGENCIAS DE EMPLEO"]
[null,null,null,null,null,"7820 - ACTIVIDADES DE AGENCIAS DE EMPLEO TEMPORAL"]
[null,null,null,null,null,"7830 - OTRAS ACTIVIDADES DE DOTACIÓN DE RECURSOS HUMANOS"]
[null,null,null,null,null,"7911 - ACTIVIDADES DE AGENCIAS DE VIAJES"]
[null,null,null,null,null,"7912 - ACTIVIDADES DE OPERADORES TURÍSTICOS"]
[null,null,null,null,null,"7990 - OTROS SERVICIOS DE RESERVAS Y ACTIVIDADES CONEXAS"]
[null,null,null,null,null,"8010 - ACTIVIDADES DE SEGURIDAD PRIVADA"]
[null,null,null,null,null,"8020 - ACTIVIDADES DE SERVICIO DE SISTEMAS DE SEGURIDAD"]
[null,null,null,null,null,"8030 - ACTIVIDADES DE INVESTIGACIÓN"]
[null,null,null,null,null,"8110 - ACTIVIDADES COMBINADAS DE APOYO A INSTALACIONES"]
[null,null,null,null,null,"8121 - LIMPIEZA GENERAL DE EDIFICIOS"]
[null,null,null,null,null,"8129 - OTRAS ACTIVIDADES DE LIMPIEZA DE EDIFICIOS E INSTALACIONES INDUSTRIALES"]
[null,null,null,null,null,"8130 - ACTIVIDADES DE PAISAJISMO Y SERVICIOS DE MANTENIMIENTO CONEXOS"]
[null,null,null,null,null,"8211 - ACTIVIDADES COMBINADAS DE SERVICIOS ADMINISTRATIVOS DE OFICINA"]
[null,null,null,null,null,"8219 - FOTOCOPIADO, PREPARACIÓN DE DOCUMENTOS Y OTRAS ACTIVIDADES ESPECIALIZADAS DE APOYO DE OFICINA"]
[null,null,null,null,null,"8220 - ACTIVIDADES DE CENTROS DE LLAMADAS"]
[null,null,null,null,null,"8230 - ORGANIZACIÓN DE CONVENCIONES Y EXPOSICIONES COMERCIALES"]
[null,null,null,null,null,"8291 - ACTIVIDADES DE AGENCIAS DE COBRO Y AGENCIAS DE CALIFICACIÓN CREDITICIA"]
[null,null,null,null,null,"8292 - ACTIVIDADES DE ENVASADO Y EMPAQUETADO"]
[null,null,null,null,null,"8299 - OTRAS ACTIVIDADES DE SERVICIOS DE APOYO A LAS EMPRESAS N.C.P"]
[null,null,null,null,null,"8411 - ACTIVIDADES DE LA ADMINISTRACIÓN PÚBLICA EN GENERAL"]
[null,null,null,null,null,"8412 - REGULACIÓN DE LAS ACTIVIDADES DE ORGANISMOS QUE PRESTAN SERVICIOS SANITARIOS, EDUCATIVOS, CULTURALES Y OTROS SERVICIOS SOCIALES, EXCEPTO SERVICIOS DE SEGURIDAD SOCIAL"]
[null,null,null,null,null,"8413 - REGULACIÓN Y FACILITACIÓN DE LA ACTIVIDAD ECONÓMICA"]
[null,null,null,null,null,"8421 - RELACIONES EXTERIORES"]
[null,null,null,null,null,"8422 - ACTIVIDADES DE DEFENSA"]
[null,null,null,null,null,"8423 - ACTIVIDADES DE MANTENIMIENTO DEL ORDEN PÚBLICO Y DE SEGURIDAD"]
[null,null,null,null,null,"8430 - ACTIVIDADES DE PLANES DE SEGURIDAD SOCIAL DE AFILIACIÓN OBLIGATORIA"]
[null,null,null,null,null,"8510 - ENSEÑANZA PREESCOLAR Y PRIMARIA"]
[null,null,null,null,null,"8521 - ENSEÑANZA SECUNDARIA DE FORMACIÓN GENERAL"]
[null,null,null,null,null,"8522 - ENSEÑANZA SECUNDARIA DE FORMACIÓN TÉCNICA Y PROFESIONAL"]
[null,null,null,null,null,"8530 - ENSEÑANZA SUPERIOR"]
[null,null,null,null,null,"8541 - EDUCACIÓN DEPORTIVA Y RECREATIVA"]
[null,null,null,null,null,"8542 - ENSEÑANZA CULTURAL"]
[null,null,null,null,null,"8549 - OTROS TIPOS DE ENSEÑANZA N.C.P."]
[null,null,null,null,null,"8550 - ACTIVIDADES DE APOYO A LA ENSEÑANZA"]
[null,null,null,null,null,"8610 - ACTIVIDADES DE HOSPITALES"]
[null,null,null,null,null,"8620 - ACTIVIDADES DE MÉDICOS Y ODONTÓLOGOS"]
[null,null,null,null,null,"8690 - OTRAS ACTIVIDADES DE ATENCIÓN DE LA SALUD HUMANA"]
[null,null,null,null,null,"8710 - ACTIVIDADES DE ATENCIÓN DE ENFERMERÍA EN INSTITUCIONES"]
[null,null,null,null,null,"8720 - ACTIVIDADES DE ATENCIÓN EN INSTITUCIONES PARA PERSONAS CON RETRASO MENTAL, ENFERMOS MENTALES Y TOXICÓMANOS"]
[null,null,null,null,null,"8730 - ACTIVIDADES DE ATENCIÓN EN INSTITUCIONES PARA PERSONAS DE EDAD PERSONAS CON DISCAPACIDAD"]
[null,null,null,null,null,"8790 - OTRAS ACTIVIDADES DE ATENCIÓN EN INSTITUCIONES"]
[null,null,null,null,null,"8810 - ACTIVIDADES DE ASISTENCIA SOCIAL SIN ALOJAMIENTO PARA PERSONAS DE EDAD Y PERSONAS CON DISCAPACIDAD"]
[null,null,null,null,null,"8890 - OTRAS ACTIVIDADES DE ASISTENCIA SOCIAL SIN ALOJAMIENTO"]
[null,null,null,null,null,"9000 - ACTIVIDADES CREATIVAS, ARTÍSTICAS Y DE ENTRETENIMIENTO"]
[null,null,null,null,null,"9101 - ACTIVIDADES DE BIBLIOTECAS Y ARCHIVOS"]
[null,null,null,null,null,"9102 - ACTIVIDADES DE MUSEOS Y GESTIÓN DE LUGARES Y EDIFICIOS HISTÓRICOS"]
[null,null,null,null,null,"9103 - ACTIVIDADES DE JARDINES BOTÁNICOS Y ZOOLÓGICOS Y RESERVAS NATURALES"]
[null,null,null,null,null,"9200 - ACTIVIDADES DE JUEGOS DE AZAR Y APUESTAS"]
[null,null,null,null,null,"9311 - GESTIÓN DE INSTALACIONES DEPORTIVAS"]
[null,null,null,null,null,"9312 - ACTIVIDADES DE CLUBES DEPORTIVOS"]
[null,null,null,null,null,"9319 - OTRAS ACTIVIDADES DEPORTIVAS"]
[null,null,null,null,null,"9321 - ACTIVIDADES DE PARQUES DE ATRACCIONES Y PARQUES TEMÁTICOS"]
[null,null,null,null,null,"9329 - OTRAS ACTIVIDADES DE ESPARCIMIENTO Y RECREATIVAS N.C.P."]
[null,null,null,null,null,"9411 - ACTIVIDADES DE ASOCIACIONES EMPRESARIALES Y DE EMPLEADORES"]
[null,null,null,null,null,"9412 - ACTIVIDADES DE ASOCIACIONES PROFESIONALES"]
[null,null,null,null,null,"9420 - ACTIVIDADES DE SINDICATOS"]
[null,null,null,null,null,"9491 - ACTIVIDADES DE ORGANIZACIONES RELIGIOSAS"]
[null,null,null,null,null,"9492 - ACTIVIDADES DE ORGANIZACIONES POLÍTICAS"]
[null,null,null,null,null,"9499 - ACTIVIDADES DE OTRAS ASOCIACIONES N.C.P."]
[null,null,null,null,null,"9511 - REPARACIÓN DE ORDENADORES Y EQUIPO PERIFÉRICO"]
[null,null,null,null,null,"9512 - REPARACIÓN DE EQUIPOS COMUNICACIONALES"]
[null,null,null,null,null,"9521 - REPARACIÓN DE APARATOS ELECTRÓNICOS DE CONSUMO"]
[null,null,null,null,null,"9522 - REPARACIÓN DE APARATOS DE USO DOMÉSTICO Y EQUIPO DOMÉSTICO Y DE JARDINERÍA"]
[null,null,null,null,null,"9523 - REPARACIÓN DE CALZADO Y ARTÍCULOS DE CUERO"]
[null,null,null,null,null,"9524 - REPARACIÓN DE MUEBLES Y ACCESORIOS DOMÉSTICOS"]
[null,null,null,null,null,"9529 - REPARACIÓN DE OTROS EFECTOS PERSONALES Y ENSERES DOMÉSTICOS"]
[null,null,null,null,null,"9601 - LAVADO Y LIMPIEZA, INCLUIDA LA LIMPIEZA EN SECO, DE PRODUCTOS TEXTILES Y DE PIEL"]
[null,null,null,null,null,"9602 - PELUQUERÍA Y OTROS TRATAMIENTOS DE BELLEZA"]
[null,null,null,null,null,"9603 - POMPAS FÚNEBRES Y ACTIVIDADES CONEXAS"]
[null,null,null,null,null,"9609 - OTRAS ACTIVIDADES DE SERVICIOS PERSONALES N.C.P."]
[null,null,null,null,null,"9700 - ACTIVIDADES DE LOS HOGARES COMO EMPLEADORES DE PERSONAL DOMÉSTICO"]
[null,null,null,null,null,"9900 - ACTIVIDADES DE ORGANIZACIONES Y ÓRGANOS EXTRATERRITORIALES"]
[]
[]
[]
[]
[]
[]
[]
[]
[]
[]
[]
[]
[]
[]
[]
[]
[]
[]
[]
[]
[]
[]
["Anexo V\nLISTADO DE ESPECIES VEGETALES DE BAJO CONSUMO HÍDRICO"]
["ÁRBOLES"]
["NOMBRE Botánico","Nombre Común"]
["Acacia cyanophylla","Mimosa"]
["Acacia farnesiana","Aromo, pashaco"]
["Acacia macracantha","Huarango, faique, espino"]
["Albizia julibrissin","Acacia de Constantinopla, acacia de seda"]
["Albizia Lebbeck","Albizia"]
["Bauhinia aculeata syn. B. grandiflora","Árbol de la orquídea, pata de vaca"]
["Caesalpina spinosa. C. Tinctoria","Tara, espino, taya"]
["Callistemon sp","Escobillón de botella"]
["Cedrela Odorata","Cedro colorado, cedro de olor"]
["Choirisia speciosa","Ceibo, palo borracho"]
["Coccoloba uvífera","Uva de mar, uva de playa"]
["Delonix regia","Poinciana real, flamboyant"]
["Euphorbia candelabrum","Candelabro"]
["Ficus benjamina","Ficus"]
["Grevillea robusta","Grevilea, roble plateado"]
["Harpullia arborea","Falso boliche, jabonaria"]
["Jacarandá acutifolia, j. mimosifolia","Jacarandá"]
["Koelreuteria paniculata","Coelreuteria, papelillo"]
["Lagerstroemia indica","Árbol de Júpiter, mirto crespo"]
["Magnolia grandiflora","Magnolia"]
["Melaleuca sp.","Melaleuca, árbol blanco"]
["Melia azedarach","Melia, flor del paraíso, cinamono"]
["Olea europaea","Olivo"]
["Parkinsonia aculeata","Palo verde, azote de Cristo"]
["Prosopis pallida","Algarrobo, mesquite"]
["Sambucus peruviana","Sauco o sabugo, saúco negro"]
["Sapindus saponaria","Boliche, jabonaria, sulluco"]
["Schinus molle","Molle serrano"]
["Schinus terebinthifolius","Molle hawaiano, falso terebinto"]
["Tecoma stans","Tecoma huaranhuay, campailla"]
["Tipuana tipu","Tipa, tipuana"]
[]
["PALMERAS, CYCAS Y CONÍFERAS"]
["Nombre Botánico","Nombre Común"]
["Archontophoenix cunninghamiana","Falsa palma real, areca"]
["Arecastrum romanzoffianum","Cocos plumosa, palmera bruja"]
["Cycas revoluta","Cyca, palma del sagú"]
["Phoenix canariensis","Palmera de canarias"]
["Phoenix dactylifera","Palmera datilera, dátil"]
["Phoenix roebelini","Palmera robelini"]
["Roystonea regia","Palmera real, palmera real de Cuba"]
["Washingtonia robusta","Palmera abanico"]
["Araucaria excelsa","Pino de navidad, pino"]
["Cupressus sempervirens","Ciprés"]
["Juniperus horizontalis   \"wittoni\"   o   J. Prostrata","Ciprés rastrero o junípero"]
["Podocarpus macrophyllus","Podocarpus"]
[]
["ARBUSTOS"]
["Nombre Botánico","Nombre Común"]
["Beaucarnea recurvata","Pony tail, pie de elefante"]
["Caesalpina pulcherrima","Orgullo de barbados"]
["Calliandra haematocephala","Calliandra, pompón rojo"]
["Carissa grandiflora","Ciruela de natal"]
["Cassia didimobotrya","Casia, retamilla"]
["Cassia sp., Senna","Mutuy, motoy, pakte, tantar"]
["Clusia sp.","Clusia"]
["Coprosma repens (baueri)","Coprosma"]
["Cotoneaster sp.","Cotoneaster"]
["Dracaena fragans (Massangeana)","Dracaena"]
["Duranta repens","Duranta"]
["Euonymus sp.","Evonimus"]
["Heliotropium arborescens","Heliotropo, carayaca"]
["Hibiscus rosa sinensis","Cucarda, rosa de China"]
["Lantana camara","Lantana, bandera española"]
["Ligustrum sp.","Ligustrum, aligustre, privet"]
["Myoporum laetum","Mioporo"]
["Myrtus communis","Mirto, arrayán de Castilla"]
["Nandina doméstica","Arbolito de la felicidad"]
["Nerium oleander","Laurel, adelf, laurel cerezo"]
["Pittosporum tobira","Falso azahar, azahar de la China"]
["Punica granatum","Granado"]
["Ricinus communis","Higuerila, ricino"]
["Rosa rugosa","Rosa, tomate marino"]
["Rosmarinus officinalis","Romero"]
["Schefflera arboricola","Schefflera enana"]
["Tecomaria capensis","Tecomaria"]
["Thevetia peruviana","Tevetia, laurel amarillo, maichil"]
["Westringia rosmariniformis fructicosa","Westringia"]
["Yucca gloriosa","Yuca"]
["GRAMÍNEAS"]
["Nombre Botánico","Nombre Común"]
["Cortaderia selloana","Cortadera, sacuara, pampa Grass"]
["Festuca ovina var. Glauca","Festuca azul"]
["Pennisetum setaceum \"rubrum\"","Cola de zorro"]
["CACTUS Y SUCULENTAS"]
["Nombre Botánico","Nombre Común"]
["Aeonium arboreum","Aeonium"]
["Agave americana","Agave, pita, cabuya, maguey"]
["Agave attenuata","Agave"]
["Agave angustifolia \"marginata\"","Agave marginata, espadín"]
["Aloe barbadensis, syn. A. vera","Sábila, aloe"]
["Cereus peruvianus \"Monstrosus\"","Cereus monstruoso"]
["Crassula argentea syn. C. ovata","Crásula, jade, rosa verde, congona"]
["Echeveria elegans","Echeveria, chenile"]
["Echinocactus grusonii","Asiento de suegra, bola de oro"]
["Euphorbia millii","Corona de Cristo, espina de Cristo"]
["Glottiphylum nelli","Glotifilo, lengua de vaca"]
["Kalanchoe blossfeldiana","Calanchoe"]
["Opuntia ficus-indica","Tuna, chumbera"]
["Sansevieria trifasciata-Laurenti","Lengua de suegra"]
["Sedum morganianum","Cola de burro."]
["Trichocereus pachanoi-Trichocereus peruvianus","San        Pedro-sntorcha          peruana,         huacguma, aguacolla"]
["CUBRESUELOS"]
["Nombre Botánico","Nombre Común"]
["Aptenia cordifolia","Planta del rocío"]
["Asparagus sprengeri","Espárrago, esparraguera"]
["Carpobrotus edulis","Clavel chino, mesembriantemo"]
["Gazania rigens","Gazania"]
["Lantana montevidensis","Lantana rastrera"]
["Lobularia marítima","Allysum, lágrima de la Virgen"]
["Oenothera missouriensis","Oenotera, choclillo, ipomea amarilla"]
["Pelargonium peltatum","Hiedra"]
["Portulaca grandiflora","Portulaca, verdolaga, flor de seda"]
["Rhoeo spathacea","Roeo, cuna de Moisés"]
["Senecio cineraria","Senecio, dusty Miller, argéntea"]
["Setcreasea purpurea","Tradescantia, Corazón morado"]
["Verbena peruviana","Verbena"]
["Wedelia trilobata","Wedelia, botoncillo, margarita rastrera"]
[]
["Empresa Municipal de Servicios de Agua Potable y Alcantarillado de Amazonas – EMUSAP S.A.",null,null,null,null,null,null,null,null,null,"CONSORCIO ELECTRICO DE VILLACURI S.A.C.",null,null,null,null,null,null,null,null,"Gas Natural de Lima y Callao S.R.L. – Sistema de Distribución de Gas natural en Lima y Callao"]
["Empresa Municipal de Agua Potable y Alcantarillado de Bagua S.A. – EMAPAB S.A.",null,null,null,null,null,null,null,null,null,"ELECTRO DUNAS S.A.A.",null,null,null,null,null,null,null,null,"CONGAS PERU – GRUPO DE ENERGÍA DE BOGOTA - Instalación de Tuberías de Distribución de Gas Natural en el Distrito de Pisco."]
["Empresa Prestadora de Servicios de Saneamiento Municipal de Utcubamba S.A. – EPSSMU S.A.",null,null,null,null,null,null,null,null,null,"EMPRESA REGIONAL DE SERVICIO PUBLICO DE ELECTRICIDAD DEL ORIENTE S.A. - ELECTRO ORIENTE",null,null,null,null,null,null,null,null,"Quavii"]
["Empresa Prestadora de Servicios de Saneamiento Chavín S.A. – EPS CHAVIN S.A.",null,null,null,null,null,null,null,null,null,"ELECTRO PANGOA S. A"]
["Servicio del Agua Potable y Alcantarillado del Santa, Casma y Huarmey S.A. – EPS SEDACHIMBOTE S.A.",null,null,null,null,null,null,null,null,null,"EMPRESA REGIONAL DE SERVICIO PUBLICO DE ELECTRICIDAD DE PUNO S.A.A. - ELECTRO PUNO"]
["Empresa Municipal de Agua y Alcantarillado de Ica – EPS EMAPICA S.A.",null,null,null,null,null,null,null,null,null,"ELECTRO SUR ESTE S.A.A."]
["Servicio de Agua Potable y Alcantarillado de Ayacucho S.A. – SEDA AYACUCHO S.A.",null,null,null,null,null,null,null,null,null,"ELECTRO TOCACHE S.A."]
["Empresa Prestadora de Servicios de Saneamiento Barranca S.A. – EPS BARRANCA S.A.",null,null,null,null,null,null,null,null,null,"EMPRESA CONCESIONARIA DE ELECTRICIDAD DE UCAYALI SA"]
["Entidad Prestadora de Servicios de Saneamiento Tacna -EPS TACNA S.A.",null,null,null,null,null,null,null,null,null,"ELECTROCENTRO S.A. - ELECTRO CENTRO"]
["EPS AGUAS DE LIMA NORTE S.A. (Antes EMAPA HUACHO S.A.)",null,null,null,null,null,null,null,null,null,"ELECTRONOROESTE S. A. – ENOSA"]
["Empresa Municipal de Agua Potable y Alcantarillado Huaral -EMAPA HUARAL S.A.",null,null,null,null,null,null,null,null,null,"EMPRESA REGIONAL DE SERVICIO PUBLICO DE ELECTRICIDAD ELECTRONORTEMEDIO S.A. – HIDRANDINA"]
["Empresa Prestadora de Servicios Marañón -EPS MARAÑON S.R.L.",null,null,null,null,null,null,null,null,null,"EMPRESA REGIONAL DE SERVICIO PUBLICO DE ELECTRICIDAD DEL NORTE S.A. – ENSA"]
["Entidad Prestadora de Servicios y Saneamiento Moyobamba – EPS MOYOBAMBA S.A.",null,null,null,null,null,null,null,null,null,"EMPRESA REGIONAL SERVICIO PUBLICO ELECTRICIDAD ELECTROSUR S.A. – ELECTROSUR"]
["Empresa Municipal de Agua Potable y Alcantarillado de San Martín – EMAPA SAN MARTIN S.A.",null,null,null,null,null,null,null,null,null,"EMPRESA DE DISTRIBUCION Y COMERCIALIZACION DE ELECTRICIDAD SAN RAMON S.A."]
["Empresa Municipal de Agua Potable y Alcantarillado Quillabamba S.R.L. – EPS EMAQ S.R.L.",null,null,null,null,null,null,null,null,null,"EMPRESA DE INTERÉS LOCAL HIDROELÉCTRICA CHACAS S.A."]
["Unidad Ejecutora 002 “Servicios de Saneamiento Tumbes”- AGUA TUMBES",null,null,null,null,null,null,null,null,null,"EMPRESA DE SERVICIOS ELECTRICOS MUNICIPALES DE PARAMONGA S.A."]
["Empresa Nacional de Agua Potable y Alcantarillado Virgen de Guadalupe del Sur – EMAPAVIGS S.A.",null,null,null,null,null,null,null,null,null,"EMPRESA MUNICIPAL DE SERVICIOS ELECTRICOS UTCUBAMBA S.A.C."]
["Empresa de Agua Potable y Alcantarillado de Coornel Portillo -EMAPACOP S.A.",null,null,null,null,null,null,null,null,null,"EGEPSA S.A."]
["Empresa Municipal de Agua Potable y Alcantarillado Cañete S.A. – EMAPA CAÑETE S.A.",null,null,null,null,null,null,null,null,null,"ENEL DISTRIBUCIÓN PERÚ S.A.A."]
["Empresa Municipal de Servicios de Agua Potable y Alcantarillado de Huánuco EPS SEDAHUANUCO S.A.",null,null,null,null,null,null,null,null,null,"INADE - PROYECTO ESPECIAL CHAVIMOCHIC"]
["Entidad Prestadora de Servicios de Saneamiento de Lambayeque – EPSEL S.A.",null,null,null,null,null,null,null,null,null,"LUZ DEL SUR S.A.A."]
["Empresa Municipal de Agua Potable y Alcantarillado de Pasco – EMAPA PASCO S.A.",null,null,null,null,null,null,null,null,null,"SERVICIOS ELECTRICOS RIOJA S.A."]
["Empresa Municipal de Agua Potable y Alcantarillado de Pisco – EMAPISCO S.A.",null,null,null,null,null,null,null,null,null,"SOCIEDAD ELECTRICA DEL SUR OESTE S.A."]
["Empresa Municipal de Saneamiento Basico de Puno – EMSAPUNO S.A.",null,null,null,null,null,null,null,null,null,"EMPRESA DE ADMINISTRACIÓN DE INFRAESTRUCTURA ELÉCTRICA S.A. -"]
["Entidad Prestadora de Servicios de Saneamiento Ilo – EPS ILO S.A.",null,null,null,null,null,null,null,null,null,"ADINELSA"]
["Empresa Municipal de Agua Potable y Alcantarillado de Tambopata – EMAPAT S.A"]
["Entidad Prestadora de Servicios de Saneamiento Moquegua – EPS MOQUEGUA S.A."]
["Entidad Prestadora de Servicios de Agua Potable y Alcantarillado de Juliaca – EPS SEDAJULIACA S.A."]
["Entidad Prestadora de Servicios de Saneamiento de Agua Potable y Alcantarillado de Loreto – EPS SEDALORETO S.A."]
["Entidad Prestadora de Servicios de Saneamiento de Grau – EPS GRAU S.A."]
["Servicio de Agua Potable y Alcantarillado de Arequipa – SEDAPAR S.A."]
["Empresa Prestadora de Servicios de Saneamiento S.A. Cajamarca – EPS SEDACAJ S.A."]
["Empresa Municipal de Agua Potable y Alcantarillado de Huancavelica SA. – EMAPA HUANCAVELICA"]
["Servicios de Agua Potable y Alcantarillado de la Liberta – SEDALIB S.A."]
["Entidad Prestadora de Servicios de Saneamiento de Grau – EPS GRAU S.A.NO"]
["Entidad Prestadora Municipal de Servicos de Saneamiento del Cusco S.A. – EPS SEDACUSCO S.A."]
["Servicio Municipal de Agua Potable y Alcantarillado de Chincha S.A – EPS SEMAPACH S.A."]
["Empresa Municipal de Agua Potable y alcantarillado Yunguyo S.R.LTDA. – EMAPA-Y S.R.LTDA."]
["Entidad Prestadora de Servcios de Saneamiento Selva Central S.A. – EPS SELVA CENTRAL S.A."]
["Empresa Municipal Prestadora de Servicos de Saneamiento de las Provincias Alto Andinas Sociedad Anónima – EMPSSAPAL S.A."]
["Entidad Prestadora de Servicios de Saneamiento Sierra Central S.R.L. – EPS SIERRA CENTRAL S.R.L."]
["Entidad Prestadora de Servicios de Saneamiento Chanka S.C.R.L. – EPS EMSAP CHANKA S.A."]
["Entidad Prestadora de Servicios de Saneamiento Municipal Mantaro Sociedad Anónima – EPS MANTARO S.A."]
["Servicio de Agua Potable y Alcantarillado de Lima – SEDAPAL S.A."]
["Empresa de Servicios de Agua Potable y Alcantarillado Municipal de Huancayo – SEDAM HUANCAYO S.A."]
["Empresa Municipal de Servicios de Agua Potable y Alcantarillado de Yauli La Oroya Sociedad de Responsabilidad Limitada – EMSAPA YAULI LA OROYA S.R.L."]
["Entidad Prestadora de Servicios de Saneamiento Aguas del Altiplano S.R.L. – EPS AGUAS DEL ALTIPLANO S.R.L."]
["Empresa Municipal de Servicios de Agua Potable y Alcantarillado de Calca S.A. – EPS EMSAPA CALCA S.A."]
["Entidad Prestadora de Servicios de Saneamiento Rioja S.A. – EPS RIOJA S.A."]
["Entidad Prestadora de Servicios de Saneamiento Nor Puno S.A. – EPS NOR PUNO S.A."]
["Empresa Municipal de Servicios de Abastecimiento de Agua Potable y Alcantarillado de Abancay – EPS EMUSAP ABANCAY S.A."]

{"sheet":"U","index":1,"n_rows":1898,"n_cols":25,"rows_kept":1898,"cut":false,"hidden":true,"merged":[]}
[]
[]
[]
[]
[]
[1,10202,"AMAZONAS","BAGUA","ARAMANGO",809,502,-5.4164000000000003,-78.437799999999996,{"$f":"IFERROR(VLOOKUP(B6,#REF!,8,FALSE),\"\")","v":""},null,"ARAMANGO",null,null,null,null,null,null,null,null,"AMAZONAS",null,null,"AMAZONAS","BAGUA"]
[{"$f":"+A6+1","v":2},10201,"AMAZONAS","BAGUA","BAGUA",151,408,-5.6388999999999996,-78.531099999999995,{"$f":"IFERROR(VLOOKUP(B7,#REF!,8,FALSE),\"\")","v":""},null,"BAGUA",null,null,null,null,null,null,null,null,"ANCASH",null,null,"AMAZONAS","BONGARA"]
[{"$f":"+A7+1","v":3},10203,"AMAZONAS","BAGUA","COPALLIN",99,693,-5.6749999999999998,-78.423100000000005,{"$f":"IFERROR(VLOOKUP(B8,#REF!,8,FALSE),\"\")","v":""},null,"COPALLIN",null,null,null,null,null,null,null,null,"APURIMAC",null,null,"AMAZONAS","CHACHAPOYAS"]
[4,10204,"AMAZONAS","BAGUA","EL PARCO",18,626,-5.625,-78.475300000000004,{"$f":"IFERROR(VLOOKUP(B9,#REF!,8,FALSE),\"\")","v":""},null,"EL PARCO",null,null,null,null,null,null,null,null,"AREQUIPA",null,null,"AMAZONAS","CHACHAPOYAS"]
[5,10205,"AMAZONAS","BAGUA","IMAZA",4431,317,-5.1635999999999997,-78.288899999999998,{"$f":"IFERROR(VLOOKUP(B10,#REF!,8,FALSE),\"\")","v":""},null,"IMAZA",null,null,null,null,null,null,null,null,"AYACUCHO",null,null,"AMAZONAS","CONDORCANQUI"]
[6,10206,"AMAZONAS","BAGUA","LA PECA",144,892,-5.6119000000000003,-78.436899999999994,{"$f":"IFERROR(VLOOKUP(B11,#REF!,8,FALSE),\"\")","v":""},null,"LA PECA",null,null,null,null,null,null,null,null,"CAJAMARCA",null,null,"AMAZONAS","LUYA"]
[7,10302,"AMAZONAS","BONGARA","CHISQUILLA",175,2057,-5.8975,-77.786100000000005,{"$f":"IFERROR(VLOOKUP(B12,#REF!,8,FALSE),\"\")","v":""},null,"CHISQUILLA",null,null,null,null,null,null,null,null,"CUSCO",null,null,"AMAZONAS","RODRIGUEZ DE MENDOZA"]
[8,10303,"AMAZONAS","BONGARA","CHURUJA",33,1399,-6.0194000000000001,-77.951899999999995,{"$f":"IFERROR(VLOOKUP(B13,#REF!,8,FALSE),\"\")","v":""},null,"CHURUJA",null,null,null,null,null,null,null,null,"HUANCAVELICA",null,null,"AMAZONAS","UTCUBAMBA"]
[9,10304,"AMAZONAS","BONGARA","COROSHA",46,2297,-5.8433000000000002,-77.822500000000005,{"$f":"IFERROR(VLOOKUP(B14,#REF!,8,FALSE),\"\")","v":""},null,"COROSHA",null,null,null,null,null,null,null,null,"HUANUCO",null,null,"ANCASH","AIJA"]
[10,10305,"AMAZONAS","BONGARA","CUISPES",111,1912,-5.9283000000000001,-77.946100000000001,{"$f":"IFERROR(VLOOKUP(B15,#REF!,8,FALSE),\"\")","v":""},null,"CUISPES",null,null,null,null,null,null,null,null,"ICA",null,null,"ANCASH","ANTONIO RAYMONDI"]
[11,10306,"AMAZONAS","BONGARA","FLORIDA",203,2251,-5.8261000000000003,-77.969399999999993,{"$f":"IFERROR(VLOOKUP(B16,#REF!,8,FALSE),\"\")","v":""},null,"FLORIDA",null,null,null,null,null,null,null,null,"JUNIN",null,null,"ANCASH","ASUNCION"]
[12,10307,"AMAZONAS","BONGARA","JAZAN",89,1342,-5.9413999999999998,-77.977199999999996,{"$f":"IFERROR(VLOOKUP(B17,#REF!,8,FALSE),\"\")","v":""},null,"JAZAN",null,null,null,null,null,null,null,null,"LA LIBERTAD",null,null,"ANCASH","BOLOGNESI"]
[13,10301,"AMAZONAS","BONGARA","JUMBILLA",154,2081,-5.9043999999999999,-77.797799999999995,{"$f":"IFERROR(VLOOKUP(B18,#REF!,8,FALSE),\"\")","v":""},null,"JUMBILLA",null,null,null,null,null,null,null,null,"LAMBAYEQUE",null,null,"ANCASH","CARHUAZ"]
[14,10308,"AMAZONAS","BONGARA","RECTA",25,2166,-5.9177999999999997,-77.788899999999998,{"$f":"IFERROR(VLOOKUP(B19,#REF!,8,FALSE),\"\")","v":""},null,"RECTA",null,null,null,null,null,null,null,null,"LIMA",null,null,"ANCASH","CARLOS FERMIN FITZCARRALD"]
[15,10309,"AMAZONAS","BONGARA","SAN CARLOS",101,1942,-5.9661,-77.945300000000003,{"$f":"IFERROR(VLOOKUP(B20,#REF!,8,FALSE),\"\")","v":""},null,"SAN CARLOS",null,null,null,null,null,null,null,null,"LORETO",null,null,"ANCASH","CASMA"]
[16,10310,"AMAZONAS","BONGARA","SHIPASBAMBA",127,1668,-5.9105999999999996,-77.980599999999995,{"$f":"IFERROR(VLOOKUP(B21,#REF!,8,FALSE),\"\")","v":""},null,"SHIPASBAMBA",null,null,null,null,null,null,null,null,"MADRE DE DIOS",null,null,"ANCASH","CORONGO"]
[17,10311,"AMAZONAS","BONGARA","VALERA",90,1928,-6.0427999999999997,-77.919200000000004,{"$f":"IFERROR(VLOOKUP(B22,#REF!,8,FALSE),\"\")","v":""},null,"VALERA",null,null,null,null,null,null,null,null,"MOQUEGUA",null,null,"ANCASH","HUARAZ"]
[18,10312,"AMAZONAS","BONGARA","YAMBRASBAMBA",1716,1887,-5.7352999999999996,-77.924999999999997,{"$f":"IFERROR(VLOOKUP(B23,#REF!,8,FALSE),\"\")","v":""},null,"YAMBRASBAMBA",null,null,null,null,null,null,null,null,"PASCO",null,null,"ANCASH","HUARI"]
[19,10102,"AMAZONAS","CHACHAPOYAS","ASUNCION",26,2823,-6.0324999999999998,-77.710800000000006,{"$f":"IFERROR(VLOOKUP(B24,#REF!,8,FALSE),\"\")","v":""},null,"ASUNCION",null,null,null,null,null,null,null,null,"PIURA",null,null,"ANCASH","HUARMEY"]
[20,10103,"AMAZONAS","CHACHAPOYAS","BALSAS",357,859,-6.8357999999999999,-78.0197,{"$f":"IFERROR(VLOOKUP(B25,#REF!,8,FALSE),\"\")","v":""},null,"BALSAS",null,null,null,null,null,null,null,null,"PUNO",null,null,"ANCASH","HUAYLAS"]
[21,10101,"AMAZONAS","CHACHAPOYAS","CHACHAPOYAS",154,2338,-6.2294,-77.872799999999998,{"$f":"IFERROR(VLOOKUP(B26,#REF!,8,FALSE),\"\")","v":""},null,"CHACHAPOYAS",null,null,null,null,null,null,null,null,"SAN MARTIN",null,null,"ANCASH","MARISCAL LUZURIAGA"]
[22,10104,"AMAZONAS","CHACHAPOYAS","CHETO",57,2143,-6.2556000000000003,-77.700800000000001,{"$f":"IFERROR(VLOOKUP(B27,#REF!,8,FALSE),\"\")","v":""},null,"CHETO",null,null,null,null,null,null,null,null,"TACNA",null,null,"ANCASH","OCROS"]
[23,10105,"AMAZONAS","CHACHAPOYAS","CHILIQUIN",143,2677,-6.0782999999999996,-77.737499999999997,{"$f":"IFERROR(VLOOKUP(B28,#REF!,8,FALSE),\"\")","v":""},null,"CHILIQUIN",null,null,null,null,null,null,null,null,"TUMBES",null,null,"ANCASH","PALLASCA"]
[24,10106,"AMAZONAS","CHACHAPOYAS","CHUQUIBAMBA",279,2803,-6.9349999999999996,-77.854200000000006,{"$f":"IFERROR(VLOOKUP(B29,#REF!,8,FALSE),\"\")","v":""},null,"CHUQUIBAMBA",null,null,null,null,null,null,null,null,"UCAYALI",null,null,"ANCASH","POMABAMBA"]
[25,10107,"AMAZONAS","CHACHAPOYAS","GRANADA",181,3041,-6.1063999999999998,-77.628600000000006,{"$f":"IFERROR(VLOOKUP(B30,#REF!,8,FALSE),\"\")","v":""},null,"GRANADA",null,null,null,null,null,null,null,null,null,null,null,"ANCASH","RECUAY"]
[26,10108,"AMAZONAS","CHACHAPOYAS","HUANCAS",49,2591,-6.1736000000000004,-77.864400000000003,{"$f":"IFERROR(VLOOKUP(B31,#REF!,8,FALSE),\"\")","v":""},null,"HUANCAS",null,null,null,null,null,null,null,null,null,null,null,"ANCASH","SANTA"]
[27,10109,"AMAZONAS","CHACHAPOYAS","LA JALCA",380,2869,-6.4847000000000001,-77.814999999999998,{"$f":"IFERROR(VLOOKUP(B32,#REF!,8,FALSE),\"\")","v":""},null,"LA JALCA",null,null,null,null,null,null,null,null,null,null,null,"ANCASH","SIHUAS"]
[28,10110,"AMAZONAS","CHACHAPOYAS","LEIMEBAMBA",373,2226,-6.7074999999999996,-77.803899999999999,{"$f":"IFERROR(VLOOKUP(B33,#REF!,8,FALSE),\"\")","v":""},null,"LEIMEBAMBA",null,null,null,null,null,null,null,null,null,null,null,"ANCASH","YUNGAY"]
[29,10111,"AMAZONAS","CHACHAPOYAS","LEVANTO",78,2681,-6.3078000000000003,-77.899199999999993,{"$f":"IFERROR(VLOOKUP(B34,#REF!,8,FALSE),\"\")","v":""},null,"LEVANTO",null,null,null,null,null,null,null,null,null,null,null,"APURIMAC","ABANCAY"]
[30,10112,"AMAZONAS","CHACHAPOYAS","MAGDALENA",135,1892,-6.3731,-77.901700000000005,{"$f":"IFERROR(VLOOKUP(B35,#REF!,8,FALSE),\"\")","v":""},null,"MAGDALENA",null,null,null,null,null,null,null,null,null,null,null,"APURIMAC","ANDAHUAYLAS"]
[31,10113,"AMAZONAS","CHACHAPOYAS","MARISCAL CASTILLA",84,2210,-6.5944000000000003,-77.808599999999998,{"$f":"IFERROR(VLOOKUP(B36,#REF!,8,FALSE),\"\")","v":""},null,"MARISCAL CASTILLA",null,null,null,null,null,null,null,null,null,null,null,"APURIMAC","ANTABAMBA"]
[32,10114,"AMAZONAS","CHACHAPOYAS","MOLINOPAMPA",334,2405,-6.2092000000000001,-77.669200000000004,{"$f":"IFERROR(VLOOKUP(B37,#REF!,8,FALSE),\"\")","v":""},null,"MOLINOPAMPA",null,null,null,null,null,null,null,null,null,null,null,"APURIMAC","AYMARAES"]
[33,10115,"AMAZONAS","CHACHAPOYAS","MONTEVIDEO",119,2421,-6.6181000000000001,-77.802199999999999,{"$f":"IFERROR(VLOOKUP(B38,#REF!,8,FALSE),\"\")","v":""},null,"MONTEVIDEO",null,null,null,null,null,null,null,null,null,null,null,"APURIMAC","CHINCHEROS"]
[34,10116,"AMAZONAS","CHACHAPOYAS","OLLEROS",125,3053,-6.0239000000000003,-77.676400000000001,{"$f":"IFERROR(VLOOKUP(B39,#REF!,8,FALSE),\"\")","v":""},null,"OLLEROS",null,null,null,null,null,null,null,null,null,null,null,"APURIMAC","COTABAMBAS"]
[35,10117,"AMAZONAS","CHACHAPOYAS","QUINJALCA",92,3151,-6.0914000000000001,-77.678600000000003,{"$f":"IFERROR(VLOOKUP(B40,#REF!,8,FALSE),\"\")","v":""},null,"QUINJALCA",null,null,null,null,null,null,null,null,null,null,null,"APURIMAC","GRAU"]
[36,10118,"AMAZONAS","CHACHAPOYAS","SAN FRANCISCO DE DAGUAS",47,2254,-6.2291999999999996,-77.739999999999995,{"$f":"IFERROR(VLOOKUP(B41,#REF!,8,FALSE),\"\")","v":""},null,"SAN FRANCISCO DE DAGUAS",null,null,null,null,null,null,null,null,null,null,null,"AREQUIPA","AREQUIPA"]
[37,10119,"AMAZONAS","CHACHAPOYAS","SAN ISIDRO DE MAINO",102,2339,-6.3372000000000002,-77.880600000000001,{"$f":"IFERROR(VLOOKUP(B42,#REF!,8,FALSE),\"\")","v":""},null,"SAN ISIDRO DE MAINO",null,null,null,null,null,null,null,null,null,null,null,"AREQUIPA","CAMANA"]
[38,10120,"AMAZONAS","CHACHAPOYAS","SOLOCO",84,2387,-6.2606000000000002,-77.744200000000006,{"$f":"IFERROR(VLOOKUP(B43,#REF!,8,FALSE),\"\")","v":""},null,"SOLOCO",null,null,null,null,null,null,null,null,null,null,null,"AREQUIPA","CARAVELI"]
[39,10121,"AMAZONAS","CHACHAPOYAS","SONCHE",113,2089,-6.2188999999999997,-77.775300000000001,{"$f":"IFERROR(VLOOKUP(B44,#REF!,8,FALSE),\"\")","v":""},null,"SONCHE",null,null,null,null,null,null,null,null,null,null,null,"AREQUIPA","CASTILLA"]
[40,10402,"AMAZONAS","CONDORCANQUI","EL CENEPA",5458,253,-4.4555999999999996,-78.158900000000003,{"$f":"IFERROR(VLOOKUP(B45,#REF!,8,FALSE),\"\")","v":""},null,"EL CENEPA",null,null,null,null,null,null,null,null,null,null,null,"AREQUIPA","CAYLLOMA"]
[41,10401,"AMAZONAS","CONDORCANQUI","NIEVA",4482,189,-4.5922000000000001,-77.864400000000003,{"$f":"IFERROR(VLOOKUP(B46,#REF!,8,FALSE),\"\")","v":""},null,"NIEVA",null,null,null,null,null,null,null,null,null,null,null,"AREQUIPA","CONDESUYOS"]
[42,10403,"AMAZONAS","CONDORCANQUI","RIO SANTIAGO",8035,190,-4.0157999999999996,-77.760800000000003,{"$f":"IFERROR(VLOOKUP(B47,#REF!,8,FALSE),\"\")","v":""},null,"RIO SANTIAGO",null,null,null,null,null,null,null,null,null,null,null,"AREQUIPA","ISLAY"]
[43,10502,"AMAZONAS","LUYA","CAMPORREDONDO",376,1748,-6.2133000000000003,-78.319999999999993,{"$f":"IFERROR(VLOOKUP(B48,#REF!,8,FALSE),\"\")","v":""},null,"CAMPORREDONDO",null,null,null,null,null,null,null,null,null,null,null,"AREQUIPA","LA UNION"]
[44,10503,"AMAZONAS","LUYA","COCABAMBA",356,2273,-6.6142000000000003,-78.004999999999995,{"$f":"IFERROR(VLOOKUP(B49,#REF!,8,FALSE),\"\")","v":""},null,"COCABAMBA",null,null,null,null,null,null,null,null,null,null,null,"AYACUCHO","CANGALLO"]
[45,10504,"AMAZONAS","LUYA","COLCAMAR",107,2355,-6.2994000000000003,-77.973100000000002,{"$f":"IFERROR(VLOOKUP(B50,#REF!,8,FALSE),\"\")","v":""},null,"COLCAMAR",null,null,null,null,null,null,null,null,null,null,null,"AYACUCHO","HUAMANGA"]
[46,10505,"AMAZONAS","LUYA","CONILA",256,2767,-6.1592000000000002,-78.141900000000007,{"$f":"IFERROR(VLOOKUP(B51,#REF!,8,FALSE),\"\")","v":""},null,"CONILA",null,null,null,null,null,null,null,null,null,null,null,"AYACUCHO","HUANCA SANCOS"]
[47,10506,"AMAZONAS","LUYA","INGUILPATA",118,2380,-6.2393999999999998,-77.953900000000004,{"$f":"IFERROR(VLOOKUP(B52,#REF!,8,FALSE),\"\")","v":""},null,"INGUILPATA",null,null,null,null,null,null,null,null,null,null,null,"AYACUCHO","HUANTA"]
[48,10501,"AMAZONAS","LUYA","LAMUD",69,2328,-6.1391999999999998,-77.952200000000005,{"$f":"IFERROR(VLOOKUP(B53,#REF!,8,FALSE),\"\")","v":""},null,"LAMUD",null,null,null,null,null,null,null,null,null,null,null,"AYACUCHO","LA MAR"]
[49,10507,"AMAZONAS","LUYA","LONGUITA",58,2799,-6.4135999999999997,-77.968299999999999,{"$f":"IFERROR(VLOOKUP(B54,#REF!,8,FALSE),\"\")","v":""},null,"LONGUITA",null,null,null,null,null,null,null,null,null,null,null,"AYACUCHO","LUCANAS"]
[50,10508,"AMAZONAS","LUYA","LONYA CHICO",84,2329,-6.2297000000000002,-77.954999999999998,{"$f":"IFERROR(VLOOKUP(B55,#REF!,8,FALSE),\"\")","v":""},null,"LONYA CHICO",null,null,null,null,null,null,null,null,null,null,null,"AYACUCHO","PARINACOCHAS"]
[51,10509,"AMAZONAS","LUYA","LUYA",91,2359,-6.1642000000000001,-77.944199999999995,{"$f":"IFERROR(VLOOKUP(B56,#REF!,8,FALSE),\"\")","v":""},null,"LUYA",null,null,null,null,null,null,null,null,null,null,null,"AYACUCHO","PAUCAR DEL SARA SARA"]
[52,10510,"AMAZONAS","LUYA","LUYA VIEJO",74,2924,-6.1275000000000004,-78.084999999999994,{"$f":"IFERROR(VLOOKUP(B57,#REF!,8,FALSE),\"\")","v":""},null,"LUYA VIEJO",null,null,null,null,null,null,null,null,null,null,null,"AYACUCHO","SUCRE"]
[53,10511,"AMAZONAS","LUYA","MARIA",80,2757,-6.4288999999999996,-77.960800000000006,{"$f":"IFERROR(VLOOKUP(B58,#REF!,8,FALSE),\"\")","v":""},null,"MARIA",null,null,null,null,null,null,null,null,null,null,null,"AYACUCHO","VICTOR FAJARDO"]
[54,10512,"AMAZONAS","LUYA","OCALLI",177,1757,-6.2352999999999996,-78.266400000000004,{"$f":"IFERROR(VLOOKUP(B59,#REF!,8,FALSE),\"\")","v":""},null,"OCALLI",null,null,null,null,null,null,null,null,null,null,null,"AYACUCHO","VILCAS HUAMAN"]
[55,10513,"AMAZONAS","LUYA","OCUMAL",236,1898,-6.2824999999999998,-78.210800000000006,{"$f":"IFERROR(VLOOKUP(B60,#REF!,8,FALSE),\"\")","v":""},null,"OCUMAL",null,null,null,null,null,null,null,null,null,null,null,"CAJAMARCA","CAJABAMBA"]
[56,10514,"AMAZONAS","LUYA","PISUQUIA",307,2049,-6.4532999999999996,-78.091899999999995,{"$f":"IFERROR(VLOOKUP(B61,#REF!,8,FALSE),\"\")","v":""},null,"PISUQUIA",null,null,null,null,null,null,null,null,null,null,null,"CAJAMARCA","CAJAMARCA"]
[57,10515,"AMAZONAS","LUYA","PROVIDENCIA",71,1784,-6.2972000000000001,-78.240799999999993,{"$f":"IFERROR(VLOOKUP(B62,#REF!,8,FALSE),\"\")","v":""},null,"PROVIDENCIA",null,null,null,null,null,null,null,null,null,null,null,"CAJAMARCA","CELENDIN"]
[58,10516,"AMAZONAS","LUYA","SAN CRISTOBAL",33,2636,-6.1017000000000001,-77.959699999999998,{"$f":"IFERROR(VLOOKUP(B63,#REF!,8,FALSE),\"\")","v":""},null,"SAN CRISTOBAL",null,null,null,null,null,null,null,null,null,null,null,"CAJAMARCA","CHOTA"]
[59,10517,"AMAZONAS","LUYA","SAN FRANCISCO DEL YESO",114,2404,-6.6468999999999996,-77.811700000000002,{"$f":"IFERROR(VLOOKUP(B64,#REF!,8,FALSE),\"\")","v":""},null,"SAN FRANCISCO DEL YESO",null,null,null,null,null,null,null,null,null,null,null,"CAJAMARCA","CONTUMAZA"]
[60,10518,"AMAZONAS","LUYA","SAN JERONIMO",215,2498,-6.0597000000000003,-77.974400000000003,{"$f":"IFERROR(VLOOKUP(B65,#REF!,8,FALSE),\"\")","v":""},null,"SAN JERONIMO",null,null,null,null,null,null,null,null,null,null,null,"CAJAMARCA","CUTERVO"]
[61,10519,"AMAZONAS","LUYA","SAN JUAN DE LOPECANCHA",88,2164,-6.4964000000000004,-77.861900000000006,{"$f":"IFERROR(VLOOKUP(B66,#REF!,8,FALSE),\"\")","v":""},null,"SAN JUAN DE LOPECANCHA",null,null,null,null,null,null,null,null,null,null,null,"CAJAMARCA","HUALGAYOC"]
[62,10520,"AMAZONAS","LUYA","SANTA CATALINA",126,2574,-6.1135999999999999,-78.0608,{"$f":"IFERROR(VLOOKUP(B67,#REF!,8,FALSE),\"\")","v":""},null,"SANTA CATALINA",null,null,null,null,null,null,null,null,null,null,null,"CAJAMARCA","JAEN"]
[63,10521,"AMAZONAS","LUYA","SANTO TOMAS",85,2837,-6.5724999999999998,-77.865799999999993,{"$f":"IFERROR(VLOOKUP(B68,#REF!,8,FALSE),\"\")","v":""},null,"SANTO TOMAS",null,null,null,null,null,null,null,null,null,null,null,"CAJAMARCA","SAN IGNACIO"]
[64,10522,"AMAZONAS","LUYA","TINGO",103,1800,-6.3796999999999997,-77.905799999999999,{"$f":"IFERROR(VLOOKUP(B69,#REF!,8,FALSE),\"\")","v":""},null,"TINGO",null,null,null,null,null,null,null,null,null,null,null,"CAJAMARCA","SAN MARCOS"]
[65,10523,"AMAZONAS","LUYA","TRITA",13,2888,-6.1519000000000004,-77.980800000000002,{"$f":"IFERROR(VLOOKUP(B70,#REF!,8,FALSE),\"\")","v":""},null,"TRITA",null,null,null,null,null,null,null,null,null,null,null,"CAJAMARCA","SAN MIGUEL"]
[66,10602,"AMAZONAS","RODRIGUEZ DE MENDOZA","CHIRIMOTO",153,1663,-6.5231000000000003,-77.442499999999995,{"$f":"IFERROR(VLOOKUP(B71,#REF!,8,FALSE),\"\")","v":""},null,"CHIRIMOTO",null,null,null,null,null,null,null,null,null,null,null,"CAJAMARCA","SAN PABLO"]
[{"$f":"+A71+1","v":67},10603,"AMAZONAS","RODRIGUEZ DE MENDOZA","COCHAMAL",199,1720,-6.4074999999999998,-77.585300000000004,{"$f":"IFERROR(VLOOKUP(B72,#REF!,8,FALSE),\"\")","v":""},null,"COCHAMAL",null,null,null,null,null,null,null,null,null,null,null,"CAJAMARCA","SANTA CRUZ"]
[68,10604,"AMAZONAS","RODRIGUEZ DE MENDOZA","HUAMBO",100,1731,-6.4310999999999998,-77.536699999999996,{"$f":"IFERROR(VLOOKUP(B73,#REF!,8,FALSE),\"\")","v":""},null,"HUAMBO",null,null,null,null,null,null,null,null,null,null,null,"CALLAO","CALLAO"]
[69,10605,"AMAZONAS","RODRIGUEZ DE MENDOZA","LIMABAMBA",318,1677,-6.4981,-77.498900000000006,{"$f":"IFERROR(VLOOKUP(B74,#REF!,8,FALSE),\"\")","v":""},null,"LIMABAMBA",null,null,null,null,null,null,null,null,null,null,null,"CUSCO","ACOMAYO"]
[70,10606,"AMAZONAS","RODRIGUEZ DE MENDOZA","LONGAR",66,1623,-6.3857999999999997,-77.546700000000001,{"$f":"IFERROR(VLOOKUP(B75,#REF!,8,FALSE),\"\")","v":""},null,"LONGAR",null,null,null,null,null,null,null,null,null,null,null,"CUSCO","ANTA"]
[71,10607,"AMAZONAS","RODRIGUEZ DE MENDOZA","MARISCAL BENAVIDES",176,1592,-6.3860999999999999,-77.504400000000004,{"$f":"IFERROR(VLOOKUP(B76,#REF!,8,FALSE),\"\")","v":""},null,"MARISCAL BENAVIDES",null,null,null,null,null,null,null,null,null,null,null,"CUSCO","CALCA"]
[72,10608,"AMAZONAS","RODRIGUEZ DE MENDOZA","MILPUC",27,1665,-6.5,-77.436400000000006,{"$f":"IFERROR(VLOOKUP(B77,#REF!,8,FALSE),\"\")","v":""},null,"MILPUC",null,null,null,null,null,null,null,null,null,null,null,"CUSCO","CANAS"]
[73,10609,"AMAZONAS","RODRIGUEZ DE MENDOZA","OMIA",175,1368,-6.4678000000000004,-77.395600000000002,{"$f":"IFERROR(VLOOKUP(B78,#REF!,8,FALSE),\"\")","v":""},null,"OMIA",null,null,null,null,null,null,null,null,null,null,null,"CUSCO","CANCHIS"]
[74,10601,"AMAZONAS","RODRIGUEZ DE MENDOZA","SAN NICOLAS",206,1616,-6.3952999999999998,-77.482200000000006,{"$f":"IFERROR(VLOOKUP(B79,#REF!,8,FALSE),\"\")","v":""},null,"SAN NICOLAS",null,null,null,null,null,null,null,null,null,null,null,"CUSCO","CHUMBIVILCAS"]
[75,10610,"AMAZONAS","RODRIGUEZ DE MENDOZA","SANTA ROSA",34,1770,-6.4535999999999998,-77.455299999999994,{"$f":"IFERROR(VLOOKUP(B80,#REF!,8,FALSE),\"\")","v":""},null,"SANTA ROSA",null,null,null,null,null,null,null,null,null,null,null,"CUSCO","CUSCO"]
[76,10611,"AMAZONAS","RODRIGUEZ DE MENDOZA","TOTORA",6,1674,-6.4931000000000001,-77.471699999999998,{"$f":"IFERROR(VLOOKUP(B81,#REF!,8,FALSE),\"\")","v":""},null,"TOTORA",null,null,null,null,null,null,null,null,null,null,null,"CUSCO","ESPINAR"]
[77,10612,"AMAZONAS","RODRIGUEZ DE MENDOZA","VISTA ALEGRE",899,1504,-6.1508000000000003,-77.303899999999999,{"$f":"IFERROR(VLOOKUP(B82,#REF!,8,FALSE),\"\")","v":""},null,"VISTA ALEGRE",null,null,null,null,null,null,null,null,null,null,null,"CUSCO","LA CONVENCION"]
[78,10701,"AMAZONAS","UTCUBAMBA","BAGUA GRANDE",747,444,-5.7546999999999997,-78.442800000000005,{"$f":"IFERROR(VLOOKUP(B83,#REF!,8,FALSE),\"\")","v":""},null,"BAGUA GRANDE",null,null,null,null,null,null,null,null,null,null,null,"CUSCO","PARURO"]
[79,10702,"AMAZONAS","UTCUBAMBA","CAJARURO",1746,469,-5.7363999999999997,-78.426699999999997,{"$f":"IFERROR(VLOOKUP(B84,#REF!,8,FALSE),\"\")","v":""},null,"CAJARURO",null,null,null,null,null,null,null,null,null,null,null,"CUSCO","PAUCARTAMBO"]
[80,10703,"AMAZONAS","UTCUBAMBA","CUMBA",293,477,-5.9356,-78.663600000000002,{"$f":"IFERROR(VLOOKUP(B85,#REF!,8,FALSE),\"\")","v":""},null,"CUMBA",null,null,null,null,null,null,null,null,null,null,null,"CUSCO","QUISPICANCHI"]
[81,10704,"AMAZONAS","UTCUBAMBA","EL MILAGRO",314,392,-5.6378000000000004,-78.558300000000003,{"$f":"IFERROR(VLOOKUP(B86,#REF!,8,FALSE),\"\")","v":""},null,"EL MILAGRO",null,null,null,null,null,null,null,null,null,null,null,"CUSCO","URUBAMBA"]
[82,10705,"AMAZONAS","UTCUBAMBA","JAMALCA",358,1184,-5.8941999999999997,-78.237799999999993,{"$f":"IFERROR(VLOOKUP(B87,#REF!,8,FALSE),\"\")","v":""},null,"JAMALCA",null,null,null,null,null,null,null,null,null,null,null,"HUANCAVELICA","ACOBAMBA"]
[83,10706,"AMAZONAS","UTCUBAMBA","LONYA GRANDE",328,1269,-6.0964,-78.422499999999999,{"$f":"IFERROR(VLOOKUP(B88,#REF!,8,FALSE),\"\")","v":""},null,"LONYA GRANDE",null,null,null,null,null,null,null,null,null,null,null,"HUANCAVELICA","ANGARAES"]
[84,10707,"AMAZONAS","UTCUBAMBA","YAMON",58,1052,-6.0507999999999997,-78.528899999999993,{"$f":"IFERROR(VLOOKUP(B89,#REF!,8,FALSE),\"\")","v":""},null,"YAMON",null,null,null,null,null,null,null,null,null,null,null,"HUANCAVELICA","CASTROVIRREYNA"]
[85,20201,"ANCASH","AIJA","AIJA",160,3421,-9.7803000000000004,-77.610600000000005,{"$f":"IFERROR(VLOOKUP(B90,#REF!,8,FALSE),\"\")","v":""},null,"AIJA",null,null,null,null,null,null,null,null,null,null,null,"HUANCAVELICA","CHURCAMPA"]
[86,20202,"ANCASH","AIJA","CORIS",267,2903,-9.8206000000000007,-77.719399999999993,{"$f":"IFERROR(VLOOKUP(B91,#REF!,8,FALSE),\"\")","v":""},null,"CORIS",null,null,null,null,null,null,null,null,null,null,null,"HUANCAVELICA","HUANCAVELICA"]
[87,20203,"ANCASH","AIJA","HUACLLAN",38,3020,-9.7980999999999998,-77.675299999999993,{"$f":"IFERROR(VLOOKUP(B92,#REF!,8,FALSE),\"\")","v":""},null,"HUACLLAN",null,null,null,null,null,null,null,null,null,null,null,"HUANCAVELICA","HUAYTARA"]
[88,20204,"ANCASH","AIJA","LA MERCED",153,3311,-9.7355999999999998,-77.616100000000003,{"$f":"IFERROR(VLOOKUP(B93,#REF!,8,FALSE),\"\")","v":""},null,"LA MERCED",null,null,null,null,null,null,null,null,null,null,null,"HUANCAVELICA","TAYACAJA"]
[89,20205,"ANCASH","AIJA","SUCCHA",79,3167,-9.8231000000000002,-77.649699999999996,{"$f":"IFERROR(VLOOKUP(B94,#REF!,8,FALSE),\"\")","v":""},null,"SUCCHA",null,null,null,null,null,null,null,null,null,null,null,"HUANUCO","AMBO"]
[90,20302,"ANCASH","ANTONIO RAYMONDI","ACZO",69,2680,-9.1518999999999995,-76.988900000000001,{"$f":"IFERROR(VLOOKUP(B95,#REF!,8,FALSE),\"\")","v":""},null,"ACZO",null,null,null,null,null,null,null,null,null,null,null,"HUANUCO","DOS DE MAYO"]
[91,20303,"ANCASH","ANTONIO RAYMONDI","CHACCHO",74,3371,-9.0596999999999994,-77.058300000000003,{"$f":"IFERROR(VLOOKUP(B96,#REF!,8,FALSE),\"\")","v":""},null,"CHACCHO",null,null,null,null,null,null,null,null,null,null,null,"HUANUCO","HUACAYBAMBA"]
[92,20304,"ANCASH","ANTONIO RAYMONDI","CHINGAS",49,2866,-9.1186000000000007,-76.991900000000001,{"$f":"IFERROR(VLOOKUP(B97,#REF!,8,FALSE),\"\")","v":""},null,"CHINGAS",null,null,null,null,null,null,null,null,null,null,null,"HUANUCO","HUAMALIES"]
[93,20301,"ANCASH","ANTONIO RAYMONDI","LLAMELLIN",91,3400,-9.1007999999999996,-77.016900000000007,{"$f":"IFERROR(VLOOKUP(B98,#REF!,8,FALSE),\"\")","v":""},null,"LLAMELLIN",null,null,null,null,null,null,null,null,null,null,null,"HUANUCO","HUANUCO"]
[94,20305,"ANCASH","ANTONIO RAYMONDI","MIRGAS",176,3147,-9.0785999999999998,-77.092500000000001,{"$f":"IFERROR(VLOOKUP(B99,#REF!,8,FALSE),\"\")","v":""},null,"MIRGAS",null,null,null,null,null,null,null,null,null,null,null,"HUANUCO","LAURICOCHA"]
[95,20306,"ANCASH","ANTONIO RAYMONDI","SAN JUAN DE RONTOY",103,3503,-9.1753,-77.002799999999993,{"$f":"IFERROR(VLOOKUP(B100,#REF!,8,FALSE),\"\")","v":""},null,"SAN JUAN DE RONTOY",null,null,null,null,null,null,null,null,null,null,null,"HUANUCO","LEONCIO PRADO"]
[96,20402,"ANCASH","ASUNCION","ACOCHACA",81,2864,-9.1146999999999991,-77.368300000000005,{"$f":"IFERROR(VLOOKUP(B101,#REF!,8,FALSE),\"\")","v":""},null,"ACOCHACA",null,null,null,null,null,null,null,null,null,null,null,"HUANUCO","MARAÑON"]
[97,20401,"ANCASH","ASUNCION","CHACAS",448,3387,-9.1622000000000003,-77.365799999999993,{"$f":"IFERROR(VLOOKUP(B102,#REF!,8,FALSE),\"\")","v":""},null,"CHACAS",null,null,null,null,null,null,null,null,null,null,null,"HUANUCO","PACHITEA"]
[98,20502,"ANCASH","BOLOGNESI","ABELARDO PARDO LEZAMETA",11,2108,-10.299200000000001,-77.1464,{"$f":"IFERROR(VLOOKUP(B103,#REF!,8,FALSE),\"\")","v":""},null,"ABELARDO PARDO LEZAMETA",null,null,null,null,null,null,null,null,null,null,null,"HUANUCO","PUERTO INCA"]
[99,20503,"ANCASH","BOLOGNESI","ANTONIO RAYMONDI",119,2139,-10.1572,-77.470600000000005,{"$f":"IFERROR(VLOOKUP(B104,#REF!,8,FALSE),\"\")","v":""},null,"ANTONIO RAYMONDI",null,null,null,null,null,null,null,null,null,null,null,"HUANUCO","YAROWILCA"]
[100,20504,"ANCASH","BOLOGNESI","AQUIA",435,3356,-10.074400000000001,-77.144999999999996,{"$f":"IFERROR(VLOOKUP(B105,#REF!,8,FALSE),\"\")","v":""},null,"AQUIA",null,null,null,null,null,null,null,null,null,null,null,"ICA","CHINCHA"]
[101,20505,"ANCASH","BOLOGNESI","CAJACAY",193,2616,-10.1553,-77.439700000000002,{"$f":"IFERROR(VLOOKUP(B106,#REF!,8,FALSE),\"\")","v":""},null,"CAJACAY",null,null,null,null,null,null,null,null,null,null,null,"ICA","ICA"]
[102,20506,"ANCASH","BOLOGNESI","CANIS",19,2465,-10.338900000000001,-77.168899999999994,{"$f":"IFERROR(VLOOKUP(B107,#REF!,8,FALSE),\"\")","v":""},null,"CANIS",null,null,null,null,null,null,null,null,null,null,null,"ICA","NAZCA"]
[103,20501,"ANCASH","BOLOGNESI","CHIQUIAN",184,3410,-10.151899999999999,-77.156400000000005,{"$f":"IFERROR(VLOOKUP(B108,#REF!,8,FALSE),\"\")","v":""},null,"CHIQUIAN",null,null,null,null,null,null,null,null,null,null,null,"ICA","PALPA"]
[104,20507,"ANCASH","BOLOGNESI","COLQUIOC",275,772,-10.312200000000001,-77.615300000000005,{"$f":"IFERROR(VLOOKUP(B109,#REF!,8,FALSE),\"\")","v":""},null,"COLQUIOC",null,null,null,null,null,null,null,null,null,null,null,"ICA","PISCO"]
[105,20508,"ANCASH","BOLOGNESI","HUALLANCA",873,3563,-9.8994,-76.941699999999997,{"$f":"IFERROR(VLOOKUP(B110,#REF!,8,FALSE),\"\")","v":""},null,"HUALLANCA",null,null,null,null,null,null,null,null,null,null,null,"JUNIN","CHANCHAMAYO"]
[106,20509,"ANCASH","BOLOGNESI","HUASTA",388,3382,-10.1233,-77.146699999999996,{"$f":"IFERROR(VLOOKUP(B111,#REF!,8,FALSE),\"\")","v":""},null,"HUASTA",null,null,null,null,null,null,null,null,null,null,null,"JUNIN","CHUPACA"]
[107,20510,"ANCASH","BOLOGNESI","HUAYLLACAYAN",128,3287,-10.244999999999999,-77.434700000000007,{"$f":"IFERROR(VLOOKUP(B112,#REF!,8,FALSE),\"\")","v":""},null,"HUAYLLACAYAN",null,null,null,null,null,null,null,null,null,null,null,"JUNIN","CONCEPCION"]
[108,20511,"ANCASH","BOLOGNESI","LA PRIMAVERA",69,2658,-10.335599999999999,-77.125299999999996,{"$f":"IFERROR(VLOOKUP(B113,#REF!,8,FALSE),\"\")","v":""},null,"LA PRIMAVERA",null,null,null,null,null,null,null,null,null,null,null,"JUNIN","HUANCAYO"]
[109,20512,"ANCASH","BOLOGNESI","MANGAS",116,3492,-10.369400000000001,-77.103300000000004,{"$f":"IFERROR(VLOOKUP(B114,#REF!,8,FALSE),\"\")","v":""},null,"MANGAS",null,null,null,null,null,null,null,null,null,null,null,"JUNIN","JAUJA"]
[110,20513,"ANCASH","BOLOGNESI","PACLLON",212,3296,-10.234400000000001,-77.071700000000007,{"$f":"IFERROR(VLOOKUP(B115,#REF!,8,FALSE),\"\")","v":""},null,"PACLLON",null,null,null,null,null,null,null,null,null,null,null,"JUNIN","JUNIN"]
[111,20514,"ANCASH","BOLOGNESI","SAN MIGUEL DE CORPANQUI",44,3405,-10.285,-77.198899999999995,{"$f":"IFERROR(VLOOKUP(B116,#REF!,8,FALSE),\"\")","v":""},null,"SAN MIGUEL DE CORPANQUI",null,null,null,null,null,null,null,null,null,null,null,"JUNIN","SATIPO"]
[112,20515,"ANCASH","BOLOGNESI","TICLLOS",89,3665,-10.2531,-77.190799999999996,{"$f":"IFERROR(VLOOKUP(B117,#REF!,8,FALSE),\"\")","v":""},null,"TICLLOS",null,null,null,null,null,null,null,null,null,null,null,"JUNIN","TARMA"]
[113,20602,"ANCASH","CARHUAZ","ACOPAMPA",14,2692,-9.2947000000000006,-77.625299999999996,{"$f":"IFERROR(VLOOKUP(B118,#REF!,8,FALSE),\"\")","v":""},null,"ACOPAMPA",null,null,null,null,null,null,null,null,null,null,null,"JUNIN","YAULI"]
[114,20603,"ANCASH","CARHUAZ","AMASHCA",12,2905,-9.2392000000000003,-77.646699999999996,{"$f":"IFERROR(VLOOKUP(B119,#REF!,8,FALSE),\"\")","v":""},null,"AMASHCA",null,null,null,null,null,null,null,null,null,null,null,"LA LIBERTAD","ASCOPE"]
[115,20604,"ANCASH","CARHUAZ","ANTA",41,2800,-9.3577999999999992,-77.5989,{"$f":"IFERROR(VLOOKUP(B120,#REF!,8,FALSE),\"\")","v":""},null,"ANTA",null,null,null,null,null,null,null,null,null,null,null,"LA LIBERTAD","BOLIVAR"]
[116,20605,"ANCASH","CARHUAZ","ATAQUERO",47,2749,-9.2622,-77.691699999999997,{"$f":"IFERROR(VLOOKUP(B121,#REF!,8,FALSE),\"\")","v":""},null,"ATAQUERO",null,null,null,null,null,null,null,null,null,null,null,"LA LIBERTAD","CHEPEN"]
[117,20601,"ANCASH","CARHUAZ","CARHUAZ",195,2663,-9.2813999999999997,-77.646699999999996,{"$f":"IFERROR(VLOOKUP(B122,#REF!,8,FALSE),\"\")","v":""},null,"CARHUAZ",null,null,null,null,null,null,null,null,null,null,null,"LA LIBERTAD","GRAN CHIMU"]
[118,20606,"ANCASH","CARHUAZ","MARCARA",157,2767,-9.3228000000000009,-77.6036,{"$f":"IFERROR(VLOOKUP(B123,#REF!,8,FALSE),\"\")","v":""},null,"MARCARA",null,null,null,null,null,null,null,null,null,null,null,"LA LIBERTAD","JULCAN"]
[119,20607,"ANCASH","CARHUAZ","PARIAHUANCA",12,2830,-9.3652999999999995,-77.580799999999996,{"$f":"IFERROR(VLOOKUP(B124,#REF!,8,FALSE),\"\")","v":""},null,"PARIAHUANCA",null,null,null,null,null,null,null,null,null,null,null,"LA LIBERTAD","OTUZCO"]
[120,20608,"ANCASH","CARHUAZ","SAN MIGUEL DE ACO",134,2956,-9.3682999999999996,-77.564400000000006,{"$f":"IFERROR(VLOOKUP(B125,#REF!,8,FALSE),\"\")","v":""},null,"SAN MIGUEL DE ACO",null,null,null,null,null,null,null,null,null,null,null,"LA LIBERTAD","PACASMAYO"]
[121,20609,"ANCASH","CARHUAZ","SHILLA",130,3036,-9.2317,-77.625,{"$f":"IFERROR(VLOOKUP(B126,#REF!,8,FALSE),\"\")","v":""},null,"SHILLA",null,null,null,null,null,null,null,null,null,null,null,"LA LIBERTAD","PATAZ"]
[122,20610,"ANCASH","CARHUAZ","TINCO",15,2606,-9.2707999999999995,-77.677499999999995,{"$f":"IFERROR(VLOOKUP(B127,#REF!,8,FALSE),\"\")","v":""},null,"TINCO",null,null,null,null,null,null,null,null,null,null,null,"LA LIBERTAD","SANCHEZ CARRION"]
[123,20611,"ANCASH","CARHUAZ","YUNGAR",46,2836,-9.3774999999999995,-77.592200000000005,{"$f":"IFERROR(VLOOKUP(B128,#REF!,8,FALSE),\"\")","v":""},null,"YUNGAR",null,null,null,null,null,null,null,null,null,null,null,"LA LIBERTAD","SANTIAGO DE CHUCO"]
[124,20701,"ANCASH","CARLOS FERMIN FITZCARRALD","SAN LUIS",256,3145,-9.0942000000000007,-77.328900000000004,{"$f":"IFERROR(VLOOKUP(B129,#REF!,8,FALSE),\"\")","v":""},null,"SAN LUIS",null,null,null,null,null,null,null,null,null,null,null,"LA LIBERTAD","TRUJILLO"]
[125,20702,"ANCASH","CARLOS FERMIN FITZCARRALD","SAN NICOLAS",197,2890,-8.9757999999999996,-77.1892,{"$f":"IFERROR(VLOOKUP(B130,#REF!,8,FALSE),\"\")","v":""},null,"SAN NICOLAS",null,null,null,null,null,null,null,null,null,null,null,"LA LIBERTAD","VIRU"]
[126,20703,"ANCASH","CARLOS FERMIN FITZCARRALD","YAUYA",170,3257,-8.9910999999999994,-77.291399999999996,{"$f":"IFERROR(VLOOKUP(B131,#REF!,8,FALSE),\"\")","v":""},null,"YAUYA",null,null,null,null,null,null,null,null,null,null,null,"LAMBAYEQUE","CHICLAYO"]
[127,20802,"ANCASH","CASMA","BUENA VISTA ALTA",477,225,-9.4324999999999992,-78.206900000000005,{"$f":"IFERROR(VLOOKUP(B132,#REF!,8,FALSE),\"\")","v":""},null,"BUENA VISTA ALTA",null,null,null,null,null,null,null,null,null,null,null,"LAMBAYEQUE","FERREÑAFE"]
[128,20801,"ANCASH","CASMA","CASMA",1205,59,-9.4757999999999996,-78.306399999999996,{"$f":"IFERROR(VLOOKUP(B133,#REF!,8,FALSE),\"\")","v":""},null,"CASMA",null,null,null,null,null,null,null,null,null,null,null,"LAMBAYEQUE","LAMBAYEQUE"]
[129,20803,"ANCASH","CASMA","COMANDANTE NOEL",222,14,-9.4625000000000004,-78.384699999999995,{"$f":"IFERROR(VLOOKUP(B134,#REF!,8,FALSE),\"\")","v":""},null,"COMANDANTE NOEL",null,null,null,null,null,null,null,null,null,null,null,"LIMA","BARRANCA"]
[130,20804,"ANCASH","CASMA","YAUTAN",357,831,-9.5114000000000001,-77.996399999999994,{"$f":"IFERROR(VLOOKUP(B135,#REF!,8,FALSE),\"\")","v":""},null,"YAUTAN",null,null,null,null,null,null,null,null,null,null,null,"LIMA","CAJATAMBO"]
[{"$f":"+A135+1","v":131},20902,"ANCASH","CORONGO","ACO",57,3118,-8.5230999999999995,-77.877799999999993,{"$f":"IFERROR(VLOOKUP(B136,#REF!,8,FALSE),\"\")","v":""},null,"ACO",null,null,null,null,null,null,null,null,null,null,null,"LIMA","CANTA"]
[132,20903,"ANCASH","CORONGO","BAMBAS",151,2943,-8.6024999999999991,-77.996899999999997,{"$f":"IFERROR(VLOOKUP(B137,#REF!,8,FALSE),\"\")","v":""},null,"BAMBAS",null,null,null,null,null,null,null,null,null,null,null,"LIMA","CAÑETE"]
[133,20901,"ANCASH","CORONGO","CORONGO",143,3172,-8.5708000000000002,-77.898899999999998,{"$f":"IFERROR(VLOOKUP(B138,#REF!,8,FALSE),\"\")","v":""},null,"CORONGO",null,null,null,null,null,null,null,null,null,null,null,"LIMA","HUARAL"]
[134,20904,"ANCASH","CORONGO","CUSCA",412,3196,-8.5132999999999992,-77.864699999999999,{"$f":"IFERROR(VLOOKUP(B139,#REF!,8,FALSE),\"\")","v":""},null,"CUSCA",null,null,null,null,null,null,null,null,null,null,null,"LIMA","HUAROCHIRI"]
[135,20905,"ANCASH","CORONGO","LA PAMPA",94,1803,-8.6610999999999994,-77.900800000000004,{"$f":"IFERROR(VLOOKUP(B140,#REF!,8,FALSE),\"\")","v":""},null,"LA PAMPA",null,null,null,null,null,null,null,null,null,null,null,"LIMA","HUAURA"]
[136,20906,"ANCASH","CORONGO","YANAC",46,2877,-8.6186000000000007,-77.864699999999999,{"$f":"IFERROR(VLOOKUP(B141,#REF!,8,FALSE),\"\")","v":""},null,"YANAC",null,null,null,null,null,null,null,null,null,null,null,"LIMA","LIMA METROPOLITANA"]
[137,20907,"ANCASH","CORONGO","YUPAN",86,2781,-8.6143999999999998,-77.968599999999995,{"$f":"IFERROR(VLOOKUP(B142,#REF!,8,FALSE),\"\")","v":""},null,"YUPAN",null,null,null,null,null,null,null,null,null,null,null,"LIMA","OYON"]
[138,20102,"ANCASH","HUARAZ","COCHABAMBA",136,2135,-9.4949999999999992,-77.859399999999994,{"$f":"IFERROR(VLOOKUP(B143,#REF!,8,FALSE),\"\")","v":""},null,"COCHABAMBA",null,null,null,null,null,null,null,null,null,null,null,"LIMA","YAUYOS"]
[139,20103,"ANCASH","HUARAZ","COLCABAMBA",51,3154,-9.5946999999999996,-77.808599999999998,{"$f":"IFERROR(VLOOKUP(B144,#REF!,8,FALSE),\"\")","v":""},null,"COLCABAMBA",null,null,null,null,null,null,null,null,null,null,null,"LORETO","ALTO AMAZONAS"]
[140,20104,"ANCASH","HUARAZ","HUANCHAY",209,2592,-9.7235999999999994,-77.818600000000004,{"$f":"IFERROR(VLOOKUP(B145,#REF!,8,FALSE),\"\")","v":""},null,"HUANCHAY",null,null,null,null,null,null,null,null,null,null,null,"LORETO","DATEM DEL MARAÑON"]
[141,20101,"ANCASH","HUARAZ","HUARAZ",433,3073,-9.5297000000000001,-77.529200000000003,{"$f":"IFERROR(VLOOKUP(B146,#REF!,8,FALSE),\"\")","v":""},null,"HUARAZ",null,null,null,null,null,null,null,null,null,null,null,"LORETO","LORETO"]
[142,20105,"ANCASH","HUARAZ","INDEPENDENCIA ancash",343,3047,-9.5144000000000002,-77.532499999999999,{"$f":"IFERROR(VLOOKUP(B147,#REF!,8,FALSE),\"\")","v":""},null,"INDEPENDENCIA ancash",null,null,null,null,null,null,null,null,null,null,null,"LORETO","MARISCAL RAMON CASTILLA"]
[143,20106,"ANCASH","HUARAZ","JANGAS",60,2824,-9.4006000000000007,-77.577500000000001,{"$f":"IFERROR(VLOOKUP(B148,#REF!,8,FALSE),\"\")","v":""},null,"JANGAS",null,null,null,null,null,null,null,null,null,null,null,"LORETO","MAYNAS"]
[144,20107,"ANCASH","HUARAZ","LA LIBERTAD",164,3343,-9.6331000000000007,-77.741399999999999,{"$f":"IFERROR(VLOOKUP(B149,#REF!,8,FALSE),\"\")","v":""},null,"LA LIBERTAD",null,null,null,null,null,null,null,null,null,null,null,"LORETO","PUTUMAYO"]
[145,20108,"ANCASH","HUARAZ","OLLEROS",223,3443,-9.6667000000000005,-77.465599999999995,{"$f":"IFERROR(VLOOKUP(B150,#REF!,8,FALSE),\"\")","v":""},null,"OLLEROS",null,null,null,null,null,null,null,null,null,null,null,"LORETO","REQUENA"]
[146,20109,"ANCASH","HUARAZ","PAMPAS",358,3698,-9.6553000000000004,-77.826099999999997,{"$f":"IFERROR(VLOOKUP(B151,#REF!,8,FALSE),\"\")","v":""},null,"PAMPAS",null,null,null,null,null,null,null,null,null,null,null,"LORETO","UCAYALI"]
[147,20110,"ANCASH","HUARAZ","PARIACOTO",163,1264,-9.5594000000000001,-77.890600000000006,{"$f":"IFERROR(VLOOKUP(B152,#REF!,8,FALSE),\"\")","v":""},null,"PARIACOTO",null,null,null,null,null,null,null,null,null,null,null,"MADRE DE DIOS","MANU"]
[148,20111,"ANCASH","HUARAZ","PIRA",244,3602,-9.5810999999999993,-77.7072,{"$f":"IFERROR(VLOOKUP(B153,#REF!,8,FALSE),\"\")","v":""},null,"PIRA",null,null,null,null,null,null,null,null,null,null,null,"MADRE DE DIOS","TAHUAMANU"]
[149,20112,"ANCASH","HUARAZ","TARICA",110,2832,-9.3935999999999993,-77.575000000000003,{"$f":"IFERROR(VLOOKUP(B154,#REF!,8,FALSE),\"\")","v":""},null,"TARICA",null,null,null,null,null,null,null,null,null,null,null,"MADRE DE DIOS","TAMBOPATA"]
[150,21002,"ANCASH","HUARI","ANRA",80,3197,-9.2347000000000001,-76.926400000000001,{"$f":"IFERROR(VLOOKUP(B155,#REF!,8,FALSE),\"\")","v":""},null,"ANRA",null,null,null,null,null,null,null,null,null,null,null,"MOQUEGUA","GENERAL SANCHEZ CERRO"]
[151,21003,"ANCASH","HUARI","CAJAY",159,3175,-9.3257999999999992,-77.157499999999999,{"$f":"IFERROR(VLOOKUP(B156,#REF!,8,FALSE),\"\")","v":""},null,"CAJAY",null,null,null,null,null,null,null,null,null,null,null,"MOQUEGUA","ILO"]
[152,21004,"ANCASH","HUARI","CHAVIN DE HUANTAR",434,3115,-9.5885999999999996,-77.178299999999993,{"$f":"IFERROR(VLOOKUP(B157,#REF!,8,FALSE),\"\")","v":""},null,"CHAVIN DE HUANTAR",null,null,null,null,null,null,null,null,null,null,null,"MOQUEGUA","MARISCAL NIETO"]
[153,21005,"ANCASH","HUARI","HUACACHI",87,3498,-9.3155999999999999,-76.938599999999994,{"$f":"IFERROR(VLOOKUP(B158,#REF!,8,FALSE),\"\")","v":""},null,"HUACACHI",null,null,null,null,null,null,null,null,null,null,null,"PASCO","DANIEL ALCIDES CARRION"]
[154,21006,"ANCASH","HUARI","HUACCHIS",72,3491,-9.2005999999999997,-76.786900000000003,{"$f":"IFERROR(VLOOKUP(B159,#REF!,8,FALSE),\"\")","v":""},null,"HUACCHIS",null,null,null,null,null,null,null,null,null,null,null,"PASCO","OXAPAMPA"]
[155,21007,"ANCASH","HUARI","HUACHIS",154,3275,-9.41,-77.099999999999994,{"$f":"IFERROR(VLOOKUP(B160,#REF!,8,FALSE),\"\")","v":""},null,"HUACHIS",null,null,null,null,null,null,null,null,null,null,null,"PASCO","PASCO"]
[156,21008,"ANCASH","HUARI","HUANTAR",156,3363,-9.4519000000000002,-77.176699999999997,{"$f":"IFERROR(VLOOKUP(B161,#REF!,8,FALSE),\"\")","v":""},null,"HUANTAR",null,null,null,null,null,null,null,null,null,null,null,"PIURA","AYABACA"]
[157,21001,"ANCASH","HUARI","HUARI",399,3114,-9.3472000000000008,-77.1708,{"$f":"IFERROR(VLOOKUP(B162,#REF!,8,FALSE),\"\")","v":""},null,"HUARI",null,null,null,null,null,null,null,null,null,null,null,"PIURA","HUANCABAMBA"]
[158,21009,"ANCASH","HUARI","MASIN",75,2547,-9.3658000000000001,-77.096400000000003,{"$f":"IFERROR(VLOOKUP(B163,#REF!,8,FALSE),\"\")","v":""},null,"MASIN",null,null,null,null,null,null,null,null,null,null,null,"PIURA","MORROPON"]
[159,21010,"ANCASH","HUARI","PAUCAS",135,3433,-9.1524999999999999,-76.8994,{"$f":"IFERROR(VLOOKUP(B164,#REF!,8,FALSE),\"\")","v":""},null,"PAUCAS",null,null,null,null,null,null,null,null,null,null,null,"PIURA","PAITA"]
[160,21011,"ANCASH","HUARI","PONTO",118,3142,-9.3261000000000003,-77.004400000000004,{"$f":"IFERROR(VLOOKUP(B165,#REF!,8,FALSE),\"\")","v":""},null,"PONTO",null,null,null,null,null,null,null,null,null,null,null,"PIURA","PIURA"]
[161,21012,"ANCASH","HUARI","RAHUAPAMPA",9,2521,-9.3591999999999995,-77.078599999999994,{"$f":"IFERROR(VLOOKUP(B166,#REF!,8,FALSE),\"\")","v":""},null,"RAHUAPAMPA",null,null,null,null,null,null,null,null,null,null,null,"PIURA","SECHURA"]
[162,21013,"ANCASH","HUARI","RAPAYAN",143,3233,-9.2025000000000006,-76.759399999999999,{"$f":"IFERROR(VLOOKUP(B167,#REF!,8,FALSE),\"\")","v":""},null,"RAPAYAN",null,null,null,null,null,null,null,null,null,null,null,"PIURA","SULLANA"]
[163,21014,"ANCASH","HUARI","SAN MARCOS",557,2988,-9.5242000000000004,-77.156899999999993,{"$f":"IFERROR(VLOOKUP(B168,#REF!,8,FALSE),\"\")","v":""},null,"SAN MARCOS",null,null,null,null,null,null,null,null,null,null,null,"PIURA","TALARA"]
[164,21015,"ANCASH","HUARI","SAN PEDRO DE CHANA",139,3439,-9.4031000000000002,-77.011099999999999,{"$f":"IFERROR(VLOOKUP(B169,#REF!,8,FALSE),\"\")","v":""},null,"SAN PEDRO DE CHANA",null,null,null,null,null,null,null,null,null,null,null,"PUNO","AZANGARO"]
[165,21016,"ANCASH","HUARI","UCO",54,3347,-9.1882999999999999,-76.928299999999993,{"$f":"IFERROR(VLOOKUP(B170,#REF!,8,FALSE),\"\")","v":""},null,"UCO",null,null,null,null,null,null,null,null,null,null,null,"PUNO","CARABAYA"]
[166,21102,"ANCASH","HUARMEY","COCHAPETI",100,3529,-9.9871999999999996,-77.646100000000004,{"$f":"IFERROR(VLOOKUP(B171,#REF!,8,FALSE),\"\")","v":""},null,"COCHAPETI",null,null,null,null,null,null,null,null,null,null,null,"PUNO","CHUCUITO"]
[167,21103,"ANCASH","HUARMEY","CULEBRAS",630,41,-9.9503000000000004,-78.222200000000001,{"$f":"IFERROR(VLOOKUP(B172,#REF!,8,FALSE),\"\")","v":""},null,"CULEBRAS",null,null,null,null,null,null,null,null,null,null,null,"PUNO","EL COLLAO"]
[168,21101,"ANCASH","HUARMEY","HUARMEY",2894,30,-10.068899999999999,-78.151700000000005,{"$f":"IFERROR(VLOOKUP(B173,#REF!,8,FALSE),\"\")","v":""},null,"HUARMEY",null,null,null,null,null,null,null,null,null,null,null,"PUNO","HUANCANE"]
[169,21104,"ANCASH","HUARMEY","HUAYAN",59,2702,-9.8752999999999993,-77.708299999999994,{"$f":"IFERROR(VLOOKUP(B174,#REF!,8,FALSE),\"\")","v":""},null,"HUAYAN",null,null,null,null,null,null,null,null,null,null,null,"PUNO","LAMPA"]
[170,21105,"ANCASH","HUARMEY","MALVAS",220,3132,-9.9297000000000004,-77.657799999999995,{"$f":"IFERROR(VLOOKUP(B175,#REF!,8,FALSE),\"\")","v":""},null,"MALVAS",null,null,null,null,null,null,null,null,null,null,null,"PUNO","MELGAR"]
[171,21201,"ANCASH","HUAYLAS","CARAZ",247,2273,-9.0486000000000004,-77.804699999999997,{"$f":"IFERROR(VLOOKUP(B176,#REF!,8,FALSE),\"\")","v":""},null,"CARAZ",null,null,null,null,null,null,null,null,null,null,null,"PUNO","MOHO"]
[172,21202,"ANCASH","HUAYLAS","HUALLANCA",179,1391,-8.8188999999999993,-77.863100000000003,{"$f":"IFERROR(VLOOKUP(B177,#REF!,8,FALSE),\"\")","v":""},null,"HUALLANCA",null,null,null,null,null,null,null,null,null,null,null,"PUNO","PUNO"]
[173,21203,"ANCASH","HUAYLAS","HUATA",71,2712,-9.0164000000000009,-77.861400000000003,{"$f":"IFERROR(VLOOKUP(B178,#REF!,8,FALSE),\"\")","v":""},null,"HUATA",null,null,null,null,null,null,null,null,null,null,null,"PUNO","SAN ANTONIO DE PUTINA"]
[174,21204,"ANCASH","HUAYLAS","HUAYLAS",57,2735,-8.8725000000000005,-77.892799999999994,{"$f":"IFERROR(VLOOKUP(B179,#REF!,8,FALSE),\"\")","v":""},null,"HUAYLAS",null,null,null,null,null,null,null,null,null,null,null,"PUNO","SAN ROMAN"]
[175,21205,"ANCASH","HUAYLAS","MATO",107,2209,-8.9613999999999994,-77.842500000000001,{"$f":"IFERROR(VLOOKUP(B180,#REF!,8,FALSE),\"\")","v":""},null,"MATO",null,null,null,null,null,null,null,null,null,null,null,"PUNO","SANDIA"]
[176,21206,"ANCASH","HUAYLAS","PAMPAROMAS",496,2772,-9.0732999999999997,-77.981700000000004,{"$f":"IFERROR(VLOOKUP(B181,#REF!,8,FALSE),\"\")","v":""},null,"PAMPAROMAS",null,null,null,null,null,null,null,null,null,null,null,"PUNO","YUNGUYO"]
[177,21207,"ANCASH","HUAYLAS","PUEBLO LIBRE - ANCASH",131,2485,-9.11,-77.801900000000003,{"$f":"IFERROR(VLOOKUP(B182,#REF!,8,FALSE),\"\")","v":""},null,"PUEBLO LIBRE - ANCASH",null,null,null,null,null,null,null,null,null,null,null,"SAN MARTIN","BELLAVISTA"]
[178,21208,"ANCASH","HUAYLAS","SANTA CRUZ",358,2890,-8.9519000000000002,-77.814999999999998,{"$f":"IFERROR(VLOOKUP(B183,#REF!,8,FALSE),\"\")","v":""},null,"SANTA CRUZ",null,null,null,null,null,null,null,null,null,null,null,"SAN MARTIN","EL DORADO"]
[179,21209,"ANCASH","HUAYLAS","SANTO TORIBIO",82,2926,-8.8643999999999998,-77.914699999999996,{"$f":"IFERROR(VLOOKUP(B184,#REF!,8,FALSE),\"\")","v":""},null,"SANTO TORIBIO",null,null,null,null,null,null,null,null,null,null,null,"SAN MARTIN","HUALLAGA"]
[180,21210,"ANCASH","HUAYLAS","YURACMARCA",566,1484,-8.7375000000000007,-77.903899999999993,{"$f":"IFERROR(VLOOKUP(B185,#REF!,8,FALSE),\"\")","v":""},null,"YURACMARCA",null,null,null,null,null,null,null,null,null,null,null,"SAN MARTIN","LAMAS"]
[181,21302,"ANCASH","MARISCAL LUZURIAGA","CASCA",77,3176,-8.8556000000000008,-77.398600000000002,{"$f":"IFERROR(VLOOKUP(B186,#REF!,8,FALSE),\"\")","v":""},null,"CASCA",null,null,null,null,null,null,null,null,null,null,null,"SAN MARTIN","MARISCAL CACERES"]
[182,21303,"ANCASH","MARISCAL LUZURIAGA","ELEAZAR GUZMAN BARRON",94,2845,-8.9022000000000006,-77.243899999999996,{"$f":"IFERROR(VLOOKUP(B187,#REF!,8,FALSE),\"\")","v":""},null,"ELEAZAR GUZMAN BARRON",null,null,null,null,null,null,null,null,null,null,null,"SAN MARTIN","MOYOBAMBA"]
[183,21304,"ANCASH","MARISCAL LUZURIAGA","FIDEL OLIVAS ESCUDERO",205,2849,-8.8061000000000007,-77.279700000000005,{"$f":"IFERROR(VLOOKUP(B188,#REF!,8,FALSE),\"\")","v":""},null,"FIDEL OLIVAS ESCUDERO",null,null,null,null,null,null,null,null,null,null,null,"SAN MARTIN","PICOTA"]
[184,21305,"ANCASH","MARISCAL LUZURIAGA","LLAMA",48,2839,-8.9149999999999991,-77.301400000000001,{"$f":"IFERROR(VLOOKUP(B189,#REF!,8,FALSE),\"\")","v":""},null,"LLAMA",null,null,null,null,null,null,null,null,null,null,null,"SAN MARTIN","RIOJA"]
[185,21306,"ANCASH","MARISCAL LUZURIAGA","LLUMPA",143,2900,-8.9608000000000008,-77.367500000000007,{"$f":"IFERROR(VLOOKUP(B190,#REF!,8,FALSE),\"\")","v":""},null,"LLUMPA",null,null,null,null,null,null,null,null,null,null,null,"SAN MARTIN","SAN MARTIN"]
[186,21307,"ANCASH","MARISCAL LUZURIAGA","LUCMA",77,3096,-8.9193999999999996,-77.410799999999995,{"$f":"IFERROR(VLOOKUP(B191,#REF!,8,FALSE),\"\")","v":""},null,"LUCMA",null,null,null,null,null,null,null,null,null,null,null,"SAN MARTIN","TOCACHE"]
[187,21308,"ANCASH","MARISCAL LUZURIAGA","MUSGA",40,3001,-8.9061000000000003,-77.339200000000005,{"$f":"IFERROR(VLOOKUP(B192,#REF!,8,FALSE),\"\")","v":""},null,"MUSGA",null,null,null,null,null,null,null,null,null,null,null,"TACNA","CANDARAVE"]
[188,21301,"ANCASH","MARISCAL LUZURIAGA","PISCOBAMBA",46,3326,-8.8650000000000002,-77.357799999999997,{"$f":"IFERROR(VLOOKUP(B193,#REF!,8,FALSE),\"\")","v":""},null,"PISCOBAMBA",null,null,null,null,null,null,null,null,null,null,null,"TACNA","JORGE BASADRE"]
[189,21402,"ANCASH","OCROS","ACAS",252,3712,-10.4575,-77.327799999999996,{"$f":"IFERROR(VLOOKUP(B194,#REF!,8,FALSE),\"\")","v":""},null,"ACAS",null,null,null,null,null,null,null,null,null,null,null,"TACNA","TACNA"]
[190,21403,"ANCASH","OCROS","CAJAMARQUILLA",76,3545,-10.354200000000001,-77.199200000000005,{"$f":"IFERROR(VLOOKUP(B195,#REF!,8,FALSE),\"\")","v":""},null,"CAJAMARQUILLA",null,null,null,null,null,null,null,null,null,null,null,"TACNA","TARATA"]
[191,21404,"ANCASH","OCROS","CARHUAPAMPA",110,2250,-10.4975,-77.242800000000003,{"$f":"IFERROR(VLOOKUP(B196,#REF!,8,FALSE),\"\")","v":""},null,"CARHUAPAMPA",null,null,null,null,null,null,null,null,null,null,null,"TUMBES","CONTRALMIRANTE VILLAR"]
[192,21405,"ANCASH","OCROS","COCHAS",409,1290,-10.5367,-77.422799999999995,{"$f":"IFERROR(VLOOKUP(B197,#REF!,8,FALSE),\"\")","v":""},null,"COCHAS",null,null,null,null,null,null,null,null,null,null,null,"TUMBES","TUMBES"]
[193,21406,"ANCASH","OCROS","CONGAS",130,3112,-10.3375,-77.442800000000005,{"$f":"IFERROR(VLOOKUP(B198,#REF!,8,FALSE),\"\")","v":""},null,"CONGAS",null,null,null,null,null,null,null,null,null,null,null,"TUMBES","ZARUMILLA"]
[194,21407,"ANCASH","OCROS","LLIPA",34,2767,-10.3925,-77.190799999999996,{"$f":"IFERROR(VLOOKUP(B199,#REF!,8,FALSE),\"\")","v":""},null,"LLIPA",null,null,null,null,null,null,null,null,null,null,null,"UCAYALI","ATALAYA"]
[{"$f":"+A199+1","v":195},21401,"ANCASH","OCROS","OCROS",231,3238,-10.4033,-77.396699999999996,{"$f":"IFERROR(VLOOKUP(B200,#REF!,8,FALSE),\"\")","v":""},null,"OCROS",null,null,null,null,null,null,null,null,null,null,null,"UCAYALI","CORONEL PORTILLO"]
[196,21408,"ANCASH","OCROS","SAN CRISTOBAL DE RAJAN",68,3634,-10.386900000000001,-77.219399999999993,{"$f":"IFERROR(VLOOKUP(B201,#REF!,8,FALSE),\"\")","v":""},null,"SAN CRISTOBAL DE RAJAN",null,null,null,null,null,null,null,null,null,null,null,"UCAYALI","PADRE ABAD"]
[197,21409,"ANCASH","OCROS","SAN PEDRO",531,2243,-10.3719,-77.487200000000001,{"$f":"IFERROR(VLOOKUP(B202,#REF!,8,FALSE),\"\")","v":""},null,"SAN PEDRO",null,null,null,null,null,null,null,null,null,null,null,"UCAYALI","PURUS"]
[198,21410,"ANCASH","OCROS","SANTIAGO DE CHILCAS",86,3692,-10.438599999999999,-77.365799999999993,{"$f":"IFERROR(VLOOKUP(B203,#REF!,8,FALSE),\"\")","v":""},null,"SANTIAGO DE CHILCAS"]
[199,21502,"ANCASH","PALLASCA","BOLOGNESI",87,2931,-8.3506,-78.050600000000003,{"$f":"IFERROR(VLOOKUP(B204,#REF!,8,FALSE),\"\")","v":""},null,"BOLOGNESI"]
[200,21501,"ANCASH","PALLASCA","CABANA",150,3156,-8.3931000000000004,-78.008899999999997,{"$f":"IFERROR(VLOOKUP(B205,#REF!,8,FALSE),\"\")","v":""},null,"CABANA"]
[201,21503,"ANCASH","PALLASCA","CONCHUCOS",585,3206,-8.2685999999999993,-77.852800000000002,{"$f":"IFERROR(VLOOKUP(B206,#REF!,8,FALSE),\"\")","v":""},null,"CONCHUCOS"]
[202,21504,"ANCASH","PALLASCA","HUACASCHUQUE",64,3140,-8.3064,-78.0047,{"$f":"IFERROR(VLOOKUP(B207,#REF!,8,FALSE),\"\")","v":""},null,"HUACASCHUQUE"]
[203,21505,"ANCASH","PALLASCA","HUANDOVAL",116,3063,-8.3310999999999993,-77.975300000000004,{"$f":"IFERROR(VLOOKUP(B208,#REF!,8,FALSE),\"\")","v":""},null,"HUANDOVAL"]
[204,21506,"ANCASH","PALLASCA","LACABAMBA",65,3427,-8.2603000000000009,-77.898300000000006,{"$f":"IFERROR(VLOOKUP(B209,#REF!,8,FALSE),\"\")","v":""},null,"LACABAMBA"]
[205,21507,"ANCASH","PALLASCA","LLAPO",29,3416,-8.5144000000000002,-78.042199999999994,{"$f":"IFERROR(VLOOKUP(B210,#REF!,8,FALSE),\"\")","v":""},null,"LLAPO"]
[206,21508,"ANCASH","PALLASCA","PALLASCA",60,3086,-8.2530999999999999,-77.999399999999994,{"$f":"IFERROR(VLOOKUP(B211,#REF!,8,FALSE),\"\")","v":""},null,"PALLASCA"]
[207,21509,"ANCASH","PALLASCA","PAMPAS",438,3216,-8.1952999999999996,-77.895799999999994,{"$f":"IFERROR(VLOOKUP(B212,#REF!,8,FALSE),\"\")","v":""},null,"PAMPAS"]
[208,21510,"ANCASH","PALLASCA","SANTA ROSA",299,2413,-8.5277999999999992,-78.067499999999995,{"$f":"IFERROR(VLOOKUP(B213,#REF!,8,FALSE),\"\")","v":""},null,"SANTA ROSA"]
[209,21511,"ANCASH","PALLASCA","TAUCA",209,3368,-8.4702999999999999,-78.037800000000004,{"$f":"IFERROR(VLOOKUP(B214,#REF!,8,FALSE),\"\")","v":""},null,"TAUCA"]
[210,21602,"ANCASH","POMABAMBA","HUAYLLAN",89,2993,-8.8581000000000003,-77.435599999999994,{"$f":"IFERROR(VLOOKUP(B215,#REF!,8,FALSE),\"\")","v":""},null,"HUAYLLAN"]
[211,21603,"ANCASH","POMABAMBA","PAROBAMBA",331,3182,-8.6958000000000002,-77.429699999999997,{"$f":"IFERROR(VLOOKUP(B216,#REF!,8,FALSE),\"\")","v":""},null,"PAROBAMBA"]
[212,21601,"ANCASH","POMABAMBA","POMABAMBA",348,2964,-8.8210999999999995,-77.460300000000004,{"$f":"IFERROR(VLOOKUP(B217,#REF!,8,FALSE),\"\")","v":""},null,"POMABAMBA"]
[213,21604,"ANCASH","POMABAMBA","QUINUABAMBA",146,3129,-8.6972000000000005,-77.398300000000006,{"$f":"IFERROR(VLOOKUP(B218,#REF!,8,FALSE),\"\")","v":""},null,"QUINUABAMBA"]
[214,21702,"ANCASH","RECUAY","CATAC",1018,3579,-9.8017000000000003,-77.430599999999998,{"$f":"IFERROR(VLOOKUP(B219,#REF!,8,FALSE),\"\")","v":""},null,"CATAC"]
[215,21703,"ANCASH","RECUAY","COTAPARACO",173,3032,-9.9932999999999996,-77.588099999999997,{"$f":"IFERROR(VLOOKUP(B220,#REF!,8,FALSE),\"\")","v":""},null,"COTAPARACO"]
[216,21704,"ANCASH","RECUAY","HUAYLLAPAMPA",105,2908,-10.0556,-77.536699999999996,{"$f":"IFERROR(VLOOKUP(B221,#REF!,8,FALSE),\"\")","v":""},null,"HUAYLLAPAMPA"]
[217,21705,"ANCASH","RECUAY","LLACLLIN",101,3020,-10.0692,-77.621700000000004,{"$f":"IFERROR(VLOOKUP(B222,#REF!,8,FALSE),\"\")","v":""},null,"LLACLLIN"]
[218,21706,"ANCASH","RECUAY","MARCA",185,2615,-10.0892,-77.474400000000003,{"$f":"IFERROR(VLOOKUP(B223,#REF!,8,FALSE),\"\")","v":""},null,"MARCA"]
[219,21707,"ANCASH","RECUAY","PAMPAS CHICO",101,3552,-10.114699999999999,-77.398099999999999,{"$f":"IFERROR(VLOOKUP(B224,#REF!,8,FALSE),\"\")","v":""},null,"PAMPAS CHICO"]
[220,21708,"ANCASH","RECUAY","PARARIN",255,3402,-10.050000000000001,-77.654399999999995,{"$f":"IFERROR(VLOOKUP(B225,#REF!,8,FALSE),\"\")","v":""},null,"PARARIN"]
[221,21701,"ANCASH","RECUAY","RECUAY",143,3428,-9.7217000000000002,-77.456400000000002,{"$f":"IFERROR(VLOOKUP(B226,#REF!,8,FALSE),\"\")","v":""},null,"RECUAY"]
[222,21709,"ANCASH","RECUAY","TAPACOCHA",81,3596,-10.010300000000001,-77.569199999999995,{"$f":"IFERROR(VLOOKUP(B227,#REF!,8,FALSE),\"\")","v":""},null,"TAPACOCHA"]
[223,21710,"ANCASH","RECUAY","TICAPAMPA",142,3485,-9.7606000000000002,-77.442800000000005,{"$f":"IFERROR(VLOOKUP(B228,#REF!,8,FALSE),\"\")","v":""},null,"TICAPAMPA"]
[224,21802,"ANCASH","SANTA","CACERES DEL PERU",550,1210,-9.0130999999999997,-78.138099999999994,{"$f":"IFERROR(VLOOKUP(B229,#REF!,8,FALSE),\"\")","v":""},null,"CACERES DEL PERU"]
[225,21801,"ANCASH","SANTA","CHIMBOTE",1461,52,-9.0417000000000005,-78.607799999999997,{"$f":"IFERROR(VLOOKUP(B230,#REF!,8,FALSE),\"\")","v":""},null,"CHIMBOTE"]
[226,21803,"ANCASH","SANTA","COISHCO",9,31,-9.0230999999999995,-78.616100000000003,{"$f":"IFERROR(VLOOKUP(B231,#REF!,8,FALSE),\"\")","v":""},null,"COISHCO"]
[227,21804,"ANCASH","SANTA","MACATE",585,2731,-8.7603000000000009,-78.061400000000006,{"$f":"IFERROR(VLOOKUP(B232,#REF!,8,FALSE),\"\")","v":""},null,"MACATE"]
[228,21805,"ANCASH","SANTA","MORO",359,504,-9.1388999999999996,-78.183300000000003,{"$f":"IFERROR(VLOOKUP(B233,#REF!,8,FALSE),\"\")","v":""},null,"MORO"]
[229,21806,"ANCASH","SANTA","NEPEÑA",458,159,-9.1728000000000005,-78.360799999999998,{"$f":"IFERROR(VLOOKUP(B234,#REF!,8,FALSE),\"\")","v":""},null,"NEPEÑA"]
[230,21809,"ANCASH","SANTA","NUEVO CHIMBOTE",390,40,-9.1286000000000005,-78.530799999999999,{"$f":"IFERROR(VLOOKUP(B235,#REF!,8,FALSE),\"\")","v":""},null,"NUEVO CHIMBOTE"]
[231,21807,"ANCASH","SANTA","SAMANCO",154,17,-9.2622,-78.495800000000003,{"$f":"IFERROR(VLOOKUP(B236,#REF!,8,FALSE),\"\")","v":""},null,"SAMANCO"]
[232,21808,"ANCASH","SANTA","SANTA",42,35,-8.9878,-78.613100000000003,{"$f":"IFERROR(VLOOKUP(B237,#REF!,8,FALSE),\"\")","v":""},null,"SANTA"]
[233,21902,"ANCASH","SIHUAS","ACOBAMBA",153,3147,-8.3261000000000003,-77.581900000000005,{"$f":"IFERROR(VLOOKUP(B238,#REF!,8,FALSE),\"\")","v":""},null,"ACOBAMBA"]
[234,21903,"ANCASH","SIHUAS","ALFONSO UGARTE",81,3197,-8.4560999999999993,-77.426699999999997,{"$f":"IFERROR(VLOOKUP(B239,#REF!,8,FALSE),\"\")","v":""},null,"ALFONSO UGARTE"]
[235,21904,"ANCASH","SIHUAS","CASHAPAMPA",67,3430,-8.5610999999999997,-77.653099999999995,{"$f":"IFERROR(VLOOKUP(B240,#REF!,8,FALSE),\"\")","v":""},null,"CASHAPAMPA"]
[236,21905,"ANCASH","SIHUAS","CHINGALPO",173,3157,-8.3385999999999996,-77.597499999999997,{"$f":"IFERROR(VLOOKUP(B241,#REF!,8,FALSE),\"\")","v":""},null,"CHINGALPO"]
[237,21906,"ANCASH","SIHUAS","HUAYLLABAMBA",288,3329,-8.5347000000000008,-77.566900000000004,{"$f":"IFERROR(VLOOKUP(B242,#REF!,8,FALSE),\"\")","v":""},null,"HUAYLLABAMBA"]
[238,21907,"ANCASH","SIHUAS","QUICHES",147,3035,-8.3949999999999996,-77.491100000000003,{"$f":"IFERROR(VLOOKUP(B243,#REF!,8,FALSE),\"\")","v":""},null,"QUICHES"]
[239,21908,"ANCASH","SIHUAS","RAGASH",208,3437,-8.5317000000000007,-77.665800000000004,{"$f":"IFERROR(VLOOKUP(B244,#REF!,8,FALSE),\"\")","v":""},null,"RAGASH"]
[240,21909,"ANCASH","SIHUAS","SAN JUAN",209,2739,-8.6463999999999999,-77.581900000000005,{"$f":"IFERROR(VLOOKUP(B245,#REF!,8,FALSE),\"\")","v":""},null,"SAN JUAN"]
[241,21910,"ANCASH","SIHUAS","SICSIBAMBA",86,3148,-8.6233000000000004,-77.535600000000002,{"$f":"IFERROR(VLOOKUP(B246,#REF!,8,FALSE),\"\")","v":""},null,"SICSIBAMBA"]
[242,21901,"ANCASH","SIHUAS","SIHUAS",44,2767,-8.5543999999999993,-77.630799999999994,{"$f":"IFERROR(VLOOKUP(B247,#REF!,8,FALSE),\"\")","v":""},null,"SIHUAS"]
[243,22002,"ANCASH","YUNGAY","CASCAPARA",138,2742,-9.2263999999999999,-77.717200000000005,{"$f":"IFERROR(VLOOKUP(B248,#REF!,8,FALSE),\"\")","v":""},null,"CASCAPARA"]
[244,22003,"ANCASH","YUNGAY","MANCOS",64,2542,-9.19,-77.712199999999996,{"$f":"IFERROR(VLOOKUP(B249,#REF!,8,FALSE),\"\")","v":""},null,"MANCOS"]
[245,22004,"ANCASH","YUNGAY","MATACOTO",44,2486,-9.1768999999999998,-77.747200000000007,{"$f":"IFERROR(VLOOKUP(B250,#REF!,8,FALSE),\"\")","v":""},null,"MATACOTO"]
[246,22005,"ANCASH","YUNGAY","QUILLO",374,1267,-9.3285999999999998,-78.041700000000006,{"$f":"IFERROR(VLOOKUP(B251,#REF!,8,FALSE),\"\")","v":""},null,"QUILLO"]
[247,22006,"ANCASH","YUNGAY","RANRAHIRCA",23,2496,-9.1730999999999998,-77.722499999999997,{"$f":"IFERROR(VLOOKUP(B252,#REF!,8,FALSE),\"\")","v":""},null,"RANRAHIRCA"]
[248,22007,"ANCASH","YUNGAY","SHUPLUY",162,2517,-9.2169000000000008,-77.693899999999999,{"$f":"IFERROR(VLOOKUP(B253,#REF!,8,FALSE),\"\")","v":""},null,"SHUPLUY"]
[249,22008,"ANCASH","YUNGAY","YANAMA",280,3389,-9.0206,-77.470799999999997,{"$f":"IFERROR(VLOOKUP(B254,#REF!,8,FALSE),\"\")","v":""},null,"YANAMA"]
[250,22001,"ANCASH","YUNGAY","YUNGAY",277,2517,-9.14,-77.744699999999995,{"$f":"IFERROR(VLOOKUP(B255,#REF!,8,FALSE),\"\")","v":""},null,"YUNGAY"]
[251,30101,"APURIMAC","ABANCAY","ABANCAY",313,2500,-13.6289,-72.886099999999999,{"$f":"IFERROR(VLOOKUP(B256,#REF!,8,FALSE),\"\")","v":""},null,"ABANCAY"]
[252,30102,"APURIMAC","ABANCAY","CHACOCHE",186,3482,-13.9411,-72.991100000000003,{"$f":"IFERROR(VLOOKUP(B257,#REF!,8,FALSE),\"\")","v":""},null,"CHACOCHE"]
[253,30103,"APURIMAC","ABANCAY","CIRCA",642,3206,-13.878299999999999,-72.875799999999998,{"$f":"IFERROR(VLOOKUP(B258,#REF!,8,FALSE),\"\")","v":""},null,"CIRCA"]
[254,30104,"APURIMAC","ABANCAY","CURAHUASI",818,2694,-13.541399999999999,-72.696100000000001,{"$f":"IFERROR(VLOOKUP(B259,#REF!,8,FALSE),\"\")","v":""},null,"CURAHUASI"]
[255,30105,"APURIMAC","ABANCAY","HUANIPACA",433,3155,-13.4922,-72.933300000000003,{"$f":"IFERROR(VLOOKUP(B260,#REF!,8,FALSE),\"\")","v":""},null,"HUANIPACA"]
[256,30106,"APURIMAC","ABANCAY","LAMBRAMA",522,3126,-13.870799999999999,-72.7697,{"$f":"IFERROR(VLOOKUP(B261,#REF!,8,FALSE),\"\")","v":""},null,"LAMBRAMA"]
[257,30107,"APURIMAC","ABANCAY","PICHIRHUA",371,2766,-13.860799999999999,-73.073300000000003,{"$f":"IFERROR(VLOOKUP(B262,#REF!,8,FALSE),\"\")","v":""},null,"PICHIRHUA"]
[258,30108,"APURIMAC","ABANCAY","SAN PEDRO DE CACHORA",109,2916,-13.514200000000001,-72.8142,{"$f":"IFERROR(VLOOKUP(B263,#REF!,8,FALSE),\"\")","v":""},null,"SAN PEDRO DE CACHORA"]
[{"$f":"+A263+1","v":259},30109,"APURIMAC","ABANCAY","TAMBURCO",55,2620,-13.622199999999999,-72.8733,{"$f":"IFERROR(VLOOKUP(B264,#REF!,8,FALSE),\"\")","v":""},null,"TAMBURCO"]
[260,30201,"APURIMAC","ANDAHUAYLAS","ANDAHUAYLAS",174,2836,-13.6561,-73.389700000000005,{"$f":"IFERROR(VLOOKUP(B265,#REF!,8,FALSE),\"\")","v":""},null,"ANDAHUAYLAS"]
[261,30202,"APURIMAC","ANDAHUAYLAS","ANDARAPA",172,3002,-13.5281,-73.365799999999993,{"$f":"IFERROR(VLOOKUP(B266,#REF!,8,FALSE),\"\")","v":""},null,"ANDARAPA"]
[262,30203,"APURIMAC","ANDAHUAYLAS","CHIARA",149,3289,-13.8672,-73.668899999999994,{"$f":"IFERROR(VLOOKUP(B267,#REF!,8,FALSE),\"\")","v":""},null,"CHIARA"]
[263,30204,"APURIMAC","ANDAHUAYLAS","HUANCARAMA",153,2976,-13.6447,-73.085599999999999,{"$f":"IFERROR(VLOOKUP(B268,#REF!,8,FALSE),\"\")","v":""},null,"HUANCARAMA"]
[264,30205,"APURIMAC","ANDAHUAYLAS","HUANCARAY",112,2909,-13.757199999999999,-73.527500000000003,{"$f":"IFERROR(VLOOKUP(B269,#REF!,8,FALSE),\"\")","v":""},null,"HUANCARAY"]
[265,30206,"APURIMAC","ANDAHUAYLAS","HUAYANA",97,3196,-14.050800000000001,-73.609399999999994,{"$f":"IFERROR(VLOOKUP(B270,#REF!,8,FALSE),\"\")","v":""},null,"HUAYANA"]
[266,30220,"APURIMAC","ANDAHUAYLAS","JOSE MARIA ARGUEDAS",196,3590,-13.7342,-73.3506,{"$f":"IFERROR(VLOOKUP(B271,#REF!,8,FALSE),\"\")","v":""},null,"JOSE MARIA ARGUEDAS"]
[267,30219,"APURIMAC","ANDAHUAYLAS","KAQUIABAMBA",98,3087,-13.532500000000001,-73.288300000000007,{"$f":"IFERROR(VLOOKUP(B272,#REF!,8,FALSE),\"\")","v":""},null,"KAQUIABAMBA"]
[268,30207,"APURIMAC","ANDAHUAYLAS","KISHUARA",310,3717,-13.6911,-73.118600000000001,{"$f":"IFERROR(VLOOKUP(B273,#REF!,8,FALSE),\"\")","v":""},null,"KISHUARA"]
[269,30208,"APURIMAC","ANDAHUAYLAS","PACOBAMBA",246,2712,-13.6153,-73.0839,{"$f":"IFERROR(VLOOKUP(B274,#REF!,8,FALSE),\"\")","v":""},null,"PACOBAMBA"]
[270,30209,"APURIMAC","ANDAHUAYLAS","PACUCHA",170,3162,-13.609400000000001,-73.344200000000001,{"$f":"IFERROR(VLOOKUP(B275,#REF!,8,FALSE),\"\")","v":""},null,"PACUCHA"]
[271,30210,"APURIMAC","ANDAHUAYLAS","PAMPACHIRI",603,3388,-14.1869,-73.544700000000006,{"$f":"IFERROR(VLOOKUP(B276,#REF!,8,FALSE),\"\")","v":""},null,"PAMPACHIRI"]
[272,30211,"APURIMAC","ANDAHUAYLAS","POMACOCHA",129,3673,-14.0839,-73.590800000000002,{"$f":"IFERROR(VLOOKUP(B277,#REF!,8,FALSE),\"\")","v":""},null,"POMACOCHA"]
[273,30212,"APURIMAC","ANDAHUAYLAS","SAN ANTONIO DE CACHI",179,3258,-13.773099999999999,-73.603300000000004,{"$f":"IFERROR(VLOOKUP(B278,#REF!,8,FALSE),\"\")","v":""},null,"SAN ANTONIO DE CACHI"]
[274,30213,"APURIMAC","ANDAHUAYLAS","SAN JERONIMO",237,2973,-13.6517,-73.365799999999993,{"$f":"IFERROR(VLOOKUP(B279,#REF!,8,FALSE),\"\")","v":""},null,"SAN JERONIMO"]
[275,30214,"APURIMAC","ANDAHUAYLAS","SAN MIGUEL DE CHACCRAMPA",83,3681,-13.9611,-73.607799999999997,{"$f":"IFERROR(VLOOKUP(B280,#REF!,8,FALSE),\"\")","v":""},null,"SAN MIGUEL DE CHACCRAMPA"]
[276,30215,"APURIMAC","ANDAHUAYLAS","SANTA MARIA DE CHICMO",162,3287,-13.657500000000001,-73.493899999999996,{"$f":"IFERROR(VLOOKUP(B281,#REF!,8,FALSE),\"\")","v":""},null,"SANTA MARIA DE CHICMO"]
[277,30216,"APURIMAC","ANDAHUAYLAS","TALAVERA",148,2842,-13.654199999999999,-73.428899999999999,{"$f":"IFERROR(VLOOKUP(B282,#REF!,8,FALSE),\"\")","v":""},null,"TALAVERA"]
[278,30217,"APURIMAC","ANDAHUAYLAS","TUMAY HUARACA",447,3409,-14.0528,-73.565799999999996,{"$f":"IFERROR(VLOOKUP(B283,#REF!,8,FALSE),\"\")","v":""},null,"TUMAY HUARACA"]
[279,30218,"APURIMAC","ANDAHUAYLAS","TURPO",122,3327,-13.785600000000001,-73.474199999999996,{"$f":"IFERROR(VLOOKUP(B284,#REF!,8,FALSE),\"\")","v":""},null,"TURPO"]
[280,30301,"APURIMAC","ANTABAMBA","ANTABAMBA",604,3664,-14.3653,-72.877200000000002,{"$f":"IFERROR(VLOOKUP(B285,#REF!,8,FALSE),\"\")","v":""},null,"ANTABAMBA"]
[281,30302,"APURIMAC","ANTABAMBA","EL ORO",69,3304,-14.2089,-73.058300000000003,{"$f":"IFERROR(VLOOKUP(B286,#REF!,8,FALSE),\"\")","v":""},null,"EL ORO"]
[282,30303,"APURIMAC","ANTABAMBA","HUAQUIRCA",338,3500,-14.339399999999999,-72.894999999999996,{"$f":"IFERROR(VLOOKUP(B287,#REF!,8,FALSE),\"\")","v":""},null,"HUAQUIRCA"]
[283,30304,"APURIMAC","ANTABAMBA","JUAN ESPINOZA MEDRANO",623,3316,-14.4283,-72.915000000000006,{"$f":"IFERROR(VLOOKUP(B288,#REF!,8,FALSE),\"\")","v":""},null,"JUAN ESPINOZA MEDRANO"]
[284,30305,"APURIMAC","ANTABAMBA","OROPESA",1180,3327,-14.2606,-72.563599999999994,{"$f":"IFERROR(VLOOKUP(B289,#REF!,8,FALSE),\"\")","v":""},null,"OROPESA"]
[285,30306,"APURIMAC","ANTABAMBA","PACHACONAS",227,3465,-14.2233,-73.016400000000004,{"$f":"IFERROR(VLOOKUP(B290,#REF!,8,FALSE),\"\")","v":""},null,"PACHACONAS"]
[286,30307,"APURIMAC","ANTABAMBA","SABAINO",179,3441,-14.3133,-72.945300000000003,{"$f":"IFERROR(VLOOKUP(B291,#REF!,8,FALSE),\"\")","v":""},null,"SABAINO"]
[287,30402,"APURIMAC","AYMARAES","CAPAYA",78,3311,-14.117800000000001,-73.321100000000001,{"$f":"IFERROR(VLOOKUP(B292,#REF!,8,FALSE),\"\")","v":""},null,"CAPAYA"]
[288,30403,"APURIMAC","AYMARAES","CARAYBAMBA",235,3324,-14.3781,-73.160799999999995,{"$f":"IFERROR(VLOOKUP(B293,#REF!,8,FALSE),\"\")","v":""},null,"CARAYBAMBA"]
[289,30401,"APURIMAC","AYMARAES","CHALHUANCA",322,2929,-14.2944,-73.244699999999995,{"$f":"IFERROR(VLOOKUP(B294,#REF!,8,FALSE),\"\")","v":""},null,"CHALHUANCA"]
[290,30404,"APURIMAC","AYMARAES","CHAPIMARCA",213,3423,-13.975,-73.064999999999998,{"$f":"IFERROR(VLOOKUP(B295,#REF!,8,FALSE),\"\")","v":""},null,"CHAPIMARCA"]
[291,30405,"APURIMAC","AYMARAES","COLCABAMBA",96,3174,-14.006399999999999,-73.254199999999997,{"$f":"IFERROR(VLOOKUP(B296,#REF!,8,FALSE),\"\")","v":""},null,"COLCABAMBA"]
[292,30406,"APURIMAC","AYMARAES","COTARUSE",1750,3268,-14.415800000000001,-73.204999999999998,{"$f":"IFERROR(VLOOKUP(B297,#REF!,8,FALSE),\"\")","v":""},null,"COTARUSE"]
[293,30407,"APURIMAC","AYMARAES","HUAYLLO",73,3172,-14.133100000000001,-73.267799999999994,{"$f":"IFERROR(VLOOKUP(B298,#REF!,8,FALSE),\"\")","v":""},null,"HUAYLLO"]
[294,30408,"APURIMAC","AYMARAES","JUSTO APU SAHUARAURA",98,3133,-14.148099999999999,-73.173900000000003,{"$f":"IFERROR(VLOOKUP(B299,#REF!,8,FALSE),\"\")","v":""},null,"JUSTO APU SAHUARAURA"]
[295,30409,"APURIMAC","AYMARAES","LUCRE",110,2822,-13.9497,-73.226100000000002,{"$f":"IFERROR(VLOOKUP(B300,#REF!,8,FALSE),\"\")","v":""},null,"LUCRE"]
[296,30410,"APURIMAC","AYMARAES","POCOHUANCA",83,3374,-14.218299999999999,-73.0869,{"$f":"IFERROR(VLOOKUP(B301,#REF!,8,FALSE),\"\")","v":""},null,"POCOHUANCA"]
[297,30411,"APURIMAC","AYMARAES","SAN JUAN DE CHACÑA",86,2874,-13.924200000000001,-73.182199999999995,{"$f":"IFERROR(VLOOKUP(B302,#REF!,8,FALSE),\"\")","v":""},null,"SAN JUAN DE CHACÑA"]
[298,30412,"APURIMAC","AYMARAES","SAÑAYCA",449,3373,-14.2044,-73.346900000000005,{"$f":"IFERROR(VLOOKUP(B303,#REF!,8,FALSE),\"\")","v":""},null,"SAÑAYCA"]
[299,30413,"APURIMAC","AYMARAES","SORAYA",44,2884,-14.1647,-73.314999999999998,{"$f":"IFERROR(VLOOKUP(B304,#REF!,8,FALSE),\"\")","v":""},null,"SORAYA"]
[300,30414,"APURIMAC","AYMARAES","TAPAIRIHUA",164,2839,-14.141400000000001,-73.140299999999996,{"$f":"IFERROR(VLOOKUP(B305,#REF!,8,FALSE),\"\")","v":""},null,"TAPAIRIHUA"]
[301,30415,"APURIMAC","AYMARAES","TINTAY",137,2824,-13.9594,-73.185299999999998,{"$f":"IFERROR(VLOOKUP(B306,#REF!,8,FALSE),\"\")","v":""},null,"TINTAY"]
[302,30416,"APURIMAC","AYMARAES","TORAYA",173,3167,-14.053100000000001,-73.293899999999994,{"$f":"IFERROR(VLOOKUP(B307,#REF!,8,FALSE),\"\")","v":""},null,"TORAYA"]
[303,30417,"APURIMAC","AYMARAES","YANACA",104,3339,-14.225300000000001,-73.16,{"$f":"IFERROR(VLOOKUP(B308,#REF!,8,FALSE),\"\")","v":""},null,"YANACA"]
[304,30612,"APURIMAC","CHINCHEROS","AHUAYRO",null,2032,-13.496700000000001,-73.808499999999995,{"$f":"IFERROR(VLOOKUP(B309,#REF!,8,FALSE),\"\")","v":""},null,"AHUAYRO"]
[305,30602,"APURIMAC","CHINCHEROS","ANCO-HUALLO",39,3239,-13.5297,-73.674199999999999,{"$f":"IFERROR(VLOOKUP(B310,#REF!,8,FALSE),\"\")","v":""},null,"ANCO-HUALLO"]
[306,30601,"APURIMAC","CHINCHEROS","CHINCHEROS",132,2799,-13.5183,-73.722800000000007,{"$f":"IFERROR(VLOOKUP(B311,#REF!,8,FALSE),\"\")","v":""},null,"CHINCHEROS"]
[307,30603,"APURIMAC","CHINCHEROS","COCHARCAS",110,3051,-13.6106,-73.741399999999999,{"$f":"IFERROR(VLOOKUP(B312,#REF!,8,FALSE),\"\")","v":""},null,"COCHARCAS"]
[308,30610,"APURIMAC","CHINCHEROS","EL PORVENIR",62,3045,-13.396699999999999,-73.593299999999999,{"$f":"IFERROR(VLOOKUP(B313,#REF!,8,FALSE),\"\")","v":""},null,"EL PORVENIR"]
[309,30604,"APURIMAC","CHINCHEROS","HUACCANA",472,3093,-13.3881,-73.6892,{"$f":"IFERROR(VLOOKUP(B314,#REF!,8,FALSE),\"\")","v":""},null,"HUACCANA"]
[310,30611,"APURIMAC","CHINCHEROS","LOS CHANKAS",142,2058,-13.435,-73.821899999999999,{"$f":"IFERROR(VLOOKUP(B315,#REF!,8,FALSE),\"\")","v":""},null,"LOS CHANKAS"]
[311,30605,"APURIMAC","CHINCHEROS","OCOBAMBA",58,3039,-13.4825,-73.560299999999998,{"$f":"IFERROR(VLOOKUP(B316,#REF!,8,FALSE),\"\")","v":""},null,"OCOBAMBA"]
[312,30606,"APURIMAC","CHINCHEROS","ONGOY",119,2799,-13.402799999999999,-73.668300000000002,{"$f":"IFERROR(VLOOKUP(B317,#REF!,8,FALSE),\"\")","v":""},null,"ONGOY"]
[313,30608,"APURIMAC","CHINCHEROS","RANRACANCHA",45,3426,-13.532500000000001,-73.605599999999995,{"$f":"IFERROR(VLOOKUP(B318,#REF!,8,FALSE),\"\")","v":""},null,"RANRACANCHA"]
[314,30609,"APURIMAC","CHINCHEROS","ROCCHACC",57,3042,-13.4406,-73.599999999999994,{"$f":"IFERROR(VLOOKUP(B319,#REF!,8,FALSE),\"\")","v":""},null,"ROCCHACC"]
[315,30607,"APURIMAC","CHINCHEROS","URANMARCA",149,3115,-13.6722,-73.669399999999996,{"$f":"IFERROR(VLOOKUP(B320,#REF!,8,FALSE),\"\")","v":""},null,"URANMARCA"]
[316,30506,"APURIMAC","COTABAMBAS","CHALLHUAHUACHO",440,3724,-14.118600000000001,-72.246700000000004,{"$f":"IFERROR(VLOOKUP(B321,#REF!,8,FALSE),\"\")","v":""},null,"CHALLHUAHUACHO"]
[317,30502,"APURIMAC","COTABAMBAS","COTABAMBAS",332,3557,-13.7456,-72.355000000000004,{"$f":"IFERROR(VLOOKUP(B322,#REF!,8,FALSE),\"\")","v":""},null,"COTABAMBAS"]
[318,30503,"APURIMAC","COTABAMBAS","COYLLURQUI",419,3184,-13.8369,-72.432199999999995,{"$f":"IFERROR(VLOOKUP(B323,#REF!,8,FALSE),\"\")","v":""},null,"COYLLURQUI"]
[319,30504,"APURIMAC","COTABAMBAS","HAQUIRA",475,3698,-14.2142,-72.188900000000004,{"$f":"IFERROR(VLOOKUP(B324,#REF!,8,FALSE),\"\")","v":""},null,"HAQUIRA"]
[320,30505,"APURIMAC","COTABAMBAS","MARA",224,3792,-14.0867,-72.101900000000001,{"$f":"IFERROR(VLOOKUP(B325,#REF!,8,FALSE),\"\")","v":""},null,"MARA"]
[321,30501,"APURIMAC","COTABAMBAS","TAMBOBAMBA",722,3267,-13.946099999999999,-72.174700000000001,{"$f":"IFERROR(VLOOKUP(B326,#REF!,8,FALSE),\"\")","v":""},null,"TAMBOBAMBA"]
[322,30701,"APURIMAC","GRAU","CHUQUIBAMBILLA",433,3360,-14.105,-72.707800000000006,{"$f":"IFERROR(VLOOKUP(B327,#REF!,8,FALSE),\"\")","v":""},null,"CHUQUIBAMBILLA"]
[{"$f":"+A327+1","v":323},30714,"APURIMAC","GRAU","CURASCO",140,3566,-14.0619,-72.567800000000005,{"$f":"IFERROR(VLOOKUP(B328,#REF!,8,FALSE),\"\")","v":""},null,"CURASCO"]
[324,30702,"APURIMAC","GRAU","CURPAHUASI",293,3490,-14.0633,-72.6708,{"$f":"IFERROR(VLOOKUP(B329,#REF!,8,FALSE),\"\")","v":""},null,"CURPAHUASI"]
[325,30703,"APURIMAC","GRAU","GAMARRA",370,3489,-13.871700000000001,-72.508300000000006,{"$f":"IFERROR(VLOOKUP(B330,#REF!,8,FALSE),\"\")","v":""},null,"GAMARRA"]
[326,30704,"APURIMAC","GRAU","HUAYLLATI",111,3469,-13.928100000000001,-72.484399999999994,{"$f":"IFERROR(VLOOKUP(B331,#REF!,8,FALSE),\"\")","v":""},null,"HUAYLLATI"]
[327,30705,"APURIMAC","GRAU","MAMARA",66,3619,-14.2286,-72.590800000000002,{"$f":"IFERROR(VLOOKUP(B332,#REF!,8,FALSE),\"\")","v":""},null,"MAMARA"]
[328,30706,"APURIMAC","GRAU","MICAELA BASTIDAS",110,3528,-14.1153,-72.614199999999997,{"$f":"IFERROR(VLOOKUP(B333,#REF!,8,FALSE),\"\")","v":""},null,"MICAELA BASTIDAS"]
[329,30707,"APURIMAC","GRAU","PATAYPAMPA",159,3800,-14.1775,-72.672499999999999,{"$f":"IFERROR(VLOOKUP(B334,#REF!,8,FALSE),\"\")","v":""},null,"PATAYPAMPA"]
[330,30708,"APURIMAC","GRAU","PROGRESO",255,3817,-14.0722,-72.476699999999994,{"$f":"IFERROR(VLOOKUP(B335,#REF!,8,FALSE),\"\")","v":""},null,"PROGRESO"]
[331,30709,"APURIMAC","GRAU","SAN ANTONIO",24,3483,-14.1694,-72.6233,{"$f":"IFERROR(VLOOKUP(B336,#REF!,8,FALSE),\"\")","v":""},null,"SAN ANTONIO"]
[332,30710,"APURIMAC","GRAU","SANTA ROSA",36,3539,-14.139699999999999,-72.656700000000001,{"$f":"IFERROR(VLOOKUP(B337,#REF!,8,FALSE),\"\")","v":""},null,"SANTA ROSA"]
[333,30711,"APURIMAC","GRAU","TURPAY",52,3448,-14.2278,-72.622500000000002,{"$f":"IFERROR(VLOOKUP(B338,#REF!,8,FALSE),\"\")","v":""},null,"TURPAY"]
[334,30712,"APURIMAC","GRAU","VILCABAMBA",8,2801,-14.0778,-72.624700000000004,{"$f":"IFERROR(VLOOKUP(B339,#REF!,8,FALSE),\"\")","v":""},null,"VILCABAMBA"]
[335,30713,"APURIMAC","GRAU","VIRUNDO",117,3876,-14.250299999999999,-72.681100000000001,{"$f":"IFERROR(VLOOKUP(B340,#REF!,8,FALSE),\"\")","v":""},null,"VIRUNDO"]
[336,40102,"AREQUIPA","AREQUIPA","ALTO SELVA ALEGRE",7,2510,-16.38,-71.521100000000004,{"$f":"IFERROR(VLOOKUP(B341,#REF!,8,FALSE),\"\")","v":""},null,"ALTO SELVA ALEGRE"]
[337,40101,"AREQUIPA","AREQUIPA","AREQUIPA",3,2429,-16.3933,-71.528899999999993,{"$f":"IFERROR(VLOOKUP(B342,#REF!,8,FALSE),\"\")","v":""},null,"AREQUIPA"]
[338,40103,"AREQUIPA","AREQUIPA","CAYMA",246,2531,-16.362500000000001,-71.544200000000004,{"$f":"IFERROR(VLOOKUP(B343,#REF!,8,FALSE),\"\")","v":""},null,"CAYMA"]
[339,40104,"AREQUIPA","AREQUIPA","CERRO COLORADO",175,2441,-16.3764,-71.5608,{"$f":"IFERROR(VLOOKUP(B344,#REF!,8,FALSE),\"\")","v":""},null,"CERRO COLORADO"]
[340,40105,"AREQUIPA","AREQUIPA","CHARACATO",86,2506,-16.468599999999999,-71.484399999999994,{"$f":"IFERROR(VLOOKUP(B345,#REF!,8,FALSE),\"\")","v":""},null,"CHARACATO"]
[341,40106,"AREQUIPA","AREQUIPA","CHIGUATA",461,3006,-16.403600000000001,-71.3917,{"$f":"IFERROR(VLOOKUP(B346,#REF!,8,FALSE),\"\")","v":""},null,"CHIGUATA"]
[342,40107,"AREQUIPA","AREQUIPA","JACOBO HUNTER",20,2309,-16.441400000000002,-71.558599999999998,{"$f":"IFERROR(VLOOKUP(B347,#REF!,8,FALSE),\"\")","v":""},null,"JACOBO HUNTER"]
[343,40129,"AREQUIPA","AREQUIPA","JOSE LUIS BUSTAMANTE Y RIVERO",11,2389,-16.4267,-71.523899999999998,{"$f":"IFERROR(VLOOKUP(B348,#REF!,8,FALSE),\"\")","v":""},null,"JOSE LUIS BUSTAMANTE Y RIVERO"]
[344,40108,"AREQUIPA","AREQUIPA","LA JOYA",670,1640,-16.423100000000002,-71.818299999999994,{"$f":"IFERROR(VLOOKUP(B349,#REF!,8,FALSE),\"\")","v":""},null,"LA JOYA"]
[345,40109,"AREQUIPA","AREQUIPA","MARIANO MELGAR",30,2459,-16.4072,-71.505600000000001,{"$f":"IFERROR(VLOOKUP(B350,#REF!,8,FALSE),\"\")","v":""},null,"MARIANO MELGAR"]
[346,40110,"AREQUIPA","AREQUIPA","MIRAFLORES - AREQUIPA",29,2450,-16.3947,-71.522499999999994,{"$f":"IFERROR(VLOOKUP(B351,#REF!,8,FALSE),\"\")","v":""},null,"MIRAFLORES - AREQUIPA"]
[347,40111,"AREQUIPA","AREQUIPA","MOLLEBAYA",27,2515,-16.487200000000001,-71.466899999999995,{"$f":"IFERROR(VLOOKUP(B352,#REF!,8,FALSE),\"\")","v":""},null,"MOLLEBAYA"]
[348,40112,"AREQUIPA","AREQUIPA","PAUCARPATA",31,2453,-16.4328,-71.5047,{"$f":"IFERROR(VLOOKUP(B353,#REF!,8,FALSE),\"\")","v":""},null,"PAUCARPATA"]
[349,40113,"AREQUIPA","AREQUIPA","POCSI",172,3045,-16.517800000000001,-71.389700000000005,{"$f":"IFERROR(VLOOKUP(B354,#REF!,8,FALSE),\"\")","v":""},null,"POCSI"]
[350,40114,"AREQUIPA","AREQUIPA","POLOBAYA",442,3116,-16.565799999999999,-71.368300000000005,{"$f":"IFERROR(VLOOKUP(B355,#REF!,8,FALSE),\"\")","v":""},null,"POLOBAYA"]
[351,40115,"AREQUIPA","AREQUIPA","QUEQUEÑA",35,2561,-16.557200000000002,-71.451400000000007,{"$f":"IFERROR(VLOOKUP(B356,#REF!,8,FALSE),\"\")","v":""},null,"QUEQUEÑA"]
[352,40116,"AREQUIPA","AREQUIPA","SABANDIA",37,2441,-16.456900000000001,-71.494699999999995,{"$f":"IFERROR(VLOOKUP(B357,#REF!,8,FALSE),\"\")","v":""},null,"SABANDIA"]
[353,40117,"AREQUIPA","AREQUIPA","SACHACA",27,2300,-16.424399999999999,-71.566400000000002,{"$f":"IFERROR(VLOOKUP(B358,#REF!,8,FALSE),\"\")","v":""},null,"SACHACA"]
[354,40118,"AREQUIPA","AREQUIPA","SAN JUAN DE SIGUAS",93,1281,-16.3461,-72.128299999999996,{"$f":"IFERROR(VLOOKUP(B359,#REF!,8,FALSE),\"\")","v":""},null,"SAN JUAN DE SIGUAS"]
[355,40119,"AREQUIPA","AREQUIPA","SAN JUAN DE TARUCANI",2265,4217,-16.183599999999998,-71.061899999999994,{"$f":"IFERROR(VLOOKUP(B360,#REF!,8,FALSE),\"\")","v":""},null,"SAN JUAN DE TARUCANI"]
[356,40120,"AREQUIPA","AREQUIPA","SANTA ISABEL DE SIGUAS",188,1390,-16.320799999999998,-72.0989,{"$f":"IFERROR(VLOOKUP(B361,#REF!,8,FALSE),\"\")","v":""},null,"SANTA ISABEL DE SIGUAS"]
[357,40121,"AREQUIPA","AREQUIPA","SANTA RITA DE SIGUAS",370,1283,-16.493600000000001,-72.094700000000003,{"$f":"IFERROR(VLOOKUP(B362,#REF!,8,FALSE),\"\")","v":""},null,"SANTA RITA DE SIGUAS"]
[358,40122,"AREQUIPA","AREQUIPA","SOCABAYA",19,2352,-16.467500000000001,-71.528599999999997,{"$f":"IFERROR(VLOOKUP(B363,#REF!,8,FALSE),\"\")","v":""},null,"SOCABAYA"]
[359,40123,"AREQUIPA","AREQUIPA","TIABAYA",32,2218,-16.449400000000001,-71.591700000000003,{"$f":"IFERROR(VLOOKUP(B364,#REF!,8,FALSE),\"\")","v":""},null,"TIABAYA"]
[360,40124,"AREQUIPA","AREQUIPA","UCHUMAYO",227,1976,-16.4253,-71.672499999999999,{"$f":"IFERROR(VLOOKUP(B365,#REF!,8,FALSE),\"\")","v":""},null,"UCHUMAYO"]
[361,40125,"AREQUIPA","AREQUIPA","VITOR",1544,1189,-16.465800000000002,-71.9358,{"$f":"IFERROR(VLOOKUP(B366,#REF!,8,FALSE),\"\")","v":""},null,"VITOR"]
[362,40126,"AREQUIPA","AREQUIPA","YANAHUARA",2,2402,-16.381900000000002,-71.5364,{"$f":"IFERROR(VLOOKUP(B367,#REF!,8,FALSE),\"\")","v":""},null,"YANAHUARA"]
[363,40127,"AREQUIPA","AREQUIPA","YARABAMBA",492,2467,-16.546700000000001,-71.4756,{"$f":"IFERROR(VLOOKUP(B368,#REF!,8,FALSE),\"\")","v":""},null,"YARABAMBA"]
[364,40128,"AREQUIPA","AREQUIPA","YURA",1943,2495,-16.2469,-71.706400000000002,{"$f":"IFERROR(VLOOKUP(B369,#REF!,8,FALSE),\"\")","v":""},null,"YURA"]
[365,40201,"AREQUIPA","CAMANA","CAMANA",12,20,-16.624700000000001,-72.711399999999998,{"$f":"IFERROR(VLOOKUP(B370,#REF!,8,FALSE),\"\")","v":""},null,"CAMANA"]
[366,40202,"AREQUIPA","CAMANA","JOSE MARIA QUIMPER",17,35,-16.601900000000001,-72.727199999999996,{"$f":"IFERROR(VLOOKUP(B371,#REF!,8,FALSE),\"\")","v":""},null,"JOSE MARIA QUIMPER"]
[367,40203,"AREQUIPA","CAMANA","MARIANO NICOLAS VALCARCEL",558,362,-16.031400000000001,-73.174400000000006,{"$f":"IFERROR(VLOOKUP(B372,#REF!,8,FALSE),\"\")","v":""},null,"MARIANO NICOLAS VALCARCEL"]
[368,40204,"AREQUIPA","CAMANA","MARISCAL CACERES",579,18,-16.619700000000002,-72.736099999999993,{"$f":"IFERROR(VLOOKUP(B373,#REF!,8,FALSE),\"\")","v":""},null,"MARISCAL CACERES"]
[369,40205,"AREQUIPA","CAMANA","NICOLAS DE PIEROLA",392,71,-16.5731,-72.715800000000002,{"$f":"IFERROR(VLOOKUP(B374,#REF!,8,FALSE),\"\")","v":""},null,"NICOLAS DE PIEROLA"]
[370,40206,"AREQUIPA","CAMANA","OCOÑA",1415,16,-16.431699999999999,-73.105000000000004,{"$f":"IFERROR(VLOOKUP(B375,#REF!,8,FALSE),\"\")","v":""},null,"OCOÑA"]
[371,40207,"AREQUIPA","CAMANA","QUILCA",912,82,-16.716899999999999,-72.425600000000003,{"$f":"IFERROR(VLOOKUP(B376,#REF!,8,FALSE),\"\")","v":""},null,"QUILCA"]
[372,40208,"AREQUIPA","CAMANA","SAMUEL PASTOR",113,21,-16.613600000000002,-72.699200000000005,{"$f":"IFERROR(VLOOKUP(B377,#REF!,8,FALSE),\"\")","v":""},null,"SAMUEL PASTOR"]
[373,40302,"AREQUIPA","CARAVELI","ACARI",799,171,-15.435600000000001,-74.616399999999999,{"$f":"IFERROR(VLOOKUP(B378,#REF!,8,FALSE),\"\")","v":""},null,"ACARI"]
[374,40303,"AREQUIPA","CARAVELI","ATICO",3146,101,-16.208300000000001,-73.623599999999996,{"$f":"IFERROR(VLOOKUP(B379,#REF!,8,FALSE),\"\")","v":""},null,"ATICO"]
[375,40304,"AREQUIPA","CARAVELI","ATIQUIPA",424,330,-15.796099999999999,-74.363600000000005,{"$f":"IFERROR(VLOOKUP(B380,#REF!,8,FALSE),\"\")","v":""},null,"ATIQUIPA"]
[376,40305,"AREQUIPA","CARAVELI","BELLA UNION",1588,218,-15.4506,-74.658299999999997,{"$f":"IFERROR(VLOOKUP(B381,#REF!,8,FALSE),\"\")","v":""},null,"BELLA UNION"]
[377,40306,"AREQUIPA","CARAVELI","CAHUACHO",1412,3423,-15.502800000000001,-73.479699999999994,{"$f":"IFERROR(VLOOKUP(B382,#REF!,8,FALSE),\"\")","v":""},null,"CAHUACHO"]
[378,40301,"AREQUIPA","CARAVELI","CARAVELI",728,1811,-15.772500000000001,-73.365799999999993,{"$f":"IFERROR(VLOOKUP(B383,#REF!,8,FALSE),\"\")","v":""},null,"CARAVELI"]
[379,40307,"AREQUIPA","CARAVELI","CHALA",378,21,-15.865600000000001,-74.247500000000002,{"$f":"IFERROR(VLOOKUP(B384,#REF!,8,FALSE),\"\")","v":""},null,"CHALA"]
[380,40308,"AREQUIPA","CARAVELI","CHAPARRA",1473,611,-15.805300000000001,-73.966899999999995,{"$f":"IFERROR(VLOOKUP(B385,#REF!,8,FALSE),\"\")","v":""},null,"CHAPARRA"]
[381,40309,"AREQUIPA","CARAVELI","HUANUHUANU",709,972,-15.658899999999999,-74.091399999999993,{"$f":"IFERROR(VLOOKUP(B386,#REF!,8,FALSE),\"\")","v":""},null,"HUANUHUANU"]
[382,40310,"AREQUIPA","CARAVELI","JAQUI",425,271,-15.479200000000001,-74.443600000000004,{"$f":"IFERROR(VLOOKUP(B387,#REF!,8,FALSE),\"\")","v":""},null,"JAQUI"]
[383,40311,"AREQUIPA","CARAVELI","LOMAS",453,26,-15.569699999999999,-74.851399999999998,{"$f":"IFERROR(VLOOKUP(B388,#REF!,8,FALSE),\"\")","v":""},null,"LOMAS"]
[384,40312,"AREQUIPA","CARAVELI","QUICACHA",1048,1836,-15.625,-73.798299999999998,{"$f":"IFERROR(VLOOKUP(B389,#REF!,8,FALSE),\"\")","v":""},null,"QUICACHA"]
[385,40313,"AREQUIPA","CARAVELI","YAUCA",556,31,-15.661899999999999,-74.527199999999993,{"$f":"IFERROR(VLOOKUP(B390,#REF!,8,FALSE),\"\")","v":""},null,"YAUCA"]
[386,40402,"AREQUIPA","CASTILLA","ANDAGUA",481,3594,-15.498900000000001,-72.356099999999998,{"$f":"IFERROR(VLOOKUP(B391,#REF!,8,FALSE),\"\")","v":""},null,"ANDAGUA"]
[{"$f":"+A391+1","v":387},40401,"AREQUIPA","CASTILLA","APLAO",640,625,-16.0761,-72.492199999999997,{"$f":"IFERROR(VLOOKUP(B392,#REF!,8,FALSE),\"\")","v":""},null,"APLAO"]
[388,40403,"AREQUIPA","CASTILLA","AYO",328,2003,-15.6828,-72.271900000000002,{"$f":"IFERROR(VLOOKUP(B393,#REF!,8,FALSE),\"\")","v":""},null,"AYO"]
[389,40404,"AREQUIPA","CASTILLA","CHACHAS",1190,3117,-15.5014,-72.270600000000002,{"$f":"IFERROR(VLOOKUP(B394,#REF!,8,FALSE),\"\")","v":""},null,"CHACHAS"]
[390,40405,"AREQUIPA","CASTILLA","CHILCAYMARCA",181,3867,-15.286099999999999,-72.3767,{"$f":"IFERROR(VLOOKUP(B395,#REF!,8,FALSE),\"\")","v":""},null,"CHILCAYMARCA"]
[391,40406,"AREQUIPA","CASTILLA","CHOCO",904,2418,-15.576700000000001,-72.128900000000002,{"$f":"IFERROR(VLOOKUP(B396,#REF!,8,FALSE),\"\")","v":""},null,"CHOCO"]
[392,40407,"AREQUIPA","CASTILLA","HUANCARQUI",804,620,-16.0961,-72.472200000000001,{"$f":"IFERROR(VLOOKUP(B397,#REF!,8,FALSE),\"\")","v":""},null,"HUANCARQUI"]
[393,40408,"AREQUIPA","CASTILLA","MACHAGUAY",247,3131,-15.6503,-72.506100000000004,{"$f":"IFERROR(VLOOKUP(B398,#REF!,8,FALSE),\"\")","v":""},null,"MACHAGUAY"]
[394,40409,"AREQUIPA","CASTILLA","ORCOPAMPA",724,3818,-15.262499999999999,-72.341899999999995,{"$f":"IFERROR(VLOOKUP(B399,#REF!,8,FALSE),\"\")","v":""},null,"ORCOPAMPA"]
[395,40410,"AREQUIPA","CASTILLA","PAMPACOLCA",205,2922,-15.7133,-72.573899999999995,{"$f":"IFERROR(VLOOKUP(B400,#REF!,8,FALSE),\"\")","v":""},null,"PAMPACOLCA"]
[396,40411,"AREQUIPA","CASTILLA","TIPAN",58,1939,-15.723100000000001,-72.501900000000006,{"$f":"IFERROR(VLOOKUP(B401,#REF!,8,FALSE),\"\")","v":""},null,"TIPAN"]
[397,40412,"AREQUIPA","CASTILLA","UÑON",297,2727,-15.7286,-72.432199999999995,{"$f":"IFERROR(VLOOKUP(B402,#REF!,8,FALSE),\"\")","v":""},null,"UÑON"]
[398,40413,"AREQUIPA","CASTILLA","URACA",714,452,-16.2239,-72.469700000000003,{"$f":"IFERROR(VLOOKUP(B403,#REF!,8,FALSE),\"\")","v":""},null,"URACA"]
[399,40414,"AREQUIPA","CASTILLA","VIRACO",141,3210,-15.658300000000001,-72.525000000000006,{"$f":"IFERROR(VLOOKUP(B404,#REF!,8,FALSE),\"\")","v":""},null,"VIRACO"]
[400,40502,"AREQUIPA","CAYLLOMA","ACHOMA",394,3524,-15.66,-71.703599999999994,{"$f":"IFERROR(VLOOKUP(B405,#REF!,8,FALSE),\"\")","v":""},null,"ACHOMA"]
[401,40503,"AREQUIPA","CAYLLOMA","CABANACONDE",461,3295,-15.62,-71.981899999999996,{"$f":"IFERROR(VLOOKUP(B406,#REF!,8,FALSE),\"\")","v":""},null,"CABANACONDE"]
[402,40504,"AREQUIPA","CAYLLOMA","CALLALLI",1485,3887,-15.506399999999999,-71.444699999999997,{"$f":"IFERROR(VLOOKUP(B407,#REF!,8,FALSE),\"\")","v":""},null,"CALLALLI"]
[403,40505,"AREQUIPA","CAYLLOMA","CAYLLOMA",1499,4361,-15.1889,-71.773300000000006,{"$f":"IFERROR(VLOOKUP(B408,#REF!,8,FALSE),\"\")","v":""},null,"CAYLLOMA"]
[404,40501,"AREQUIPA","CAYLLOMA","CHIVAY",241,3683,-15.6403,-71.6036,{"$f":"IFERROR(VLOOKUP(B409,#REF!,8,FALSE),\"\")","v":""},null,"CHIVAY"]
[405,40506,"AREQUIPA","CAYLLOMA","COPORAQUE",112,3600,-15.6272,-71.646100000000004,{"$f":"IFERROR(VLOOKUP(B410,#REF!,8,FALSE),\"\")","v":""},null,"COPORAQUE"]
[406,40507,"AREQUIPA","CAYLLOMA","HUAMBO",706,3309,-15.7294,-72.109700000000004,{"$f":"IFERROR(VLOOKUP(B411,#REF!,8,FALSE),\"\")","v":""},null,"HUAMBO"]
[407,40508,"AREQUIPA","CAYLLOMA","HUANCA",391,3073,-16.0336,-71.878100000000003,{"$f":"IFERROR(VLOOKUP(B412,#REF!,8,FALSE),\"\")","v":""},null,"HUANCA"]
[408,40509,"AREQUIPA","CAYLLOMA","ICHUPAMPA",75,3422,-15.65,-71.686700000000002,{"$f":"IFERROR(VLOOKUP(B413,#REF!,8,FALSE),\"\")","v":""},null,"ICHUPAMPA"]
[409,40510,"AREQUIPA","CAYLLOMA","LARI",384,3373,-15.6183,-71.772499999999994,{"$f":"IFERROR(VLOOKUP(B414,#REF!,8,FALSE),\"\")","v":""},null,"LARI"]
[410,40511,"AREQUIPA","CAYLLOMA","LLUTA",1226,3031,-16.015599999999999,-72.013900000000007,{"$f":"IFERROR(VLOOKUP(B415,#REF!,8,FALSE),\"\")","v":""},null,"LLUTA"]
[411,40512,"AREQUIPA","CAYLLOMA","MACA",227,3287,-15.641400000000001,-71.768299999999996,{"$f":"IFERROR(VLOOKUP(B416,#REF!,8,FALSE),\"\")","v":""},null,"MACA"]
[412,40513,"AREQUIPA","CAYLLOMA","MADRIGAL",160,3300,-15.6083,-71.807500000000005,{"$f":"IFERROR(VLOOKUP(B417,#REF!,8,FALSE),\"\")","v":""},null,"MADRIGAL"]
[413,40520,"AREQUIPA","CAYLLOMA","MAJES",1626,1392,-16.353300000000001,-72.247200000000007,{"$f":"IFERROR(VLOOKUP(B418,#REF!,8,FALSE),\"\")","v":""},null,"MAJES"]
[414,40514,"AREQUIPA","CAYLLOMA","SAN ANTONIO DE CHUCA",1531,4470,-15.838900000000001,-71.090599999999995,{"$f":"IFERROR(VLOOKUP(B419,#REF!,8,FALSE),\"\")","v":""},null,"SAN ANTONIO DE CHUCA"]
[415,40515,"AREQUIPA","CAYLLOMA","SIBAYO",286,3836,-15.4861,-71.456900000000005,{"$f":"IFERROR(VLOOKUP(B420,#REF!,8,FALSE),\"\")","v":""},null,"SIBAYO"]
[416,40516,"AREQUIPA","CAYLLOMA","TAPAY",420,3011,-15.577500000000001,-71.939700000000002,{"$f":"IFERROR(VLOOKUP(B421,#REF!,8,FALSE),\"\")","v":""},null,"TAPAY"]
[417,40517,"AREQUIPA","CAYLLOMA","TISCO",1445,4195,-15.3469,-71.446399999999997,{"$f":"IFERROR(VLOOKUP(B422,#REF!,8,FALSE),\"\")","v":""},null,"TISCO"]
[418,40518,"AREQUIPA","CAYLLOMA","TUTI",242,3831,-15.533099999999999,-71.553100000000001,{"$f":"IFERROR(VLOOKUP(B423,#REF!,8,FALSE),\"\")","v":""},null,"TUTI"]
[419,40519,"AREQUIPA","CAYLLOMA","YANQUE",1109,3468,-15.648300000000001,-71.660799999999995,{"$f":"IFERROR(VLOOKUP(B424,#REF!,8,FALSE),\"\")","v":""},null,"YANQUE"]
[420,40602,"AREQUIPA","CONDESUYOS","ANDARAY",848,3047,-15.7972,-72.860799999999998,{"$f":"IFERROR(VLOOKUP(B425,#REF!,8,FALSE),\"\")","v":""},null,"ANDARAY"]
[421,40603,"AREQUIPA","CONDESUYOS","CAYARANI",1396,3951,-14.671900000000001,-72.021900000000002,{"$f":"IFERROR(VLOOKUP(B426,#REF!,8,FALSE),\"\")","v":""},null,"CAYARANI"]
[422,40604,"AREQUIPA","CONDESUYOS","CHICHAS",392,2174,-15.547800000000001,-72.918599999999998,{"$f":"IFERROR(VLOOKUP(B427,#REF!,8,FALSE),\"\")","v":""},null,"CHICHAS"]
[423,40601,"AREQUIPA","CONDESUYOS","CHUQUIBAMBA",1255,2916,-15.839399999999999,-72.651700000000005,{"$f":"IFERROR(VLOOKUP(B428,#REF!,8,FALSE),\"\")","v":""},null,"CHUQUIBAMBA"]
[424,40605,"AREQUIPA","CONDESUYOS","IRAY",248,2469,-15.8536,-72.63,{"$f":"IFERROR(VLOOKUP(B429,#REF!,8,FALSE),\"\")","v":""},null,"IRAY"]
[425,40606,"AREQUIPA","CONDESUYOS","RIO GRANDE",527,484,-15.94,-73.131100000000004,{"$f":"IFERROR(VLOOKUP(B430,#REF!,8,FALSE),\"\")","v":""},null,"RIO GRANDE"]
[426,40607,"AREQUIPA","CONDESUYOS","SALAMANCA",1236,3226,-15.5044,-72.834400000000002,{"$f":"IFERROR(VLOOKUP(B431,#REF!,8,FALSE),\"\")","v":""},null,"SALAMANCA"]
[427,40608,"AREQUIPA","CONDESUYOS","YANAQUIHUA",1057,3006,-15.775600000000001,-72.876400000000004,{"$f":"IFERROR(VLOOKUP(B432,#REF!,8,FALSE),\"\")","v":""},null,"YANAQUIHUA"]
[428,40702,"AREQUIPA","ISLAY","COCACHACRA",1537,114,-17.091100000000001,-71.773899999999998,{"$f":"IFERROR(VLOOKUP(B433,#REF!,8,FALSE),\"\")","v":""},null,"COCACHACRA"]
[429,40703,"AREQUIPA","ISLAY","DEAN VALDIVIA",134,16,-17.145,-71.826700000000002,{"$f":"IFERROR(VLOOKUP(B434,#REF!,8,FALSE),\"\")","v":""},null,"DEAN VALDIVIA"]
[430,40704,"AREQUIPA","ISLAY","ISLAY",384,110,-17.000800000000002,-72.097499999999997,{"$f":"IFERROR(VLOOKUP(B435,#REF!,8,FALSE),\"\")","v":""},null,"ISLAY"]
[431,40705,"AREQUIPA","ISLAY","MEJIA",101,9,-17.101099999999999,-71.907499999999999,{"$f":"IFERROR(VLOOKUP(B436,#REF!,8,FALSE),\"\")","v":""},null,"MEJIA"]
[432,40701,"AREQUIPA","ISLAY","MOLLENDO",961,73,-17.029199999999999,-72.016400000000004,{"$f":"IFERROR(VLOOKUP(B437,#REF!,8,FALSE),\"\")","v":""},null,"MOLLENDO"]
[433,40706,"AREQUIPA","ISLAY","PUNTA DE BOMBON",770,138,-17.156099999999999,-71.784700000000001,{"$f":"IFERROR(VLOOKUP(B438,#REF!,8,FALSE),\"\")","v":""},null,"PUNTA DE BOMBON"]
[434,40802,"AREQUIPA","LA UNION","ALCA",193,2759,-15.1342,-72.765000000000001,{"$f":"IFERROR(VLOOKUP(B439,#REF!,8,FALSE),\"\")","v":""},null,"ALCA"]
[435,40803,"AREQUIPA","LA UNION","CHARCANA",165,3432,-15.240600000000001,-73.070599999999999,{"$f":"IFERROR(VLOOKUP(B440,#REF!,8,FALSE),\"\")","v":""},null,"CHARCANA"]
[436,40801,"AREQUIPA","LA UNION","COTAHUASI",167,2696,-15.2128,-72.889399999999995,{"$f":"IFERROR(VLOOKUP(B441,#REF!,8,FALSE),\"\")","v":""},null,"COTAHUASI"]
[437,40804,"AREQUIPA","LA UNION","HUAYNACOTAS",933,2612,-15.1747,-72.849699999999999,{"$f":"IFERROR(VLOOKUP(B442,#REF!,8,FALSE),\"\")","v":""},null,"HUAYNACOTAS"]
[438,40805,"AREQUIPA","LA UNION","PAMPAMARCA",782,2649,-15.182499999999999,-72.905299999999997,{"$f":"IFERROR(VLOOKUP(B443,#REF!,8,FALSE),\"\")","v":""},null,"PAMPAMARCA"]
[439,40806,"AREQUIPA","LA UNION","PUYCA",1501,3675,-15.059200000000001,-72.691699999999997,{"$f":"IFERROR(VLOOKUP(B444,#REF!,8,FALSE),\"\")","v":""},null,"PUYCA"]
[440,40807,"AREQUIPA","LA UNION","QUECHUALLA",138,1964,-15.273899999999999,-73.022199999999998,{"$f":"IFERROR(VLOOKUP(B445,#REF!,8,FALSE),\"\")","v":""},null,"QUECHUALLA"]
[441,40808,"AREQUIPA","LA UNION","SAYLA",67,3544,-15.32,-73.221900000000005,{"$f":"IFERROR(VLOOKUP(B446,#REF!,8,FALSE),\"\")","v":""},null,"SAYLA"]
[442,40809,"AREQUIPA","LA UNION","TAURIA",315,2850,-15.354200000000001,-73.232500000000002,{"$f":"IFERROR(VLOOKUP(B447,#REF!,8,FALSE),\"\")","v":""},null,"TAURIA"]
[443,40810,"AREQUIPA","LA UNION","TOMEPAMPA",94,2644,-15.1731,-72.830299999999994,{"$f":"IFERROR(VLOOKUP(B448,#REF!,8,FALSE),\"\")","v":""},null,"TOMEPAMPA"]
[444,40811,"AREQUIPA","LA UNION","TORO",391,2987,-15.2644,-72.928299999999993,{"$f":"IFERROR(VLOOKUP(B449,#REF!,8,FALSE),\"\")","v":""},null,"TORO"]
[445,50201,"AYACUCHO","CANGALLO","CANGALLO",187,2574,-13.629200000000001,-74.143900000000002,{"$f":"IFERROR(VLOOKUP(B450,#REF!,8,FALSE),\"\")","v":""},null,"CANGALLO"]
[446,50202,"AYACUCHO","CANGALLO","CHUSCHI",418,3157,-13.585000000000001,-74.351699999999994,{"$f":"IFERROR(VLOOKUP(B451,#REF!,8,FALSE),\"\")","v":""},null,"CHUSCHI"]
[447,50203,"AYACUCHO","CANGALLO","LOS MOROCHUCOS",253,3346,-13.557499999999999,-74.194999999999993,{"$f":"IFERROR(VLOOKUP(B452,#REF!,8,FALSE),\"\")","v":""},null,"LOS MOROCHUCOS"]
[448,50204,"AYACUCHO","CANGALLO","MARIA PARADO DE BELLIDO",129,3245,-13.604699999999999,-74.236400000000003,{"$f":"IFERROR(VLOOKUP(B453,#REF!,8,FALSE),\"\")","v":""},null,"MARIA PARADO DE BELLIDO"]
[449,50205,"AYACUCHO","CANGALLO","PARAS",789,3354,-13.5525,-74.627799999999993,{"$f":"IFERROR(VLOOKUP(B454,#REF!,8,FALSE),\"\")","v":""},null,"PARAS"]
[450,50206,"AYACUCHO","CANGALLO","TOTOS",113,3333,-13.567500000000001,-74.522800000000004,{"$f":"IFERROR(VLOOKUP(B455,#REF!,8,FALSE),\"\")","v":""},null,"TOTOS"]
[{"$f":"+A455+1","v":451},50102,"AYACUCHO","HUAMANGA","ACOCRO",437,3251,-13.2186,-74.041899999999998,{"$f":"IFERROR(VLOOKUP(B456,#REF!,8,FALSE),\"\")","v":""},null,"ACOCRO"]
[452,50103,"AYACUCHO","HUAMANGA","ACOS VINCHOS",157,2874,-13.113099999999999,-74.099999999999994,{"$f":"IFERROR(VLOOKUP(B457,#REF!,8,FALSE),\"\")","v":""},null,"ACOS VINCHOS"]
[453,50116,"AYACUCHO","HUAMANGA","ANDRES AVELINO CACERES DORREGARAY",9,2775,-13.162800000000001,-74.213899999999995,{"$f":"IFERROR(VLOOKUP(B458,#REF!,8,FALSE),\"\")","v":""},null,"ANDRES AVELINO CACERES DORREGARAY"]
[454,50101,"AYACUCHO","HUAMANGA","AYACUCHO",83,2797,-13.160299999999999,-74.225300000000004,{"$f":"IFERROR(VLOOKUP(B459,#REF!,8,FALSE),\"\")","v":""},null,"AYACUCHO"]
[455,50104,"AYACUCHO","HUAMANGA","CARMEN ALTO",18,2921,-13.179399999999999,-74.220600000000005,{"$f":"IFERROR(VLOOKUP(B460,#REF!,8,FALSE),\"\")","v":""},null,"CARMEN ALTO"]
[456,50105,"AYACUCHO","HUAMANGA","CHIARA",462,3540,-13.2728,-74.205799999999996,{"$f":"IFERROR(VLOOKUP(B461,#REF!,8,FALSE),\"\")","v":""},null,"CHIARA"]
[457,50115,"AYACUCHO","HUAMANGA","JESUS NAZARENO",16,2817,-13.154199999999999,-74.212500000000006,{"$f":"IFERROR(VLOOKUP(B462,#REF!,8,FALSE),\"\")","v":""},null,"JESUS NAZARENO"]
[458,50106,"AYACUCHO","HUAMANGA","OCROS",305,3153,-13.390599999999999,-73.915599999999998,{"$f":"IFERROR(VLOOKUP(B463,#REF!,8,FALSE),\"\")","v":""},null,"OCROS"]
[459,50107,"AYACUCHO","HUAMANGA","PACAYCASA",54,2571,-13.057499999999999,-74.215800000000002,{"$f":"IFERROR(VLOOKUP(B464,#REF!,8,FALSE),\"\")","v":""},null,"PACAYCASA"]
[460,50108,"AYACUCHO","HUAMANGA","QUINUA",117,3301,-13.049200000000001,-74.139200000000002,{"$f":"IFERROR(VLOOKUP(B465,#REF!,8,FALSE),\"\")","v":""},null,"QUINUA"]
[461,50109,"AYACUCHO","HUAMANGA","SAN JOSE DE TICLLAS",82,3282,-13.132199999999999,-74.333100000000002,{"$f":"IFERROR(VLOOKUP(B466,#REF!,8,FALSE),\"\")","v":""},null,"SAN JOSE DE TICLLAS"]
[462,50110,"AYACUCHO","HUAMANGA","SAN JUAN BAUTISTA",15,2786,-13.166700000000001,-74.223600000000005,{"$f":"IFERROR(VLOOKUP(B467,#REF!,8,FALSE),\"\")","v":""},null,"SAN JUAN BAUTISTA"]
[463,50111,"AYACUCHO","HUAMANGA","SANTIAGO DE PISCHA",91,3210,-13.085599999999999,-74.393299999999996,{"$f":"IFERROR(VLOOKUP(B468,#REF!,8,FALSE),\"\")","v":""},null,"SANTIAGO DE PISCHA"]
[464,50112,"AYACUCHO","HUAMANGA","SOCOS",172,3368,-13.215,-74.289400000000001,{"$f":"IFERROR(VLOOKUP(B469,#REF!,8,FALSE),\"\")","v":""},null,"SOCOS"]
[465,50113,"AYACUCHO","HUAMANGA","TAMBILLO",153,3111,-13.194699999999999,-74.110600000000005,{"$f":"IFERROR(VLOOKUP(B470,#REF!,8,FALSE),\"\")","v":""},null,"TAMBILLO"]
[466,50114,"AYACUCHO","HUAMANGA","VINCHOS",929,3155,-13.2417,-74.354200000000006,{"$f":"IFERROR(VLOOKUP(B471,#REF!,8,FALSE),\"\")","v":""},null,"VINCHOS"]
[467,50302,"AYACUCHO","HUANCA SANCOS","CARAPO",241,3246,-13.8375,-74.315600000000003,{"$f":"IFERROR(VLOOKUP(B472,#REF!,8,FALSE),\"\")","v":""},null,"CARAPO"]
[468,50303,"AYACUCHO","HUANCA SANCOS","SACSAMARCA",673,3463,-13.9428,-74.312799999999996,{"$f":"IFERROR(VLOOKUP(B473,#REF!,8,FALSE),\"\")","v":""},null,"SACSAMARCA"]
[469,50301,"AYACUCHO","HUANCA SANCOS","SANCOS",1290,3433,-13.919700000000001,-74.334199999999996,{"$f":"IFERROR(VLOOKUP(B474,#REF!,8,FALSE),\"\")","v":""},null,"SANCOS"]
[470,50304,"AYACUCHO","HUANCA SANCOS","SANTIAGO DE LUCANAMARCA",658,3512,-13.8439,-74.372200000000007,{"$f":"IFERROR(VLOOKUP(B475,#REF!,8,FALSE),\"\")","v":""},null,"SANTIAGO DE LUCANAMARCA"]
[471,50402,"AYACUCHO","HUANTA","AYAHUANCO",298,2699,-12.5939,-74.330799999999996,{"$f":"IFERROR(VLOOKUP(B476,#REF!,8,FALSE),\"\")","v":""},null,"AYAHUANCO"]
[472,50409,"AYACUCHO","HUANTA","CANAYRE",245,528,-12.2822,-74.023099999999999,{"$f":"IFERROR(VLOOKUP(B477,#REF!,8,FALSE),\"\")","v":""},null,"CANAYRE"]
[473,50412,"AYACUCHO","HUANTA","CHACA",124,3400,-12.7842,-74.205799999999996,{"$f":"IFERROR(VLOOKUP(B478,#REF!,8,FALSE),\"\")","v":""},null,"CHACA"]
[474,50403,"AYACUCHO","HUANTA","HUAMANGUILLA",95,3300,-13.011100000000001,-74.173100000000005,{"$f":"IFERROR(VLOOKUP(B479,#REF!,8,FALSE),\"\")","v":""},null,"HUAMANGUILLA"]
[475,50401,"AYACUCHO","HUANTA","HUANTA",193,2685,-12.939399999999999,-74.248099999999994,{"$f":"IFERROR(VLOOKUP(B480,#REF!,8,FALSE),\"\")","v":""},null,"HUANTA"]
[476,50404,"AYACUCHO","HUANTA","IGUAIN",61,3063,-12.9925,-74.2089,{"$f":"IFERROR(VLOOKUP(B481,#REF!,8,FALSE),\"\")","v":""},null,"IGUAIN"]
[477,50408,"AYACUCHO","HUANTA","LLOCHEGUA",469,540,-12.41,-73.906400000000005,{"$f":"IFERROR(VLOOKUP(B482,#REF!,8,FALSE),\"\")","v":""},null,"LLOCHEGUA"]
[478,50405,"AYACUCHO","HUANTA","LURICOCHA",130,2598,-12.899699999999999,-74.273600000000002,{"$f":"IFERROR(VLOOKUP(B483,#REF!,8,FALSE),\"\")","v":""},null,"LURICOCHA"]
[479,50411,"AYACUCHO","HUANTA","PUCACOLPA",562,3493,-12.4206,-74.489199999999997,{"$f":"IFERROR(VLOOKUP(B484,#REF!,8,FALSE),\"\")","v":""},null,"PUCACOLPA"]
[480,50406,"AYACUCHO","HUANTA","PUTIS",11,3265,-12.766400000000001,-74.253100000000003,{"$f":"IFERROR(VLOOKUP(B485,#REF!,8,FALSE),\"\")","v":""},null,"PUTIS"]
[481,50406,"AYACUCHO","HUANTA","SANTILLANA",336,3265,-12.766400000000001,-74.253100000000003,{"$f":"IFERROR(VLOOKUP(B486,#REF!,8,FALSE),\"\")","v":""},null,"SANTILLANA"]
[482,50407,"AYACUCHO","HUANTA","SIVIA",1054,561,-12.511900000000001,-73.858900000000006,{"$f":"IFERROR(VLOOKUP(B487,#REF!,8,FALSE),\"\")","v":""},null,"SIVIA"]
[483,50410,"AYACUCHO","HUANTA","UCHURACCAY",300,3898,-12.7614,-74.145600000000002,{"$f":"IFERROR(VLOOKUP(B488,#REF!,8,FALSE),\"\")","v":""},null,"UCHURACCAY"]
[484,50510,"AYACUCHO","LA MAR","ANCHIHUAY",272,769,-12.8636,-73.582499999999996,{"$f":"IFERROR(VLOOKUP(B489,#REF!,8,FALSE),\"\")","v":""},null,"ANCHIHUAY"]
[485,50502,"AYACUCHO","LA MAR","ANCO",803,3213,-13.0603,-73.706900000000005,{"$f":"IFERROR(VLOOKUP(B490,#REF!,8,FALSE),\"\")","v":""},null,"ANCO"]
[486,50503,"AYACUCHO","LA MAR","AYNA",291,627,-12.6242,-73.789400000000001,{"$f":"IFERROR(VLOOKUP(B491,#REF!,8,FALSE),\"\")","v":""},null,"AYNA"]
[487,50504,"AYACUCHO","LA MAR","CHILCAS",157,3192,-13.171099999999999,-73.906400000000005,{"$f":"IFERROR(VLOOKUP(B492,#REF!,8,FALSE),\"\")","v":""},null,"CHILCAS"]
[488,50505,"AYACUCHO","LA MAR","CHUNGUI",1093,3506,-13.222200000000001,-73.621700000000004,{"$f":"IFERROR(VLOOKUP(B493,#REF!,8,FALSE),\"\")","v":""},null,"CHUNGUI"]
[489,50506,"AYACUCHO","LA MAR","LUIS CARRANZA",136,2962,-13.228899999999999,-73.894400000000005,{"$f":"IFERROR(VLOOKUP(B494,#REF!,8,FALSE),\"\")","v":""},null,"LUIS CARRANZA"]
[490,50514,"AYACUCHO","LA MAR","NINABAMBA",null,3800,-12.940899999999999,-73.873599999999996,{"$f":"IFERROR(VLOOKUP(B495,#REF!,8,FALSE),\"\")","v":""},null,"NINABAMBA"]
[491,50511,"AYACUCHO","LA MAR","ORONCCOY",null,3719,-13.380800000000001,-73.436099999999996,{"$f":"IFERROR(VLOOKUP(B496,#REF!,8,FALSE),\"\")","v":""},null,"ORONCCOY"]
[492,50515,"AYACUCHO","LA MAR","PATIBAMBA",null,2437,-13.0624,-73.941900000000004,{"$f":"IFERROR(VLOOKUP(B497,#REF!,8,FALSE),\"\")","v":""},null,"PATIBAMBA"]
[493,50513,"AYACUCHO","LA MAR","RIO MAGDALENA",null,658,-12.8247,-73.592399999999998,{"$f":"IFERROR(VLOOKUP(B498,#REF!,8,FALSE),\"\")","v":""},null,"RIO MAGDALENA"]
[494,50509,"AYACUCHO","LA MAR","SAMUGARI",387,754,-12.7683,-73.655600000000007,{"$f":"IFERROR(VLOOKUP(B499,#REF!,8,FALSE),\"\")","v":""},null,"SAMUGARI"]
[495,50501,"AYACUCHO","LA MAR","SAN MIGUEL -  AYACUCHO",458,2696,-13.0128,-73.981099999999998,{"$f":"IFERROR(VLOOKUP(B500,#REF!,8,FALSE),\"\")","v":""},null,"SAN MIGUEL -  AYACUCHO"]
[496,50507,"AYACUCHO","LA MAR","SANTA ROSA",397,729,-12.687799999999999,-73.735799999999998,{"$f":"IFERROR(VLOOKUP(B501,#REF!,8,FALSE),\"\")","v":""},null,"SANTA ROSA"]
[497,50508,"AYACUCHO","LA MAR","TAMBO",314,3237,-12.9481,-74.020799999999994,{"$f":"IFERROR(VLOOKUP(B502,#REF!,8,FALSE),\"\")","v":""},null,"TAMBO"]
[498,50512,"AYACUCHO","LA MAR","UNION PROGRESO",null,681,-12.932399999999999,-73.532700000000006,{"$f":"IFERROR(VLOOKUP(B503,#REF!,8,FALSE),\"\")","v":""},null,"UNION PROGRESO"]
[499,50602,"AYACUCHO","LUCANAS","AUCARA",904,3236,-14.2811,-73.975300000000004,{"$f":"IFERROR(VLOOKUP(B504,#REF!,8,FALSE),\"\")","v":""},null,"AUCARA"]
[500,50603,"AYACUCHO","LUCANAS","CABANA",403,3298,-14.2883,-73.967200000000005,{"$f":"IFERROR(VLOOKUP(B505,#REF!,8,FALSE),\"\")","v":""},null,"CABANA"]
[501,50604,"AYACUCHO","LUCANAS","CARMEN SALCEDO",474,3478,-14.3878,-73.9619,{"$f":"IFERROR(VLOOKUP(B506,#REF!,8,FALSE),\"\")","v":""},null,"CARMEN SALCEDO"]
[502,50605,"AYACUCHO","LUCANAS","CHAVIÑA",399,3338,-14.9794,-73.837500000000006,{"$f":"IFERROR(VLOOKUP(B507,#REF!,8,FALSE),\"\")","v":""},null,"CHAVIÑA"]
[503,50606,"AYACUCHO","LUCANAS","CHIPAO",1167,3440,-14.3658,-73.876099999999994,{"$f":"IFERROR(VLOOKUP(B508,#REF!,8,FALSE),\"\")","v":""},null,"CHIPAO"]
[504,50607,"AYACUCHO","LUCANAS","HUAC-HUAS",309,3189,-14.1317,-74.9422,{"$f":"IFERROR(VLOOKUP(B509,#REF!,8,FALSE),\"\")","v":""},null,"HUAC-HUAS"]
[505,50608,"AYACUCHO","LUCANAS","LARAMATE",786,3078,-14.286099999999999,-74.842500000000001,{"$f":"IFERROR(VLOOKUP(B510,#REF!,8,FALSE),\"\")","v":""},null,"LARAMATE"]
[506,50609,"AYACUCHO","LUCANAS","LEONCIO PRADO",1054,2696,-14.728899999999999,-74.670299999999997,{"$f":"IFERROR(VLOOKUP(B511,#REF!,8,FALSE),\"\")","v":""},null,"LEONCIO PRADO"]
[507,50610,"AYACUCHO","LUCANAS","LLAUTA",482,2666,-14.243600000000001,-74.920299999999997,{"$f":"IFERROR(VLOOKUP(B512,#REF!,8,FALSE),\"\")","v":""},null,"LLAUTA"]
[508,50611,"AYACUCHO","LUCANAS","LUCANAS",1206,3385,-14.6225,-74.233099999999993,{"$f":"IFERROR(VLOOKUP(B513,#REF!,8,FALSE),\"\")","v":""},null,"LUCANAS"]
[509,50612,"AYACUCHO","LUCANAS","OCAÑA",848,2650,-14.398899999999999,-74.822800000000001,{"$f":"IFERROR(VLOOKUP(B514,#REF!,8,FALSE),\"\")","v":""},null,"OCAÑA"]
[510,50613,"AYACUCHO","LUCANAS","OTOCA",720,1883,-14.49,-74.686700000000002,{"$f":"IFERROR(VLOOKUP(B515,#REF!,8,FALSE),\"\")","v":""},null,"OTOCA"]
[511,50601,"AYACUCHO","LUCANAS","PUQUIO",866,3234,-14.6942,-74.124399999999994,{"$f":"IFERROR(VLOOKUP(B516,#REF!,8,FALSE),\"\")","v":""},null,"PUQUIO"]
[512,50614,"AYACUCHO","LUCANAS","SAISA",585,3070,-14.940300000000001,-74.417199999999994,{"$f":"IFERROR(VLOOKUP(B517,#REF!,8,FALSE),\"\")","v":""},null,"SAISA"]
[513,50615,"AYACUCHO","LUCANAS","SAN CRISTOBAL",392,3587,-14.7431,-74.222200000000001,{"$f":"IFERROR(VLOOKUP(B518,#REF!,8,FALSE),\"\")","v":""},null,"SAN CRISTOBAL"]
[514,50616,"AYACUCHO","LUCANAS","SAN JUAN",45,3290,-14.6517,-74.199200000000005,{"$f":"IFERROR(VLOOKUP(B519,#REF!,8,FALSE),\"\")","v":""},null,"SAN JUAN"]
[{"$f":"+A519+1","v":515},50617,"AYACUCHO","LUCANAS","SAN PEDRO",733,3115,-14.7669,-74.097800000000007,{"$f":"IFERROR(VLOOKUP(B520,#REF!,8,FALSE),\"\")","v":""},null,"SAN PEDRO"]
[516,50618,"AYACUCHO","LUCANAS","SAN PEDRO DE PALCO",532,2538,-14.411899999999999,-74.651399999999995,{"$f":"IFERROR(VLOOKUP(B521,#REF!,8,FALSE),\"\")","v":""},null,"SAN PEDRO DE PALCO"]
[517,50619,"AYACUCHO","LUCANAS","SANCOS",1521,2826,-15.062799999999999,-73.952200000000005,{"$f":"IFERROR(VLOOKUP(B522,#REF!,8,FALSE),\"\")","v":""},null,"SANCOS"]
[518,50620,"AYACUCHO","LUCANAS","SANTA ANA DE HUAYCAHUACHO",51,2984,-14.2264,-73.956699999999998,{"$f":"IFERROR(VLOOKUP(B523,#REF!,8,FALSE),\"\")","v":""},null,"SANTA ANA DE HUAYCAHUACHO"]
[519,50621,"AYACUCHO","LUCANAS","SANTA LUCIA",1019,2252,-14.978300000000001,-74.523899999999998,{"$f":"IFERROR(VLOOKUP(B524,#REF!,8,FALSE),\"\")","v":""},null,"SANTA LUCIA"]
[520,50702,"AYACUCHO","PARINACOCHAS","CHUMPI",366,3226,-15.0944,-73.748099999999994,{"$f":"IFERROR(VLOOKUP(B525,#REF!,8,FALSE),\"\")","v":""},null,"CHUMPI"]
[521,50701,"AYACUCHO","PARINACOCHAS","CORACORA",1399,3166,-15.0169,-73.781400000000005,{"$f":"IFERROR(VLOOKUP(B526,#REF!,8,FALSE),\"\")","v":""},null,"CORACORA"]
[522,50703,"AYACUCHO","PARINACOCHAS","CORONEL CASTAÑEDA",1108,3622,-14.8072,-73.282200000000003,{"$f":"IFERROR(VLOOKUP(B527,#REF!,8,FALSE),\"\")","v":""},null,"CORONEL CASTAÑEDA"]
[523,50704,"AYACUCHO","PARINACOCHAS","PACAPAUSA",144,2821,-14.9503,-73.367800000000003,{"$f":"IFERROR(VLOOKUP(B528,#REF!,8,FALSE),\"\")","v":""},null,"PACAPAUSA"]
[524,50705,"AYACUCHO","PARINACOCHAS","PULLO",1562,3037,-15.21,-73.826700000000002,{"$f":"IFERROR(VLOOKUP(B529,#REF!,8,FALSE),\"\")","v":""},null,"PULLO"]
[525,50706,"AYACUCHO","PARINACOCHAS","PUYUSCA",701,3307,-15.2469,-73.569400000000002,{"$f":"IFERROR(VLOOKUP(B530,#REF!,8,FALSE),\"\")","v":""},null,"PUYUSCA"]
[526,50707,"AYACUCHO","PARINACOCHAS","SAN FRANCISCO DE RAVACAYCO",100,2833,-14.9969,-73.351100000000002,{"$f":"IFERROR(VLOOKUP(B531,#REF!,8,FALSE),\"\")","v":""},null,"SAN FRANCISCO DE RAVACAYCO"]
[527,50708,"AYACUCHO","PARINACOCHAS","UPAHUACHO",587,3341,-14.9072,-73.397499999999994,{"$f":"IFERROR(VLOOKUP(B532,#REF!,8,FALSE),\"\")","v":""},null,"UPAHUACHO"]
[528,50802,"AYACUCHO","PAUCAR DEL SARA SARA","COLTA",277,3267,-15.162800000000001,-73.293899999999994,{"$f":"IFERROR(VLOOKUP(B533,#REF!,8,FALSE),\"\")","v":""},null,"COLTA"]
[529,50803,"AYACUCHO","PAUCAR DEL SARA SARA","CORCULLA",97,3503,-15.2628,-73.200299999999999,{"$f":"IFERROR(VLOOKUP(B534,#REF!,8,FALSE),\"\")","v":""},null,"CORCULLA"]
[530,50804,"AYACUCHO","PAUCAR DEL SARA SARA","LAMPA",289,2809,-15.185,-73.349199999999996,{"$f":"IFERROR(VLOOKUP(B535,#REF!,8,FALSE),\"\")","v":""},null,"LAMPA"]
[531,50805,"AYACUCHO","PAUCAR DEL SARA SARA","MARCABAMBA",123,2615,-15.149699999999999,-73.341700000000003,{"$f":"IFERROR(VLOOKUP(B536,#REF!,8,FALSE),\"\")","v":""},null,"MARCABAMBA"]
[532,50806,"AYACUCHO","PAUCAR DEL SARA SARA","OYOLO",820,3410,-15.18,-73.185299999999998,{"$f":"IFERROR(VLOOKUP(B537,#REF!,8,FALSE),\"\")","v":""},null,"OYOLO"]
[533,50807,"AYACUCHO","PAUCAR DEL SARA SARA","PARARCA",58,3047,-15.217499999999999,-73.464699999999993,{"$f":"IFERROR(VLOOKUP(B538,#REF!,8,FALSE),\"\")","v":""},null,"PARARCA"]
[534,50801,"AYACUCHO","PAUCAR DEL SARA SARA","PAUSA",243,2536,-15.278600000000001,-73.344200000000001,{"$f":"IFERROR(VLOOKUP(B539,#REF!,8,FALSE),\"\")","v":""},null,"PAUSA"]
[535,50808,"AYACUCHO","PAUCAR DEL SARA SARA","SAN JAVIER DE ALPABAMBA",93,2628,-15.056699999999999,-73.322199999999995,{"$f":"IFERROR(VLOOKUP(B540,#REF!,8,FALSE),\"\")","v":""},null,"SAN JAVIER DE ALPABAMBA"]
[536,50809,"AYACUCHO","PAUCAR DEL SARA SARA","SAN JOSE DE USHUA",17,3034,-15.225,-73.226699999999994,{"$f":"IFERROR(VLOOKUP(B541,#REF!,8,FALSE),\"\")","v":""},null,"SAN JOSE DE USHUA"]
[537,50810,"AYACUCHO","PAUCAR DEL SARA SARA","SARA SARA",80,3305,-15.2453,-73.453100000000006,{"$f":"IFERROR(VLOOKUP(B542,#REF!,8,FALSE),\"\")","v":""},null,"SARA SARA"]
[538,50902,"AYACUCHO","SUCRE","BELEN",41,3223,-13.8089,-73.757499999999993,{"$f":"IFERROR(VLOOKUP(B543,#REF!,8,FALSE),\"\")","v":""},null,"BELEN"]
[539,50903,"AYACUCHO","SUCRE","CHALCOS",58,3677,-13.848100000000001,-73.754199999999997,{"$f":"IFERROR(VLOOKUP(B544,#REF!,8,FALSE),\"\")","v":""},null,"CHALCOS"]
[540,50904,"AYACUCHO","SUCRE","CHILCAYOC",33,3404,-13.883100000000001,-73.727199999999996,{"$f":"IFERROR(VLOOKUP(B545,#REF!,8,FALSE),\"\")","v":""},null,"CHILCAYOC"]
[541,50905,"AYACUCHO","SUCRE","HUACAÑA",133,3186,-14.1722,-73.886399999999995,{"$f":"IFERROR(VLOOKUP(B546,#REF!,8,FALSE),\"\")","v":""},null,"HUACAÑA"]
[542,50906,"AYACUCHO","SUCRE","MORCOLLA",289,3504,-14.108599999999999,-73.871899999999997,{"$f":"IFERROR(VLOOKUP(B547,#REF!,8,FALSE),\"\")","v":""},null,"MORCOLLA"]
[543,50907,"AYACUCHO","SUCRE","PAICO",80,3111,-14.0383,-73.642200000000003,{"$f":"IFERROR(VLOOKUP(B548,#REF!,8,FALSE),\"\")","v":""},null,"PAICO"]
[544,50901,"AYACUCHO","SUCRE","QUEROBAMBA",276,3516,-14.011699999999999,-73.8386,{"$f":"IFERROR(VLOOKUP(B549,#REF!,8,FALSE),\"\")","v":""},null,"QUEROBAMBA"]
[545,50908,"AYACUCHO","SUCRE","SAN PEDRO DE LARCAY",310,3395,-14.1686,-73.572800000000001,{"$f":"IFERROR(VLOOKUP(B550,#REF!,8,FALSE),\"\")","v":""},null,"SAN PEDRO DE LARCAY"]
[546,50909,"AYACUCHO","SUCRE","SAN SALVADOR DE QUIJE",145,3222,-13.968299999999999,-73.734700000000004,{"$f":"IFERROR(VLOOKUP(B551,#REF!,8,FALSE),\"\")","v":""},null,"SAN SALVADOR DE QUIJE"]
[547,50910,"AYACUCHO","SUCRE","SANTIAGO DE PAUCARAY",63,3251,-14.0444,-73.637500000000003,{"$f":"IFERROR(VLOOKUP(B552,#REF!,8,FALSE),\"\")","v":""},null,"SANTIAGO DE PAUCARAY"]
[548,50911,"AYACUCHO","SUCRE","SORAS",358,3432,-14.1144,-73.604399999999998,{"$f":"IFERROR(VLOOKUP(B553,#REF!,8,FALSE),\"\")","v":""},null,"SORAS"]
[549,51002,"AYACUCHO","VICTOR FAJARDO","ALCAMENCA",125,3173,-13.6572,-74.147199999999998,{"$f":"IFERROR(VLOOKUP(B554,#REF!,8,FALSE),\"\")","v":""},null,"ALCAMENCA"]
[550,51003,"AYACUCHO","VICTOR FAJARDO","APONGO",172,3078,-14.013299999999999,-73.932199999999995,{"$f":"IFERROR(VLOOKUP(B555,#REF!,8,FALSE),\"\")","v":""},null,"APONGO"]
[551,51004,"AYACUCHO","VICTOR FAJARDO","ASQUIPATA",71,3332,-14.0547,-73.909400000000005,{"$f":"IFERROR(VLOOKUP(B556,#REF!,8,FALSE),\"\")","v":""},null,"ASQUIPATA"]
[552,51005,"AYACUCHO","VICTOR FAJARDO","CANARIA",264,3043,-13.9231,-73.904700000000005,{"$f":"IFERROR(VLOOKUP(B557,#REF!,8,FALSE),\"\")","v":""},null,"CANARIA"]
[553,51006,"AYACUCHO","VICTOR FAJARDO","CAYARA",69,3207,-13.795299999999999,-73.988600000000005,{"$f":"IFERROR(VLOOKUP(B558,#REF!,8,FALSE),\"\")","v":""},null,"CAYARA"]
[554,51007,"AYACUCHO","VICTOR FAJARDO","COLCA",70,3003,-13.7125,-74.033900000000003,{"$f":"IFERROR(VLOOKUP(B559,#REF!,8,FALSE),\"\")","v":""},null,"COLCA"]
[555,51008,"AYACUCHO","VICTOR FAJARDO","HUAMANQUIQUIA",67,3390,-13.729200000000001,-74.272199999999998,{"$f":"IFERROR(VLOOKUP(B560,#REF!,8,FALSE),\"\")","v":""},null,"HUAMANQUIQUIA"]
[556,51001,"AYACUCHO","VICTOR FAJARDO","HUANCAPI",223,3105,-13.7522,-74.066699999999997,{"$f":"IFERROR(VLOOKUP(B561,#REF!,8,FALSE),\"\")","v":""},null,"HUANCAPI"]
[557,51009,"AYACUCHO","VICTOR FAJARDO","HUANCARAYLLA",165,3246,-13.7189,-74.102500000000006,{"$f":"IFERROR(VLOOKUP(B562,#REF!,8,FALSE),\"\")","v":""},null,"HUANCARAYLLA"]
[558,51010,"AYACUCHO","VICTOR FAJARDO","HUAYA",162,3423,-13.85,-73.950800000000001,{"$f":"IFERROR(VLOOKUP(B563,#REF!,8,FALSE),\"\")","v":""},null,"HUAYA"]
[559,51011,"AYACUCHO","VICTOR FAJARDO","SARHUA",373,3184,-13.672800000000001,-74.320300000000003,{"$f":"IFERROR(VLOOKUP(B564,#REF!,8,FALSE),\"\")","v":""},null,"SARHUA"]
[560,51012,"AYACUCHO","VICTOR FAJARDO","VILCANCHOS",499,3011,-13.6114,-74.532499999999999,{"$f":"IFERROR(VLOOKUP(B565,#REF!,8,FALSE),\"\")","v":""},null,"VILCANCHOS"]
[561,51102,"AYACUCHO","VILCAS HUAMAN","ACCOMARCA",82,3387,-13.800599999999999,-73.904200000000003,{"$f":"IFERROR(VLOOKUP(B566,#REF!,8,FALSE),\"\")","v":""},null,"ACCOMARCA"]
[562,51103,"AYACUCHO","VILCAS HUAMAN","CARHUANCA",57,2980,-13.7425,-73.787199999999999,{"$f":"IFERROR(VLOOKUP(B567,#REF!,8,FALSE),\"\")","v":""},null,"CARHUANCA"]
[563,51104,"AYACUCHO","VILCAS HUAMAN","CONCEPCION",215,3061,-13.532500000000001,-73.875299999999996,{"$f":"IFERROR(VLOOKUP(B568,#REF!,8,FALSE),\"\")","v":""},null,"CONCEPCION"]
[564,51105,"AYACUCHO","VILCAS HUAMAN","HUAMBALPA",151,3294,-13.750299999999999,-73.931700000000006,{"$f":"IFERROR(VLOOKUP(B569,#REF!,8,FALSE),\"\")","v":""},null,"HUAMBALPA"]
[565,51106,"AYACUCHO","VILCAS HUAMAN","INDEPENDENCIA ayacucho",85,3606,-13.8528,-73.877200000000002,{"$f":"IFERROR(VLOOKUP(B570,#REF!,8,FALSE),\"\")","v":""},null,"INDEPENDENCIA ayacucho"]
[566,51107,"AYACUCHO","VILCAS HUAMAN","SAURAMA",95,3574,-13.695600000000001,-73.759399999999999,{"$f":"IFERROR(VLOOKUP(B571,#REF!,8,FALSE),\"\")","v":""},null,"SAURAMA"]
[567,51101,"AYACUCHO","VILCAS HUAMAN","VILCAS HUAMAN",217,3494,-13.6525,-73.953900000000004,{"$f":"IFERROR(VLOOKUP(B572,#REF!,8,FALSE),\"\")","v":""},null,"VILCAS HUAMAN"]
[568,51108,"AYACUCHO","VILCAS HUAMAN","VISCHONGO",269,3150,-13.5892,-73.9953,{"$f":"IFERROR(VLOOKUP(B573,#REF!,8,FALSE),\"\")","v":""},null,"VISCHONGO"]
[569,60202,"CAJAMARCA","CAJABAMBA","CACHACHI",821,3224,-7.4489000000000001,-78.268900000000002,{"$f":"IFERROR(VLOOKUP(B574,#REF!,8,FALSE),\"\")","v":""},null,"CACHACHI"]
[570,60201,"CAJAMARCA","CAJABAMBA","CAJABAMBA",192,2687,-7.6231,-78.046099999999996,{"$f":"IFERROR(VLOOKUP(B575,#REF!,8,FALSE),\"\")","v":""},null,"CAJABAMBA"]
[571,60203,"CAJAMARCA","CAJABAMBA","CONDEBAMBA",205,2829,-7.5735999999999999,-78.069699999999997,{"$f":"IFERROR(VLOOKUP(B576,#REF!,8,FALSE),\"\")","v":""},null,"CONDEBAMBA"]
[572,60204,"CAJAMARCA","CAJABAMBA","SITACOCHA",590,3209,-7.5194000000000001,-77.969399999999993,{"$f":"IFERROR(VLOOKUP(B577,#REF!,8,FALSE),\"\")","v":""},null,"SITACOCHA"]
[573,60102,"CAJAMARCA","CAJAMARCA","ASUNCION",210,2254,-7.3247,-78.518600000000006,{"$f":"IFERROR(VLOOKUP(B578,#REF!,8,FALSE),\"\")","v":""},null,"ASUNCION"]
[574,60101,"CAJAMARCA","CAJAMARCA","CAJAMARCA",383,2731,-7.1547000000000001,-78.510800000000003,{"$f":"IFERROR(VLOOKUP(B579,#REF!,8,FALSE),\"\")","v":""},null,"CAJAMARCA"]
[575,60103,"CAJAMARCA","CAJAMARCA","CHETILLA",74,2802,-7.1468999999999996,-78.673299999999998,{"$f":"IFERROR(VLOOKUP(B580,#REF!,8,FALSE),\"\")","v":""},null,"CHETILLA"]
[576,60104,"CAJAMARCA","CAJAMARCA","COSPAN",559,2471,-7.4272,-78.542199999999994,{"$f":"IFERROR(VLOOKUP(B581,#REF!,8,FALSE),\"\")","v":""},null,"COSPAN"]
[577,60105,"CAJAMARCA","CAJAMARCA","ENCAÑADA",635,3087,-7.0869,-78.344399999999993,{"$f":"IFERROR(VLOOKUP(B582,#REF!,8,FALSE),\"\")","v":""},null,"ENCAÑADA"]
[578,60106,"CAJAMARCA","CAJAMARCA","JESUS",268,2568,-7.2485999999999997,-78.379199999999997,{"$f":"IFERROR(VLOOKUP(B583,#REF!,8,FALSE),\"\")","v":""},null,"JESUS"]
[{"$f":"+A583+1","v":579},60107,"CAJAMARCA","CAJAMARCA","LLACANORA",49,2621,-7.1936,-78.426699999999997,{"$f":"IFERROR(VLOOKUP(B584,#REF!,8,FALSE),\"\")","v":""},null,"LLACANORA"]
[580,60108,"CAJAMARCA","CAJAMARCA","LOS BAÑOS DEL INCA",276,2685,-7.1635999999999997,-78.464399999999998,{"$f":"IFERROR(VLOOKUP(B585,#REF!,8,FALSE),\"\")","v":""},null,"LOS BAÑOS DEL INCA"]
[581,60109,"CAJAMARCA","CAJAMARCA","MAGDALENA",215,1298,-7.2507999999999999,-78.659700000000001,{"$f":"IFERROR(VLOOKUP(B586,#REF!,8,FALSE),\"\")","v":""},null,"MAGDALENA"]
[582,60110,"CAJAMARCA","CAJAMARCA","MATARA",60,2834,-7.2546999999999997,-78.259699999999995,{"$f":"IFERROR(VLOOKUP(B587,#REF!,8,FALSE),\"\")","v":""},null,"MATARA"]
[583,60111,"CAJAMARCA","CAJAMARCA","NAMORA",181,2765,-7.2027999999999999,-78.324700000000007,{"$f":"IFERROR(VLOOKUP(B588,#REF!,8,FALSE),\"\")","v":""},null,"NAMORA"]
[584,60112,"CAJAMARCA","CAJAMARCA","SAN JUAN",70,2336,-7.2916999999999996,-78.497500000000002,{"$f":"IFERROR(VLOOKUP(B589,#REF!,8,FALSE),\"\")","v":""},null,"SAN JUAN"]
[585,60301,"CAJAMARCA","CELENDIN","CELENDIN",409,2629,-6.8669000000000002,-78.143100000000004,{"$f":"IFERROR(VLOOKUP(B590,#REF!,8,FALSE),\"\")","v":""},null,"CELENDIN"]
[586,60302,"CAJAMARCA","CELENDIN","CHUMUCH",196,2202,-6.6028000000000002,-78.200299999999999,{"$f":"IFERROR(VLOOKUP(B591,#REF!,8,FALSE),\"\")","v":""},null,"CHUMUCH"]
[587,60303,"CAJAMARCA","CELENDIN","CORTEGANA",233,2352,-6.5130999999999997,-78.328900000000004,{"$f":"IFERROR(VLOOKUP(B592,#REF!,8,FALSE),\"\")","v":""},null,"CORTEGANA"]
[588,60304,"CAJAMARCA","CELENDIN","HUASMIN",438,2543,-6.8375000000000004,-78.244699999999995,{"$f":"IFERROR(VLOOKUP(B593,#REF!,8,FALSE),\"\")","v":""},null,"HUASMIN"]
[589,60305,"CAJAMARCA","CELENDIN","JORGE CHAVEZ",53,2646,-6.9410999999999996,-78.091700000000003,{"$f":"IFERROR(VLOOKUP(B594,#REF!,8,FALSE),\"\")","v":""},null,"JORGE CHAVEZ"]
[590,60306,"CAJAMARCA","CELENDIN","JOSE GALVEZ",58,2618,-6.9256000000000002,-78.132800000000003,{"$f":"IFERROR(VLOOKUP(B595,#REF!,8,FALSE),\"\")","v":""},null,"JOSE GALVEZ"]
[591,60312,"CAJAMARCA","CELENDIN","LA LIBERTAD DE PALLAN",184,2952,-6.7239000000000004,-78.282499999999999,{"$f":"IFERROR(VLOOKUP(B596,#REF!,8,FALSE),\"\")","v":""},null,"LA LIBERTAD DE PALLAN"]
[592,60307,"CAJAMARCA","CELENDIN","MIGUEL IGLESIAS",236,2813,-6.6502999999999997,-78.232500000000002,{"$f":"IFERROR(VLOOKUP(B597,#REF!,8,FALSE),\"\")","v":""},null,"MIGUEL IGLESIAS"]
[593,60308,"CAJAMARCA","CELENDIN","OXAMARCA",293,2836,-7.0422000000000002,-78.068299999999994,{"$f":"IFERROR(VLOOKUP(B598,#REF!,8,FALSE),\"\")","v":""},null,"OXAMARCA"]
[594,60309,"CAJAMARCA","CELENDIN","SOROCHUCO",170,2663,-6.9119000000000002,-78.255300000000005,{"$f":"IFERROR(VLOOKUP(B599,#REF!,8,FALSE),\"\")","v":""},null,"SOROCHUCO"]
[595,60310,"CAJAMARCA","CELENDIN","SUCRE",271,2632,-6.9428000000000001,-78.135300000000001,{"$f":"IFERROR(VLOOKUP(B600,#REF!,8,FALSE),\"\")","v":""},null,"SUCRE"]
[596,60311,"CAJAMARCA","CELENDIN","UTCO",101,2225,-6.8963999999999999,-78.063299999999998,{"$f":"IFERROR(VLOOKUP(B601,#REF!,8,FALSE),\"\")","v":""},null,"UTCO"]
[597,60402,"CAJAMARCA","CHOTA","ANGUIA",123,2620,-6.3418999999999999,-78.6053,{"$f":"IFERROR(VLOOKUP(B602,#REF!,8,FALSE),\"\")","v":""},null,"ANGUIA"]
[598,60403,"CAJAMARCA","CHOTA","CHADIN",67,2429,-6.4714,-78.419399999999996,{"$f":"IFERROR(VLOOKUP(B603,#REF!,8,FALSE),\"\")","v":""},null,"CHADIN"]
[599,60419,"CAJAMARCA","CHOTA","CHALAMARCA",180,2667,-6.5030999999999999,-78.479699999999994,{"$f":"IFERROR(VLOOKUP(B604,#REF!,8,FALSE),\"\")","v":""},null,"CHALAMARCA"]
[600,60404,"CAJAMARCA","CHOTA","CHIGUIRIP",51,2652,-6.4283000000000001,-78.721400000000003,{"$f":"IFERROR(VLOOKUP(B605,#REF!,8,FALSE),\"\")","v":""},null,"CHIGUIRIP"]
[601,60405,"CAJAMARCA","CHOTA","CHIMBAN",199,1668,-6.2516999999999996,-78.478899999999996,{"$f":"IFERROR(VLOOKUP(B606,#REF!,8,FALSE),\"\")","v":""},null,"CHIMBAN"]
[602,60406,"CAJAMARCA","CHOTA","CHOROPAMPA",172,2215,-6.3711000000000002,-78.411900000000003,{"$f":"IFERROR(VLOOKUP(B607,#REF!,8,FALSE),\"\")","v":""},null,"CHOROPAMPA"]
[603,60401,"CAJAMARCA","CHOTA","CHOTA",262,2430,-6.5597000000000003,-78.646900000000002,{"$f":"IFERROR(VLOOKUP(B608,#REF!,8,FALSE),\"\")","v":""},null,"CHOTA"]
[604,60407,"CAJAMARCA","CHOTA","COCHABAMBA",130,1688,-6.4739000000000004,-78.885800000000003,{"$f":"IFERROR(VLOOKUP(B609,#REF!,8,FALSE),\"\")","v":""},null,"COCHABAMBA"]
[605,60408,"CAJAMARCA","CHOTA","CONCHAN",180,2321,-6.4447000000000001,-78.655799999999999,{"$f":"IFERROR(VLOOKUP(B610,#REF!,8,FALSE),\"\")","v":""},null,"CONCHAN"]
[606,60409,"CAJAMARCA","CHOTA","HUAMBOS",241,2292,-6.4527999999999999,-78.961100000000002,{"$f":"IFERROR(VLOOKUP(B611,#REF!,8,FALSE),\"\")","v":""},null,"HUAMBOS"]
[607,60410,"CAJAMARCA","CHOTA","LAJAS",121,2151,-6.5606,-78.734700000000004,{"$f":"IFERROR(VLOOKUP(B612,#REF!,8,FALSE),\"\")","v":""},null,"LAJAS"]
[608,60411,"CAJAMARCA","CHOTA","LLAMA",495,2112,-6.5144000000000002,-79.1203,{"$f":"IFERROR(VLOOKUP(B613,#REF!,8,FALSE),\"\")","v":""},null,"LLAMA"]
[609,60412,"CAJAMARCA","CHOTA","MIRACOSTA",416,2983,-6.4043999999999999,-79.283600000000007,{"$f":"IFERROR(VLOOKUP(B614,#REF!,8,FALSE),\"\")","v":""},null,"MIRACOSTA"]
[610,60413,"CAJAMARCA","CHOTA","PACCHA",94,2130,-6.4974999999999996,-78.423599999999993,{"$f":"IFERROR(VLOOKUP(B615,#REF!,8,FALSE),\"\")","v":""},null,"PACCHA"]
[611,60414,"CAJAMARCA","CHOTA","PION",141,1834,-6.1778000000000004,-78.482500000000002,{"$f":"IFERROR(VLOOKUP(B616,#REF!,8,FALSE),\"\")","v":""},null,"PION"]
[612,60415,"CAJAMARCA","CHOTA","QUEROCOTO",301,2445,-6.3597000000000001,-79.034400000000005,{"$f":"IFERROR(VLOOKUP(B617,#REF!,8,FALSE),\"\")","v":""},null,"QUEROCOTO"]
[613,60416,"CAJAMARCA","CHOTA","SAN JUAN DE LICUPIS",205,3031,-6.4241999999999999,-79.242199999999997,{"$f":"IFERROR(VLOOKUP(B618,#REF!,8,FALSE),\"\")","v":""},null,"SAN JUAN DE LICUPIS"]
[614,60417,"CAJAMARCA","CHOTA","TACABAMBA",196,2077,-6.3928000000000003,-78.611400000000003,{"$f":"IFERROR(VLOOKUP(B619,#REF!,8,FALSE),\"\")","v":""},null,"TACABAMBA"]
[615,60418,"CAJAMARCA","CHOTA","TOCMOCHE",222,1313,-6.4127999999999998,-79.360799999999998,{"$f":"IFERROR(VLOOKUP(B620,#REF!,8,FALSE),\"\")","v":""},null,"TOCMOCHE"]
[616,60502,"CAJAMARCA","CONTUMAZA","CHILETE",134,883,-7.2214,-78.839699999999993,{"$f":"IFERROR(VLOOKUP(B621,#REF!,8,FALSE),\"\")","v":""},null,"CHILETE"]
[617,60501,"CAJAMARCA","CONTUMAZA","CONTUMAZA",358,2695,-7.3666999999999998,-78.805300000000003,{"$f":"IFERROR(VLOOKUP(B622,#REF!,8,FALSE),\"\")","v":""},null,"CONTUMAZA"]
[618,60503,"CAJAMARCA","CONTUMAZA","CUPISNIQUE",280,1904,-7.3489000000000004,-79.029700000000005,{"$f":"IFERROR(VLOOKUP(B623,#REF!,8,FALSE),\"\")","v":""},null,"CUPISNIQUE"]
[619,60504,"CAJAMARCA","CONTUMAZA","GUZMANGO",50,2568,-7.3838999999999997,-78.896100000000004,{"$f":"IFERROR(VLOOKUP(B624,#REF!,8,FALSE),\"\")","v":""},null,"GUZMANGO"]
[620,60505,"CAJAMARCA","CONTUMAZA","SAN BENITO",487,1386,-7.4249999999999998,-78.927499999999995,{"$f":"IFERROR(VLOOKUP(B625,#REF!,8,FALSE),\"\")","v":""},null,"SAN BENITO"]
[621,60506,"CAJAMARCA","CONTUMAZA","SANTA CRUZ DE TOLEDO",65,2426,-7.3444000000000003,-78.836699999999993,{"$f":"IFERROR(VLOOKUP(B626,#REF!,8,FALSE),\"\")","v":""},null,"SANTA CRUZ DE TOLEDO"]
[622,60507,"CAJAMARCA","CONTUMAZA","TANTARICA",150,2780,-7.3006000000000002,-78.933099999999996,{"$f":"IFERROR(VLOOKUP(B627,#REF!,8,FALSE),\"\")","v":""},null,"TANTARICA"]
[623,60508,"CAJAMARCA","CONTUMAZA","YONAN",547,453,-7.2530999999999999,-79.131100000000004,{"$f":"IFERROR(VLOOKUP(B628,#REF!,8,FALSE),\"\")","v":""},null,"YONAN"]
[624,60602,"CAJAMARCA","CUTERVO","CALLAYUC",316,1558,-6.1810999999999998,-78.910600000000002,{"$f":"IFERROR(VLOOKUP(B629,#REF!,8,FALSE),\"\")","v":""},null,"CALLAYUC"]
[625,60603,"CAJAMARCA","CUTERVO","CHOROS",277,474,-5.9,-78.693899999999999,{"$f":"IFERROR(VLOOKUP(B630,#REF!,8,FALSE),\"\")","v":""},null,"CHOROS"]
[626,60604,"CAJAMARCA","CUTERVO","CUJILLO",109,1598,-6.1069000000000004,-78.573899999999995,{"$f":"IFERROR(VLOOKUP(B631,#REF!,8,FALSE),\"\")","v":""},null,"CUJILLO"]
[627,60601,"CAJAMARCA","CUTERVO","CUTERVO",422,2665,-6.3772000000000002,-78.818100000000001,{"$f":"IFERROR(VLOOKUP(B632,#REF!,8,FALSE),\"\")","v":""},null,"CUTERVO"]
[628,60605,"CAJAMARCA","CUTERVO","LA RAMADA",30,2131,-6.2533000000000003,-78.575599999999994,{"$f":"IFERROR(VLOOKUP(B633,#REF!,8,FALSE),\"\")","v":""},null,"LA RAMADA"]
[629,60606,"CAJAMARCA","CUTERVO","PIMPINGOS",186,1757,-6.0618999999999996,-78.758600000000001,{"$f":"IFERROR(VLOOKUP(B634,#REF!,8,FALSE),\"\")","v":""},null,"PIMPINGOS"]
[630,60607,"CAJAMARCA","CUTERVO","QUEROCOTILLO",697,2003,-6.2736000000000001,-79.037800000000004,{"$f":"IFERROR(VLOOKUP(B635,#REF!,8,FALSE),\"\")","v":""},null,"QUEROCOTILLO"]
[631,60608,"CAJAMARCA","CUTERVO","SAN ANDRES DE CUTERVO",133,2090,-6.2389000000000001,-78.712800000000001,{"$f":"IFERROR(VLOOKUP(B636,#REF!,8,FALSE),\"\")","v":""},null,"SAN ANDRES DE CUTERVO"]
[632,60609,"CAJAMARCA","CUTERVO","SAN JUAN DE CUTERVO",61,1645,-6.1631,-78.598100000000002,{"$f":"IFERROR(VLOOKUP(B637,#REF!,8,FALSE),\"\")","v":""},null,"SAN JUAN DE CUTERVO"]
[633,60610,"CAJAMARCA","CUTERVO","SAN LUIS DE LUCMA",110,1916,-6.2938999999999998,-78.6036,{"$f":"IFERROR(VLOOKUP(B638,#REF!,8,FALSE),\"\")","v":""},null,"SAN LUIS DE LUCMA"]
[634,60611,"CAJAMARCA","CUTERVO","SANTA CRUZ",128,1708,-6.0949999999999998,-78.852800000000002,{"$f":"IFERROR(VLOOKUP(B639,#REF!,8,FALSE),\"\")","v":""},null,"SANTA CRUZ"]
[635,60612,"CAJAMARCA","CUTERVO","SANTO DOMINGO DE LA CAPILLA",104,1761,-6.2446999999999999,-78.8553,{"$f":"IFERROR(VLOOKUP(B640,#REF!,8,FALSE),\"\")","v":""},null,"SANTO DOMINGO DE LA CAPILLA"]
[636,60613,"CAJAMARCA","CUTERVO","SANTO TOMAS",280,2167,-6.1513999999999998,-78.681899999999999,{"$f":"IFERROR(VLOOKUP(B641,#REF!,8,FALSE),\"\")","v":""},null,"SANTO TOMAS"]
[637,60614,"CAJAMARCA","CUTERVO","SOCOTA",135,1847,-6.3152999999999997,-78.699399999999997,{"$f":"IFERROR(VLOOKUP(B642,#REF!,8,FALSE),\"\")","v":""},null,"SOCOTA"]
[638,60615,"CAJAMARCA","CUTERVO","TORIBIO CASANOVA",41,1464,-6.0042,-78.698300000000003,{"$f":"IFERROR(VLOOKUP(B643,#REF!,8,FALSE),\"\")","v":""},null,"TORIBIO CASANOVA"]
[639,60701,"CAJAMARCA","HUALGAYOC","BAMBAMARCA",451,2556,-6.6797000000000004,-78.518900000000002,{"$f":"IFERROR(VLOOKUP(B644,#REF!,8,FALSE),\"\")","v":""},null,"BAMBAMARCA"]
[640,60702,"CAJAMARCA","HUALGAYOC","CHUGUR",100,2765,-6.6707999999999998,-78.738299999999995,{"$f":"IFERROR(VLOOKUP(B645,#REF!,8,FALSE),\"\")","v":""},null,"CHUGUR"]
[641,60703,"CAJAMARCA","HUALGAYOC","HUALGAYOC",226,3530,-6.7647000000000004,-78.608099999999993,{"$f":"IFERROR(VLOOKUP(B646,#REF!,8,FALSE),\"\")","v":""},null,"HUALGAYOC"]
[642,60802,"CAJAMARCA","JAEN","BELLAVISTA",871,438,-5.6677999999999997,-78.677199999999999,{"$f":"IFERROR(VLOOKUP(B647,#REF!,8,FALSE),\"\")","v":""},null,"BELLAVISTA"]
[{"$f":"+A647+1","v":643},60803,"CAJAMARCA","JAEN","CHONTALI",429,1636,-5.6460999999999997,-79.088300000000004,{"$f":"IFERROR(VLOOKUP(B648,#REF!,8,FALSE),\"\")","v":""},null,"CHONTALI"]
[644,60804,"CAJAMARCA","JAEN","COLASAY",736,1800,-5.9786000000000001,-79.068600000000004,{"$f":"IFERROR(VLOOKUP(B649,#REF!,8,FALSE),\"\")","v":""},null,"COLASAY"]
[645,60805,"CAJAMARCA","JAEN","HUABAL",81,1380,-5.6124999999999998,-78.899699999999996,{"$f":"IFERROR(VLOOKUP(B650,#REF!,8,FALSE),\"\")","v":""},null,"HUABAL"]
[646,60801,"CAJAMARCA","JAEN","JAEN",537,728,-5.7088999999999999,-78.809200000000004,{"$f":"IFERROR(VLOOKUP(B651,#REF!,8,FALSE),\"\")","v":""},null,"JAEN"]
[647,60806,"CAJAMARCA","JAEN","LAS PIRIAS",60,1620,-5.6272000000000002,-78.852800000000002,{"$f":"IFERROR(VLOOKUP(B652,#REF!,8,FALSE),\"\")","v":""},null,"LAS PIRIAS"]
[648,60807,"CAJAMARCA","JAEN","POMAHUACA",733,1097,-5.9314,-79.229399999999998,{"$f":"IFERROR(VLOOKUP(B653,#REF!,8,FALSE),\"\")","v":""},null,"POMAHUACA"]
[649,60808,"CAJAMARCA","JAEN","PUCARA",240,909,-6.0414000000000003,-79.128299999999996,{"$f":"IFERROR(VLOOKUP(B654,#REF!,8,FALSE),\"\")","v":""},null,"PUCARA"]
[650,60809,"CAJAMARCA","JAEN","SALLIQUE",374,1701,-5.6581000000000001,-79.315299999999993,{"$f":"IFERROR(VLOOKUP(B655,#REF!,8,FALSE),\"\")","v":""},null,"SALLIQUE"]
[651,60810,"CAJAMARCA","JAEN","SAN FELIPE",255,1861,-5.7702999999999998,-79.313900000000004,{"$f":"IFERROR(VLOOKUP(B656,#REF!,8,FALSE),\"\")","v":""},null,"SAN FELIPE"]
[652,60811,"CAJAMARCA","JAEN","SAN JOSE DEL ALTO",634,1399,-5.4649999999999999,-79.017799999999994,{"$f":"IFERROR(VLOOKUP(B657,#REF!,8,FALSE),\"\")","v":""},null,"SAN JOSE DEL ALTO"]
[653,60812,"CAJAMARCA","JAEN","SANTA ROSA",283,1238,-5.4341999999999997,-78.566699999999997,{"$f":"IFERROR(VLOOKUP(B658,#REF!,8,FALSE),\"\")","v":""},null,"SANTA ROSA"]
[654,60902,"CAJAMARCA","SAN IGNACIO","CHIRINOS",352,1850,-5.3057999999999996,-78.898300000000006,{"$f":"IFERROR(VLOOKUP(B659,#REF!,8,FALSE),\"\")","v":""},null,"CHIRINOS"]
[655,60903,"CAJAMARCA","SAN IGNACIO","HUARANGO",922,776,-5.2721999999999998,-78.775800000000004,{"$f":"IFERROR(VLOOKUP(B660,#REF!,8,FALSE),\"\")","v":""},null,"HUARANGO"]
[656,60904,"CAJAMARCA","SAN IGNACIO","LA COIPA",376,1507,-5.3928000000000003,-78.906400000000005,{"$f":"IFERROR(VLOOKUP(B661,#REF!,8,FALSE),\"\")","v":""},null,"LA COIPA"]
[657,60905,"CAJAMARCA","SAN IGNACIO","NAMBALLE",664,713,-5.0042,-79.087199999999996,{"$f":"IFERROR(VLOOKUP(B662,#REF!,8,FALSE),\"\")","v":""},null,"NAMBALLE"]
[658,60901,"CAJAMARCA","SAN IGNACIO","SAN IGNACIO",382,1295,-5.1460999999999997,-79.0047,{"$f":"IFERROR(VLOOKUP(B663,#REF!,8,FALSE),\"\")","v":""},null,"SAN IGNACIO"]
[659,60906,"CAJAMARCA","SAN IGNACIO","SAN JOSE DE LOURDES",1483,1134,-5.1031000000000004,-78.914199999999994,{"$f":"IFERROR(VLOOKUP(B664,#REF!,8,FALSE),\"\")","v":""},null,"SAN JOSE DE LOURDES"]
[660,60907,"CAJAMARCA","SAN IGNACIO","TABACONAS",799,1897,-5.3160999999999996,-79.283299999999997,{"$f":"IFERROR(VLOOKUP(B665,#REF!,8,FALSE),\"\")","v":""},null,"TABACONAS"]
[661,61002,"CAJAMARCA","SAN MARCOS","CHANCAY",62,2699,-7.3880999999999997,-78.1233,{"$f":"IFERROR(VLOOKUP(B666,#REF!,8,FALSE),\"\")","v":""},null,"CHANCAY"]
[662,61003,"CAJAMARCA","SAN MARCOS","EDUARDO VILLANUEVA",63,2026,-7.4644000000000004,-78.13,{"$f":"IFERROR(VLOOKUP(B667,#REF!,8,FALSE),\"\")","v":""},null,"EDUARDO VILLANUEVA"]
[663,61004,"CAJAMARCA","SAN MARCOS","GREGORIO PITA",213,2722,-7.2736000000000001,-78.16,{"$f":"IFERROR(VLOOKUP(B668,#REF!,8,FALSE),\"\")","v":""},null,"GREGORIO PITA"]
[664,61005,"CAJAMARCA","SAN MARCOS","ICHOCAN",76,2616,-7.3689,-78.1297,{"$f":"IFERROR(VLOOKUP(B669,#REF!,8,FALSE),\"\")","v":""},null,"ICHOCAN"]
[665,61006,"CAJAMARCA","SAN MARCOS","JOSE MANUEL QUIROZ",115,2781,-7.3494000000000002,-78.047799999999995,{"$f":"IFERROR(VLOOKUP(B670,#REF!,8,FALSE),\"\")","v":""},null,"JOSE MANUEL QUIROZ"]
[666,61007,"CAJAMARCA","SAN MARCOS","JOSE SABOGAL",594,3331,-7.2511000000000001,-78.036699999999996,{"$f":"IFERROR(VLOOKUP(B671,#REF!,8,FALSE),\"\")","v":""},null,"JOSE SABOGAL"]
[667,61001,"CAJAMARCA","SAN MARCOS","PEDRO GALVEZ",239,2280,-7.3357999999999999,-78.17,{"$f":"IFERROR(VLOOKUP(B672,#REF!,8,FALSE),\"\")","v":""},null,"PEDRO GALVEZ"]
[668,61102,"CAJAMARCA","SAN MIGUEL","BOLIVAR",79,940,-6.9768999999999997,-79.178100000000001,{"$f":"IFERROR(VLOOKUP(B673,#REF!,8,FALSE),\"\")","v":""},null,"BOLIVAR"]
[669,61103,"CAJAMARCA","SAN MIGUEL","CALQUIS",339,2877,-6.9802999999999997,-78.849999999999994,{"$f":"IFERROR(VLOOKUP(B674,#REF!,8,FALSE),\"\")","v":""},null,"CALQUIS"]
[670,61104,"CAJAMARCA","SAN MIGUEL","CATILLUC",197,2870,-6.8017000000000003,-78.779200000000003,{"$f":"IFERROR(VLOOKUP(B675,#REF!,8,FALSE),\"\")","v":""},null,"CATILLUC"]
[671,61105,"CAJAMARCA","SAN MIGUEL","EL PRADO",71,2857,-7.0335999999999999,-79.010800000000003,{"$f":"IFERROR(VLOOKUP(B676,#REF!,8,FALSE),\"\")","v":""},null,"EL PRADO"]
[672,61106,"CAJAMARCA","SAN MIGUEL","LA FLORIDA",61,993,-6.8685999999999998,-79.125799999999998,{"$f":"IFERROR(VLOOKUP(B677,#REF!,8,FALSE),\"\")","v":""},null,"LA FLORIDA"]
[673,61107,"CAJAMARCA","SAN MIGUEL","LLAPA",133,2952,-6.9808000000000003,-78.807500000000005,{"$f":"IFERROR(VLOOKUP(B678,#REF!,8,FALSE),\"\")","v":""},null,"LLAPA"]
[674,61108,"CAJAMARCA","SAN MIGUEL","NANCHOC",359,402,-6.9593999999999996,-79.242500000000007,{"$f":"IFERROR(VLOOKUP(B679,#REF!,8,FALSE),\"\")","v":""},null,"NANCHOC"]
[675,61109,"CAJAMARCA","SAN MIGUEL","NIEPOS",159,2457,-6.9267000000000003,-79.13,{"$f":"IFERROR(VLOOKUP(B680,#REF!,8,FALSE),\"\")","v":""},null,"NIEPOS"]
[676,61110,"CAJAMARCA","SAN MIGUEL","SAN GREGORIO",308,1857,-7.0568999999999997,-79.095299999999995,{"$f":"IFERROR(VLOOKUP(B681,#REF!,8,FALSE),\"\")","v":""},null,"SAN GREGORIO"]
[677,61101,"CAJAMARCA","SAN MIGUEL","SAN MIGUEL - CAJAMARCA",368,2612,-7,-78.849999999999994,{"$f":"IFERROR(VLOOKUP(B682,#REF!,8,FALSE),\"\")","v":""},null,"SAN MIGUEL - CAJAMARCA"]
[678,61111,"CAJAMARCA","SAN MIGUEL","SAN SILVESTRE DE COCHAN",132,2940,-6.9775,-78.773899999999998,{"$f":"IFERROR(VLOOKUP(B683,#REF!,8,FALSE),\"\")","v":""},null,"SAN SILVESTRE DE COCHAN"]
[679,61112,"CAJAMARCA","SAN MIGUEL","TONGOD",164,2628,-6.7575000000000003,-78.825000000000003,{"$f":"IFERROR(VLOOKUP(B684,#REF!,8,FALSE),\"\")","v":""},null,"TONGOD"]
[680,61113,"CAJAMARCA","SAN MIGUEL","UNION AGUA BLANCA",172,2918,-7.0467000000000004,-79.060599999999994,{"$f":"IFERROR(VLOOKUP(B685,#REF!,8,FALSE),\"\")","v":""},null,"UNION AGUA BLANCA"]
[681,61202,"CAJAMARCA","SAN PABLO","SAN BERNARDINO",167,1375,-7.1680999999999999,-78.8292,{"$f":"IFERROR(VLOOKUP(B686,#REF!,8,FALSE),\"\")","v":""},null,"SAN BERNARDINO"]
[682,61203,"CAJAMARCA","SAN PABLO","SAN LUIS",43,1394,-7.1569000000000003,-78.868099999999998,{"$f":"IFERROR(VLOOKUP(B687,#REF!,8,FALSE),\"\")","v":""},null,"SAN LUIS"]
[683,61201,"CAJAMARCA","SAN PABLO","SAN PABLO",198,2391,-7.1185999999999998,-78.823300000000003,{"$f":"IFERROR(VLOOKUP(B688,#REF!,8,FALSE),\"\")","v":""},null,"SAN PABLO"]
[684,61204,"CAJAMARCA","SAN PABLO","TUMBADEN",264,3041,-7.0252999999999997,-78.739699999999999,{"$f":"IFERROR(VLOOKUP(B689,#REF!,8,FALSE),\"\")","v":""},null,"TUMBADEN"]
[685,61302,"CAJAMARCA","SANTA CRUZ","ANDABAMBA",8,2550,-6.6627999999999998,-78.816900000000004,{"$f":"IFERROR(VLOOKUP(B690,#REF!,8,FALSE),\"\")","v":""},null,"ANDABAMBA"]
[686,61303,"CAJAMARCA","SANTA CRUZ","CATACHE",609,1363,-6.6736000000000004,-79.032799999999995,{"$f":"IFERROR(VLOOKUP(B691,#REF!,8,FALSE),\"\")","v":""},null,"CATACHE"]
[687,61304,"CAJAMARCA","SANTA CRUZ","CHANCAYBAÑOS",120,1641,-6.5761000000000003,-78.867500000000007,{"$f":"IFERROR(VLOOKUP(B692,#REF!,8,FALSE),\"\")","v":""},null,"CHANCAYBAÑOS"]
[688,61305,"CAJAMARCA","SANTA CRUZ","LA ESPERANZA",60,1727,-6.5925000000000002,-78.895799999999994,{"$f":"IFERROR(VLOOKUP(B693,#REF!,8,FALSE),\"\")","v":""},null,"LA ESPERANZA"]
[689,61306,"CAJAMARCA","SANTA CRUZ","NINABAMBA",60,2196,-6.6497000000000002,-78.787499999999994,{"$f":"IFERROR(VLOOKUP(B694,#REF!,8,FALSE),\"\")","v":""},null,"NINABAMBA"]
[690,61307,"CAJAMARCA","SANTA CRUZ","PULAN",156,2084,-6.7389000000000001,-78.920299999999997,{"$f":"IFERROR(VLOOKUP(B695,#REF!,8,FALSE),\"\")","v":""},null,"PULAN"]
[691,61301,"CAJAMARCA","SANTA CRUZ","SANTA CRUZ",103,2036,-6.6257999999999999,-78.944199999999995,{"$f":"IFERROR(VLOOKUP(B696,#REF!,8,FALSE),\"\")","v":""},null,"SANTA CRUZ"]
[692,61308,"CAJAMARCA","SANTA CRUZ","SAUCEPAMPA",32,1931,-6.6913999999999998,-78.9161,{"$f":"IFERROR(VLOOKUP(B697,#REF!,8,FALSE),\"\")","v":""},null,"SAUCEPAMPA"]
[693,61309,"CAJAMARCA","SANTA CRUZ","SEXI",193,2478,-6.5641999999999996,-79.051400000000001,{"$f":"IFERROR(VLOOKUP(B698,#REF!,8,FALSE),\"\")","v":""},null,"SEXI"]
[694,61310,"CAJAMARCA","SANTA CRUZ","UTICYACU",43,2346,-6.6067,-78.793899999999994,{"$f":"IFERROR(VLOOKUP(B699,#REF!,8,FALSE),\"\")","v":""},null,"UTICYACU"]
[695,61311,"CAJAMARCA","SANTA CRUZ","YAUYUCAN",35,2502,-6.6772,-78.818600000000004,{"$f":"IFERROR(VLOOKUP(B700,#REF!,8,FALSE),\"\")","v":""},null,"YAUYUCAN"]
[696,70102,"CALLAO","CALLAO","BELLAVISTA",5,13,-12.0625,-77.129199999999997,{"$f":"IFERROR(VLOOKUP(B701,#REF!,8,FALSE),\"\")","v":""},null,"BELLAVISTA"]
[697,70101,"CALLAO","CALLAO","CALLAO",46,27,-12.0631,-77.146900000000002,{"$f":"IFERROR(VLOOKUP(B702,#REF!,8,FALSE),\"\")","v":""},null,"CALLAO"]
[698,70103,"CALLAO","CALLAO","CARMEN DE LA LEGUA REYNOSO",2,82,-12.039400000000001,-77.090299999999999,{"$f":"IFERROR(VLOOKUP(B703,#REF!,8,FALSE),\"\")","v":""},null,"CARMEN DE LA LEGUA REYNOSO"]
[699,70104,"CALLAO","CALLAO","LA PERLA",3,37,-12.065799999999999,-77.108099999999993,{"$f":"IFERROR(VLOOKUP(B704,#REF!,8,FALSE),\"\")","v":""},null,"LA PERLA"]
[700,70105,"CALLAO","CALLAO","LA PUNTA",18,29,-12.072800000000001,-77.163300000000007,{"$f":"IFERROR(VLOOKUP(B705,#REF!,8,FALSE),\"\")","v":""},null,"LA PUNTA"]
[701,70107,"CALLAO","CALLAO","MI PERU",3,118,-11.855,-77.125,{"$f":"IFERROR(VLOOKUP(B706,#REF!,8,FALSE),\"\")","v":""},null,"MI PERU"]
[702,70106,"CALLAO","CALLAO","VENTANILLA",70,43,-11.8772,-77.127799999999993,{"$f":"IFERROR(VLOOKUP(B707,#REF!,8,FALSE),\"\")","v":""},null,"VENTANILLA"]
[703,80201,"CUSCO","ACOMAYO","ACOMAYO",141,3235,-13.9194,-71.683599999999998,{"$f":"IFERROR(VLOOKUP(B708,#REF!,8,FALSE),\"\")","v":""},null,"ACOMAYO"]
[704,80202,"CUSCO","ACOMAYO","ACOPIA",92,3724,-14.057499999999999,-71.493300000000005,{"$f":"IFERROR(VLOOKUP(B709,#REF!,8,FALSE),\"\")","v":""},null,"ACOPIA"]
[705,80203,"CUSCO","ACOMAYO","ACOS",138,3106,-13.9511,-71.738100000000003,{"$f":"IFERROR(VLOOKUP(B710,#REF!,8,FALSE),\"\")","v":""},null,"ACOS"]
[706,80204,"CUSCO","ACOMAYO","MOSOC LLACTA",44,3820,-14.1203,-71.473100000000002,{"$f":"IFERROR(VLOOKUP(B711,#REF!,8,FALSE),\"\")","v":""},null,"MOSOC LLACTA"]
[{"$f":"+A711+1","v":707},80205,"CUSCO","ACOMAYO","POMACANCHI",276,3709,-14.0336,-71.574200000000005,{"$f":"IFERROR(VLOOKUP(B712,#REF!,8,FALSE),\"\")","v":""},null,"POMACANCHI"]
[708,80206,"CUSCO","ACOMAYO","RONDOCAN",180,3394,-13.779400000000001,-71.781899999999993,{"$f":"IFERROR(VLOOKUP(B713,#REF!,8,FALSE),\"\")","v":""},null,"RONDOCAN"]
[709,80207,"CUSCO","ACOMAYO","SANGARARA",78,3788,-13.9472,-71.603300000000004,{"$f":"IFERROR(VLOOKUP(B714,#REF!,8,FALSE),\"\")","v":""},null,"SANGARARA"]
[710,80302,"CUSCO","ANTA","ANCAHUASI",124,3479,-13.4572,-72.300799999999995,{"$f":"IFERROR(VLOOKUP(B715,#REF!,8,FALSE),\"\")","v":""},null,"ANCAHUASI"]
[711,80301,"CUSCO","ANTA","ANTA",203,3363,-13.457800000000001,-72.147499999999994,{"$f":"IFERROR(VLOOKUP(B716,#REF!,8,FALSE),\"\")","v":""},null,"ANTA"]
[712,80303,"CUSCO","ANTA","CACHIMAYO",43,3454,-13.4778,-72.068899999999999,{"$f":"IFERROR(VLOOKUP(B717,#REF!,8,FALSE),\"\")","v":""},null,"CACHIMAYO"]
[713,80304,"CUSCO","ANTA","CHINCHAYPUJIO",391,3106,-13.6297,-72.233099999999993,{"$f":"IFERROR(VLOOKUP(B718,#REF!,8,FALSE),\"\")","v":""},null,"CHINCHAYPUJIO"]
[714,80305,"CUSCO","ANTA","HUAROCONDO",229,3353,-13.415800000000001,-72.207499999999996,{"$f":"IFERROR(VLOOKUP(B719,#REF!,8,FALSE),\"\")","v":""},null,"HUAROCONDO"]
[715,80306,"CUSCO","ANTA","LIMATAMBO",513,2633,-13.479699999999999,-72.442800000000005,{"$f":"IFERROR(VLOOKUP(B720,#REF!,8,FALSE),\"\")","v":""},null,"LIMATAMBO"]
[716,80307,"CUSCO","ANTA","MOLLEPATA",284,2864,-13.5092,-72.527799999999999,{"$f":"IFERROR(VLOOKUP(B721,#REF!,8,FALSE),\"\")","v":""},null,"MOLLEPATA"]
[717,80308,"CUSCO","ANTA","PUCYURA",38,3384,-13.478899999999999,-72.111099999999993,{"$f":"IFERROR(VLOOKUP(B722,#REF!,8,FALSE),\"\")","v":""},null,"PUCYURA"]
[718,80309,"CUSCO","ANTA","ZURITE",52,3424,-13.4558,-72.255799999999994,{"$f":"IFERROR(VLOOKUP(B723,#REF!,8,FALSE),\"\")","v":""},null,"ZURITE"]
[719,80401,"CUSCO","CALCA","CALCA",311,2955,-13.321099999999999,-71.955600000000004,{"$f":"IFERROR(VLOOKUP(B724,#REF!,8,FALSE),\"\")","v":""},null,"CALCA"]
[720,80402,"CUSCO","CALCA","COYA",71,2970,-13.3864,-71.898300000000006,{"$f":"IFERROR(VLOOKUP(B725,#REF!,8,FALSE),\"\")","v":""},null,"COYA"]
[721,80403,"CUSCO","CALCA","LAMAY",94,2960,-13.3644,-71.9208,{"$f":"IFERROR(VLOOKUP(B726,#REF!,8,FALSE),\"\")","v":""},null,"LAMAY"]
[722,80404,"CUSCO","CALCA","LARES",527,3193,-13.104200000000001,-72.044700000000006,{"$f":"IFERROR(VLOOKUP(B727,#REF!,8,FALSE),\"\")","v":""},null,"LARES"]
[723,80405,"CUSCO","CALCA","PISAC",148,2986,-13.4206,-71.8506,{"$f":"IFERROR(VLOOKUP(B728,#REF!,8,FALSE),\"\")","v":""},null,"PISAC"]
[724,80406,"CUSCO","CALCA","SAN SALVADOR",128,3012,-13.491899999999999,-71.778599999999997,{"$f":"IFERROR(VLOOKUP(B729,#REF!,8,FALSE),\"\")","v":""},null,"SAN SALVADOR"]
[725,80407,"CUSCO","CALCA","TARAY",54,2991,-13.4278,-71.866900000000001,{"$f":"IFERROR(VLOOKUP(B730,#REF!,8,FALSE),\"\")","v":""},null,"TARAY"]
[726,80408,"CUSCO","CALCA","YANATILE",3080,1148,-12.681699999999999,-72.277199999999993,{"$f":"IFERROR(VLOOKUP(B731,#REF!,8,FALSE),\"\")","v":""},null,"YANATILE"]
[727,80502,"CUSCO","CANAS","CHECCA",504,3834,-14.4733,-71.3947,{"$f":"IFERROR(VLOOKUP(B732,#REF!,8,FALSE),\"\")","v":""},null,"CHECCA"]
[728,80503,"CUSCO","CANAS","KUNTURKANKI",376,3961,-14.534700000000001,-71.306899999999999,{"$f":"IFERROR(VLOOKUP(B733,#REF!,8,FALSE),\"\")","v":""},null,"KUNTURKANKI"]
[729,80504,"CUSCO","CANAS","LANGUI",187,3967,-14.4322,-71.272800000000004,{"$f":"IFERROR(VLOOKUP(B734,#REF!,8,FALSE),\"\")","v":""},null,"LANGUI"]
[730,80505,"CUSCO","CANAS","LAYO",453,3997,-14.494199999999999,-71.155600000000007,{"$f":"IFERROR(VLOOKUP(B735,#REF!,8,FALSE),\"\")","v":""},null,"LAYO"]
[731,80506,"CUSCO","CANAS","PAMPAMARCA",30,3820,-14.147500000000001,-71.460300000000004,{"$f":"IFERROR(VLOOKUP(B736,#REF!,8,FALSE),\"\")","v":""},null,"PAMPAMARCA"]
[732,80507,"CUSCO","CANAS","QUEHUE",143,3794,-14.3803,-71.455600000000004,{"$f":"IFERROR(VLOOKUP(B737,#REF!,8,FALSE),\"\")","v":""},null,"QUEHUE"]
[733,80508,"CUSCO","CANAS","TUPAC AMARU",118,3809,-14.1639,-71.476100000000002,{"$f":"IFERROR(VLOOKUP(B738,#REF!,8,FALSE),\"\")","v":""},null,"TUPAC AMARU"]
[734,80501,"CUSCO","CANAS","YANAOCA",293,3925,-14.216699999999999,-71.432199999999995,{"$f":"IFERROR(VLOOKUP(B739,#REF!,8,FALSE),\"\")","v":""},null,"YANAOCA"]
[735,80602,"CUSCO","CANCHIS","CHECACUPE",962,3459,-14.0253,-71.453900000000004,{"$f":"IFERROR(VLOOKUP(B740,#REF!,8,FALSE),\"\")","v":""},null,"CHECACUPE"]
[736,80603,"CUSCO","CANCHIS","COMBAPATA",183,3500,-14.101900000000001,-71.430000000000007,{"$f":"IFERROR(VLOOKUP(B741,#REF!,8,FALSE),\"\")","v":""},null,"COMBAPATA"]
[737,80604,"CUSCO","CANCHIS","MARANGANI",433,3720,-14.3567,-71.168599999999998,{"$f":"IFERROR(VLOOKUP(B742,#REF!,8,FALSE),\"\")","v":""},null,"MARANGANI"]
[738,80605,"CUSCO","CANCHIS","PITUMARCA",1118,3587,-13.9803,-71.417500000000004,{"$f":"IFERROR(VLOOKUP(B743,#REF!,8,FALSE),\"\")","v":""},null,"PITUMARCA"]
[739,80606,"CUSCO","CANCHIS","SAN PABLO",524,3501,-14.202199999999999,-71.314999999999998,{"$f":"IFERROR(VLOOKUP(B744,#REF!,8,FALSE),\"\")","v":""},null,"SAN PABLO"]
[740,80607,"CUSCO","CANCHIS","SAN PEDRO",55,3515,-14.1861,-71.343100000000007,{"$f":"IFERROR(VLOOKUP(B745,#REF!,8,FALSE),\"\")","v":""},null,"SAN PEDRO"]
[741,80601,"CUSCO","CANCHIS","SICUANI",646,3593,-14.238099999999999,-71.230800000000002,{"$f":"IFERROR(VLOOKUP(B746,#REF!,8,FALSE),\"\")","v":""},null,"SICUANI"]
[742,80608,"CUSCO","CANCHIS","TINTA",79,3496,-14.145300000000001,-71.407200000000003,{"$f":"IFERROR(VLOOKUP(B747,#REF!,8,FALSE),\"\")","v":""},null,"TINTA"]
[743,80702,"CUSCO","CHUMBIVILCAS","CAPACMARCA",272,3563,-14.007199999999999,-72.002499999999998,{"$f":"IFERROR(VLOOKUP(B748,#REF!,8,FALSE),\"\")","v":""},null,"CAPACMARCA"]
[744,80703,"CUSCO","CHUMBIVILCAS","CHAMACA",674,3779,-14.3025,-71.852199999999996,{"$f":"IFERROR(VLOOKUP(B749,#REF!,8,FALSE),\"\")","v":""},null,"CHAMACA"]
[745,80704,"CUSCO","CHUMBIVILCAS","COLQUEMARCA",449,3606,-14.285299999999999,-72.040000000000006,{"$f":"IFERROR(VLOOKUP(B750,#REF!,8,FALSE),\"\")","v":""},null,"COLQUEMARCA"]
[746,80705,"CUSCO","CHUMBIVILCAS","LIVITACA",758,3774,-14.312799999999999,-71.689700000000002,{"$f":"IFERROR(VLOOKUP(B751,#REF!,8,FALSE),\"\")","v":""},null,"LIVITACA"]
[747,80706,"CUSCO","CHUMBIVILCAS","LLUSCO",315,3522,-14.3375,-72.113600000000005,{"$f":"IFERROR(VLOOKUP(B752,#REF!,8,FALSE),\"\")","v":""},null,"LLUSCO"]
[748,80707,"CUSCO","CHUMBIVILCAS","QUIÑOTA",221,3607,-14.3111,-72.138599999999997,{"$f":"IFERROR(VLOOKUP(B753,#REF!,8,FALSE),\"\")","v":""},null,"QUIÑOTA"]
[749,80701,"CUSCO","CHUMBIVILCAS","SANTO TOMAS",1924,3676,-14.4533,-72.0822,{"$f":"IFERROR(VLOOKUP(B754,#REF!,8,FALSE),\"\")","v":""},null,"SANTO TOMAS"]
[750,80708,"CUSCO","CHUMBIVILCAS","VELILLE",757,3766,-14.508599999999999,-71.881100000000004,{"$f":"IFERROR(VLOOKUP(B755,#REF!,8,FALSE),\"\")","v":""},null,"VELILLE"]
[751,80102,"CUSCO","CUSCO","CCORCA",189,3675,-13.5847,-72.059200000000004,{"$f":"IFERROR(VLOOKUP(B756,#REF!,8,FALSE),\"\")","v":""},null,"CCORCA"]
[752,80101,"CUSCO","CUSCO","CUSCO",116,3439,-13.5192,-71.976699999999994,{"$f":"IFERROR(VLOOKUP(B757,#REF!,8,FALSE),\"\")","v":""},null,"CUSCO"]
[753,80103,"CUSCO","CUSCO","POROY",15,3508,-13.494400000000001,-72.044700000000006,{"$f":"IFERROR(VLOOKUP(B758,#REF!,8,FALSE),\"\")","v":""},null,"POROY"]
[754,80104,"CUSCO","CUSCO","SAN JERONIMO",103,3289,-13.5444,-71.883600000000001,{"$f":"IFERROR(VLOOKUP(B759,#REF!,8,FALSE),\"\")","v":""},null,"SAN JERONIMO"]
[755,80105,"CUSCO","CUSCO","SAN SEBASTIAN",89,3301,-13.5303,-71.936899999999994,{"$f":"IFERROR(VLOOKUP(B760,#REF!,8,FALSE),\"\")","v":""},null,"SAN SEBASTIAN"]
[756,80106,"CUSCO","CUSCO","SANTIAGO",70,3464,-13.5258,-71.983099999999993,{"$f":"IFERROR(VLOOKUP(B761,#REF!,8,FALSE),\"\")","v":""},null,"SANTIAGO"]
[757,80107,"CUSCO","CUSCO","SAYLLA",28,3179,-13.57,-71.827799999999996,{"$f":"IFERROR(VLOOKUP(B762,#REF!,8,FALSE),\"\")","v":""},null,"SAYLLA"]
[758,80108,"CUSCO","CUSCO","WANCHAQ",6,3424,-13.5214,-71.966700000000003,{"$f":"IFERROR(VLOOKUP(B763,#REF!,8,FALSE),\"\")","v":""},null,"WANCHAQ"]
[759,80808,"CUSCO","ESPINAR","ALTO PICHIGUA",376,3999,-14.776899999999999,-71.250799999999998,{"$f":"IFERROR(VLOOKUP(B764,#REF!,8,FALSE),\"\")","v":""},null,"ALTO PICHIGUA"]
[760,80802,"CUSCO","ESPINAR","CONDOROMA",513,4679,-15.300599999999999,-71.138300000000001,{"$f":"IFERROR(VLOOKUP(B765,#REF!,8,FALSE),\"\")","v":""},null,"CONDOROMA"]
[761,80803,"CUSCO","ESPINAR","COPORAQUE",1564,3970,-14.8003,-71.531700000000001,{"$f":"IFERROR(VLOOKUP(B766,#REF!,8,FALSE),\"\")","v":""},null,"COPORAQUE"]
[762,80801,"CUSCO","ESPINAR","ESPINAR",748,3976,-14.793100000000001,-71.413300000000007,{"$f":"IFERROR(VLOOKUP(B767,#REF!,8,FALSE),\"\")","v":""},null,"ESPINAR"]
[763,80804,"CUSCO","ESPINAR","OCORURO",353,4104,-15.0519,-71.129199999999997,{"$f":"IFERROR(VLOOKUP(B768,#REF!,8,FALSE),\"\")","v":""},null,"OCORURO"]
[764,80805,"CUSCO","ESPINAR","PALLPATA",816,4027,-14.8903,-71.209999999999994,{"$f":"IFERROR(VLOOKUP(B769,#REF!,8,FALSE),\"\")","v":""},null,"PALLPATA"]
[765,80806,"CUSCO","ESPINAR","PICHIGUA",289,3902,-14.678100000000001,-71.406400000000005,{"$f":"IFERROR(VLOOKUP(B770,#REF!,8,FALSE),\"\")","v":""},null,"PICHIGUA"]
[766,80807,"CUSCO","ESPINAR","SUYCKUTAMBO",652,4124,-15.008599999999999,-71.643299999999996,{"$f":"IFERROR(VLOOKUP(B771,#REF!,8,FALSE),\"\")","v":""},null,"SUYCKUTAMBO"]
[767,80916,"CUSCO","LA CONVENCION","CIELO PUNCO",null,2113,-12.7997,-73.502200000000002,{"$f":"IFERROR(VLOOKUP(B772,#REF!,8,FALSE),\"\")","v":""},null,"CIELO PUNCO"]
[768,80902,"CUSCO","LA CONVENCION","ECHARATE",19136,1059,-12.7681,-72.576099999999997,{"$f":"IFERROR(VLOOKUP(B773,#REF!,8,FALSE),\"\")","v":""},null,"ECHARATE"]
[769,80903,"CUSCO","LA CONVENCION","HUAYOPATA",524,1597,-13.0047,-72.554400000000001,{"$f":"IFERROR(VLOOKUP(B774,#REF!,8,FALSE),\"\")","v":""},null,"HUAYOPATA"]
[770,80911,"CUSCO","LA CONVENCION","INKAWASI",1102,1771,-13.29,-73.265600000000006,{"$f":"IFERROR(VLOOKUP(B775,#REF!,8,FALSE),\"\")","v":""},null,"INKAWASI"]
[{"$f":"+A775+1","v":771},80915,"CUSCO","LA CONVENCION","KUMPIRUSHIATO",2942,633,-12.616300000000001,-73.106399999999994,{"$f":"IFERROR(VLOOKUP(B776,#REF!,8,FALSE),\"\")","v":""},null,"KUMPIRUSHIATO"]
[772,80917,"CUSCO","LA CONVENCION","MANITEA",null,1172,-12.7281,-73.629400000000004,{"$f":"IFERROR(VLOOKUP(B777,#REF!,8,FALSE),\"\")","v":""},null,"MANITEA"]
[773,80904,"CUSCO","LA CONVENCION","MARANURA",150,1141,-12.9628,-72.664699999999996,{"$f":"IFERROR(VLOOKUP(B778,#REF!,8,FALSE),\"\")","v":""},null,"MARANURA"]
[774,80914,"CUSCO","LA CONVENCION","MEGANTONI",null,355,-11.7203,-72.946399999999997,{"$f":"IFERROR(VLOOKUP(B779,#REF!,8,FALSE),\"\")","v":""},null,"MEGANTONI"]
[775,80905,"CUSCO","LA CONVENCION","OCOBAMBA",841,1479,-12.871700000000001,-72.447199999999995,{"$f":"IFERROR(VLOOKUP(B780,#REF!,8,FALSE),\"\")","v":""},null,"OCOBAMBA"]
[776,80910,"CUSCO","LA CONVENCION","PICHARI",730,596,-12.519399999999999,-73.8292,{"$f":"IFERROR(VLOOKUP(B781,#REF!,8,FALSE),\"\")","v":""},null,"PICHARI"]
[777,80906,"CUSCO","LA CONVENCION","QUELLOUNO",800,784,-12.636699999999999,-72.557199999999995,{"$f":"IFERROR(VLOOKUP(B782,#REF!,8,FALSE),\"\")","v":""},null,"QUELLOUNO"]
[778,80907,"CUSCO","LA CONVENCION","QUIMBIRI",906,590,-12.62,-73.789199999999994,{"$f":"IFERROR(VLOOKUP(B783,#REF!,8,FALSE),\"\")","v":""},null,"QUIMBIRI"]
[779,80901,"CUSCO","LA CONVENCION","SANTA ANA",359,1086,-12.8628,-72.693299999999994,{"$f":"IFERROR(VLOOKUP(B784,#REF!,8,FALSE),\"\")","v":""},null,"SANTA ANA"]
[780,80908,"CUSCO","LA CONVENCION","SANTA TERESA",1340,1572,-13.130599999999999,-72.593900000000005,{"$f":"IFERROR(VLOOKUP(B785,#REF!,8,FALSE),\"\")","v":""},null,"SANTA TERESA"]
[781,80918,"CUSCO","LA CONVENCION","UNION ASHÁNINKA",null,518,-12.3238,-73.939899999999994,{"$f":"IFERROR(VLOOKUP(B786,#REF!,8,FALSE),\"\")","v":""},null,"UNION ASHÁNINKA"]
[782,80909,"CUSCO","LA CONVENCION","VILCABAMBA",3319,2656,-13.0631,-72.934399999999997,{"$f":"IFERROR(VLOOKUP(B787,#REF!,8,FALSE),\"\")","v":""},null,"VILCABAMBA"]
[783,80913,"CUSCO","LA CONVENCION","VILLA KINTIARINA",229,704,-12.918900000000001,-73.528300000000002,{"$f":"IFERROR(VLOOKUP(B788,#REF!,8,FALSE),\"\")","v":""},null,"VILLA KINTIARINA"]
[784,80912,"CUSCO","LA CONVENCION","VILLA VIRGEN",626,742,-13.002800000000001,-73.512799999999999,{"$f":"IFERROR(VLOOKUP(B789,#REF!,8,FALSE),\"\")","v":""},null,"VILLA VIRGEN"]
[785,81002,"CUSCO","PARURO","ACCHA",245,3601,-13.9711,-71.831400000000002,{"$f":"IFERROR(VLOOKUP(B790,#REF!,8,FALSE),\"\")","v":""},null,"ACCHA"]
[786,81003,"CUSCO","PARURO","CCAPI",335,3227,-13.8531,-72.082499999999996,{"$f":"IFERROR(VLOOKUP(B791,#REF!,8,FALSE),\"\")","v":""},null,"CCAPI"]
[787,81004,"CUSCO","PARURO","COLCHA",140,2827,-13.851900000000001,-71.803299999999993,{"$f":"IFERROR(VLOOKUP(B792,#REF!,8,FALSE),\"\")","v":""},null,"COLCHA"]
[788,81005,"CUSCO","PARURO","HUANOQUITE",363,3391,-13.681900000000001,-72.018100000000004,{"$f":"IFERROR(VLOOKUP(B793,#REF!,8,FALSE),\"\")","v":""},null,"HUANOQUITE"]
[789,81006,"CUSCO","PARURO","OMACHA",436,3887,-14.0694,-71.738100000000003,{"$f":"IFERROR(VLOOKUP(B794,#REF!,8,FALSE),\"\")","v":""},null,"OMACHA"]
[790,81007,"CUSCO","PARURO","PACCARITAMBO",143,3602,-13.756399999999999,-71.956699999999998,{"$f":"IFERROR(VLOOKUP(B795,#REF!,8,FALSE),\"\")","v":""},null,"PACCARITAMBO"]
[791,81001,"CUSCO","PARURO","PARURO",153,3086,-13.761699999999999,-71.847800000000007,{"$f":"IFERROR(VLOOKUP(B796,#REF!,8,FALSE),\"\")","v":""},null,"PARURO"]
[792,81008,"CUSCO","PARURO","PILLPINTO",79,2869,-13.9536,-71.760599999999997,{"$f":"IFERROR(VLOOKUP(B797,#REF!,8,FALSE),\"\")","v":""},null,"PILLPINTO"]
[793,81009,"CUSCO","PARURO","YAURISQUE",91,3324,-13.6653,-71.920599999999993,{"$f":"IFERROR(VLOOKUP(B798,#REF!,8,FALSE),\"\")","v":""},null,"YAURISQUE"]
[794,81102,"CUSCO","PAUCARTAMBO","CAICAY",111,3128,-13.597200000000001,-71.696700000000007,{"$f":"IFERROR(VLOOKUP(B799,#REF!,8,FALSE),\"\")","v":""},null,"CAICAY"]
[795,81103,"CUSCO","PAUCARTAMBO","CHALLABAMBA",747,2845,-13.215,-71.648600000000002,{"$f":"IFERROR(VLOOKUP(B800,#REF!,8,FALSE),\"\")","v":""},null,"CHALLABAMBA"]
[796,81104,"CUSCO","PAUCARTAMBO","COLQUEPATA",468,3690,-13.360300000000001,-71.673599999999993,{"$f":"IFERROR(VLOOKUP(B801,#REF!,8,FALSE),\"\")","v":""},null,"COLQUEPATA"]
[797,81105,"CUSCO","PAUCARTAMBO","HUANCARANI",145,3871,-13.503299999999999,-71.654399999999995,{"$f":"IFERROR(VLOOKUP(B802,#REF!,8,FALSE),\"\")","v":""},null,"HUANCARANI"]
[798,81106,"CUSCO","PAUCARTAMBO","KOSÑIPATA",3746,544,-12.9094,-71.403300000000002,{"$f":"IFERROR(VLOOKUP(B803,#REF!,8,FALSE),\"\")","v":""},null,"KOSÑIPATA"]
[799,81101,"CUSCO","PAUCARTAMBO","PAUCARTAMBO",1079,2917,-13.3178,-71.596699999999998,{"$f":"IFERROR(VLOOKUP(B804,#REF!,8,FALSE),\"\")","v":""},null,"PAUCARTAMBO"]
[800,81202,"CUSCO","QUISPICANCHI","ANDAHUAYLILLAS",85,3139,-13.673299999999999,-71.677800000000005,{"$f":"IFERROR(VLOOKUP(B805,#REF!,8,FALSE),\"\")","v":""},null,"ANDAHUAYLILLAS"]
[801,81203,"CUSCO","QUISPICANCHI","CAMANTI",3175,647,-13.231400000000001,-70.754400000000004,{"$f":"IFERROR(VLOOKUP(B806,#REF!,8,FALSE),\"\")","v":""},null,"CAMANTI"]
[802,81204,"CUSCO","QUISPICANCHI","CCARHUAYO",314,3481,-13.5953,-71.399699999999996,{"$f":"IFERROR(VLOOKUP(B807,#REF!,8,FALSE),\"\")","v":""},null,"CCARHUAYO"]
[803,81205,"CUSCO","QUISPICANCHI","CCATCA",308,3714,-13.6053,-71.563599999999994,{"$f":"IFERROR(VLOOKUP(B808,#REF!,8,FALSE),\"\")","v":""},null,"CCATCA"]
[804,81206,"CUSCO","QUISPICANCHI","CUSIPATA",248,3332,-13.9069,-71.502499999999998,{"$f":"IFERROR(VLOOKUP(B809,#REF!,8,FALSE),\"\")","v":""},null,"CUSIPATA"]
[805,81207,"CUSCO","QUISPICANCHI","HUARO",106,3168,-13.690300000000001,-71.640299999999996,{"$f":"IFERROR(VLOOKUP(B810,#REF!,8,FALSE),\"\")","v":""},null,"HUARO"]
[806,81208,"CUSCO","QUISPICANCHI","LUCRE",119,3117,-13.633900000000001,-71.736699999999999,{"$f":"IFERROR(VLOOKUP(B811,#REF!,8,FALSE),\"\")","v":""},null,"LUCRE"]
[807,81209,"CUSCO","QUISPICANCHI","MARCAPATA",1688,3111,-13.591699999999999,-70.974999999999994,{"$f":"IFERROR(VLOOKUP(B812,#REF!,8,FALSE),\"\")","v":""},null,"MARCAPATA"]
[808,81210,"CUSCO","QUISPICANCHI","OCONGATE",953,3549,-13.6267,-71.388300000000001,{"$f":"IFERROR(VLOOKUP(B813,#REF!,8,FALSE),\"\")","v":""},null,"OCONGATE"]
[809,81211,"CUSCO","QUISPICANCHI","OROPESA",74,3139,-13.5944,-71.763099999999994,{"$f":"IFERROR(VLOOKUP(B814,#REF!,8,FALSE),\"\")","v":""},null,"OROPESA"]
[810,81212,"CUSCO","QUISPICANCHI","QUIQUIJANA",361,3211,-13.8225,-71.542500000000004,{"$f":"IFERROR(VLOOKUP(B815,#REF!,8,FALSE),\"\")","v":""},null,"QUIQUIJANA"]
[811,81201,"CUSCO","QUISPICANCHI","URCOS",135,3179,-13.687799999999999,-71.625299999999996,{"$f":"IFERROR(VLOOKUP(B816,#REF!,8,FALSE),\"\")","v":""},null,"URCOS"]
[812,81302,"CUSCO","URUBAMBA","CHINCHERO",95,3759,-13.3919,-72.048900000000003,{"$f":"IFERROR(VLOOKUP(B817,#REF!,8,FALSE),\"\")","v":""},null,"CHINCHERO"]
[813,81303,"CUSCO","URUBAMBA","HUAYLLABAMBA",102,2890,-13.338100000000001,-72.064999999999998,{"$f":"IFERROR(VLOOKUP(B818,#REF!,8,FALSE),\"\")","v":""},null,"HUAYLLABAMBA"]
[814,81304,"CUSCO","URUBAMBA","MACHUPICCHU",271,2092,-13.154199999999999,-72.525599999999997,{"$f":"IFERROR(VLOOKUP(B819,#REF!,8,FALSE),\"\")","v":""},null,"MACHUPICCHU"]
[815,81305,"CUSCO","URUBAMBA","MARAS",132,3381,-13.3325,-72.156400000000005,{"$f":"IFERROR(VLOOKUP(B820,#REF!,8,FALSE),\"\")","v":""},null,"MARAS"]
[816,81306,"CUSCO","URUBAMBA","OLLANTAYTAMBO",640,2871,-13.258900000000001,-72.263300000000001,{"$f":"IFERROR(VLOOKUP(B821,#REF!,8,FALSE),\"\")","v":""},null,"OLLANTAYTAMBO"]
[817,81301,"CUSCO","URUBAMBA","URUBAMBA",128,2885,-13.3056,-72.116100000000003,{"$f":"IFERROR(VLOOKUP(B822,#REF!,8,FALSE),\"\")","v":""},null,"URUBAMBA"]
[818,81307,"CUSCO","URUBAMBA","YUCAY",71,2878,-13.3217,-72.0839,{"$f":"IFERROR(VLOOKUP(B823,#REF!,8,FALSE),\"\")","v":""},null,"YUCAY"]
[819,90201,"HUANCAVELICA","ACOBAMBA","ACOBAMBA",123,3449,-12.8431,-74.569199999999995,{"$f":"IFERROR(VLOOKUP(B824,#REF!,8,FALSE),\"\")","v":""},null,"ACOBAMBA"]
[820,90202,"HUANCAVELICA","ACOBAMBA","ANDABAMBA",82,3499,-12.6936,-74.6233,{"$f":"IFERROR(VLOOKUP(B825,#REF!,8,FALSE),\"\")","v":""},null,"ANDABAMBA"]
[821,90203,"HUANCAVELICA","ACOBAMBA","ANTA",91,3618,-12.812200000000001,-74.638300000000001,{"$f":"IFERROR(VLOOKUP(B826,#REF!,8,FALSE),\"\")","v":""},null,"ANTA"]
[822,90204,"HUANCAVELICA","ACOBAMBA","CAJA",82,3383,-12.917199999999999,-74.465800000000002,{"$f":"IFERROR(VLOOKUP(B827,#REF!,8,FALSE),\"\")","v":""},null,"CAJA"]
[823,90205,"HUANCAVELICA","ACOBAMBA","MARCAS",156,3411,-12.8903,-74.398099999999999,{"$f":"IFERROR(VLOOKUP(B828,#REF!,8,FALSE),\"\")","v":""},null,"MARCAS"]
[824,90206,"HUANCAVELICA","ACOBAMBA","PAUCARA",226,3833,-12.729699999999999,-74.666399999999996,{"$f":"IFERROR(VLOOKUP(B829,#REF!,8,FALSE),\"\")","v":""},null,"PAUCARA"]
[825,90207,"HUANCAVELICA","ACOBAMBA","POMACOCHA",54,3156,-12.873900000000001,-74.531700000000001,{"$f":"IFERROR(VLOOKUP(B830,#REF!,8,FALSE),\"\")","v":""},null,"POMACOCHA"]
[826,90208,"HUANCAVELICA","ACOBAMBA","ROSARIO",97,3687,-12.720800000000001,-74.582499999999996,{"$f":"IFERROR(VLOOKUP(B831,#REF!,8,FALSE),\"\")","v":""},null,"ROSARIO"]
[827,90302,"HUANCAVELICA","ANGARAES","ANCHONGA",72,3310,-12.9131,-74.691400000000002,{"$f":"IFERROR(VLOOKUP(B832,#REF!,8,FALSE),\"\")","v":""},null,"ANCHONGA"]
[828,90303,"HUANCAVELICA","ANGARAES","CALLANMARCA",26,3553,-12.8667,-74.6233,{"$f":"IFERROR(VLOOKUP(B833,#REF!,8,FALSE),\"\")","v":""},null,"CALLANMARCA"]
[829,90304,"HUANCAVELICA","ANGARAES","CCOCHACCASA",117,4190,-12.9253,-74.770300000000006,{"$f":"IFERROR(VLOOKUP(B834,#REF!,8,FALSE),\"\")","v":""},null,"CCOCHACCASA"]
[830,90305,"HUANCAVELICA","ANGARAES","CHINCHO",183,3141,-12.972799999999999,-74.367199999999997,{"$f":"IFERROR(VLOOKUP(B835,#REF!,8,FALSE),\"\")","v":""},null,"CHINCHO"]
[831,90306,"HUANCAVELICA","ANGARAES","CONGALLA",216,3537,-12.9558,-74.492199999999997,{"$f":"IFERROR(VLOOKUP(B836,#REF!,8,FALSE),\"\")","v":""},null,"CONGALLA"]
[832,90307,"HUANCAVELICA","ANGARAES","HUANCA-HUANCA",110,3590,-12.9186,-74.61,{"$f":"IFERROR(VLOOKUP(B837,#REF!,8,FALSE),\"\")","v":""},null,"HUANCA-HUANCA"]
[833,90308,"HUANCAVELICA","ANGARAES","HUAYLLAY GRANDE",33,3622,-12.9428,-74.701700000000002,{"$f":"IFERROR(VLOOKUP(B838,#REF!,8,FALSE),\"\")","v":""},null,"HUAYLLAY GRANDE"]
[834,90309,"HUANCAVELICA","ANGARAES","JULCAMARCA",49,3431,-13.014699999999999,-74.444400000000002,{"$f":"IFERROR(VLOOKUP(B839,#REF!,8,FALSE),\"\")","v":""},null,"JULCAMARCA"]
[{"$f":"+A839+1","v":835},90301,"HUANCAVELICA","ANGARAES","LIRCAY",819,3345,-12.982799999999999,-74.718299999999999,{"$f":"IFERROR(VLOOKUP(B840,#REF!,8,FALSE),\"\")","v":""},null,"LIRCAY"]
[836,90310,"HUANCAVELICA","ANGARAES","SAN ANTONIO DE ANTAPARCO",33,2767,-13.0761,-74.411699999999996,{"$f":"IFERROR(VLOOKUP(B841,#REF!,8,FALSE),\"\")","v":""},null,"SAN ANTONIO DE ANTAPARCO"]
[837,90311,"HUANCAVELICA","ANGARAES","SANTO TOMAS DE PATA",134,3150,-13.113099999999999,-74.418899999999994,{"$f":"IFERROR(VLOOKUP(B842,#REF!,8,FALSE),\"\")","v":""},null,"SANTO TOMAS DE PATA"]
[838,90312,"HUANCAVELICA","ANGARAES","SECCLLA",168,3363,-13.0511,-74.483599999999996,{"$f":"IFERROR(VLOOKUP(B843,#REF!,8,FALSE),\"\")","v":""},null,"SECCLLA"]
[839,90402,"HUANCAVELICA","CASTROVIRREYNA","ARMA",305,3361,-13.1264,-75.541899999999998,{"$f":"IFERROR(VLOOKUP(B844,#REF!,8,FALSE),\"\")","v":""},null,"ARMA"]
[840,90403,"HUANCAVELICA","CASTROVIRREYNA","AURAHUA",361,3483,-13.034700000000001,-75.570300000000003,{"$f":"IFERROR(VLOOKUP(B845,#REF!,8,FALSE),\"\")","v":""},null,"AURAHUA"]
[841,90404,"HUANCAVELICA","CASTROVIRREYNA","CAPILLAS",398,3224,-13.293100000000001,-75.542500000000004,{"$f":"IFERROR(VLOOKUP(B846,#REF!,8,FALSE),\"\")","v":""},null,"CAPILLAS"]
[842,90401,"HUANCAVELICA","CASTROVIRREYNA","CASTROVIRREYNA",938,3989,-13.283300000000001,-75.318299999999994,{"$f":"IFERROR(VLOOKUP(B847,#REF!,8,FALSE),\"\")","v":""},null,"CASTROVIRREYNA"]
[843,90405,"HUANCAVELICA","CASTROVIRREYNA","CHUPAMARCA",374,3433,-13.0372,-75.6083,{"$f":"IFERROR(VLOOKUP(B848,#REF!,8,FALSE),\"\")","v":""},null,"CHUPAMARCA"]
[844,90406,"HUANCAVELICA","CASTROVIRREYNA","COCAS",88,3253,-13.2758,-75.372799999999998,{"$f":"IFERROR(VLOOKUP(B849,#REF!,8,FALSE),\"\")","v":""},null,"COCAS"]
[845,90407,"HUANCAVELICA","CASTROVIRREYNA","HUACHOS",172,2784,-13.2197,-75.533900000000003,{"$f":"IFERROR(VLOOKUP(B850,#REF!,8,FALSE),\"\")","v":""},null,"HUACHOS"]
[846,90408,"HUANCAVELICA","CASTROVIRREYNA","HUAMATAMBO",54,3058,-13.0944,-75.677199999999999,{"$f":"IFERROR(VLOOKUP(B851,#REF!,8,FALSE),\"\")","v":""},null,"HUAMATAMBO"]
[847,90409,"HUANCAVELICA","CASTROVIRREYNA","MOLLEPAMPA",166,2500,-13.311400000000001,-75.41,{"$f":"IFERROR(VLOOKUP(B852,#REF!,8,FALSE),\"\")","v":""},null,"MOLLEPAMPA"]
[848,90410,"HUANCAVELICA","CASTROVIRREYNA","SAN JUAN",207,1936,-13.203900000000001,-75.634399999999999,{"$f":"IFERROR(VLOOKUP(B853,#REF!,8,FALSE),\"\")","v":""},null,"SAN JUAN"]
[849,90411,"HUANCAVELICA","CASTROVIRREYNA","SANTA ANA",622,4518,-13.071899999999999,-75.140299999999996,{"$f":"IFERROR(VLOOKUP(B854,#REF!,8,FALSE),\"\")","v":""},null,"SANTA ANA"]
[850,90412,"HUANCAVELICA","CASTROVIRREYNA","TANTARA",113,2899,-13.074199999999999,-75.6447,{"$f":"IFERROR(VLOOKUP(B855,#REF!,8,FALSE),\"\")","v":""},null,"TANTARA"]
[851,90413,"HUANCAVELICA","CASTROVIRREYNA","TICRAPO",187,2140,-13.3825,-75.432500000000005,{"$f":"IFERROR(VLOOKUP(B856,#REF!,8,FALSE),\"\")","v":""},null,"TICRAPO"]
[852,90502,"HUANCAVELICA","CHURCAMPA","ANCO",150,2463,-12.682499999999999,-74.587199999999996,{"$f":"IFERROR(VLOOKUP(B857,#REF!,8,FALSE),\"\")","v":""},null,"ANCO"]
[853,90503,"HUANCAVELICA","CHURCAMPA","CHINCHIHUASI",162,2803,-12.5169,-74.5458,{"$f":"IFERROR(VLOOKUP(B858,#REF!,8,FALSE),\"\")","v":""},null,"CHINCHIHUASI"]
[854,90501,"HUANCAVELICA","CHURCAMPA","CHURCAMPA",135,3295,-12.7392,-74.387200000000007,{"$f":"IFERROR(VLOOKUP(B859,#REF!,8,FALSE),\"\")","v":""},null,"CHURCAMPA"]
[855,90511,"HUANCAVELICA","CHURCAMPA","COSME",106,3486,-12.5733,-74.658299999999997,{"$f":"IFERROR(VLOOKUP(B860,#REF!,8,FALSE),\"\")","v":""},null,"COSME"]
[856,90504,"HUANCAVELICA","CHURCAMPA","EL CARMEN",77,3152,-12.726900000000001,-74.480800000000002,{"$f":"IFERROR(VLOOKUP(B861,#REF!,8,FALSE),\"\")","v":""},null,"EL CARMEN"]
[857,90505,"HUANCAVELICA","CHURCAMPA","LA MERCED",73,2683,-12.7881,-74.358599999999996,{"$f":"IFERROR(VLOOKUP(B862,#REF!,8,FALSE),\"\")","v":""},null,"LA MERCED"]
[858,90506,"HUANCAVELICA","CHURCAMPA","LOCROJA",92,3417,-12.7403,-74.441900000000004,{"$f":"IFERROR(VLOOKUP(B863,#REF!,8,FALSE),\"\")","v":""},null,"LOCROJA"]
[859,90510,"HUANCAVELICA","CHURCAMPA","PACHAMARCA",156,2792,-12.515599999999999,-74.526700000000005,{"$f":"IFERROR(VLOOKUP(B864,#REF!,8,FALSE),\"\")","v":""},null,"PACHAMARCA"]
[860,90507,"HUANCAVELICA","CHURCAMPA","PAUCARBAMBA",98,3382,-12.553900000000001,-74.531899999999993,{"$f":"IFERROR(VLOOKUP(B865,#REF!,8,FALSE),\"\")","v":""},null,"PAUCARBAMBA"]
[861,90508,"HUANCAVELICA","CHURCAMPA","SAN MIGUEL DE MAYOCC",38,2228,-12.8058,-74.39,{"$f":"IFERROR(VLOOKUP(B866,#REF!,8,FALSE),\"\")","v":""},null,"SAN MIGUEL DE MAYOCC"]
[862,90509,"HUANCAVELICA","CHURCAMPA","SAN PEDRO DE CORIS",129,3580,-12.578099999999999,-74.411699999999996,{"$f":"IFERROR(VLOOKUP(B867,#REF!,8,FALSE),\"\")","v":""},null,"SAN PEDRO DE CORIS"]
[863,90102,"HUANCAVELICA","HUANCAVELICA","ACOBAMBILLA",758,3839,-12.664400000000001,-75.324200000000005,{"$f":"IFERROR(VLOOKUP(B868,#REF!,8,FALSE),\"\")","v":""},null,"ACOBAMBILLA"]
[864,90103,"HUANCAVELICA","HUANCAVELICA","ACORIA",535,3207,-12.6425,-74.861699999999999,{"$f":"IFERROR(VLOOKUP(B869,#REF!,8,FALSE),\"\")","v":""},null,"ACORIA"]
[865,90118,"HUANCAVELICA","HUANCAVELICA","ASCENSION",432,3711,-12.785299999999999,-74.976900000000001,{"$f":"IFERROR(VLOOKUP(B870,#REF!,8,FALSE),\"\")","v":""},null,"ASCENSION"]
[866,90104,"HUANCAVELICA","HUANCAVELICA","CONAYCA",38,3709,-12.52,-75.006699999999995,{"$f":"IFERROR(VLOOKUP(B871,#REF!,8,FALSE),\"\")","v":""},null,"CONAYCA"]
[867,90105,"HUANCAVELICA","HUANCAVELICA","CUENCA",50,3186,-12.4331,-75.038899999999998,{"$f":"IFERROR(VLOOKUP(B872,#REF!,8,FALSE),\"\")","v":""},null,"CUENCA"]
[868,90106,"HUANCAVELICA","HUANCAVELICA","HUACHOCOLPA",336,4020,-13.0319,-74.946899999999999,{"$f":"IFERROR(VLOOKUP(B873,#REF!,8,FALSE),\"\")","v":""},null,"HUACHOCOLPA"]
[869,90101,"HUANCAVELICA","HUANCAVELICA","HUANCAVELICA",514,3746,-12.786899999999999,-74.971400000000003,{"$f":"IFERROR(VLOOKUP(B874,#REF!,8,FALSE),\"\")","v":""},null,"HUANCAVELICA"]
[870,90119,"HUANCAVELICA","HUANCAVELICA","HUANDO",194,3610,-12.5642,-74.947800000000001,{"$f":"IFERROR(VLOOKUP(B875,#REF!,8,FALSE),\"\")","v":""},null,"HUANDO"]
[871,90107,"HUANCAVELICA","HUANCAVELICA","HUAYLLAHUARA",39,3901,-12.4092,-75.178299999999993,{"$f":"IFERROR(VLOOKUP(B876,#REF!,8,FALSE),\"\")","v":""},null,"HUAYLLAHUARA"]
[872,90108,"HUANCAVELICA","HUANCAVELICA","IZCUCHACA",12,2930,-12.5,-74.997799999999998,{"$f":"IFERROR(VLOOKUP(B877,#REF!,8,FALSE),\"\")","v":""},null,"IZCUCHACA"]
[873,90109,"HUANCAVELICA","HUANCAVELICA","LARIA",78,3893,-12.5611,-75.036900000000003,{"$f":"IFERROR(VLOOKUP(B878,#REF!,8,FALSE),\"\")","v":""},null,"LARIA"]
[874,90110,"HUANCAVELICA","HUANCAVELICA","MANTA",154,3735,-12.6206,-75.211100000000002,{"$f":"IFERROR(VLOOKUP(B879,#REF!,8,FALSE),\"\")","v":""},null,"MANTA"]
[875,90111,"HUANCAVELICA","HUANCAVELICA","MARISCAL CACERES",6,2852,-12.5344,-74.932500000000005,{"$f":"IFERROR(VLOOKUP(B880,#REF!,8,FALSE),\"\")","v":""},null,"MARISCAL CACERES"]
[876,90112,"HUANCAVELICA","HUANCAVELICA","MOYA",94,3148,-12.423299999999999,-75.153899999999993,{"$f":"IFERROR(VLOOKUP(B881,#REF!,8,FALSE),\"\")","v":""},null,"MOYA"]
[877,90113,"HUANCAVELICA","HUANCAVELICA","NUEVO OCCORO",212,3939,-12.595000000000001,-75.0197,{"$f":"IFERROR(VLOOKUP(B882,#REF!,8,FALSE),\"\")","v":""},null,"NUEVO OCCORO"]
[878,90114,"HUANCAVELICA","HUANCAVELICA","PALCA",82,3714,-12.6569,-74.9803,{"$f":"IFERROR(VLOOKUP(B883,#REF!,8,FALSE),\"\")","v":""},null,"PALCA"]
[879,90115,"HUANCAVELICA","HUANCAVELICA","PILCHACA",43,3604,-12.401400000000001,-75.0839,{"$f":"IFERROR(VLOOKUP(B884,#REF!,8,FALSE),\"\")","v":""},null,"PILCHACA"]
[880,90116,"HUANCAVELICA","HUANCAVELICA","VILCA",318,3280,-12.4772,-75.183300000000003,{"$f":"IFERROR(VLOOKUP(B885,#REF!,8,FALSE),\"\")","v":""},null,"VILCA"]
[881,90117,"HUANCAVELICA","HUANCAVELICA","YAULI",320,3424,-12.7692,-74.850800000000007,{"$f":"IFERROR(VLOOKUP(B886,#REF!,8,FALSE),\"\")","v":""},null,"YAULI"]
[882,90602,"HUANCAVELICA","HUAYTARA","AYAVI",201,3815,-13.703099999999999,-75.351100000000002,{"$f":"IFERROR(VLOOKUP(B887,#REF!,8,FALSE),\"\")","v":""},null,"AYAVI"]
[883,90603,"HUANCAVELICA","HUAYTARA","CORDOVA",105,3242,-14.040800000000001,-75.185000000000002,{"$f":"IFERROR(VLOOKUP(B888,#REF!,8,FALSE),\"\")","v":""},null,"CORDOVA"]
[884,90604,"HUANCAVELICA","HUAYTARA","HUAYACUNDO ARMA",13,3116,-13.5342,-75.314400000000006,{"$f":"IFERROR(VLOOKUP(B889,#REF!,8,FALSE),\"\")","v":""},null,"HUAYACUNDO ARMA"]
[885,90601,"HUANCAVELICA","HUAYTARA","HUAYTARA",401,2732,-13.604699999999999,-75.353099999999998,{"$f":"IFERROR(VLOOKUP(B890,#REF!,8,FALSE),\"\")","v":""},null,"HUAYTARA"]
[886,90605,"HUANCAVELICA","HUAYTARA","LARAMARCA",205,3407,-13.948600000000001,-75.035600000000002,{"$f":"IFERROR(VLOOKUP(B891,#REF!,8,FALSE),\"\")","v":""},null,"LARAMARCA"]
[887,90606,"HUANCAVELICA","HUAYTARA","OCOYO",155,1933,-14.008100000000001,-75.022499999999994,{"$f":"IFERROR(VLOOKUP(B892,#REF!,8,FALSE),\"\")","v":""},null,"OCOYO"]
[888,90607,"HUANCAVELICA","HUAYTARA","PILPICHACA",2163,4090,-13.330299999999999,-74.977199999999996,{"$f":"IFERROR(VLOOKUP(B893,#REF!,8,FALSE),\"\")","v":""},null,"PILPICHACA"]
[889,90608,"HUANCAVELICA","HUAYTARA","QUERCO",697,2903,-13.9794,-74.976900000000001,{"$f":"IFERROR(VLOOKUP(B894,#REF!,8,FALSE),\"\")","v":""},null,"QUERCO"]
[890,90609,"HUANCAVELICA","HUAYTARA","QUITO-ARMA",222,2944,-13.528600000000001,-75.327500000000001,{"$f":"IFERROR(VLOOKUP(B895,#REF!,8,FALSE),\"\")","v":""},null,"QUITO-ARMA"]
[891,90610,"HUANCAVELICA","HUAYTARA","SAN ANTONIO DE CUSICANCHA",256,3291,-13.5025,-75.293300000000002,{"$f":"IFERROR(VLOOKUP(B896,#REF!,8,FALSE),\"\")","v":""},null,"SAN ANTONIO DE CUSICANCHA"]
[892,90611,"HUANCAVELICA","HUAYTARA","SAN FRANCISCO DE SANGAYAICO",71,3420,-13.795299999999999,-75.249200000000002,{"$f":"IFERROR(VLOOKUP(B897,#REF!,8,FALSE),\"\")","v":""},null,"SAN FRANCISCO DE SANGAYAICO"]
[893,90612,"HUANCAVELICA","HUAYTARA","SAN ISIDRO - HUANCAVELICA",175,3656,-13.9564,-75.238100000000003,{"$f":"IFERROR(VLOOKUP(B898,#REF!,8,FALSE),\"\")","v":""},null,"SAN ISIDRO - HUANCAVELICA"]
[894,90613,"HUANCAVELICA","HUAYTARA","SANTIAGO DE CHOCORVOS",1150,2638,-13.8253,-75.257499999999993,{"$f":"IFERROR(VLOOKUP(B899,#REF!,8,FALSE),\"\")","v":""},null,"SANTIAGO DE CHOCORVOS"]
[895,90614,"HUANCAVELICA","HUAYTARA","SANTIAGO DE QUIRAHUARA",169,2801,-14.056100000000001,-74.976399999999998,{"$f":"IFERROR(VLOOKUP(B900,#REF!,8,FALSE),\"\")","v":""},null,"SANTIAGO DE QUIRAHUARA"]
[896,90615,"HUANCAVELICA","HUAYTARA","SANTO DOMINGO DE CAPILLAS",249,3482,-13.7372,-75.243600000000001,{"$f":"IFERROR(VLOOKUP(B901,#REF!,8,FALSE),\"\")","v":""},null,"SANTO DOMINGO DE CAPILLAS"]
[897,90616,"HUANCAVELICA","HUAYTARA","TAMBO",227,3201,-13.689399999999999,-75.275000000000006,{"$f":"IFERROR(VLOOKUP(B902,#REF!,8,FALSE),\"\")","v":""},null,"TAMBO"]
[898,90702,"HUANCAVELICA","TAYACAJA","ACOSTAMBO",168,3628,-12.365600000000001,-75.055000000000007,{"$f":"IFERROR(VLOOKUP(B903,#REF!,8,FALSE),\"\")","v":""},null,"ACOSTAMBO"]
[{"$f":"+A903+1","v":899},90703,"HUANCAVELICA","TAYACAJA","ACRAQUIA",110,3281,-12.4064,-74.9011,{"$f":"IFERROR(VLOOKUP(B904,#REF!,8,FALSE),\"\")","v":""},null,"ACRAQUIA"]
[900,90704,"HUANCAVELICA","TAYACAJA","AHUAYCHA",91,3279,-12.4078,-74.891099999999994,{"$f":"IFERROR(VLOOKUP(B905,#REF!,8,FALSE),\"\")","v":""},null,"AHUAYCHA"]
[901,90720,"HUANCAVELICA","TAYACAJA","ANDAYMARCA",145,2896,-12.315300000000001,-74.635300000000001,{"$f":"IFERROR(VLOOKUP(B906,#REF!,8,FALSE),\"\")","v":""},null,"ANDAYMARCA"]
[902,90725,"HUANCAVELICA","TAYACAJA","COCHABAMBA",null,2658,-12.1927,-74.513800000000003,{"$f":"IFERROR(VLOOKUP(B907,#REF!,8,FALSE),\"\")","v":""},null,"COCHABAMBA"]
[903,90705,"HUANCAVELICA","TAYACAJA","COLCABAMBA",312,2953,-12.4092,-74.679400000000001,{"$f":"IFERROR(VLOOKUP(B908,#REF!,8,FALSE),\"\")","v":""},null,"COLCABAMBA"]
[904,90706,"HUANCAVELICA","TAYACAJA","DANIEL HERNANDEZ",107,3288,-12.3894,-74.859200000000001,{"$f":"IFERROR(VLOOKUP(B909,#REF!,8,FALSE),\"\")","v":""},null,"DANIEL HERNANDEZ"]
[905,90707,"HUANCAVELICA","TAYACAJA","HUACHOCOLPA",292,2913,-12.048299999999999,-74.594700000000003,{"$f":"IFERROR(VLOOKUP(B910,#REF!,8,FALSE),\"\")","v":""},null,"HUACHOCOLPA"]
[906,90709,"HUANCAVELICA","TAYACAJA","HUARIBAMBA",151,3019,-12.2797,-74.938299999999998,{"$f":"IFERROR(VLOOKUP(B911,#REF!,8,FALSE),\"\")","v":""},null,"HUARIBAMBA"]
[907,90724,"HUANCAVELICA","TAYACAJA","LAMBRAS",null,2568,-12.0664,-74.626199999999997,{"$f":"IFERROR(VLOOKUP(B912,#REF!,8,FALSE),\"\")","v":""},null,"LAMBRAS"]
[908,90710,"HUANCAVELICA","TAYACAJA","ÑAHUIMPUQUIO",67,3651,-12.3292,-75.069400000000002,{"$f":"IFERROR(VLOOKUP(B913,#REF!,8,FALSE),\"\")","v":""},null,"ÑAHUIMPUQUIO"]
[909,90701,"HUANCAVELICA","TAYACAJA","PAMPAS",109,3282,-12.3992,-74.868300000000005,{"$f":"IFERROR(VLOOKUP(B914,#REF!,8,FALSE),\"\")","v":""},null,"PAMPAS"]
[910,90711,"HUANCAVELICA","TAYACAJA","PAZOS",228,3820,-12.259399999999999,-75.070599999999999,{"$f":"IFERROR(VLOOKUP(B915,#REF!,8,FALSE),\"\")","v":""},null,"PAZOS"]
[911,90722,"HUANCAVELICA","TAYACAJA","PICHOS",145,3297,-12.2364,-74.938599999999994,{"$f":"IFERROR(VLOOKUP(B916,#REF!,8,FALSE),\"\")","v":""},null,"PICHOS"]
[912,90719,"HUANCAVELICA","TAYACAJA","QUICHUAS",114,2706,-12.4725,-74.767499999999998,{"$f":"IFERROR(VLOOKUP(B917,#REF!,8,FALSE),\"\")","v":""},null,"QUICHUAS"]
[913,90713,"HUANCAVELICA","TAYACAJA","QUISHUAR",32,3137,-12.243600000000001,-74.777199999999993,{"$f":"IFERROR(VLOOKUP(B918,#REF!,8,FALSE),\"\")","v":""},null,"QUISHUAR"]
[914,90721,"HUANCAVELICA","TAYACAJA","ROBLE",186,2640,-12.216699999999999,-74.489699999999999,{"$f":"IFERROR(VLOOKUP(B919,#REF!,8,FALSE),\"\")","v":""},null,"ROBLE"]
[915,90714,"HUANCAVELICA","TAYACAJA","SALCABAMBA",193,3063,-12.201700000000001,-74.780600000000007,{"$f":"IFERROR(VLOOKUP(B920,#REF!,8,FALSE),\"\")","v":""},null,"SALCABAMBA"]
[916,90715,"HUANCAVELICA","TAYACAJA","SALCAHUASI",118,3196,-12.104200000000001,-74.7517,{"$f":"IFERROR(VLOOKUP(B921,#REF!,8,FALSE),\"\")","v":""},null,"SALCAHUASI"]
[917,90716,"HUANCAVELICA","TAYACAJA","SAN MARCOS DE ROCCHAC",282,3206,-12.0939,-74.863900000000001,{"$f":"IFERROR(VLOOKUP(B922,#REF!,8,FALSE),\"\")","v":""},null,"SAN MARCOS DE ROCCHAC"]
[918,90723,"HUANCAVELICA","TAYACAJA","SANTIAGO DE TUCUMA",null,3538,-12.3142,-74.89,{"$f":"IFERROR(VLOOKUP(B923,#REF!,8,FALSE),\"\")","v":""},null,"SANTIAGO DE TUCUMA"]
[919,90717,"HUANCAVELICA","TAYACAJA","SURCUBAMBA",272,2626,-12.116400000000001,-74.630600000000001,{"$f":"IFERROR(VLOOKUP(B924,#REF!,8,FALSE),\"\")","v":""},null,"SURCUBAMBA"]
[920,90718,"HUANCAVELICA","TAYACAJA","TINTAY PUNCU",258,2410,-12.151899999999999,-74.544399999999996,{"$f":"IFERROR(VLOOKUP(B925,#REF!,8,FALSE),\"\")","v":""},null,"TINTAY PUNCU"]
[921,100201,"HUANUCO","AMBO","AMBO",289,2106,-10.129200000000001,-76.204400000000007,{"$f":"IFERROR(VLOOKUP(B926,#REF!,8,FALSE),\"\")","v":""},null,"AMBO"]
[922,100202,"HUANUCO","AMBO","CAYNA",166,3332,-10.272500000000001,-76.388300000000001,{"$f":"IFERROR(VLOOKUP(B927,#REF!,8,FALSE),\"\")","v":""},null,"CAYNA"]
[923,100203,"HUANUCO","AMBO","COLPAS",174,2740,-10.2683,-76.415300000000002,{"$f":"IFERROR(VLOOKUP(B928,#REF!,8,FALSE),\"\")","v":""},null,"COLPAS"]
[924,100204,"HUANUCO","AMBO","CONCHAMARCA",105,2185,-10.0358,-76.216899999999995,{"$f":"IFERROR(VLOOKUP(B929,#REF!,8,FALSE),\"\")","v":""},null,"CONCHAMARCA"]
[925,100205,"HUANUCO","AMBO","HUACAR",234,2157,-10.1594,-76.236699999999999,{"$f":"IFERROR(VLOOKUP(B930,#REF!,8,FALSE),\"\")","v":""},null,"HUACAR"]
[926,100206,"HUANUCO","AMBO","SAN FRANCISCO",121,3521,-10.3428,-76.291899999999998,{"$f":"IFERROR(VLOOKUP(B931,#REF!,8,FALSE),\"\")","v":""},null,"SAN FRANCISCO"]
[927,100207,"HUANUCO","AMBO","SAN RAFAEL",444,2720,-10.3378,-76.182199999999995,{"$f":"IFERROR(VLOOKUP(B932,#REF!,8,FALSE),\"\")","v":""},null,"SAN RAFAEL"]
[928,100208,"HUANUCO","AMBO","TOMAY KICHWA",42,2049,-10.077500000000001,-76.212500000000006,{"$f":"IFERROR(VLOOKUP(B933,#REF!,8,FALSE),\"\")","v":""},null,"TOMAY KICHWA"]
[929,100307,"HUANUCO","DOS DE MAYO","CHUQUIS",151,3375,-9.6763999999999992,-76.705299999999994,{"$f":"IFERROR(VLOOKUP(B934,#REF!,8,FALSE),\"\")","v":""},null,"CHUQUIS"]
[930,100301,"HUANUCO","DOS DE MAYO","LA UNION",167,3275,-9.8377999999999997,-76.803600000000003,{"$f":"IFERROR(VLOOKUP(B935,#REF!,8,FALSE),\"\")","v":""},null,"LA UNION"]
[931,100311,"HUANUCO","DOS DE MAYO","MARIAS",637,3508,-9.6074999999999999,-76.706699999999998,{"$f":"IFERROR(VLOOKUP(B936,#REF!,8,FALSE),\"\")","v":""},null,"MARIAS"]
[932,100313,"HUANUCO","DOS DE MAYO","PACHAS",265,3474,-9.7066999999999997,-76.771100000000004,{"$f":"IFERROR(VLOOKUP(B937,#REF!,8,FALSE),\"\")","v":""},null,"PACHAS"]
[933,100316,"HUANUCO","DOS DE MAYO","QUIVILLA",34,2972,-9.6,-76.725800000000007,{"$f":"IFERROR(VLOOKUP(B938,#REF!,8,FALSE),\"\")","v":""},null,"QUIVILLA"]
[934,100317,"HUANUCO","DOS DE MAYO","RIPAN",75,3233,-9.8285999999999998,-76.803100000000001,{"$f":"IFERROR(VLOOKUP(B939,#REF!,8,FALSE),\"\")","v":""},null,"RIPAN"]
[935,100321,"HUANUCO","DOS DE MAYO","SHUNQUI",32,3542,-9.7310999999999996,-76.783299999999997,{"$f":"IFERROR(VLOOKUP(B940,#REF!,8,FALSE),\"\")","v":""},null,"SHUNQUI"]
[936,100322,"HUANUCO","DOS DE MAYO","SILLAPATA",71,3459,-9.7571999999999992,-76.774699999999996,{"$f":"IFERROR(VLOOKUP(B941,#REF!,8,FALSE),\"\")","v":""},null,"SILLAPATA"]
[937,100323,"HUANUCO","DOS DE MAYO","YANAS",36,3477,-9.7143999999999995,-76.750299999999996,{"$f":"IFERROR(VLOOKUP(B942,#REF!,8,FALSE),\"\")","v":""},null,"YANAS"]
[938,100402,"HUANUCO","HUACAYBAMBA","CANCHABAMBA",187,3208,-8.8847000000000005,-77.123099999999994,{"$f":"IFERROR(VLOOKUP(B943,#REF!,8,FALSE),\"\")","v":""},null,"CANCHABAMBA"]
[939,100403,"HUANUCO","HUACAYBAMBA","COCHABAMBA",685,3293,-9.0952999999999999,-76.836399999999998,{"$f":"IFERROR(VLOOKUP(B944,#REF!,8,FALSE),\"\")","v":""},null,"COCHABAMBA"]
[940,100401,"HUANUCO","HUACAYBAMBA","HUACAYBAMBA",586,3176,-9.0381,-76.952500000000001,{"$f":"IFERROR(VLOOKUP(B945,#REF!,8,FALSE),\"\")","v":""},null,"HUACAYBAMBA"]
[941,100404,"HUANUCO","HUACAYBAMBA","PINRA",284,2874,-8.9246999999999996,-77.015000000000001,{"$f":"IFERROR(VLOOKUP(B946,#REF!,8,FALSE),\"\")","v":""},null,"PINRA"]
[942,100502,"HUANUCO","HUAMALIES","ARANCAY",158,3066,-9.1714000000000002,-76.751400000000004,{"$f":"IFERROR(VLOOKUP(B947,#REF!,8,FALSE),\"\")","v":""},null,"ARANCAY"]
[943,100503,"HUANUCO","HUAMALIES","CHAVIN DE PARIARCA",89,3382,-9.4230999999999998,-76.7714,{"$f":"IFERROR(VLOOKUP(B948,#REF!,8,FALSE),\"\")","v":""},null,"CHAVIN DE PARIARCA"]
[944,100504,"HUANUCO","HUAMALIES","JACAS GRANDE",237,3625,-9.5399999999999991,-76.736699999999999,{"$f":"IFERROR(VLOOKUP(B949,#REF!,8,FALSE),\"\")","v":""},null,"JACAS GRANDE"]
[945,100505,"HUANUCO","HUAMALIES","JIRCAN",85,3211,-9.2469000000000001,-76.719200000000001,{"$f":"IFERROR(VLOOKUP(B950,#REF!,8,FALSE),\"\")","v":""},null,"JIRCAN"]
[946,100501,"HUANUCO","HUAMALIES","LLATA",411,3489,-9.5496999999999996,-76.818600000000004,{"$f":"IFERROR(VLOOKUP(B951,#REF!,8,FALSE),\"\")","v":""},null,"LLATA"]
[947,100506,"HUANUCO","HUAMALIES","MIRAFLORES",97,3688,-9.4939,-76.818600000000004,{"$f":"IFERROR(VLOOKUP(B952,#REF!,8,FALSE),\"\")","v":""},null,"MIRAFLORES"]
[948,100507,"HUANUCO","HUAMALIES","MONZON",1521,982,-9.2799999999999994,-76.396699999999996,{"$f":"IFERROR(VLOOKUP(B953,#REF!,8,FALSE),\"\")","v":""},null,"MONZON"]
[949,100508,"HUANUCO","HUAMALIES","PUNCHAO",42,3560,-9.4621999999999993,-76.819699999999997,{"$f":"IFERROR(VLOOKUP(B954,#REF!,8,FALSE),\"\")","v":""},null,"PUNCHAO"]
[950,100509,"HUANUCO","HUAMALIES","PUÑOS",102,3749,-9.5006000000000004,-76.883899999999997,{"$f":"IFERROR(VLOOKUP(B955,#REF!,8,FALSE),\"\")","v":""},null,"PUÑOS"]
[951,100510,"HUANUCO","HUAMALIES","SINGA",152,3649,-9.3886000000000003,-76.8125,{"$f":"IFERROR(VLOOKUP(B956,#REF!,8,FALSE),\"\")","v":""},null,"SINGA"]
[952,100511,"HUANUCO","HUAMALIES","TANTAMAYO",250,3517,-9.3925000000000001,-76.72,{"$f":"IFERROR(VLOOKUP(B957,#REF!,8,FALSE),\"\")","v":""},null,"TANTAMAYO"]
[953,100102,"HUANUCO","HUANUCO","AMARILIS",132,1950,-9.94,-76.240600000000001,{"$f":"IFERROR(VLOOKUP(B958,#REF!,8,FALSE),\"\")","v":""},null,"AMARILIS"]
[954,100103,"HUANUCO","HUANUCO","CHINCHAO",796,2122,-9.8017000000000003,-76.070800000000006,{"$f":"IFERROR(VLOOKUP(B959,#REF!,8,FALSE),\"\")","v":""},null,"CHINCHAO"]
[955,100104,"HUANUCO","HUANUCO","CHURUBAMBA",507,1954,-9.8261000000000003,-76.133899999999997,{"$f":"IFERROR(VLOOKUP(B960,#REF!,8,FALSE),\"\")","v":""},null,"CHURUBAMBA"]
[956,100101,"HUANUCO","HUANUCO","HUANUCO",126,1921,-9.93,-76.239699999999999,{"$f":"IFERROR(VLOOKUP(B961,#REF!,8,FALSE),\"\")","v":""},null,"HUANUCO"]
[957,100105,"HUANUCO","HUANUCO","MARGOS",207,3555,-10.0053,-76.523300000000006,{"$f":"IFERROR(VLOOKUP(B962,#REF!,8,FALSE),\"\")","v":""},null,"MARGOS"]
[958,100111,"HUANUCO","HUANUCO","PILLCO MARCA",77,1996,-9.9608000000000008,-76.249200000000002,{"$f":"IFERROR(VLOOKUP(B963,#REF!,8,FALSE),\"\")","v":""},null,"PILLCO MARCA"]
[959,100106,"HUANUCO","HUANUCO","QUISQUI",173,2427,-9.9047000000000001,-76.392499999999998,{"$f":"IFERROR(VLOOKUP(B964,#REF!,8,FALSE),\"\")","v":""},null,"QUISQUI"]
[960,100107,"HUANUCO","HUANUCO","SAN FRANCISCO DE CAYRAN",146,2247,-9.9808000000000003,-76.284199999999998,{"$f":"IFERROR(VLOOKUP(B965,#REF!,8,FALSE),\"\")","v":""},null,"SAN FRANCISCO DE CAYRAN"]
[961,100113,"HUANUCO","HUANUCO","SAN PABLO DE PILLAO",585,2954,-9.7864000000000004,-75.999399999999994,{"$f":"IFERROR(VLOOKUP(B966,#REF!,8,FALSE),\"\")","v":""},null,"SAN PABLO DE PILLAO"]
[962,100108,"HUANUCO","HUANUCO","SAN PEDRO DE CHAULAN",266,3587,-10.0564,-76.485600000000005,{"$f":"IFERROR(VLOOKUP(B967,#REF!,8,FALSE),\"\")","v":""},null,"SAN PEDRO DE CHAULAN"]
[{"$f":"+A967+1","v":963},100109,"HUANUCO","HUANUCO","SANTA MARIA DEL VALLE",447,1939,-9.8625000000000007,-76.17,{"$f":"IFERROR(VLOOKUP(B968,#REF!,8,FALSE),\"\")","v":""},null,"SANTA MARIA DEL VALLE"]
[964,100112,"HUANUCO","HUANUCO","YACUS",70,3243,-9.9861000000000004,-76.505799999999994,{"$f":"IFERROR(VLOOKUP(B969,#REF!,8,FALSE),\"\")","v":""},null,"YACUS"]
[965,100110,"HUANUCO","HUANUCO","YARUMAYO",61,3055,-10.0044,-76.468599999999995,{"$f":"IFERROR(VLOOKUP(B970,#REF!,8,FALSE),\"\")","v":""},null,"YARUMAYO"]
[966,101002,"HUANUCO","LAURICOCHA","BAÑOS",153,3442,-10.0764,-76.735600000000005,{"$f":"IFERROR(VLOOKUP(B971,#REF!,8,FALSE),\"\")","v":""},null,"BAÑOS"]
[967,101001,"HUANUCO","LAURICOCHA","JESUS",450,3499,-10.0783,-76.631399999999999,{"$f":"IFERROR(VLOOKUP(B972,#REF!,8,FALSE),\"\")","v":""},null,"JESUS"]
[968,101003,"HUANUCO","LAURICOCHA","JIVIA",61,3394,-10.023300000000001,-76.680300000000003,{"$f":"IFERROR(VLOOKUP(B973,#REF!,8,FALSE),\"\")","v":""},null,"JIVIA"]
[969,101004,"HUANUCO","LAURICOCHA","QUEROPALCA",131,3835,-10.1814,-76.803100000000001,{"$f":"IFERROR(VLOOKUP(B974,#REF!,8,FALSE),\"\")","v":""},null,"QUEROPALCA"]
[970,101005,"HUANUCO","LAURICOCHA","RONDOS",169,3617,-9.9844000000000008,-76.688299999999998,{"$f":"IFERROR(VLOOKUP(B975,#REF!,8,FALSE),\"\")","v":""},null,"RONDOS"]
[971,101006,"HUANUCO","LAURICOCHA","SAN FRANCISCO DE ASIS",84,3457,-9.9763999999999999,-76.676900000000003,{"$f":"IFERROR(VLOOKUP(B976,#REF!,8,FALSE),\"\")","v":""},null,"SAN FRANCISCO DE ASIS"]
[972,101007,"HUANUCO","LAURICOCHA","SAN MIGUEL DE CAURI",812,3625,-10.1425,-76.625600000000006,{"$f":"IFERROR(VLOOKUP(B977,#REF!,8,FALSE),\"\")","v":""},null,"SAN MIGUEL DE CAURI"]
[973,100608,"HUANUCO","LEONCIO PRADO","CASTILLO GRANDE",106,675,-9.2797000000000001,-76.008899999999997,{"$f":"IFERROR(VLOOKUP(B978,#REF!,8,FALSE),\"\")","v":""},null,"CASTILLO GRANDE"]
[974,100602,"HUANUCO","LEONCIO PRADO","DANIEL ALOMIAS ROBLES",702,669,-9.1877999999999993,-75.954700000000003,{"$f":"IFERROR(VLOOKUP(B979,#REF!,8,FALSE),\"\")","v":""},null,"DANIEL ALOMIAS ROBLES"]
[975,100603,"HUANUCO","LEONCIO PRADO","HERMILIO VALDIZAN",112,1354,-9.2056000000000004,-75.835800000000006,{"$f":"IFERROR(VLOOKUP(B980,#REF!,8,FALSE),\"\")","v":""},null,"HERMILIO VALDIZAN"]
[976,100604,"HUANUCO","LEONCIO PRADO","JOSE CRESPO Y CASTILLO",2121,587,-8.9321999999999999,-76.116100000000003,{"$f":"IFERROR(VLOOKUP(B981,#REF!,8,FALSE),\"\")","v":""},null,"JOSE CRESPO Y CASTILLO"]
[977,100605,"HUANUCO","LEONCIO PRADO","LUYANDO",100,642,-9.2481000000000009,-75.994200000000006,{"$f":"IFERROR(VLOOKUP(B982,#REF!,8,FALSE),\"\")","v":""},null,"LUYANDO"]
[978,100606,"HUANUCO","LEONCIO PRADO","MARIANO DAMASO BERAUN",766,736,-9.4428000000000001,-75.971100000000007,{"$f":"IFERROR(VLOOKUP(B983,#REF!,8,FALSE),\"\")","v":""},null,"MARIANO DAMASO BERAUN"]
[979,100607,"HUANUCO","LEONCIO PRADO","PUCAYACU",768,573,-8.7497000000000007,-76.121099999999998,{"$f":"IFERROR(VLOOKUP(B984,#REF!,8,FALSE),\"\")","v":""},null,"PUCAYACU"]
[980,100609,"HUANUCO","LEONCIO PRADO","PUEBLO NUEVO",null,626,-9.0785999999999998,-76.060599999999994,{"$f":"IFERROR(VLOOKUP(B985,#REF!,8,FALSE),\"\")","v":""},null,"PUEBLO NUEVO"]
[981,100601,"HUANUCO","LEONCIO PRADO","RUPA-RUPA",267,667,-9.2980999999999998,-76.000600000000006,{"$f":"IFERROR(VLOOKUP(B986,#REF!,8,FALSE),\"\")","v":""},null,"RUPA-RUPA"]
[982,100610,"HUANUCO","LEONCIO PRADO","SANTO DOMINGO DE ANDA",284,617,-9.0236000000000001,-76.066699999999997,{"$f":"IFERROR(VLOOKUP(B987,#REF!,8,FALSE),\"\")","v":""},null,"SANTO DOMINGO DE ANDA"]
[983,100702,"HUANUCO","MARAÑON","CHOLON",2125,2447,-8.6557999999999993,-76.875299999999996,{"$f":"IFERROR(VLOOKUP(B988,#REF!,8,FALSE),\"\")","v":""},null,"CHOLON"]
[984,100701,"HUANUCO","MARAÑON","HUACRACHUCO",705,2914,-8.6046999999999993,-77.149199999999993,{"$f":"IFERROR(VLOOKUP(B989,#REF!,8,FALSE),\"\")","v":""},null,"HUACRACHUCO"]
[985,100704,"HUANUCO","MARAÑON","LA MORADA",879,559,-8.7943999999999996,-76.249700000000004,{"$f":"IFERROR(VLOOKUP(B990,#REF!,8,FALSE),\"\")","v":""},null,"LA MORADA"]
[986,100703,"HUANUCO","MARAÑON","SAN BUENAVENTURA",87,3211,-8.7677999999999994,-77.186099999999996,{"$f":"IFERROR(VLOOKUP(B991,#REF!,8,FALSE),\"\")","v":""},null,"SAN BUENAVENTURA"]
[987,100705,"HUANUCO","MARAÑON","SANTA ROSA DE ALTO YANAJANCA",1006,530,-8.6527999999999992,-76.314700000000002,{"$f":"IFERROR(VLOOKUP(B992,#REF!,8,FALSE),\"\")","v":""},null,"SANTA ROSA DE ALTO YANAJANCA"]
[988,100802,"HUANUCO","PACHITEA","CHAGLLA",1104,3040,-9.8446999999999996,-75.902799999999999,{"$f":"IFERROR(VLOOKUP(B993,#REF!,8,FALSE),\"\")","v":""},null,"CHAGLLA"]
[989,100803,"HUANUCO","PACHITEA","MOLINO",236,2396,-9.9108000000000001,-76.0167,{"$f":"IFERROR(VLOOKUP(B994,#REF!,8,FALSE),\"\")","v":""},null,"MOLINO"]
[990,100801,"HUANUCO","PACHITEA","PANAO",1581,2536,-9.8975000000000009,-75.994200000000006,{"$f":"IFERROR(VLOOKUP(B995,#REF!,8,FALSE),\"\")","v":""},null,"PANAO"]
[991,100804,"HUANUCO","PACHITEA","UMARI",149,2524,-9.8642000000000003,-76.044399999999996,{"$f":"IFERROR(VLOOKUP(B996,#REF!,8,FALSE),\"\")","v":""},null,"UMARI"]
[992,100902,"HUANUCO","PUERTO INCA","CODO DEL POZUZO",3322,398,-9.67,-75.462500000000006,{"$f":"IFERROR(VLOOKUP(B997,#REF!,8,FALSE),\"\")","v":""},null,"CODO DEL POZUZO"]
[993,100903,"HUANUCO","PUERTO INCA","HONORIA",798,177,-8.7693999999999992,-74.709199999999996,{"$f":"IFERROR(VLOOKUP(B998,#REF!,8,FALSE),\"\")","v":""},null,"HONORIA"]
[994,100901,"HUANUCO","PUERTO INCA","PUERTO INCA",2147,215,-9.3788999999999998,-74.965800000000002,{"$f":"IFERROR(VLOOKUP(B999,#REF!,8,FALSE),\"\")","v":""},null,"PUERTO INCA"]
[995,100904,"HUANUCO","PUERTO INCA","TOURNAVISTA",2228,214,-8.9344000000000001,-74.701400000000007,{"$f":"IFERROR(VLOOKUP(B1000,#REF!,8,FALSE),\"\")","v":""},null,"TOURNAVISTA"]
[996,100905,"HUANUCO","PUERTO INCA","YUYAPICHIS",1846,227,-9.6282999999999994,-74.974699999999999,{"$f":"IFERROR(VLOOKUP(B1001,#REF!,8,FALSE),\"\")","v":""},null,"YUYAPICHIS"]
[997,101104,"HUANUCO","YAROWILCA","APARICIO POMARES",183,3452,-9.7477999999999998,-76.648099999999999,{"$f":"IFERROR(VLOOKUP(B1002,#REF!,8,FALSE),\"\")","v":""},null,"APARICIO POMARES"]
[998,101102,"HUANUCO","YAROWILCA","CAHUAC",30,3413,-9.8528000000000002,-76.630600000000001,{"$f":"IFERROR(VLOOKUP(B1003,#REF!,8,FALSE),\"\")","v":""},null,"CAHUAC"]
[999,101103,"HUANUCO","YAROWILCA","CHACABAMBA",17,3204,-9.9002999999999997,-76.611099999999993,{"$f":"IFERROR(VLOOKUP(B1004,#REF!,8,FALSE),\"\")","v":""},null,"CHACABAMBA"]
[1000,101101,"HUANUCO","YAROWILCA","CHAVINILLO",205,3475,-9.8589000000000002,-76.608900000000006,{"$f":"IFERROR(VLOOKUP(B1005,#REF!,8,FALSE),\"\")","v":""},null,"CHAVINILLO"]
[1001,101108,"HUANUCO","YAROWILCA","CHORAS",61,3554,-9.9102999999999994,-76.605800000000002,{"$f":"IFERROR(VLOOKUP(B1006,#REF!,8,FALSE),\"\")","v":""},null,"CHORAS"]
[1002,101105,"HUANUCO","YAROWILCA","JACAS CHICO",36,3816,-9.8864000000000001,-76.503100000000003,{"$f":"IFERROR(VLOOKUP(B1007,#REF!,8,FALSE),\"\")","v":""},null,"JACAS CHICO"]
[1003,101106,"HUANUCO","YAROWILCA","OBAS",123,3543,-9.7952999999999992,-76.665800000000004,{"$f":"IFERROR(VLOOKUP(B1008,#REF!,8,FALSE),\"\")","v":""},null,"OBAS"]
[1004,101107,"HUANUCO","YAROWILCA","PAMPAMARCA",73,3436,-9.7052999999999994,-76.702500000000001,{"$f":"IFERROR(VLOOKUP(B1009,#REF!,8,FALSE),\"\")","v":""},null,"PAMPAMARCA"]
[1005,110202,"ICA","CHINCHA","ALTO LARAN",299,156,-13.442500000000001,-76.083299999999994,{"$f":"IFERROR(VLOOKUP(B1010,#REF!,8,FALSE),\"\")","v":""},null,"ALTO LARAN"]
[1006,110203,"ICA","CHINCHA","CHAVIN",426,3183,-13.0764,-75.9131,{"$f":"IFERROR(VLOOKUP(B1011,#REF!,8,FALSE),\"\")","v":""},null,"CHAVIN"]
[1007,110201,"ICA","CHINCHA","CHINCHA ALTA",238,140,-13.4183,-76.132499999999993,{"$f":"IFERROR(VLOOKUP(B1012,#REF!,8,FALSE),\"\")","v":""},null,"CHINCHA ALTA"]
[1008,110204,"ICA","CHINCHA","CHINCHA BAJA",73,44,-13.4594,-76.165599999999998,{"$f":"IFERROR(VLOOKUP(B1013,#REF!,8,FALSE),\"\")","v":""},null,"CHINCHA BAJA"]
[1009,110205,"ICA","CHINCHA","EL CARMEN",790,160,-13.4994,-76.0578,{"$f":"IFERROR(VLOOKUP(B1014,#REF!,8,FALSE),\"\")","v":""},null,"EL CARMEN"]
[1010,110206,"ICA","CHINCHA","GROCIO PRADO",191,134,-13.398099999999999,-76.156099999999995,{"$f":"IFERROR(VLOOKUP(B1015,#REF!,8,FALSE),\"\")","v":""},null,"GROCIO PRADO"]
[1011,110207,"ICA","CHINCHA","PUEBLO NUEVO",209,146,-13.404199999999999,-76.127499999999998,{"$f":"IFERROR(VLOOKUP(B1016,#REF!,8,FALSE),\"\")","v":""},null,"PUEBLO NUEVO"]
[1012,110208,"ICA","CHINCHA","SAN JUAN DE YANAC",500,2555,-13.2111,-75.787199999999999,{"$f":"IFERROR(VLOOKUP(B1017,#REF!,8,FALSE),\"\")","v":""},null,"SAN JUAN DE YANAC"]
[1013,110209,"ICA","CHINCHA","SAN PEDRO DE HUACARPANA",222,3812,-13.049200000000001,-75.647800000000004,{"$f":"IFERROR(VLOOKUP(B1018,#REF!,8,FALSE),\"\")","v":""},null,"SAN PEDRO DE HUACARPANA"]
[1014,110210,"ICA","CHINCHA","SUNAMPE",17,94,-13.4275,-76.163600000000002,{"$f":"IFERROR(VLOOKUP(B1019,#REF!,8,FALSE),\"\")","v":""},null,"SUNAMPE"]
[1015,110211,"ICA","CHINCHA","TAMBO DE MORA",22,37,-13.460599999999999,-76.176699999999997,{"$f":"IFERROR(VLOOKUP(B1020,#REF!,8,FALSE),\"\")","v":""},null,"TAMBO DE MORA"]
[1016,110101,"ICA","ICA","ICA",888,432,-14.063599999999999,-75.729200000000006,{"$f":"IFERROR(VLOOKUP(B1021,#REF!,8,FALSE),\"\")","v":""},null,"ICA"]
[1017,110102,"ICA","ICA","LA TINGUIÑA",98,463,-14.033300000000001,-75.710599999999999,{"$f":"IFERROR(VLOOKUP(B1022,#REF!,8,FALSE),\"\")","v":""},null,"LA TINGUIÑA"]
[1018,110103,"ICA","ICA","LOS AQUIJES",91,446,-14.096399999999999,-75.690600000000003,{"$f":"IFERROR(VLOOKUP(B1023,#REF!,8,FALSE),\"\")","v":""},null,"LOS AQUIJES"]
[1019,110104,"ICA","ICA","OCUCAJE",1417,332,-14.3467,-75.672200000000004,{"$f":"IFERROR(VLOOKUP(B1024,#REF!,8,FALSE),\"\")","v":""},null,"OCUCAJE"]
[1020,110105,"ICA","ICA","PACHACUTEC",34,424,-14.151899999999999,-75.691900000000004,{"$f":"IFERROR(VLOOKUP(B1025,#REF!,8,FALSE),\"\")","v":""},null,"PACHACUTEC"]
[1021,110106,"ICA","ICA","PARCONA",17,472,-14.053900000000001,-75.685599999999994,{"$f":"IFERROR(VLOOKUP(B1026,#REF!,8,FALSE),\"\")","v":""},null,"PARCONA"]
[1022,110107,"ICA","ICA","PUEBLO NUEVO",33,417,-14.1272,-75.705799999999996,{"$f":"IFERROR(VLOOKUP(B1027,#REF!,8,FALSE),\"\")","v":""},null,"PUEBLO NUEVO"]
[1023,110108,"ICA","ICA","SALAS",652,452,-13.985799999999999,-75.772199999999998,{"$f":"IFERROR(VLOOKUP(B1028,#REF!,8,FALSE),\"\")","v":""},null,"SALAS"]
[1024,110109,"ICA","ICA","SAN JOSE DE LOS MOLINOS",363,542,-13.9331,-75.6708,{"$f":"IFERROR(VLOOKUP(B1029,#REF!,8,FALSE),\"\")","v":""},null,"SAN JOSE DE LOS MOLINOS"]
[1025,110110,"ICA","ICA","SAN JUAN BAUTISTA",26,459,-14.0114,-75.735299999999995,{"$f":"IFERROR(VLOOKUP(B1030,#REF!,8,FALSE),\"\")","v":""},null,"SAN JUAN BAUTISTA"]
[1026,110111,"ICA","ICA","SANTIAGO",2784,395,-14.1858,-75.714399999999998,{"$f":"IFERROR(VLOOKUP(B1031,#REF!,8,FALSE),\"\")","v":""},null,"SANTIAGO"]
[{"$f":"+A1031+1","v":1027},110112,"ICA","ICA","SUBTANJALLA",194,445,-14.018599999999999,-75.758099999999999,{"$f":"IFERROR(VLOOKUP(B1032,#REF!,8,FALSE),\"\")","v":""},null,"SUBTANJALLA"]
[1028,110113,"ICA","ICA","TATE",7,417,-14.155799999999999,-75.708100000000002,{"$f":"IFERROR(VLOOKUP(B1033,#REF!,8,FALSE),\"\")","v":""},null,"TATE"]
[1029,110114,"ICA","ICA","YAUCA DEL ROSARIO",1289,861,-14.0989,-75.476900000000001,{"$f":"IFERROR(VLOOKUP(B1034,#REF!,8,FALSE),\"\")","v":""},null,"YAUCA DEL ROSARIO"]
[1030,110302,"ICA","NAZCA","CHANGUILLO",947,260,-14.6647,-75.222499999999997,{"$f":"IFERROR(VLOOKUP(B1035,#REF!,8,FALSE),\"\")","v":""},null,"CHANGUILLO"]
[1031,110303,"ICA","NAZCA","EL INGENIO",552,463,-14.645300000000001,-75.058300000000003,{"$f":"IFERROR(VLOOKUP(B1036,#REF!,8,FALSE),\"\")","v":""},null,"EL INGENIO"]
[1032,110304,"ICA","NAZCA","MARCONA",1955,36,-15.3619,-75.165800000000004,{"$f":"IFERROR(VLOOKUP(B1037,#REF!,8,FALSE),\"\")","v":""},null,"MARCONA"]
[1033,110301,"ICA","NAZCA","NAZCA",1252,618,-14.8269,-74.937200000000004,{"$f":"IFERROR(VLOOKUP(B1038,#REF!,8,FALSE),\"\")","v":""},null,"NAZCA"]
[1034,110305,"ICA","NAZCA","VISTA ALEGRE",527,618,-14.845800000000001,-74.943899999999999,{"$f":"IFERROR(VLOOKUP(B1039,#REF!,8,FALSE),\"\")","v":""},null,"VISTA ALEGRE"]
[1035,110402,"ICA","PALPA","LLIPATA",186,317,-14.5633,-75.207499999999996,{"$f":"IFERROR(VLOOKUP(B1040,#REF!,8,FALSE),\"\")","v":""},null,"LLIPATA"]
[1036,110401,"ICA","PALPA","PALPA",147,371,-14.533899999999999,-75.185000000000002,{"$f":"IFERROR(VLOOKUP(B1041,#REF!,8,FALSE),\"\")","v":""},null,"PALPA"]
[1037,110403,"ICA","PALPA","RIO GRANDE",316,369,-14.52,-75.201099999999997,{"$f":"IFERROR(VLOOKUP(B1042,#REF!,8,FALSE),\"\")","v":""},null,"RIO GRANDE"]
[1038,110404,"ICA","PALPA","SANTA CRUZ",256,546,-14.4833,-75.245599999999996,{"$f":"IFERROR(VLOOKUP(B1043,#REF!,8,FALSE),\"\")","v":""},null,"SANTA CRUZ"]
[1039,110405,"ICA","PALPA","TIBILLO",328,2192,-14.0939,-75.171700000000001,{"$f":"IFERROR(VLOOKUP(B1044,#REF!,8,FALSE),\"\")","v":""},null,"TIBILLO"]
[1040,110502,"ICA","PISCO","HUANCANO",905,1039,-13.6008,-75.618600000000001,{"$f":"IFERROR(VLOOKUP(B1045,#REF!,8,FALSE),\"\")","v":""},null,"HUANCANO"]
[1041,110503,"ICA","PISCO","HUMAY",1113,426,-13.722799999999999,-75.886700000000005,{"$f":"IFERROR(VLOOKUP(B1046,#REF!,8,FALSE),\"\")","v":""},null,"HUMAY"]
[1042,110504,"ICA","PISCO","INDEPENDENCIA ica",272,235,-13.693899999999999,-76.024699999999996,{"$f":"IFERROR(VLOOKUP(B1047,#REF!,8,FALSE),\"\")","v":""},null,"INDEPENDENCIA ica"]
[1043,110505,"ICA","PISCO","PARACAS",1420,14,-13.838900000000001,-76.251900000000006,{"$f":"IFERROR(VLOOKUP(B1048,#REF!,8,FALSE),\"\")","v":""},null,"PARACAS"]
[1044,110501,"ICA","PISCO","PISCO",25,39,-13.71,-76.201700000000002,{"$f":"IFERROR(VLOOKUP(B1049,#REF!,8,FALSE),\"\")","v":""},null,"PISCO"]
[1045,110506,"ICA","PISCO","SAN ANDRES",39,16,-13.731400000000001,-76.223299999999995,{"$f":"IFERROR(VLOOKUP(B1050,#REF!,8,FALSE),\"\")","v":""},null,"SAN ANDRES"]
[1046,110507,"ICA","PISCO","SAN CLEMENTE",127,116,-13.680300000000001,-76.156899999999993,{"$f":"IFERROR(VLOOKUP(B1051,#REF!,8,FALSE),\"\")","v":""},null,"SAN CLEMENTE"]
[1047,110508,"ICA","PISCO","TUPAC AMARU INCA",55,113,-13.7133,-76.148300000000006,{"$f":"IFERROR(VLOOKUP(B1052,#REF!,8,FALSE),\"\")","v":""},null,"TUPAC AMARU INCA"]
[1048,120301,"JUNIN","CHANCHAMAYO","CHANCHAMAYO",920,804,-11.056699999999999,-75.327500000000001,{"$f":"IFERROR(VLOOKUP(B1053,#REF!,8,FALSE),\"\")","v":""},null,"CHANCHAMAYO"]
[1049,120302,"JUNIN","CHANCHAMAYO","PERENE",1191,666,-10.9475,-75.224699999999999,{"$f":"IFERROR(VLOOKUP(B1054,#REF!,8,FALSE),\"\")","v":""},null,"PERENE"]
[1050,120303,"JUNIN","CHANCHAMAYO","PICHANAQUI",1497,531,-10.926399999999999,-74.872799999999998,{"$f":"IFERROR(VLOOKUP(B1055,#REF!,8,FALSE),\"\")","v":""},null,"PICHANAQUI"]
[1051,120304,"JUNIN","CHANCHAMAYO","SAN LUIS DE SHUARO",212,739,-10.888299999999999,-75.287199999999999,{"$f":"IFERROR(VLOOKUP(B1056,#REF!,8,FALSE),\"\")","v":""},null,"SAN LUIS DE SHUARO"]
[1052,120305,"JUNIN","CHANCHAMAYO","SAN RAMON",592,865,-11.1206,-75.353099999999998,{"$f":"IFERROR(VLOOKUP(B1057,#REF!,8,FALSE),\"\")","v":""},null,"SAN RAMON"]
[1053,120306,"JUNIN","CHANCHAMAYO","VITOC",314,962,-11.2103,-75.334699999999998,{"$f":"IFERROR(VLOOKUP(B1058,#REF!,8,FALSE),\"\")","v":""},null,"VITOC"]
[1054,120902,"JUNIN","CHUPACA","AHUAC",70,3341,-12.085800000000001,-75.321100000000001,{"$f":"IFERROR(VLOOKUP(B1059,#REF!,8,FALSE),\"\")","v":""},null,"AHUAC"]
[1055,120903,"JUNIN","CHUPACA","CHONGOS BAJO",101,3288,-12.133900000000001,-75.268100000000004,{"$f":"IFERROR(VLOOKUP(B1060,#REF!,8,FALSE),\"\")","v":""},null,"CHONGOS BAJO"]
[1056,120901,"JUNIN","CHUPACA","CHUPACA",22,3286,-12.0578,-75.289400000000001,{"$f":"IFERROR(VLOOKUP(B1061,#REF!,8,FALSE),\"\")","v":""},null,"CHUPACA"]
[1057,120904,"JUNIN","CHUPACA","HUACHAC",22,3378,-12.0206,-75.341099999999997,{"$f":"IFERROR(VLOOKUP(B1062,#REF!,8,FALSE),\"\")","v":""},null,"HUACHAC"]
[1058,120905,"JUNIN","CHUPACA","HUAMANCACA CHICO",9,3203,-12.0808,-75.242199999999997,{"$f":"IFERROR(VLOOKUP(B1063,#REF!,8,FALSE),\"\")","v":""},null,"HUAMANCACA CHICO"]
[1059,120907,"JUNIN","CHUPACA","SAN JUAN DE JARPA",137,3692,-12.1264,-75.435599999999994,{"$f":"IFERROR(VLOOKUP(B1064,#REF!,8,FALSE),\"\")","v":""},null,"SAN JUAN DE JARPA"]
[1060,120906,"JUNIN","CHUPACA","SAN JUAN DE YSCOS",25,3280,-12.0983,-75.2928,{"$f":"IFERROR(VLOOKUP(B1065,#REF!,8,FALSE),\"\")","v":""},null,"SAN JUAN DE YSCOS"]
[1061,120908,"JUNIN","CHUPACA","TRES DE DICIEMBRE",15,3193,-12.1097,-75.245800000000003,{"$f":"IFERROR(VLOOKUP(B1066,#REF!,8,FALSE),\"\")","v":""},null,"TRES DE DICIEMBRE"]
[1062,120909,"JUNIN","CHUPACA","YANACANCHA",743,3854,-12.2011,-75.386700000000005,{"$f":"IFERROR(VLOOKUP(B1067,#REF!,8,FALSE),\"\")","v":""},null,"YANACANCHA"]
[1063,120202,"JUNIN","CONCEPCION","ACO",38,3474,-11.9581,-75.368300000000005,{"$f":"IFERROR(VLOOKUP(B1068,#REF!,8,FALSE),\"\")","v":""},null,"ACO"]
[1064,120203,"JUNIN","CONCEPCION","ANDAMARCA",695,2508,-11.728300000000001,-74.801699999999997,{"$f":"IFERROR(VLOOKUP(B1069,#REF!,8,FALSE),\"\")","v":""},null,"ANDAMARCA"]
[1065,120204,"JUNIN","CONCEPCION","CHAMBARA",113,3521,-12.027200000000001,-75.375299999999996,{"$f":"IFERROR(VLOOKUP(B1070,#REF!,8,FALSE),\"\")","v":""},null,"CHAMBARA"]
[1066,120205,"JUNIN","CONCEPCION","COCHAS",165,3231,-11.66,-75.102199999999996,{"$f":"IFERROR(VLOOKUP(B1071,#REF!,8,FALSE),\"\")","v":""},null,"COCHAS"]
[1067,120206,"JUNIN","CONCEPCION","COMAS",825,3303,-11.7178,-75.081699999999998,{"$f":"IFERROR(VLOOKUP(B1072,#REF!,8,FALSE),\"\")","v":""},null,"COMAS"]
[1068,120201,"JUNIN","CONCEPCION","CONCEPCION",18,3303,-11.918900000000001,-75.3125,{"$f":"IFERROR(VLOOKUP(B1073,#REF!,8,FALSE),\"\")","v":""},null,"CONCEPCION"]
[1069,120207,"JUNIN","CONCEPCION","HEROINAS TOLEDO",26,3764,-11.835599999999999,-75.290800000000004,{"$f":"IFERROR(VLOOKUP(B1074,#REF!,8,FALSE),\"\")","v":""},null,"HEROINAS TOLEDO"]
[1070,120208,"JUNIN","CONCEPCION","MANZANARES",21,3381,-12.0161,-75.345799999999997,{"$f":"IFERROR(VLOOKUP(B1075,#REF!,8,FALSE),\"\")","v":""},null,"MANZANARES"]
[1071,120209,"JUNIN","CONCEPCION","MARISCAL CASTILLA",744,2513,-11.619199999999999,-75.09,{"$f":"IFERROR(VLOOKUP(B1076,#REF!,8,FALSE),\"\")","v":""},null,"MARISCAL CASTILLA"]
[1072,120210,"JUNIN","CONCEPCION","MATAHUASI",25,3302,-11.8939,-75.344200000000001,{"$f":"IFERROR(VLOOKUP(B1077,#REF!,8,FALSE),\"\")","v":""},null,"MATAHUASI"]
[1073,120211,"JUNIN","CONCEPCION","MITO",25,3296,-11.937200000000001,-75.339200000000005,{"$f":"IFERROR(VLOOKUP(B1078,#REF!,8,FALSE),\"\")","v":""},null,"MITO"]
[1074,120212,"JUNIN","CONCEPCION","NUEVE DE JULIO",7,3339,-11.8978,-75.318100000000001,{"$f":"IFERROR(VLOOKUP(B1079,#REF!,8,FALSE),\"\")","v":""},null,"NUEVE DE JULIO"]
[1075,120213,"JUNIN","CONCEPCION","ORCOTUNA",45,3271,-11.9672,-75.307500000000005,{"$f":"IFERROR(VLOOKUP(B1080,#REF!,8,FALSE),\"\")","v":""},null,"ORCOTUNA"]
[1076,120214,"JUNIN","CONCEPCION","SAN JOSE DE QUERO",315,3913,-12.085599999999999,-75.5364,{"$f":"IFERROR(VLOOKUP(B1081,#REF!,8,FALSE),\"\")","v":""},null,"SAN JOSE DE QUERO"]
[1077,120215,"JUNIN","CONCEPCION","SANTA ROSA DE OCOPA",14,3396,-11.8772,-75.295000000000002,{"$f":"IFERROR(VLOOKUP(B1082,#REF!,8,FALSE),\"\")","v":""},null,"SANTA ROSA DE OCOPA"]
[1078,120104,"JUNIN","HUANCAYO","CARHUACALLANGA",14,3774,-12.355,-75.200599999999994,{"$f":"IFERROR(VLOOKUP(B1083,#REF!,8,FALSE),\"\")","v":""},null,"CARHUACALLANGA"]
[1079,120105,"JUNIN","HUANCAYO","CHACAPAMPA",121,3413,-12.345000000000001,-75.247500000000002,{"$f":"IFERROR(VLOOKUP(B1084,#REF!,8,FALSE),\"\")","v":""},null,"CHACAPAMPA"]
[1080,120106,"JUNIN","HUANCAYO","CHICCHE",46,3606,-12.296099999999999,-75.298599999999993,{"$f":"IFERROR(VLOOKUP(B1085,#REF!,8,FALSE),\"\")","v":""},null,"CHICCHE"]
[1081,120107,"JUNIN","HUANCAYO","CHILCA",8,3273,-12.0867,-75.208299999999994,{"$f":"IFERROR(VLOOKUP(B1086,#REF!,8,FALSE),\"\")","v":""},null,"CHILCA"]
[1082,120108,"JUNIN","HUANCAYO","CHONGOS ALTO",702,3573,-12.3117,-75.289199999999994,{"$f":"IFERROR(VLOOKUP(B1087,#REF!,8,FALSE),\"\")","v":""},null,"CHONGOS ALTO"]
[1083,120111,"JUNIN","HUANCAYO","CHUPURO",14,3197,-12.1556,-75.245599999999996,{"$f":"IFERROR(VLOOKUP(B1088,#REF!,8,FALSE),\"\")","v":""},null,"CHUPURO"]
[1084,120112,"JUNIN","HUANCAYO","COLCA",113,3499,-12.317500000000001,-75.222200000000001,{"$f":"IFERROR(VLOOKUP(B1089,#REF!,8,FALSE),\"\")","v":""},null,"COLCA"]
[1085,120113,"JUNIN","HUANCAYO","CULLHUAS",108,3549,-12.220599999999999,-75.166899999999998,{"$f":"IFERROR(VLOOKUP(B1090,#REF!,8,FALSE),\"\")","v":""},null,"CULLHUAS"]
[1086,120114,"JUNIN","HUANCAYO","EL TAMBO",74,3305,-12.0503,-75.221400000000003,{"$f":"IFERROR(VLOOKUP(B1091,#REF!,8,FALSE),\"\")","v":""},null,"EL TAMBO"]
[1087,120116,"JUNIN","HUANCAYO","HUACRAPUQUIO",24,3238,-12.171099999999999,-75.220799999999997,{"$f":"IFERROR(VLOOKUP(B1092,#REF!,8,FALSE),\"\")","v":""},null,"HUACRAPUQUIO"]
[1088,120117,"JUNIN","HUANCAYO","HUALHUAS",25,3267,-11.971399999999999,-75.250799999999998,{"$f":"IFERROR(VLOOKUP(B1093,#REF!,8,FALSE),\"\")","v":""},null,"HUALHUAS"]
[1089,120119,"JUNIN","HUANCAYO","HUANCAN",12,3252,-12.1067,-75.216700000000003,{"$f":"IFERROR(VLOOKUP(B1094,#REF!,8,FALSE),\"\")","v":""},null,"HUANCAN"]
[1090,120101,"JUNIN","HUANCAYO","HUANCAYO",238,3294,-12.0708,-75.2089,{"$f":"IFERROR(VLOOKUP(B1095,#REF!,8,FALSE),\"\")","v":""},null,"HUANCAYO"]
[{"$f":"+A1095+1","v":1091},120120,"JUNIN","HUANCAYO","HUASICANCHA",48,3755,-12.3322,-75.281899999999993,{"$f":"IFERROR(VLOOKUP(B1096,#REF!,8,FALSE),\"\")","v":""},null,"HUASICANCHA"]
[1092,120121,"JUNIN","HUANCAYO","HUAYUCACHI",13,3251,-12.1386,-75.223600000000005,{"$f":"IFERROR(VLOOKUP(B1097,#REF!,8,FALSE),\"\")","v":""},null,"HUAYUCACHI"]
[1093,120122,"JUNIN","HUANCAYO","INGENIO",53,3486,-11.890599999999999,-75.266400000000004,{"$f":"IFERROR(VLOOKUP(B1098,#REF!,8,FALSE),\"\")","v":""},null,"INGENIO"]
[1094,120124,"JUNIN","HUANCAYO","PARIAHUANCA",618,2591,-11.9803,-74.896699999999996,{"$f":"IFERROR(VLOOKUP(B1099,#REF!,8,FALSE),\"\")","v":""},null,"PARIAHUANCA"]
[1095,120125,"JUNIN","HUANCAYO","PILCOMAYO",20,3244,-12.0494,-75.250600000000006,{"$f":"IFERROR(VLOOKUP(B1100,#REF!,8,FALSE),\"\")","v":""},null,"PILCOMAYO"]
[1096,120126,"JUNIN","HUANCAYO","PUCARA",110,3374,-12.172499999999999,-75.145600000000002,{"$f":"IFERROR(VLOOKUP(B1101,#REF!,8,FALSE),\"\")","v":""},null,"PUCARA"]
[1097,120127,"JUNIN","HUANCAYO","QUICHUAY",35,3430,-11.889699999999999,-75.286100000000005,{"$f":"IFERROR(VLOOKUP(B1102,#REF!,8,FALSE),\"\")","v":""},null,"QUICHUAY"]
[1098,120128,"JUNIN","HUANCAYO","QUILCAS",168,3323,-11.9381,-75.259699999999995,{"$f":"IFERROR(VLOOKUP(B1103,#REF!,8,FALSE),\"\")","v":""},null,"QUILCAS"]
[1099,120129,"JUNIN","HUANCAYO","SAN AGUSTIN",23,3297,-11.989699999999999,-75.244200000000006,{"$f":"IFERROR(VLOOKUP(B1104,#REF!,8,FALSE),\"\")","v":""},null,"SAN AGUSTIN"]
[1100,120130,"JUNIN","HUANCAYO","SAN JERONIMO DE TUNAN",21,3301,-11.949199999999999,-75.282200000000003,{"$f":"IFERROR(VLOOKUP(B1105,#REF!,8,FALSE),\"\")","v":""},null,"SAN JERONIMO DE TUNAN"]
[1101,120135,"JUNIN","HUANCAYO","SANTO DOMINGO DE ACOBAMBA",778,2221,-11.7689,-74.795299999999997,{"$f":"IFERROR(VLOOKUP(B1106,#REF!,8,FALSE),\"\")","v":""},null,"SANTO DOMINGO DE ACOBAMBA"]
[1102,120132,"JUNIN","HUANCAYO","SAÑO",12,3297,-11.9589,-75.258600000000001,{"$f":"IFERROR(VLOOKUP(B1107,#REF!,8,FALSE),\"\")","v":""},null,"SAÑO"]
[1103,120133,"JUNIN","HUANCAYO","SAPALLANGA",119,3330,-12.141400000000001,-75.158100000000005,{"$f":"IFERROR(VLOOKUP(B1108,#REF!,8,FALSE),\"\")","v":""},null,"SAPALLANGA"]
[1104,120134,"JUNIN","HUANCAYO","SICAYA",43,3305,-12.014699999999999,-75.28,{"$f":"IFERROR(VLOOKUP(B1109,#REF!,8,FALSE),\"\")","v":""},null,"SICAYA"]
[1105,120136,"JUNIN","HUANCAYO","VIQUES",4,3200,-12.159700000000001,-75.231899999999996,{"$f":"IFERROR(VLOOKUP(B1110,#REF!,8,FALSE),\"\")","v":""},null,"VIQUES"]
[1106,120402,"JUNIN","JAUJA","ACOLLA",122,3493,-11.7311,-75.546700000000001,{"$f":"IFERROR(VLOOKUP(B1111,#REF!,8,FALSE),\"\")","v":""},null,"ACOLLA"]
[1107,120403,"JUNIN","JAUJA","APATA",422,3359,-11.8553,-75.354399999999998,{"$f":"IFERROR(VLOOKUP(B1112,#REF!,8,FALSE),\"\")","v":""},null,"APATA"]
[1108,120404,"JUNIN","JAUJA","ATAURA",6,3364,-11.8028,-75.438900000000004,{"$f":"IFERROR(VLOOKUP(B1113,#REF!,8,FALSE),\"\")","v":""},null,"ATAURA"]
[1109,120405,"JUNIN","JAUJA","CANCHAYLLO",975,3632,-11.802199999999999,-75.718100000000007,{"$f":"IFERROR(VLOOKUP(B1114,#REF!,8,FALSE),\"\")","v":""},null,"CANCHAYLLO"]
[1110,120406,"JUNIN","JAUJA","CURICACA",65,3546,-11.785299999999999,-75.674999999999997,{"$f":"IFERROR(VLOOKUP(B1115,#REF!,8,FALSE),\"\")","v":""},null,"CURICACA"]
[1111,120407,"JUNIN","JAUJA","EL MANTARO",18,3336,-11.8222,-75.391900000000007,{"$f":"IFERROR(VLOOKUP(B1116,#REF!,8,FALSE),\"\")","v":""},null,"EL MANTARO"]
[1112,120408,"JUNIN","JAUJA","HUAMALI",20,3366,-11.8072,-75.424199999999999,{"$f":"IFERROR(VLOOKUP(B1117,#REF!,8,FALSE),\"\")","v":""},null,"HUAMALI"]
[1113,120409,"JUNIN","JAUJA","HUARIPAMPA",14,3378,-11.8078,-75.471100000000007,{"$f":"IFERROR(VLOOKUP(B1118,#REF!,8,FALSE),\"\")","v":""},null,"HUARIPAMPA"]
[1114,120410,"JUNIN","JAUJA","HUERTAS",12,3404,-11.76,-75.469700000000003,{"$f":"IFERROR(VLOOKUP(B1119,#REF!,8,FALSE),\"\")","v":""},null,"HUERTAS"]
[1115,120411,"JUNIN","JAUJA","JANJAILLO",32,3830,-11.7644,-75.610299999999995,{"$f":"IFERROR(VLOOKUP(B1120,#REF!,8,FALSE),\"\")","v":""},null,"JANJAILLO"]
[1116,120401,"JUNIN","JAUJA","JAUJA",10,3425,-11.775600000000001,-75.500600000000006,{"$f":"IFERROR(VLOOKUP(B1121,#REF!,8,FALSE),\"\")","v":""},null,"JAUJA"]
[1117,120412,"JUNIN","JAUJA","JULCAN",25,3473,-11.7592,-75.435299999999998,{"$f":"IFERROR(VLOOKUP(B1122,#REF!,8,FALSE),\"\")","v":""},null,"JULCAN"]
[1118,120413,"JUNIN","JAUJA","LEONOR ORDOÑEZ",20,3319,-11.859400000000001,-75.417500000000004,{"$f":"IFERROR(VLOOKUP(B1123,#REF!,8,FALSE),\"\")","v":""},null,"LEONOR ORDOÑEZ"]
[1119,120414,"JUNIN","JAUJA","LLOCLLAPAMPA",111,3526,-11.817500000000001,-75.623900000000006,{"$f":"IFERROR(VLOOKUP(B1124,#REF!,8,FALSE),\"\")","v":""},null,"LLOCLLAPAMPA"]
[1120,120415,"JUNIN","JAUJA","MARCO",29,3480,-11.740600000000001,-75.561099999999996,{"$f":"IFERROR(VLOOKUP(B1125,#REF!,8,FALSE),\"\")","v":""},null,"MARCO"]
[1121,120416,"JUNIN","JAUJA","MASMA",14,3505,-11.785299999999999,-75.426100000000005,{"$f":"IFERROR(VLOOKUP(B1126,#REF!,8,FALSE),\"\")","v":""},null,"MASMA"]
[1122,120417,"JUNIN","JAUJA","MASMA CHICCHE",30,3671,-11.786099999999999,-75.381699999999995,{"$f":"IFERROR(VLOOKUP(B1127,#REF!,8,FALSE),\"\")","v":""},null,"MASMA CHICCHE"]
[1123,120418,"JUNIN","JAUJA","MOLINOS",312,3459,-11.7378,-75.446100000000001,{"$f":"IFERROR(VLOOKUP(B1128,#REF!,8,FALSE),\"\")","v":""},null,"MOLINOS"]
[1124,120419,"JUNIN","JAUJA","MONOBAMBA",296,1495,-11.3606,-75.326700000000002,{"$f":"IFERROR(VLOOKUP(B1129,#REF!,8,FALSE),\"\")","v":""},null,"MONOBAMBA"]
[1125,120420,"JUNIN","JAUJA","MUQUI",12,3358,-11.833299999999999,-75.435000000000002,{"$f":"IFERROR(VLOOKUP(B1130,#REF!,8,FALSE),\"\")","v":""},null,"MUQUI"]
[1126,120421,"JUNIN","JAUJA","MUQUIYAUYO",20,3373,-11.8139,-75.453900000000004,{"$f":"IFERROR(VLOOKUP(B1131,#REF!,8,FALSE),\"\")","v":""},null,"MUQUIYAUYO"]
[1127,120422,"JUNIN","JAUJA","PACA",34,3402,-11.709199999999999,-75.518299999999996,{"$f":"IFERROR(VLOOKUP(B1132,#REF!,8,FALSE),\"\")","v":""},null,"PACA"]
[1128,120423,"JUNIN","JAUJA","PACCHA",91,3679,-11.8536,-75.506399999999999,{"$f":"IFERROR(VLOOKUP(B1133,#REF!,8,FALSE),\"\")","v":""},null,"PACCHA"]
[1129,120424,"JUNIN","JAUJA","PANCAN",11,3398,-11.748900000000001,-75.486099999999993,{"$f":"IFERROR(VLOOKUP(B1134,#REF!,8,FALSE),\"\")","v":""},null,"PANCAN"]
[1130,120425,"JUNIN","JAUJA","PARCO",33,3437,-11.8011,-75.5428,{"$f":"IFERROR(VLOOKUP(B1135,#REF!,8,FALSE),\"\")","v":""},null,"PARCO"]
[1131,120426,"JUNIN","JAUJA","POMACANCHA",282,3824,-11.7392,-75.6233,{"$f":"IFERROR(VLOOKUP(B1136,#REF!,8,FALSE),\"\")","v":""},null,"POMACANCHA"]
[1132,120427,"JUNIN","JAUJA","RICRAN",320,3645,-11.539400000000001,-75.527199999999993,{"$f":"IFERROR(VLOOKUP(B1137,#REF!,8,FALSE),\"\")","v":""},null,"RICRAN"]
[1133,120428,"JUNIN","JAUJA","SAN LORENZO",22,3337,-11.846399999999999,-75.381699999999995,{"$f":"IFERROR(VLOOKUP(B1138,#REF!,8,FALSE),\"\")","v":""},null,"SAN LORENZO"]
[1134,120429,"JUNIN","JAUJA","SAN PEDRO DE CHUNAN",8,3417,-11.7256,-75.486400000000003,{"$f":"IFERROR(VLOOKUP(B1139,#REF!,8,FALSE),\"\")","v":""},null,"SAN PEDRO DE CHUNAN"]
[1135,120430,"JUNIN","JAUJA","SAUSA",5,3387,-11.7936,-75.484700000000004,{"$f":"IFERROR(VLOOKUP(B1140,#REF!,8,FALSE),\"\")","v":""},null,"SAUSA"]
[1136,120431,"JUNIN","JAUJA","SINCOS",237,3280,-11.891400000000001,-75.386899999999997,{"$f":"IFERROR(VLOOKUP(B1141,#REF!,8,FALSE),\"\")","v":""},null,"SINCOS"]
[1137,120432,"JUNIN","JAUJA","TUNAN MARCA",30,3492,-11.729699999999999,-75.570599999999999,{"$f":"IFERROR(VLOOKUP(B1142,#REF!,8,FALSE),\"\")","v":""},null,"TUNAN MARCA"]
[1138,120433,"JUNIN","JAUJA","YAULI",93,3439,-11.715,-75.471900000000005,{"$f":"IFERROR(VLOOKUP(B1143,#REF!,8,FALSE),\"\")","v":""},null,"YAULI"]
[1139,120434,"JUNIN","JAUJA","YAUYOS",21,3420,-11.780799999999999,-75.499700000000004,{"$f":"IFERROR(VLOOKUP(B1144,#REF!,8,FALSE),\"\")","v":""},null,"YAUYOS"]
[1140,120502,"JUNIN","JUNIN","CARHUAMAYO",220,4154,-10.922800000000001,-76.0578,{"$f":"IFERROR(VLOOKUP(B1145,#REF!,8,FALSE),\"\")","v":""},null,"CARHUAMAYO"]
[1141,120501,"JUNIN","JUNIN","JUNIN",884,4127,-11.1614,-75.9983,{"$f":"IFERROR(VLOOKUP(B1146,#REF!,8,FALSE),\"\")","v":""},null,"JUNIN"]
[1142,120503,"JUNIN","JUNIN","ONDORES",254,4108,-11.083600000000001,-76.146699999999996,{"$f":"IFERROR(VLOOKUP(B1147,#REF!,8,FALSE),\"\")","v":""},null,"ONDORES"]
[1143,120504,"JUNIN","JUNIN","ULCUMAYO",1129,3636,-10.967499999999999,-75.878100000000003,{"$f":"IFERROR(VLOOKUP(B1148,#REF!,8,FALSE),\"\")","v":""},null,"ULCUMAYO"]
[1144,120602,"JUNIN","SATIPO","COVIRIALI",145,708,-11.291399999999999,-74.627499999999998,{"$f":"IFERROR(VLOOKUP(B1149,#REF!,8,FALSE),\"\")","v":""},null,"COVIRIALI"]
[1145,120603,"JUNIN","SATIPO","LLAYLLA",180,1122,-11.3811,-74.590299999999999,{"$f":"IFERROR(VLOOKUP(B1150,#REF!,8,FALSE),\"\")","v":""},null,"LLAYLLA"]
[1146,120604,"JUNIN","SATIPO","MAZAMARI",2220,694,-11.324999999999999,-74.530299999999997,{"$f":"IFERROR(VLOOKUP(B1151,#REF!,8,FALSE),\"\")","v":""},null,"MAZAMARI"]
[1147,120605,"JUNIN","SATIPO","PAMPA HERMOSA",567,1231,-11.404199999999999,-74.7517,{"$f":"IFERROR(VLOOKUP(B1152,#REF!,8,FALSE),\"\")","v":""},null,"PAMPA HERMOSA"]
[1148,120606,"JUNIN","SATIPO","PANGOA",3679,816,-11.4283,-74.488900000000001,{"$f":"IFERROR(VLOOKUP(B1153,#REF!,8,FALSE),\"\")","v":""},null,"PANGOA"]
[1149,120607,"JUNIN","SATIPO","RIO NEGRO",715,665,-11.2089,-74.659400000000005,{"$f":"IFERROR(VLOOKUP(B1154,#REF!,8,FALSE),\"\")","v":""},null,"RIO NEGRO"]
[1150,120608,"JUNIN","SATIPO","RIO TAMBO",10350,358,-11.147500000000001,-74.306399999999996,{"$f":"IFERROR(VLOOKUP(B1155,#REF!,8,FALSE),\"\")","v":""},null,"RIO TAMBO"]
[1151,120601,"JUNIN","SATIPO","SATIPO",732,676,-11.2539,-74.636099999999999,{"$f":"IFERROR(VLOOKUP(B1156,#REF!,8,FALSE),\"\")","v":""},null,"SATIPO"]
[1152,120609,"JUNIN","SATIPO","VIZCATAN DEL ENE",631,539,-12.1861,-74.027199999999993,{"$f":"IFERROR(VLOOKUP(B1157,#REF!,8,FALSE),\"\")","v":""},null,"VIZCATAN DEL ENE"]
[1153,120702,"JUNIN","TARMA","ACOBAMBA",98,2961,-11.353300000000001,-75.659199999999998,{"$f":"IFERROR(VLOOKUP(B1158,#REF!,8,FALSE),\"\")","v":""},null,"ACOBAMBA"]
[1154,120703,"JUNIN","TARMA","HUARICOLCA",162,3783,-11.511900000000001,-75.652799999999999,{"$f":"IFERROR(VLOOKUP(B1159,#REF!,8,FALSE),\"\")","v":""},null,"HUARICOLCA"]
[{"$f":"+A1159+1","v":1155},120704,"JUNIN","TARMA","HUASAHUASI",652,2768,-11.265000000000001,-75.650300000000001,{"$f":"IFERROR(VLOOKUP(B1160,#REF!,8,FALSE),\"\")","v":""},null,"HUASAHUASI"]
[1156,120705,"JUNIN","TARMA","LA UNION",140,3556,-11.3772,-75.751900000000006,{"$f":"IFERROR(VLOOKUP(B1161,#REF!,8,FALSE),\"\")","v":""},null,"LA UNION"]
[1157,120706,"JUNIN","TARMA","PALCA",378,2759,-11.3461,-75.568600000000004,{"$f":"IFERROR(VLOOKUP(B1162,#REF!,8,FALSE),\"\")","v":""},null,"PALCA"]
[1158,120707,"JUNIN","TARMA","PALCAMAYO",169,3351,-11.2958,-75.772800000000004,{"$f":"IFERROR(VLOOKUP(B1163,#REF!,8,FALSE),\"\")","v":""},null,"PALCAMAYO"]
[1159,120708,"JUNIN","TARMA","SAN PEDRO DE CAJAS",537,4027,-11.2492,-75.862799999999993,{"$f":"IFERROR(VLOOKUP(B1164,#REF!,8,FALSE),\"\")","v":""},null,"SAN PEDRO DE CAJAS"]
[1160,120709,"JUNIN","TARMA","TAPO",152,3146,-11.3903,-75.563900000000004,{"$f":"IFERROR(VLOOKUP(B1165,#REF!,8,FALSE),\"\")","v":""},null,"TAPO"]
[1161,120701,"JUNIN","TARMA","TARMA",460,3094,-11.42,-75.688100000000006,{"$f":"IFERROR(VLOOKUP(B1166,#REF!,8,FALSE),\"\")","v":""},null,"TARMA"]
[1162,120802,"JUNIN","YAULI","CHACAPALPA",183,3775,-11.732799999999999,-75.755600000000001,{"$f":"IFERROR(VLOOKUP(B1167,#REF!,8,FALSE),\"\")","v":""},null,"CHACAPALPA"]
[1163,120803,"JUNIN","YAULI","HUAY-HUAY",180,3995,-11.7225,-75.905000000000001,{"$f":"IFERROR(VLOOKUP(B1168,#REF!,8,FALSE),\"\")","v":""},null,"HUAY-HUAY"]
[1164,120801,"JUNIN","YAULI","LA OROYA",388,3757,-11.5219,-75.907799999999995,{"$f":"IFERROR(VLOOKUP(B1169,#REF!,8,FALSE),\"\")","v":""},null,"LA OROYA"]
[1165,120804,"JUNIN","YAULI","MARCAPOMACOCHA",889,4451,-11.406700000000001,-76.336100000000002,{"$f":"IFERROR(VLOOKUP(B1170,#REF!,8,FALSE),\"\")","v":""},null,"MARCAPOMACOCHA"]
[1166,120805,"JUNIN","YAULI","MOROCOCHA",266,4268,-11.587199999999999,-76.063299999999998,{"$f":"IFERROR(VLOOKUP(B1171,#REF!,8,FALSE),\"\")","v":""},null,"MOROCOCHA"]
[1167,120806,"JUNIN","YAULI","PACCHA",324,3786,-11.473100000000001,-75.960599999999999,{"$f":"IFERROR(VLOOKUP(B1172,#REF!,8,FALSE),\"\")","v":""},null,"PACCHA"]
[1168,120807,"JUNIN","YAULI","SANTA BARBARA DE CARHUACAYAN",646,4145,-11.203900000000001,-76.285600000000002,{"$f":"IFERROR(VLOOKUP(B1173,#REF!,8,FALSE),\"\")","v":""},null,"SANTA BARBARA DE CARHUACAYAN"]
[1169,120808,"JUNIN","YAULI","SANTA ROSA DE SACCO",101,3831,-11.549200000000001,-75.940299999999993,{"$f":"IFERROR(VLOOKUP(B1174,#REF!,8,FALSE),\"\")","v":""},null,"SANTA ROSA DE SACCO"]
[1170,120809,"JUNIN","YAULI","SUITUCANCHA",216,4286,-11.7875,-75.936400000000006,{"$f":"IFERROR(VLOOKUP(B1175,#REF!,8,FALSE),\"\")","v":""},null,"SUITUCANCHA"]
[1171,120810,"JUNIN","YAULI","YAULI",424,4137,-11.665800000000001,-76.085800000000006,{"$f":"IFERROR(VLOOKUP(B1176,#REF!,8,FALSE),\"\")","v":""},null,"YAULI"]
[1172,130201,"LA LIBERTAD","ASCOPE","ASCOPE",290,242,-7.7135999999999996,-79.107200000000006,{"$f":"IFERROR(VLOOKUP(B1177,#REF!,8,FALSE),\"\")","v":""},null,"ASCOPE"]
[1173,130208,"LA LIBERTAD","ASCOPE","CASA GRANDE",688,162,-7.7453000000000003,-79.188100000000006,{"$f":"IFERROR(VLOOKUP(B1178,#REF!,8,FALSE),\"\")","v":""},null,"CASA GRANDE"]
[1174,130202,"LA LIBERTAD","ASCOPE","CHICAMA",871,150,-7.8425000000000002,-79.144199999999998,{"$f":"IFERROR(VLOOKUP(B1179,#REF!,8,FALSE),\"\")","v":""},null,"CHICAMA"]
[1175,130203,"LA LIBERTAD","ASCOPE","CHOCOPE",96,118,-7.7914000000000003,-79.223100000000002,{"$f":"IFERROR(VLOOKUP(B1180,#REF!,8,FALSE),\"\")","v":""},null,"CHOCOPE"]
[1176,130204,"LA LIBERTAD","ASCOPE","MAGDALENA DE CAO",163,42,-7.8764000000000003,-79.2958,{"$f":"IFERROR(VLOOKUP(B1181,#REF!,8,FALSE),\"\")","v":""},null,"MAGDALENA DE CAO"]
[1177,130205,"LA LIBERTAD","ASCOPE","PAIJAN",80,97,-7.7347000000000001,-79.303299999999993,{"$f":"IFERROR(VLOOKUP(B1182,#REF!,8,FALSE),\"\")","v":""},null,"PAIJAN"]
[1178,130206,"LA LIBERTAD","ASCOPE","RAZURI",317,14,-7.7022000000000004,-79.437799999999996,{"$f":"IFERROR(VLOOKUP(B1183,#REF!,8,FALSE),\"\")","v":""},null,"RAZURI"]
[1179,130207,"LA LIBERTAD","ASCOPE","SANTIAGO DE CAO",155,32,-7.9577999999999998,-79.243600000000001,{"$f":"IFERROR(VLOOKUP(B1184,#REF!,8,FALSE),\"\")","v":""},null,"SANTIAGO DE CAO"]
[1180,130302,"LA LIBERTAD","BOLIVAR","BAMBAMARCA",165,3488,-7.4397000000000002,-77.693100000000001,{"$f":"IFERROR(VLOOKUP(B1185,#REF!,8,FALSE),\"\")","v":""},null,"BAMBAMARCA"]
[1181,130301,"LA LIBERTAD","BOLIVAR","BOLIVAR",741,3157,-7.1539000000000001,-77.702200000000005,{"$f":"IFERROR(VLOOKUP(B1186,#REF!,8,FALSE),\"\")","v":""},null,"BOLIVAR"]
[1182,130303,"LA LIBERTAD","BOLIVAR","CONDORMARCA",331,2793,-7.5467000000000004,-77.599699999999999,{"$f":"IFERROR(VLOOKUP(B1187,#REF!,8,FALSE),\"\")","v":""},null,"CONDORMARCA"]
[1183,130304,"LA LIBERTAD","BOLIVAR","LONGOTEA",193,2617,-7.0438999999999998,-77.872200000000007,{"$f":"IFERROR(VLOOKUP(B1188,#REF!,8,FALSE),\"\")","v":""},null,"LONGOTEA"]
[1184,130305,"LA LIBERTAD","BOLIVAR","UCHUMARCA",191,3043,-7.0472000000000001,-77.805599999999998,{"$f":"IFERROR(VLOOKUP(B1189,#REF!,8,FALSE),\"\")","v":""},null,"UCHUMARCA"]
[1185,130306,"LA LIBERTAD","BOLIVAR","UCUNCHA",98,2634,-7.1653000000000002,-77.859200000000001,{"$f":"IFERROR(VLOOKUP(B1190,#REF!,8,FALSE),\"\")","v":""},null,"UCUNCHA"]
[1186,130401,"LA LIBERTAD","CHEPEN","CHEPEN",287,160,-7.2275,-79.429400000000001,{"$f":"IFERROR(VLOOKUP(B1191,#REF!,8,FALSE),\"\")","v":""},null,"CHEPEN"]
[1187,130402,"LA LIBERTAD","CHEPEN","PACANGA",584,112,-7.1714000000000002,-79.485600000000005,{"$f":"IFERROR(VLOOKUP(B1192,#REF!,8,FALSE),\"\")","v":""},null,"PACANGA"]
[1188,130403,"LA LIBERTAD","CHEPEN","PUEBLO NUEVO",271,84,-7.1825000000000001,-79.52,{"$f":"IFERROR(VLOOKUP(B1193,#REF!,8,FALSE),\"\")","v":""},null,"PUEBLO NUEVO"]
[1189,131101,"LA LIBERTAD","GRAN CHIMU","CASCAS",466,1278,-7.4794,-78.819699999999997,{"$f":"IFERROR(VLOOKUP(B1194,#REF!,8,FALSE),\"\")","v":""},null,"CASCAS"]
[1190,131102,"LA LIBERTAD","GRAN CHIMU","LUCMA",280,2192,-7.6406000000000001,-78.552199999999999,{"$f":"IFERROR(VLOOKUP(B1195,#REF!,8,FALSE),\"\")","v":""},null,"LUCMA"]
[1191,131103,"LA LIBERTAD","GRAN CHIMU","MARMOT",300,1512,-7.6982999999999997,-78.626099999999994,{"$f":"IFERROR(VLOOKUP(B1196,#REF!,8,FALSE),\"\")","v":""},null,"MARMOT"]
[1192,131104,"LA LIBERTAD","GRAN CHIMU","SAYAPULLO",238,2384,-7.5957999999999997,-78.465000000000003,{"$f":"IFERROR(VLOOKUP(B1197,#REF!,8,FALSE),\"\")","v":""},null,"SAYAPULLO"]
[1193,130502,"LA LIBERTAD","JULCAN","CALAMARCA",208,3377,-8.17,-78.412199999999999,{"$f":"IFERROR(VLOOKUP(B1198,#REF!,8,FALSE),\"\")","v":""},null,"CALAMARCA"]
[1194,130503,"LA LIBERTAD","JULCAN","CARABAMBA",254,3345,-8.1125000000000007,-78.607500000000002,{"$f":"IFERROR(VLOOKUP(B1199,#REF!,8,FALSE),\"\")","v":""},null,"CARABAMBA"]
[1195,130504,"LA LIBERTAD","JULCAN","HUASO",431,3075,-8.2247000000000003,-78.414199999999994,{"$f":"IFERROR(VLOOKUP(B1200,#REF!,8,FALSE),\"\")","v":""},null,"HUASO"]
[1196,130501,"LA LIBERTAD","JULCAN","JULCAN",208,3420,-8.0427999999999997,-78.486400000000003,{"$f":"IFERROR(VLOOKUP(B1201,#REF!,8,FALSE),\"\")","v":""},null,"JULCAN"]
[1197,130602,"LA LIBERTAD","OTUZCO","AGALLPAMPA",259,3143,-7.9819000000000004,-78.546700000000001,{"$f":"IFERROR(VLOOKUP(B1202,#REF!,8,FALSE),\"\")","v":""},null,"AGALLPAMPA"]
[1198,130604,"LA LIBERTAD","OTUZCO","CHARAT",69,2280,-7.8239000000000001,-78.448099999999997,{"$f":"IFERROR(VLOOKUP(B1203,#REF!,8,FALSE),\"\")","v":""},null,"CHARAT"]
[1199,130605,"LA LIBERTAD","OTUZCO","HUARANCHAL",150,2208,-7.6897000000000002,-78.442499999999995,{"$f":"IFERROR(VLOOKUP(B1204,#REF!,8,FALSE),\"\")","v":""},null,"HUARANCHAL"]
[1200,130606,"LA LIBERTAD","OTUZCO","LA CUESTA",39,1900,-7.9188999999999998,-78.704700000000003,{"$f":"IFERROR(VLOOKUP(B1205,#REF!,8,FALSE),\"\")","v":""},null,"LA CUESTA"]
[1201,130608,"LA LIBERTAD","OTUZCO","MACHE",37,3320,-8.0291999999999994,-78.534999999999997,{"$f":"IFERROR(VLOOKUP(B1206,#REF!,8,FALSE),\"\")","v":""},null,"MACHE"]
[1202,130601,"LA LIBERTAD","OTUZCO","OTUZCO",444,2701,-7.9021999999999997,-78.565600000000003,{"$f":"IFERROR(VLOOKUP(B1207,#REF!,8,FALSE),\"\")","v":""},null,"OTUZCO"]
[1203,130610,"LA LIBERTAD","OTUZCO","PARANDAY",21,3137,-7.8849999999999998,-78.709400000000002,{"$f":"IFERROR(VLOOKUP(B1208,#REF!,8,FALSE),\"\")","v":""},null,"PARANDAY"]
[1204,130611,"LA LIBERTAD","OTUZCO","SALPO",193,3461,-8.0030999999999999,-78.604200000000006,{"$f":"IFERROR(VLOOKUP(B1209,#REF!,8,FALSE),\"\")","v":""},null,"SALPO"]
[1205,130613,"LA LIBERTAD","OTUZCO","SINSICAP",453,2335,-7.8517000000000001,-78.754199999999997,{"$f":"IFERROR(VLOOKUP(B1210,#REF!,8,FALSE),\"\")","v":""},null,"SINSICAP"]
[1206,130614,"LA LIBERTAD","OTUZCO","USQUIL",446,3049,-7.8152999999999997,-78.416700000000006,{"$f":"IFERROR(VLOOKUP(B1211,#REF!,8,FALSE),\"\")","v":""},null,"USQUIL"]
[1207,130702,"LA LIBERTAD","PACASMAYO","GUADALUPE",165,124,-7.2435999999999998,-79.470299999999995,{"$f":"IFERROR(VLOOKUP(B1212,#REF!,8,FALSE),\"\")","v":""},null,"GUADALUPE"]
[1208,130703,"LA LIBERTAD","PACASMAYO","JEQUETEPEQUE",51,13,-7.3375000000000004,-79.563100000000006,{"$f":"IFERROR(VLOOKUP(B1213,#REF!,8,FALSE),\"\")","v":""},null,"JEQUETEPEQUE"]
[1209,130704,"LA LIBERTAD","PACASMAYO","PACASMAYO",31,21,-7.4010999999999996,-79.572199999999995,{"$f":"IFERROR(VLOOKUP(B1214,#REF!,8,FALSE),\"\")","v":""},null,"PACASMAYO"]
[1210,130705,"LA LIBERTAD","PACASMAYO","SAN JOSE",181,117,-7.35,-79.455299999999994,{"$f":"IFERROR(VLOOKUP(B1215,#REF!,8,FALSE),\"\")","v":""},null,"SAN JOSE"]
[1211,130701,"LA LIBERTAD","PACASMAYO","SAN PEDRO DE LLOC",697,49,-7.4183000000000003,-79.514700000000005,{"$f":"IFERROR(VLOOKUP(B1216,#REF!,8,FALSE),\"\")","v":""},null,"SAN PEDRO DE LLOC"]
[1212,130802,"LA LIBERTAD","PATAZ","BULDIBUYO",227,3189,-8.1268999999999991,-77.395300000000006,{"$f":"IFERROR(VLOOKUP(B1217,#REF!,8,FALSE),\"\")","v":""},null,"BULDIBUYO"]
[1213,130803,"LA LIBERTAD","PATAZ","CHILLIA",300,3166,-8.1243999999999996,-77.515000000000001,{"$f":"IFERROR(VLOOKUP(B1218,#REF!,8,FALSE),\"\")","v":""},null,"CHILLIA"]
[1214,130804,"LA LIBERTAD","PATAZ","HUANCASPATA",247,3313,-8.4574999999999996,-77.298299999999998,{"$f":"IFERROR(VLOOKUP(B1219,#REF!,8,FALSE),\"\")","v":""},null,"HUANCASPATA"]
[1215,130805,"LA LIBERTAD","PATAZ","HUAYLILLAS",90,2381,-8.1872000000000007,-77.343900000000005,{"$f":"IFERROR(VLOOKUP(B1220,#REF!,8,FALSE),\"\")","v":""},null,"HUAYLILLAS"]
[1216,130806,"LA LIBERTAD","PATAZ","HUAYO",125,2188,-8.0044000000000004,-77.592200000000005,{"$f":"IFERROR(VLOOKUP(B1221,#REF!,8,FALSE),\"\")","v":""},null,"HUAYO"]
[1217,130807,"LA LIBERTAD","PATAZ","ONGON",1395,1353,-8.2078000000000007,-76.982799999999997,{"$f":"IFERROR(VLOOKUP(B1222,#REF!,8,FALSE),\"\")","v":""},null,"ONGON"]
[1218,130808,"LA LIBERTAD","PATAZ","PARCOY",305,3121,-8.0333000000000006,-77.479699999999994,{"$f":"IFERROR(VLOOKUP(B1223,#REF!,8,FALSE),\"\")","v":""},null,"PARCOY"]
[{"$f":"+A1223+1","v":1219},130809,"LA LIBERTAD","PATAZ","PATAZ",467,2611,-7.7850000000000001,-77.593900000000005,{"$f":"IFERROR(VLOOKUP(B1224,#REF!,8,FALSE),\"\")","v":""},null,"PATAZ"]
[1220,130810,"LA LIBERTAD","PATAZ","PIAS",372,2641,-7.8719000000000001,-77.546700000000001,{"$f":"IFERROR(VLOOKUP(B1225,#REF!,8,FALSE),\"\")","v":""},null,"PIAS"]
[1221,130811,"LA LIBERTAD","PATAZ","SANTIAGO DE CHALLAS",129,3316,-8.4381000000000004,-77.320599999999999,{"$f":"IFERROR(VLOOKUP(B1226,#REF!,8,FALSE),\"\")","v":""},null,"SANTIAGO DE CHALLAS"]
[1222,130812,"LA LIBERTAD","PATAZ","TAURIJA",130,3123,-8.3078000000000003,-77.423599999999993,{"$f":"IFERROR(VLOOKUP(B1227,#REF!,8,FALSE),\"\")","v":""},null,"TAURIJA"]
[1223,130801,"LA LIBERTAD","PATAZ","TAYABAMBA",339,3222,-8.2750000000000004,-77.296099999999996,{"$f":"IFERROR(VLOOKUP(B1228,#REF!,8,FALSE),\"\")","v":""},null,"TAYABAMBA"]
[1224,130813,"LA LIBERTAD","PATAZ","URPAY",100,2707,-8.3477999999999994,-77.389399999999995,{"$f":"IFERROR(VLOOKUP(B1229,#REF!,8,FALSE),\"\")","v":""},null,"URPAY"]
[1225,130902,"LA LIBERTAD","SANCHEZ CARRION","CHUGAY",416,3394,-7.7819000000000003,-77.868300000000005,{"$f":"IFERROR(VLOOKUP(B1230,#REF!,8,FALSE),\"\")","v":""},null,"CHUGAY"]
[1226,130903,"LA LIBERTAD","SANCHEZ CARRION","COCHORCO",258,2620,-7.8064,-77.717500000000001,{"$f":"IFERROR(VLOOKUP(B1231,#REF!,8,FALSE),\"\")","v":""},null,"COCHORCO"]
[1227,130904,"LA LIBERTAD","SANCHEZ CARRION","CURGOS",100,3244,-7.86,-77.943899999999999,{"$f":"IFERROR(VLOOKUP(B1232,#REF!,8,FALSE),\"\")","v":""},null,"CURGOS"]
[1228,130901,"LA LIBERTAD","SANCHEZ CARRION","HUAMACHUCO",424,3183,-7.8110999999999997,-78.046700000000001,{"$f":"IFERROR(VLOOKUP(B1233,#REF!,8,FALSE),\"\")","v":""},null,"HUAMACHUCO"]
[1229,130905,"LA LIBERTAD","SANCHEZ CARRION","MARCABAL",230,2943,-7.7058,-78.033600000000007,{"$f":"IFERROR(VLOOKUP(B1234,#REF!,8,FALSE),\"\")","v":""},null,"MARCABAL"]
[1230,130906,"LA LIBERTAD","SANCHEZ CARRION","SANAGORAN",324,2688,-7.7861000000000002,-78.141900000000007,{"$f":"IFERROR(VLOOKUP(B1235,#REF!,8,FALSE),\"\")","v":""},null,"SANAGORAN"]
[1231,130907,"LA LIBERTAD","SANCHEZ CARRION","SARIN",340,2840,-7.9114000000000004,-77.906099999999995,{"$f":"IFERROR(VLOOKUP(B1236,#REF!,8,FALSE),\"\")","v":""},null,"SARIN"]
[1232,130908,"LA LIBERTAD","SANCHEZ CARRION","SARTIMBAMBA",394,2697,-7.6992000000000003,-77.743600000000001,{"$f":"IFERROR(VLOOKUP(B1237,#REF!,8,FALSE),\"\")","v":""},null,"SARTIMBAMBA"]
[1233,131002,"LA LIBERTAD","SANTIAGO DE CHUCO","ANGASMARCA",153,2889,-8.1327999999999996,-78.055800000000005,{"$f":"IFERROR(VLOOKUP(B1238,#REF!,8,FALSE),\"\")","v":""},null,"ANGASMARCA"]
[1234,131003,"LA LIBERTAD","SANTIAGO DE CHUCO","CACHICADAN",267,2897,-8.0944000000000003,-78.148899999999998,{"$f":"IFERROR(VLOOKUP(B1239,#REF!,8,FALSE),\"\")","v":""},null,"CACHICADAN"]
[1235,131004,"LA LIBERTAD","SANTIAGO DE CHUCO","MOLLEBAMBA",70,3099,-8.1707999999999998,-77.9739,{"$f":"IFERROR(VLOOKUP(B1240,#REF!,8,FALSE),\"\")","v":""},null,"MOLLEBAMBA"]
[1236,131005,"LA LIBERTAD","SANTIAGO DE CHUCO","MOLLEPATA",71,2694,-8.1933000000000007,-77.9572,{"$f":"IFERROR(VLOOKUP(B1241,#REF!,8,FALSE),\"\")","v":""},null,"MOLLEPATA"]
[1237,131006,"LA LIBERTAD","SANTIAGO DE CHUCO","QUIRUVILCA",549,3992,-8.0018999999999991,-78.31,{"$f":"IFERROR(VLOOKUP(B1242,#REF!,8,FALSE),\"\")","v":""},null,"QUIRUVILCA"]
[1238,131007,"LA LIBERTAD","SANTIAGO DE CHUCO","SANTA CRUZ DE CHUCA",165,2937,-8.1203000000000003,-78.142200000000003,{"$f":"IFERROR(VLOOKUP(B1243,#REF!,8,FALSE),\"\")","v":""},null,"SANTA CRUZ DE CHUCA"]
[1239,131001,"LA LIBERTAD","SANTIAGO DE CHUCO","SANTIAGO DE CHUCO",1074,3126,-8.1453000000000007,-78.173599999999993,{"$f":"IFERROR(VLOOKUP(B1244,#REF!,8,FALSE),\"\")","v":""},null,"SANTIAGO DE CHUCO"]
[1240,131008,"LA LIBERTAD","SANTIAGO DE CHUCO","SITABAMBA",310,3080,-8.0221999999999998,-77.73,{"$f":"IFERROR(VLOOKUP(B1245,#REF!,8,FALSE),\"\")","v":""},null,"SITABAMBA"]
[1241,130102,"LA LIBERTAD","TRUJILLO","EL PORVENIR",37,92,-8.0881000000000007,-78.997799999999998,{"$f":"IFERROR(VLOOKUP(B1246,#REF!,8,FALSE),\"\")","v":""},null,"EL PORVENIR"]
[1242,130103,"LA LIBERTAD","TRUJILLO","FLORENCIA DE MORA",2,92,-8.0828000000000007,-79.023300000000006,{"$f":"IFERROR(VLOOKUP(B1247,#REF!,8,FALSE),\"\")","v":""},null,"FLORENCIA DE MORA"]
[1243,130104,"LA LIBERTAD","TRUJILLO","HUANCHACO",332,19,-8.08,-79.121700000000004,{"$f":"IFERROR(VLOOKUP(B1248,#REF!,8,FALSE),\"\")","v":""},null,"HUANCHACO"]
[1244,130105,"LA LIBERTAD","TRUJILLO","LA ESPERANZA",16,137,-8.0561000000000007,-79.051699999999997,{"$f":"IFERROR(VLOOKUP(B1249,#REF!,8,FALSE),\"\")","v":""},null,"LA ESPERANZA"]
[1245,130106,"LA LIBERTAD","TRUJILLO","LAREDO",335,107,-8.0897000000000006,-78.960300000000004,{"$f":"IFERROR(VLOOKUP(B1250,#REF!,8,FALSE),\"\")","v":""},null,"LAREDO"]
[1246,130107,"LA LIBERTAD","TRUJILLO","MOCHE",25,25,-8.1714000000000002,-79.009200000000007,{"$f":"IFERROR(VLOOKUP(B1251,#REF!,8,FALSE),\"\")","v":""},null,"MOCHE"]
[1247,130108,"LA LIBERTAD","TRUJILLO","POROTO",276,659,-8.0114000000000001,-78.767799999999994,{"$f":"IFERROR(VLOOKUP(B1252,#REF!,8,FALSE),\"\")","v":""},null,"POROTO"]
[1248,130109,"LA LIBERTAD","TRUJILLO","SALAVERRY",296,10,-8.2243999999999993,-78.976100000000002,{"$f":"IFERROR(VLOOKUP(B1253,#REF!,8,FALSE),\"\")","v":""},null,"SALAVERRY"]
[1249,130110,"LA LIBERTAD","TRUJILLO","SIMBAL",391,604,-7.9767000000000001,-78.813299999999998,{"$f":"IFERROR(VLOOKUP(B1254,#REF!,8,FALSE),\"\")","v":""},null,"SIMBAL"]
[1250,130101,"LA LIBERTAD","TRUJILLO","TRUJILLO",39,74,-8.1,-79.030600000000007,{"$f":"IFERROR(VLOOKUP(B1255,#REF!,8,FALSE),\"\")","v":""},null,"TRUJILLO"]
[1251,130111,"LA LIBERTAD","TRUJILLO","VICTOR LARCO HERRERA",18,24,-8.1364000000000001,-79.043300000000002,{"$f":"IFERROR(VLOOKUP(B1256,#REF!,8,FALSE),\"\")","v":""},null,"VICTOR LARCO HERRERA"]
[1252,131202,"LA LIBERTAD","VIRU","CHAO",1737,103,-8.5405999999999995,-78.678899999999999,{"$f":"IFERROR(VLOOKUP(B1257,#REF!,8,FALSE),\"\")","v":""},null,"CHAO"]
[1253,131203,"LA LIBERTAD","VIRU","GUADALUPITO",405,30,-8.9517000000000007,-78.624700000000004,{"$f":"IFERROR(VLOOKUP(B1258,#REF!,8,FALSE),\"\")","v":""},null,"GUADALUPITO"]
[1254,131201,"LA LIBERTAD","VIRU","VIRU",1073,88,-8.4144000000000005,-78.752799999999993,{"$f":"IFERROR(VLOOKUP(B1259,#REF!,8,FALSE),\"\")","v":""},null,"VIRU"]
[1255,140116,"LAMBAYEQUE","CHICLAYO","CAYALTI",163,86,-6.8917000000000002,-79.562200000000004,{"$f":"IFERROR(VLOOKUP(B1260,#REF!,8,FALSE),\"\")","v":""},null,"CAYALTI"]
[1256,140101,"LAMBAYEQUE","CHICLAYO","CHICLAYO",50,28,-6.7668999999999997,-79.8506,{"$f":"IFERROR(VLOOKUP(B1261,#REF!,8,FALSE),\"\")","v":""},null,"CHICLAYO"]
[1257,140102,"LAMBAYEQUE","CHICLAYO","CHONGOYAPE",712,219,-6.6430999999999996,-79.385300000000001,{"$f":"IFERROR(VLOOKUP(B1262,#REF!,8,FALSE),\"\")","v":""},null,"CHONGOYAPE"]
[1258,140103,"LAMBAYEQUE","CHICLAYO","ETEN",85,15,-6.9069000000000003,-79.862499999999997,{"$f":"IFERROR(VLOOKUP(B1263,#REF!,8,FALSE),\"\")","v":""},null,"ETEN"]
[1259,140104,"LAMBAYEQUE","CHICLAYO","ETEN PUERTO",14,14,-6.9256000000000002,-79.866100000000003,{"$f":"IFERROR(VLOOKUP(B1264,#REF!,8,FALSE),\"\")","v":""},null,"ETEN PUERTO"]
[1260,140105,"LAMBAYEQUE","CHICLAYO","JOSE LEONARDO ORTIZ",28,41,-6.7630999999999997,-79.834400000000002,{"$f":"IFERROR(VLOOKUP(B1265,#REF!,8,FALSE),\"\")","v":""},null,"JOSE LEONARDO ORTIZ"]
[1261,140106,"LAMBAYEQUE","CHICLAYO","LA VICTORIA - CHICLAYO",29,36,-6.7944000000000004,-79.844399999999993,{"$f":"IFERROR(VLOOKUP(B1266,#REF!,8,FALSE),\"\")","v":""},null,"LA VICTORIA - CHICLAYO"]
[1262,140107,"LAMBAYEQUE","CHICLAYO","LAGUNAS",429,34,-6.9911000000000003,-79.622799999999998,{"$f":"IFERROR(VLOOKUP(B1267,#REF!,8,FALSE),\"\")","v":""},null,"LAGUNAS"]
[1263,140108,"LAMBAYEQUE","CHICLAYO","MONSEFU",45,40,-6.8780999999999999,-79.872500000000002,{"$f":"IFERROR(VLOOKUP(B1268,#REF!,8,FALSE),\"\")","v":""},null,"MONSEFU"]
[1264,140109,"LAMBAYEQUE","CHICLAYO","NUEVA ARICA",209,178,-6.8742000000000001,-79.343599999999995,{"$f":"IFERROR(VLOOKUP(B1269,#REF!,8,FALSE),\"\")","v":""},null,"NUEVA ARICA"]
[1265,140110,"LAMBAYEQUE","CHICLAYO","OYOTUN",455,209,-6.8544,-79.306399999999996,{"$f":"IFERROR(VLOOKUP(B1270,#REF!,8,FALSE),\"\")","v":""},null,"OYOTUN"]
[1266,140117,"LAMBAYEQUE","CHICLAYO","PATAPO",183,113,-6.7355999999999998,-79.634699999999995,{"$f":"IFERROR(VLOOKUP(B1271,#REF!,8,FALSE),\"\")","v":""},null,"PATAPO"]
[1267,140111,"LAMBAYEQUE","CHICLAYO","PICSI",57,43,-6.7183000000000002,-79.770600000000002,{"$f":"IFERROR(VLOOKUP(B1272,#REF!,8,FALSE),\"\")","v":""},null,"PICSI"]
[1268,140112,"LAMBAYEQUE","CHICLAYO","PIMENTEL",67,22,-6.8353000000000002,-79.9358,{"$f":"IFERROR(VLOOKUP(B1273,#REF!,8,FALSE),\"\")","v":""},null,"PIMENTEL"]
[1269,140118,"LAMBAYEQUE","CHICLAYO","POMALCA",80,61,-6.77,-79.775300000000001,{"$f":"IFERROR(VLOOKUP(B1274,#REF!,8,FALSE),\"\")","v":""},null,"POMALCA"]
[1270,140119,"LAMBAYEQUE","CHICLAYO","PUCALA",176,108,-6.7819000000000003,-79.612200000000001,{"$f":"IFERROR(VLOOKUP(B1275,#REF!,8,FALSE),\"\")","v":""},null,"PUCALA"]
[1271,140113,"LAMBAYEQUE","CHICLAYO","REQUE",47,34,-6.8650000000000002,-79.819199999999995,{"$f":"IFERROR(VLOOKUP(B1276,#REF!,8,FALSE),\"\")","v":""},null,"REQUE"]
[1272,140114,"LAMBAYEQUE","CHICLAYO","SANTA ROSA",14,23,-6.8817000000000004,-79.9208,{"$f":"IFERROR(VLOOKUP(B1277,#REF!,8,FALSE),\"\")","v":""},null,"SANTA ROSA"]
[1273,140115,"LAMBAYEQUE","CHICLAYO","SAÑA",314,70,-6.9180999999999999,-79.583299999999994,{"$f":"IFERROR(VLOOKUP(B1278,#REF!,8,FALSE),\"\")","v":""},null,"SAÑA"]
[1274,140120,"LAMBAYEQUE","CHICLAYO","TUMAN",130,71,-6.7511000000000001,-79.701099999999997,{"$f":"IFERROR(VLOOKUP(B1279,#REF!,8,FALSE),\"\")","v":""},null,"TUMAN"]
[1275,140202,"LAMBAYEQUE","FERREÑAFE","CAÑARIS",285,2421,-6.0461,-79.265299999999996,{"$f":"IFERROR(VLOOKUP(B1280,#REF!,8,FALSE),\"\")","v":""},null,"CAÑARIS"]
[1276,140201,"LAMBAYEQUE","FERREÑAFE","FERREÑAFE",62,38,-6.6388999999999996,-79.788300000000007,{"$f":"IFERROR(VLOOKUP(B1281,#REF!,8,FALSE),\"\")","v":""},null,"FERREÑAFE"]
[1277,140203,"LAMBAYEQUE","FERREÑAFE","INCAHUASI",444,3030,-6.2352999999999996,-79.316900000000004,{"$f":"IFERROR(VLOOKUP(B1282,#REF!,8,FALSE),\"\")","v":""},null,"INCAHUASI"]
[1278,140204,"LAMBAYEQUE","FERREÑAFE","MANUEL ANTONIO MESONES MURO",201,66,-6.6449999999999996,-79.738900000000001,{"$f":"IFERROR(VLOOKUP(B1283,#REF!,8,FALSE),\"\")","v":""},null,"MANUEL ANTONIO MESONES MURO"]
[1279,140205,"LAMBAYEQUE","FERREÑAFE","PITIPO",558,70,-6.5658000000000003,-79.780799999999999,{"$f":"IFERROR(VLOOKUP(B1284,#REF!,8,FALSE),\"\")","v":""},null,"PITIPO"]
[1280,140206,"LAMBAYEQUE","FERREÑAFE","PUEBLO NUEVO",29,45,-6.6402999999999999,-79.796099999999996,{"$f":"IFERROR(VLOOKUP(B1285,#REF!,8,FALSE),\"\")","v":""},null,"PUEBLO NUEVO"]
[1281,140302,"LAMBAYEQUE","LAMBAYEQUE","CHOCHOPE",79,198,-6.1577999999999999,-79.647800000000004,{"$f":"IFERROR(VLOOKUP(B1286,#REF!,8,FALSE),\"\")","v":""},null,"CHOCHOPE"]
[1282,140303,"LAMBAYEQUE","LAMBAYEQUE","ILLIMO",24,60,-6.4739000000000004,-79.854699999999994,{"$f":"IFERROR(VLOOKUP(B1287,#REF!,8,FALSE),\"\")","v":""},null,"ILLIMO"]
[{"$f":"+A1287+1","v":1283},140304,"LAMBAYEQUE","LAMBAYEQUE","JAYANCA",681,67,-6.3928000000000003,-79.822800000000001,{"$f":"IFERROR(VLOOKUP(B1288,#REF!,8,FALSE),\"\")","v":""},null,"JAYANCA"]
[1284,140301,"LAMBAYEQUE","LAMBAYEQUE","LAMBAYEQUE",331,24,-6.7069000000000001,-79.895300000000006,{"$f":"IFERROR(VLOOKUP(B1289,#REF!,8,FALSE),\"\")","v":""},null,"LAMBAYEQUE"]
[1285,140305,"LAMBAYEQUE","LAMBAYEQUE","MOCHUMI",104,40,-6.5477999999999996,-79.864999999999995,{"$f":"IFERROR(VLOOKUP(B1290,#REF!,8,FALSE),\"\")","v":""},null,"MOCHUMI"]
[1286,140306,"LAMBAYEQUE","LAMBAYEQUE","MORROPE",1042,5,-6.5403000000000002,-80.015600000000006,{"$f":"IFERROR(VLOOKUP(B1291,#REF!,8,FALSE),\"\")","v":""},null,"MORROPE"]
[1287,140307,"LAMBAYEQUE","LAMBAYEQUE","MOTUPE",557,140,-6.1508000000000003,-79.714200000000005,{"$f":"IFERROR(VLOOKUP(B1292,#REF!,8,FALSE),\"\")","v":""},null,"MOTUPE"]
[1288,140308,"LAMBAYEQUE","LAMBAYEQUE","OLMOS",5583,192,-5.9878,-79.747500000000002,{"$f":"IFERROR(VLOOKUP(B1293,#REF!,8,FALSE),\"\")","v":""},null,"OLMOS"]
[1289,140309,"LAMBAYEQUE","LAMBAYEQUE","PACORA",88,69,-6.4286000000000003,-79.838899999999995,{"$f":"IFERROR(VLOOKUP(B1294,#REF!,8,FALSE),\"\")","v":""},null,"PACORA"]
[1290,140310,"LAMBAYEQUE","LAMBAYEQUE","SALAS",992,174,-6.2747000000000002,-79.607200000000006,{"$f":"IFERROR(VLOOKUP(B1295,#REF!,8,FALSE),\"\")","v":""},null,"SALAS"]
[1291,140311,"LAMBAYEQUE","LAMBAYEQUE","SAN JOSE",47,33,-6.7694000000000001,-79.968100000000007,{"$f":"IFERROR(VLOOKUP(B1296,#REF!,8,FALSE),\"\")","v":""},null,"SAN JOSE"]
[1292,140312,"LAMBAYEQUE","LAMBAYEQUE","TUCUME",67,61,-6.51,-79.859200000000001,{"$f":"IFERROR(VLOOKUP(B1297,#REF!,8,FALSE),\"\")","v":""},null,"TUCUME"]
[1293,150201,"LIMA","BARRANCA","BARRANCA",159,74,-10.753299999999999,-77.765000000000001,{"$f":"IFERROR(VLOOKUP(B1298,#REF!,8,FALSE),\"\")","v":""},null,"BARRANCA"]
[1294,150202,"LIMA","BARRANCA","PARAMONGA",409,37,-10.6747,-77.818100000000001,{"$f":"IFERROR(VLOOKUP(B1299,#REF!,8,FALSE),\"\")","v":""},null,"PARAMONGA"]
[1295,150203,"LIMA","BARRANCA","PATIVILCA",279,95,-10.696099999999999,-77.780299999999997,{"$f":"IFERROR(VLOOKUP(B1300,#REF!,8,FALSE),\"\")","v":""},null,"PATIVILCA"]
[1296,150204,"LIMA","BARRANCA","SUPE",513,69,-10.796099999999999,-77.716099999999997,{"$f":"IFERROR(VLOOKUP(B1301,#REF!,8,FALSE),\"\")","v":""},null,"SUPE"]
[1297,150205,"LIMA","BARRANCA","SUPE PUERTO",12,41,-10.8017,-77.744699999999995,{"$f":"IFERROR(VLOOKUP(B1302,#REF!,8,FALSE),\"\")","v":""},null,"SUPE PUERTO"]
[1298,150301,"LIMA","CAJATAMBO","CAJATAMBO",568,3396,-10.473100000000001,-76.993099999999998,{"$f":"IFERROR(VLOOKUP(B1303,#REF!,8,FALSE),\"\")","v":""},null,"CAJATAMBO"]
[1299,150302,"LIMA","CAJATAMBO","COPA",212,3433,-10.3864,-77.078900000000004,{"$f":"IFERROR(VLOOKUP(B1304,#REF!,8,FALSE),\"\")","v":""},null,"COPA"]
[1300,150303,"LIMA","CAJATAMBO","GORGOR",310,3049,-10.6211,-77.041399999999996,{"$f":"IFERROR(VLOOKUP(B1305,#REF!,8,FALSE),\"\")","v":""},null,"GORGOR"]
[1301,150304,"LIMA","CAJATAMBO","HUANCAPON",146,3187,-10.5494,-77.112499999999997,{"$f":"IFERROR(VLOOKUP(B1306,#REF!,8,FALSE),\"\")","v":""},null,"HUANCAPON"]
[1302,150305,"LIMA","CAJATAMBO","MANAS",279,2457,-10.595599999999999,-77.167199999999994,{"$f":"IFERROR(VLOOKUP(B1307,#REF!,8,FALSE),\"\")","v":""},null,"MANAS"]
[1303,150402,"LIMA","CANTA","ARAHUAY",134,2533,-11.6214,-76.670299999999997,{"$f":"IFERROR(VLOOKUP(B1308,#REF!,8,FALSE),\"\")","v":""},null,"ARAHUAY"]
[1304,150401,"LIMA","CANTA","CANTA",123,2867,-11.4672,-76.624399999999994,{"$f":"IFERROR(VLOOKUP(B1309,#REF!,8,FALSE),\"\")","v":""},null,"CANTA"]
[1305,150403,"LIMA","CANTA","HUAMANTANGA",488,3414,-11.4992,-76.749399999999994,{"$f":"IFERROR(VLOOKUP(B1310,#REF!,8,FALSE),\"\")","v":""},null,"HUAMANTANGA"]
[1306,150404,"LIMA","CANTA","HUAROS",333,3614,-11.406700000000001,-76.575800000000001,{"$f":"IFERROR(VLOOKUP(B1311,#REF!,8,FALSE),\"\")","v":""},null,"HUAROS"]
[1307,150405,"LIMA","CANTA","LACHAQUI",138,3686,-11.553100000000001,-76.625600000000006,{"$f":"IFERROR(VLOOKUP(B1312,#REF!,8,FALSE),\"\")","v":""},null,"LACHAQUI"]
[1308,150406,"LIMA","CANTA","SAN BUENAVENTURA",106,2743,-11.4892,-76.662199999999999,{"$f":"IFERROR(VLOOKUP(B1313,#REF!,8,FALSE),\"\")","v":""},null,"SAN BUENAVENTURA"]
[1309,150407,"LIMA","CANTA","SANTA ROSA DE QUIVES",408,936,-11.6953,-76.846100000000007,{"$f":"IFERROR(VLOOKUP(B1314,#REF!,8,FALSE),\"\")","v":""},null,"SANTA ROSA DE QUIVES"]
[1310,150502,"LIMA","CAÑETE","ASIA",277,69,-12.779199999999999,-76.556700000000006,{"$f":"IFERROR(VLOOKUP(B1315,#REF!,8,FALSE),\"\")","v":""},null,"ASIA"]
[1311,150503,"LIMA","CAÑETE","CALANGO",531,323,-12.526400000000001,-76.543599999999998,{"$f":"IFERROR(VLOOKUP(B1316,#REF!,8,FALSE),\"\")","v":""},null,"CALANGO"]
[1312,150504,"LIMA","CAÑETE","CERRO AZUL",105,17,-13.025,-76.478899999999996,{"$f":"IFERROR(VLOOKUP(B1317,#REF!,8,FALSE),\"\")","v":""},null,"CERRO AZUL"]
[1313,150505,"LIMA","CAÑETE","CHILCA",475,31,-12.5181,-76.738100000000003,{"$f":"IFERROR(VLOOKUP(B1318,#REF!,8,FALSE),\"\")","v":""},null,"CHILCA"]
[1314,150506,"LIMA","CAÑETE","COAYLLO",591,285,-12.7272,-76.460300000000004,{"$f":"IFERROR(VLOOKUP(B1319,#REF!,8,FALSE),\"\")","v":""},null,"COAYLLO"]
[1315,150507,"LIMA","CAÑETE","IMPERIAL",53,112,-13.060600000000001,-76.352800000000002,{"$f":"IFERROR(VLOOKUP(B1320,#REF!,8,FALSE),\"\")","v":""},null,"IMPERIAL"]
[1316,150508,"LIMA","CAÑETE","LUNAHUANA",500,498,-12.970599999999999,-76.1511,{"$f":"IFERROR(VLOOKUP(B1321,#REF!,8,FALSE),\"\")","v":""},null,"LUNAHUANA"]
[1317,150509,"LIMA","CAÑETE","MALA",129,58,-12.657500000000001,-76.632499999999993,{"$f":"IFERROR(VLOOKUP(B1322,#REF!,8,FALSE),\"\")","v":""},null,"MALA"]
[1318,150510,"LIMA","CAÑETE","NUEVO IMPERIAL",329,169,-13.0756,-76.316699999999997,{"$f":"IFERROR(VLOOKUP(B1323,#REF!,8,FALSE),\"\")","v":""},null,"NUEVO IMPERIAL"]
[1319,150511,"LIMA","CAÑETE","PACARAN",259,721,-12.866099999999999,-76.054199999999994,{"$f":"IFERROR(VLOOKUP(B1324,#REF!,8,FALSE),\"\")","v":""},null,"PACARAN"]
[1320,150512,"LIMA","CAÑETE","QUILMANA",437,185,-12.949400000000001,-76.382800000000003,{"$f":"IFERROR(VLOOKUP(B1325,#REF!,8,FALSE),\"\")","v":""},null,"QUILMANA"]
[1321,150513,"LIMA","CAÑETE","SAN ANTONIO",37,67,-12.642200000000001,-76.6494,{"$f":"IFERROR(VLOOKUP(B1326,#REF!,8,FALSE),\"\")","v":""},null,"SAN ANTONIO"]
[1322,150514,"LIMA","CAÑETE","SAN LUIS",39,36,-13.0511,-76.431100000000001,{"$f":"IFERROR(VLOOKUP(B1327,#REF!,8,FALSE),\"\")","v":""},null,"SAN LUIS"]
[1323,150501,"LIMA","CAÑETE","SAN VICENTE DE CAÑETE",513,77,-13.0778,-76.387799999999999,{"$f":"IFERROR(VLOOKUP(B1328,#REF!,8,FALSE),\"\")","v":""},null,"SAN VICENTE DE CAÑETE"]
[1324,150515,"LIMA","CAÑETE","SANTA CRUZ DE FLORES",100,111,-12.6197,-76.639700000000005,{"$f":"IFERROR(VLOOKUP(B1329,#REF!,8,FALSE),\"\")","v":""},null,"SANTA CRUZ DE FLORES"]
[1325,150516,"LIMA","CAÑETE","ZUÑIGA",198,827,-12.860300000000001,-76.022499999999994,{"$f":"IFERROR(VLOOKUP(B1330,#REF!,8,FALSE),\"\")","v":""},null,"ZUÑIGA"]
[1326,150602,"LIMA","HUARAL","ATAVILLOS ALTO",348,3293,-11.2342,-76.655799999999999,{"$f":"IFERROR(VLOOKUP(B1331,#REF!,8,FALSE),\"\")","v":""},null,"ATAVILLOS ALTO"]
[1327,150603,"LIMA","HUARAL","ATAVILLOS BAJO",165,1885,-11.351900000000001,-76.825599999999994,{"$f":"IFERROR(VLOOKUP(B1332,#REF!,8,FALSE),\"\")","v":""},null,"ATAVILLOS BAJO"]
[1328,150604,"LIMA","HUARAL","AUCALLAMA",729,154,-11.5594,-77.180000000000007,{"$f":"IFERROR(VLOOKUP(B1333,#REF!,8,FALSE),\"\")","v":""},null,"AUCALLAMA"]
[1329,150605,"LIMA","HUARAL","CHANCAY",150,58,-11.5631,-77.270600000000002,{"$f":"IFERROR(VLOOKUP(B1334,#REF!,8,FALSE),\"\")","v":""},null,"CHANCAY"]
[1330,150601,"LIMA","HUARAL","HUARAL",641,195,-11.4953,-77.206900000000005,{"$f":"IFERROR(VLOOKUP(B1335,#REF!,8,FALSE),\"\")","v":""},null,"HUARAL"]
[1331,150606,"LIMA","HUARAL","IHUARI",468,2850,-11.188599999999999,-76.951899999999995,{"$f":"IFERROR(VLOOKUP(B1336,#REF!,8,FALSE),\"\")","v":""},null,"IHUARI"]
[1332,150607,"LIMA","HUARAL","LAMPIAN",145,2467,-11.2378,-76.839200000000005,{"$f":"IFERROR(VLOOKUP(B1337,#REF!,8,FALSE),\"\")","v":""},null,"LAMPIAN"]
[1333,150608,"LIMA","HUARAL","PACARAOS",294,3348,-11.1861,-76.647800000000004,{"$f":"IFERROR(VLOOKUP(B1338,#REF!,8,FALSE),\"\")","v":""},null,"PACARAOS"]
[1334,150609,"LIMA","HUARAL","SAN MIGUEL DE ACOS",48,1591,-11.273899999999999,-76.821899999999999,{"$f":"IFERROR(VLOOKUP(B1339,#REF!,8,FALSE),\"\")","v":""},null,"SAN MIGUEL DE ACOS"]
[1335,150610,"LIMA","HUARAL","SANTA CRUZ DE ANDAMARCA",217,3550,-11.194699999999999,-76.634399999999999,{"$f":"IFERROR(VLOOKUP(B1340,#REF!,8,FALSE),\"\")","v":""},null,"SANTA CRUZ DE ANDAMARCA"]
[1336,150611,"LIMA","HUARAL","SUMBILCA",259,3396,-11.406700000000001,-76.819699999999997,{"$f":"IFERROR(VLOOKUP(B1341,#REF!,8,FALSE),\"\")","v":""},null,"SUMBILCA"]
[1337,150612,"LIMA","HUARAL","VEINTISIETE DE NOVIEMBRE",204,2640,-11.1922,-76.779700000000005,{"$f":"IFERROR(VLOOKUP(B1342,#REF!,8,FALSE),\"\")","v":""},null,"VEINTISIETE DE NOVIEMBRE"]
[1338,150702,"LIMA","HUAROCHIRI","ANTIOQUIA",388,1573,-12.0808,-76.510800000000003,{"$f":"IFERROR(VLOOKUP(B1343,#REF!,8,FALSE),\"\")","v":""},null,"ANTIOQUIA"]
[1339,150703,"LIMA","HUAROCHIRI","CALLAHUANCA",57,1807,-11.8264,-76.618899999999996,{"$f":"IFERROR(VLOOKUP(B1344,#REF!,8,FALSE),\"\")","v":""},null,"CALLAHUANCA"]
[1340,150704,"LIMA","HUAROCHIRI","CARAMPOMA",234,3459,-11.6564,-76.516400000000004,{"$f":"IFERROR(VLOOKUP(B1345,#REF!,8,FALSE),\"\")","v":""},null,"CARAMPOMA"]
[1341,150705,"LIMA","HUAROCHIRI","CHICLA",244,3703,-11.7064,-76.268100000000004,{"$f":"IFERROR(VLOOKUP(B1346,#REF!,8,FALSE),\"\")","v":""},null,"CHICLA"]
[1342,150706,"LIMA","HUAROCHIRI","CUENCA",60,2784,-12.132199999999999,-76.435299999999998,{"$f":"IFERROR(VLOOKUP(B1347,#REF!,8,FALSE),\"\")","v":""},null,"CUENCA"]
[1343,150707,"LIMA","HUAROCHIRI","HUACHUPAMPA",76,2938,-11.7211,-76.5886,{"$f":"IFERROR(VLOOKUP(B1348,#REF!,8,FALSE),\"\")","v":""},null,"HUACHUPAMPA"]
[1344,150708,"LIMA","HUAROCHIRI","HUANZA",227,3431,-11.6561,-76.503600000000006,{"$f":"IFERROR(VLOOKUP(B1349,#REF!,8,FALSE),\"\")","v":""},null,"HUANZA"]
[1345,150709,"LIMA","HUAROCHIRI","HUAROCHIRI",249,3170,-12.136100000000001,-76.231899999999996,{"$f":"IFERROR(VLOOKUP(B1350,#REF!,8,FALSE),\"\")","v":""},null,"HUAROCHIRI"]
[1346,150710,"LIMA","HUAROCHIRI","LAHUAYTAMBO",82,3362,-12.096399999999999,-76.388900000000007,{"$f":"IFERROR(VLOOKUP(B1351,#REF!,8,FALSE),\"\")","v":""},null,"LAHUAYTAMBO"]
[{"$f":"+A1351+1","v":1347},150711,"LIMA","HUAROCHIRI","LANGA",81,2889,-12.1256,-76.421099999999996,{"$f":"IFERROR(VLOOKUP(B1352,#REF!,8,FALSE),\"\")","v":""},null,"LANGA"]
[1348,150712,"LIMA","HUAROCHIRI","LARAOS",105,3683,-11.664400000000001,-76.539400000000001,{"$f":"IFERROR(VLOOKUP(B1353,#REF!,8,FALSE),\"\")","v":""},null,"LARAOS"]
[1349,150713,"LIMA","HUAROCHIRI","MARIATANA",169,3561,-12.2372,-76.326099999999997,{"$f":"IFERROR(VLOOKUP(B1354,#REF!,8,FALSE),\"\")","v":""},null,"MARIATANA"]
[1350,150701,"LIMA","HUAROCHIRI","MATUCANA",179,2395,-11.845000000000001,-76.386099999999999,{"$f":"IFERROR(VLOOKUP(B1355,#REF!,8,FALSE),\"\")","v":""},null,"MATUCANA"]
[1351,150714,"LIMA","HUAROCHIRI","RICARDO PALMA",35,975,-11.9236,-76.665000000000006,{"$f":"IFERROR(VLOOKUP(B1356,#REF!,8,FALSE),\"\")","v":""},null,"RICARDO PALMA"]
[1352,150715,"LIMA","HUAROCHIRI","SAN ANDRES DE TUPICOCHA",83,3321,-12.0022,-76.474699999999999,{"$f":"IFERROR(VLOOKUP(B1357,#REF!,8,FALSE),\"\")","v":""},null,"SAN ANDRES DE TUPICOCHA"]
[1353,150716,"LIMA","HUAROCHIRI","SAN ANTONIO",564,3456,-11.743600000000001,-76.650000000000006,{"$f":"IFERROR(VLOOKUP(B1358,#REF!,8,FALSE),\"\")","v":""},null,"SAN ANTONIO"]
[1354,150717,"LIMA","HUAROCHIRI","SAN BARTOLOME",44,1644,-11.911899999999999,-76.529200000000003,{"$f":"IFERROR(VLOOKUP(B1359,#REF!,8,FALSE),\"\")","v":""},null,"SAN BARTOLOME"]
[1355,150718,"LIMA","HUAROCHIRI","SAN DAMIAN",343,3252,-12.017799999999999,-76.391900000000007,{"$f":"IFERROR(VLOOKUP(B1360,#REF!,8,FALSE),\"\")","v":""},null,"SAN DAMIAN"]
[1356,150719,"LIMA","HUAROCHIRI","SAN JUAN DE IRIS",124,3436,-11.6831,-76.525000000000006,{"$f":"IFERROR(VLOOKUP(B1361,#REF!,8,FALSE),\"\")","v":""},null,"SAN JUAN DE IRIS"]
[1357,150720,"LIMA","HUAROCHIRI","SAN JUAN DE TANTARANCHE",137,3436,-12.1136,-76.182500000000005,{"$f":"IFERROR(VLOOKUP(B1362,#REF!,8,FALSE),\"\")","v":""},null,"SAN JUAN DE TANTARANCHE"]
[1358,150721,"LIMA","HUAROCHIRI","SAN LORENZO DE QUINTI",468,2682,-12.145300000000001,-76.212500000000006,{"$f":"IFERROR(VLOOKUP(B1363,#REF!,8,FALSE),\"\")","v":""},null,"SAN LORENZO DE QUINTI"]
[1359,150722,"LIMA","HUAROCHIRI","SAN MATEO",426,3164,-11.7592,-76.300600000000003,{"$f":"IFERROR(VLOOKUP(B1364,#REF!,8,FALSE),\"\")","v":""},null,"SAN MATEO"]
[1360,150723,"LIMA","HUAROCHIRI","SAN MATEO DE OTAO",124,2084,-11.8703,-76.543899999999994,{"$f":"IFERROR(VLOOKUP(B1365,#REF!,8,FALSE),\"\")","v":""},null,"SAN MATEO DE OTAO"]
[1361,150724,"LIMA","HUAROCHIRI","SAN PEDRO DE CASTA",80,3196,-11.758900000000001,-76.596400000000003,{"$f":"IFERROR(VLOOKUP(B1366,#REF!,8,FALSE),\"\")","v":""},null,"SAN PEDRO DE CASTA"]
[1362,150725,"LIMA","HUAROCHIRI","SAN PEDRO DE HUANCAYRE",42,3140,-12.131399999999999,-76.215599999999995,{"$f":"IFERROR(VLOOKUP(B1367,#REF!,8,FALSE),\"\")","v":""},null,"SAN PEDRO DE HUANCAYRE"]
[1363,150726,"LIMA","HUAROCHIRI","SANGALLAYA",82,2779,-12.1608,-76.228899999999996,{"$f":"IFERROR(VLOOKUP(B1368,#REF!,8,FALSE),\"\")","v":""},null,"SANGALLAYA"]
[1364,150727,"LIMA","HUAROCHIRI","SANTA CRUZ DE COCACHACRA",42,1440,-11.9117,-76.539400000000001,{"$f":"IFERROR(VLOOKUP(B1369,#REF!,8,FALSE),\"\")","v":""},null,"SANTA CRUZ DE COCACHACRA"]
[1365,150728,"LIMA","HUAROCHIRI","SANTA EULALIA",111,1048,-11.9017,-76.663899999999998,{"$f":"IFERROR(VLOOKUP(B1370,#REF!,8,FALSE),\"\")","v":""},null,"SANTA EULALIA"]
[1366,150729,"LIMA","HUAROCHIRI","SANTIAGO DE ANCHUCAYA",94,3400,-12.095599999999999,-76.230599999999995,{"$f":"IFERROR(VLOOKUP(B1371,#REF!,8,FALSE),\"\")","v":""},null,"SANTIAGO DE ANCHUCAYA"]
[1367,150730,"LIMA","HUAROCHIRI","SANTIAGO DE TUNA",54,2913,-11.9839,-76.525300000000001,{"$f":"IFERROR(VLOOKUP(B1372,#REF!,8,FALSE),\"\")","v":""},null,"SANTIAGO DE TUNA"]
[1368,150731,"LIMA","HUAROCHIRI","SANTO DOMINGO DE LOS OLLEROS",552,2861,-12.2189,-76.514200000000002,{"$f":"IFERROR(VLOOKUP(B1373,#REF!,8,FALSE),\"\")","v":""},null,"SANTO DOMINGO DE LOS OLLEROS"]
[1369,150732,"LIMA","HUAROCHIRI","SURCO",103,2049,-11.8825,-76.436099999999996,{"$f":"IFERROR(VLOOKUP(B1374,#REF!,8,FALSE),\"\")","v":""},null,"SURCO"]
[1370,150802,"LIMA","HUAURA","AMBAR",930,2084,-10.7561,-77.271900000000002,{"$f":"IFERROR(VLOOKUP(B1375,#REF!,8,FALSE),\"\")","v":""},null,"AMBAR"]
[1371,150803,"LIMA","HUAURA","CALETA DE CARQUIN",2,28,-11.091699999999999,-77.628299999999996,{"$f":"IFERROR(VLOOKUP(B1376,#REF!,8,FALSE),\"\")","v":""},null,"CALETA DE CARQUIN"]
[1372,150804,"LIMA","HUAURA","CHECRAS",166,3305,-10.918100000000001,-76.825599999999994,{"$f":"IFERROR(VLOOKUP(B1377,#REF!,8,FALSE),\"\")","v":""},null,"CHECRAS"]
[1373,150801,"LIMA","HUAURA","HUACHO",717,46,-11.1081,-77.610299999999995,{"$f":"IFERROR(VLOOKUP(B1378,#REF!,8,FALSE),\"\")","v":""},null,"HUACHO"]
[1374,150805,"LIMA","HUAURA","HUALMAY",6,47,-11.0967,-77.613100000000003,{"$f":"IFERROR(VLOOKUP(B1379,#REF!,8,FALSE),\"\")","v":""},null,"HUALMAY"]
[1375,150806,"LIMA","HUAURA","HUAURA",484,96,-11.069699999999999,-77.599199999999996,{"$f":"IFERROR(VLOOKUP(B1380,#REF!,8,FALSE),\"\")","v":""},null,"HUAURA"]
[1376,150807,"LIMA","HUAURA","LEONCIO PRADO",300,3299,-11.0611,-76.930300000000003,{"$f":"IFERROR(VLOOKUP(B1381,#REF!,8,FALSE),\"\")","v":""},null,"LEONCIO PRADO"]
[1377,150808,"LIMA","HUAURA","PACCHO",229,3275,-10.9575,-76.933300000000003,{"$f":"IFERROR(VLOOKUP(B1382,#REF!,8,FALSE),\"\")","v":""},null,"PACCHO"]
[1378,150809,"LIMA","HUAURA","SANTA LEONOR",375,3583,-10.948600000000001,-76.745000000000005,{"$f":"IFERROR(VLOOKUP(B1383,#REF!,8,FALSE),\"\")","v":""},null,"SANTA LEONOR"]
[1379,150810,"LIMA","HUAURA","SANTA MARIA",128,83,-11.0967,-77.594999999999999,{"$f":"IFERROR(VLOOKUP(B1384,#REF!,8,FALSE),\"\")","v":""},null,"SANTA MARIA"]
[1380,150811,"LIMA","HUAURA","SAYAN",1311,689,-11.135300000000001,-77.193600000000004,{"$f":"IFERROR(VLOOKUP(B1385,#REF!,8,FALSE),\"\")","v":""},null,"SAYAN"]
[1381,150812,"LIMA","HUAURA","VEGUETA",254,40,-11.023300000000001,-77.643900000000002,{"$f":"IFERROR(VLOOKUP(B1386,#REF!,8,FALSE),\"\")","v":""},null,"VEGUETA"]
[1382,150102,"LIMA","LIMA METROPOLITANA","ANCON",285,14,-11.773899999999999,-77.176400000000001,{"$f":"IFERROR(VLOOKUP(B1387,#REF!,8,FALSE),\"\")","v":""},null,"ANCON"]
[1383,150103,"LIMA","LIMA METROPOLITANA","ATE",78,378,-12.026400000000001,-76.921400000000006,{"$f":"IFERROR(VLOOKUP(B1388,#REF!,8,FALSE),\"\")","v":""},null,"ATE"]
[1384,150104,"LIMA","LIMA METROPOLITANA","BARRANCO",3,97,-12.1492,-77.021699999999996,{"$f":"IFERROR(VLOOKUP(B1389,#REF!,8,FALSE),\"\")","v":""},null,"BARRANCO"]
[1385,150105,"LIMA","LIMA METROPOLITANA","BREÑA",3,153,-12.0589,-77.046099999999996,{"$f":"IFERROR(VLOOKUP(B1390,#REF!,8,FALSE),\"\")","v":""},null,"BREÑA"]
[1386,150106,"LIMA","LIMA METROPOLITANA","CARABAYLLO",303,238,-11.8903,-77.026899999999998,{"$f":"IFERROR(VLOOKUP(B1391,#REF!,8,FALSE),\"\")","v":""},null,"CARABAYLLO"]
[1387,150107,"LIMA","LIMA METROPOLITANA","CHACLACAYO",40,685,-11.975300000000001,-76.768900000000002,{"$f":"IFERROR(VLOOKUP(B1392,#REF!,8,FALSE),\"\")","v":""},null,"CHACLACAYO"]
[1388,150108,"LIMA","LIMA METROPOLITANA","CHORRILLOS",39,68,-12.1769,-77.016400000000004,{"$f":"IFERROR(VLOOKUP(B1393,#REF!,8,FALSE),\"\")","v":""},null,"CHORRILLOS"]
[1389,150109,"LIMA","LIMA METROPOLITANA","CIENEGUILLA",240,287,-12.1203,-76.8142,{"$f":"IFERROR(VLOOKUP(B1394,#REF!,8,FALSE),\"\")","v":""},null,"CIENEGUILLA"]
[1390,150110,"LIMA","LIMA METROPOLITANA","COMAS",49,107,-11.9572,-77.049400000000006,{"$f":"IFERROR(VLOOKUP(B1395,#REF!,8,FALSE),\"\")","v":""},null,"COMAS"]
[1391,150111,"LIMA","LIMA METROPOLITANA","EL AGUSTINO",13,200,-12.048299999999999,-77.000600000000006,{"$f":"IFERROR(VLOOKUP(B1396,#REF!,8,FALSE),\"\")","v":""},null,"EL AGUSTINO"]
[1392,150112,"LIMA","LIMA METROPOLITANA","INDEPENDENCIA lima",15,111,-11.997199999999999,-77.054699999999997,{"$f":"IFERROR(VLOOKUP(B1397,#REF!,8,FALSE),\"\")","v":""},null,"INDEPENDENCIA lima"]
[1393,150113,"LIMA","LIMA METROPOLITANA","JESUS MARIA",5,142,-12.0756,-77.043300000000002,{"$f":"IFERROR(VLOOKUP(B1398,#REF!,8,FALSE),\"\")","v":""},null,"JESUS MARIA"]
[1394,150114,"LIMA","LIMA METROPOLITANA","LA MOLINA",66,262,-12.078099999999999,-76.916700000000006,{"$f":"IFERROR(VLOOKUP(B1399,#REF!,8,FALSE),\"\")","v":""},null,"LA MOLINA"]
[1395,150115,"LIMA","LIMA METROPOLITANA","LA VICTORIA",9,142,-12.065,-77.030799999999999,{"$f":"IFERROR(VLOOKUP(B1400,#REF!,8,FALSE),\"\")","v":""},null,"LA VICTORIA"]
[1396,150101,"LIMA","LIMA METROPOLITANA","LIMA",22,162,-12.045299999999999,-77.030799999999999,{"$f":"IFERROR(VLOOKUP(B1401,#REF!,8,FALSE),\"\")","v":""},null,"LIMA"]
[1397,150116,"LIMA","LIMA METROPOLITANA","LINCE",3,150,-12.0844,-77.030299999999997,{"$f":"IFERROR(VLOOKUP(B1402,#REF!,8,FALSE),\"\")","v":""},null,"LINCE"]
[1398,150117,"LIMA","LIMA METROPOLITANA","LOS OLIVOS",18,67,-11.991400000000001,-77.070800000000006,{"$f":"IFERROR(VLOOKUP(B1403,#REF!,8,FALSE),\"\")","v":""},null,"LOS OLIVOS"]
[1399,150118,"LIMA","LIMA METROPOLITANA","LURIGANCHO",236,879,-11.9358,-76.697199999999995,{"$f":"IFERROR(VLOOKUP(B1404,#REF!,8,FALSE),\"\")","v":""},null,"LURIGANCHO"]
[1400,150119,"LIMA","LIMA METROPOLITANA","LURIN",180,12,-12.274699999999999,-76.8703,{"$f":"IFERROR(VLOOKUP(B1405,#REF!,8,FALSE),\"\")","v":""},null,"LURIN"]
[1401,150120,"LIMA","LIMA METROPOLITANA","MAGDALENA DEL MAR",4,90,-12.091699999999999,-77.0672,{"$f":"IFERROR(VLOOKUP(B1406,#REF!,8,FALSE),\"\")","v":""},null,"MAGDALENA DEL MAR"]
[1402,150122,"LIMA","LIMA METROPOLITANA","MIRAFLORES",10,125,-12.121700000000001,-77.029200000000003,{"$f":"IFERROR(VLOOKUP(B1407,#REF!,8,FALSE),\"\")","v":""},null,"MIRAFLORES"]
[1403,150123,"LIMA","LIMA METROPOLITANA","PACHACAMAC",160,68,-12.187200000000001,-76.866699999999994,{"$f":"IFERROR(VLOOKUP(B1408,#REF!,8,FALSE),\"\")","v":""},null,"PACHACAMAC"]
[1404,150124,"LIMA","LIMA METROPOLITANA","PUCUSANA",37,26,-12.4817,-76.797499999999999,{"$f":"IFERROR(VLOOKUP(B1409,#REF!,8,FALSE),\"\")","v":""},null,"PUCUSANA"]
[1405,150121,"LIMA","LIMA METROPOLITANA","PUEBLO LIBRE",4,114,-12.078099999999999,-77.0625,{"$f":"IFERROR(VLOOKUP(B1410,#REF!,8,FALSE),\"\")","v":""},null,"PUEBLO LIBRE"]
[1406,150125,"LIMA","LIMA METROPOLITANA","PUENTE PIEDRA",73,187,-11.8667,-77.076899999999995,{"$f":"IFERROR(VLOOKUP(B1411,#REF!,8,FALSE),\"\")","v":""},null,"PUENTE PIEDRA"]
[1407,150126,"LIMA","LIMA METROPOLITANA","PUNTA HERMOSA",120,52,-12.333600000000001,-76.824200000000005,{"$f":"IFERROR(VLOOKUP(B1412,#REF!,8,FALSE),\"\")","v":""},null,"PUNTA HERMOSA"]
[1408,150127,"LIMA","LIMA METROPOLITANA","PUNTA NEGRA",131,42,-12.3653,-76.795599999999993,{"$f":"IFERROR(VLOOKUP(B1413,#REF!,8,FALSE),\"\")","v":""},null,"PUNTA NEGRA"]
[1409,150128,"LIMA","LIMA METROPOLITANA","RIMAC",12,153,-12.042199999999999,-77.026899999999998,{"$f":"IFERROR(VLOOKUP(B1414,#REF!,8,FALSE),\"\")","v":""},null,"RIMAC"]
[1410,150129,"LIMA","LIMA METROPOLITANA","SAN BARTOLO",45,25,-12.389200000000001,-76.780799999999999,{"$f":"IFERROR(VLOOKUP(B1415,#REF!,8,FALSE),\"\")","v":""},null,"SAN BARTOLO"]
[{"$f":"+A1415+1","v":1411},150130,"LIMA","LIMA METROPOLITANA","SAN BORJA",10,170,-12.107200000000001,-76.998900000000006,{"$f":"IFERROR(VLOOKUP(B1416,#REF!,8,FALSE),\"\")","v":""},null,"SAN BORJA"]
[1412,150131,"LIMA","LIMA METROPOLITANA","SAN ISIDRO",11,195,-12.097799999999999,-77.027199999999993,{"$f":"IFERROR(VLOOKUP(B1417,#REF!,8,FALSE),\"\")","v":""},null,"SAN ISIDRO"]
[1413,150132,"LIMA","LIMA METROPOLITANA","SAN JUAN DE LURIGANCHO",131,222,-12.0297,-77.010000000000005,{"$f":"IFERROR(VLOOKUP(B1418,#REF!,8,FALSE),\"\")","v":""},null,"SAN JUAN DE LURIGANCHO"]
[1414,150133,"LIMA","LIMA METROPOLITANA","SAN JUAN DE MIRAFLORES",23,133,-12.163600000000001,-76.9636,{"$f":"IFERROR(VLOOKUP(B1419,#REF!,8,FALSE),\"\")","v":""},null,"SAN JUAN DE MIRAFLORES"]
[1415,150134,"LIMA","LIMA METROPOLITANA","SAN LUIS",3,214,-12.0756,-76.993600000000001,{"$f":"IFERROR(VLOOKUP(B1420,#REF!,8,FALSE),\"\")","v":""},null,"SAN LUIS"]
[1416,150135,"LIMA","LIMA METROPOLITANA","SAN MARTIN DE PORRES",37,138,-12.03,-77.057500000000005,{"$f":"IFERROR(VLOOKUP(B1421,#REF!,8,FALSE),\"\")","v":""},null,"SAN MARTIN DE PORRES"]
[1417,150136,"LIMA","LIMA METROPOLITANA","SAN MIGUEL",11,84,-12.0922,-77.079400000000007,{"$f":"IFERROR(VLOOKUP(B1422,#REF!,8,FALSE),\"\")","v":""},null,"SAN MIGUEL"]
[1418,150137,"LIMA","LIMA METROPOLITANA","SANTA ANITA",11,285,-12.043900000000001,-76.971400000000003,{"$f":"IFERROR(VLOOKUP(B1423,#REF!,8,FALSE),\"\")","v":""},null,"SANTA ANITA"]
[1419,150144,"LIMA","LIMA METROPOLITANA","SANTA MARIA DE HUACHIPA",12,351,-12.0143,-76.915999999999997,{"$f":"IFERROR(VLOOKUP(B1424,#REF!,8,FALSE),\"\")","v":""},null,"SANTA MARIA DE HUACHIPA"]
[1420,150138,"LIMA","LIMA METROPOLITANA","SANTA MARIA DEL MAR",10,52,-12.401899999999999,-76.773300000000006,{"$f":"IFERROR(VLOOKUP(B1425,#REF!,8,FALSE),\"\")","v":""},null,"SANTA MARIA DEL MAR"]
[1421,150139,"LIMA","LIMA METROPOLITANA","SANTA ROSA",21,72,-11.7872,-77.156899999999993,{"$f":"IFERROR(VLOOKUP(B1426,#REF!,8,FALSE),\"\")","v":""},null,"SANTA ROSA"]
[1422,150140,"LIMA","LIMA METROPOLITANA","SANTIAGO DE SURCO",36,107,-12.145,-77.004999999999995,{"$f":"IFERROR(VLOOKUP(B1427,#REF!,8,FALSE),\"\")","v":""},null,"SANTIAGO DE SURCO"]
[1423,150141,"LIMA","LIMA METROPOLITANA","SURQUILLO",3,125,-12.118600000000001,-77.021699999999996,{"$f":"IFERROR(VLOOKUP(B1428,#REF!,8,FALSE),\"\")","v":""},null,"SURQUILLO"]
[1424,150142,"LIMA","LIMA METROPOLITANA","VILLA EL SALVADOR",35,204,-12.2133,-76.937200000000004,{"$f":"IFERROR(VLOOKUP(B1429,#REF!,8,FALSE),\"\")","v":""},null,"VILLA EL SALVADOR"]
[1425,150143,"LIMA","LIMA METROPOLITANA","VILLA MARIA DEL TRIUNFO",71,210,-12.1625,-76.943600000000004,{"$f":"IFERROR(VLOOKUP(B1430,#REF!,8,FALSE),\"\")","v":""},null,"VILLA MARIA DEL TRIUNFO"]
[1426,150902,"LIMA","OYON","ANDAJES",148,3505,-10.7928,-76.909199999999998,{"$f":"IFERROR(VLOOKUP(B1431,#REF!,8,FALSE),\"\")","v":""},null,"ANDAJES"]
[1427,150903,"LIMA","OYON","CAUJUL",106,3185,-10.8058,-76.979200000000006,{"$f":"IFERROR(VLOOKUP(B1432,#REF!,8,FALSE),\"\")","v":""},null,"CAUJUL"]
[1428,150904,"LIMA","OYON","COCHAMARCA",266,3492,-10.863300000000001,-77.128900000000002,{"$f":"IFERROR(VLOOKUP(B1433,#REF!,8,FALSE),\"\")","v":""},null,"COCHAMARCA"]
[1429,150905,"LIMA","OYON","NAVAN",227,3131,-10.8378,-77.014399999999995,{"$f":"IFERROR(VLOOKUP(B1434,#REF!,8,FALSE),\"\")","v":""},null,"NAVAN"]
[1430,150901,"LIMA","OYON","OYON",890,3648,-10.668100000000001,-76.773300000000006,{"$f":"IFERROR(VLOOKUP(B1435,#REF!,8,FALSE),\"\")","v":""},null,"OYON"]
[1431,150906,"LIMA","OYON","PACHANGARA",252,2283,-10.8111,-76.875,{"$f":"IFERROR(VLOOKUP(B1436,#REF!,8,FALSE),\"\")","v":""},null,"PACHANGARA"]
[1432,151002,"LIMA","YAUYOS","ALIS",142,3285,-12.2811,-75.7864,{"$f":"IFERROR(VLOOKUP(B1437,#REF!,8,FALSE),\"\")","v":""},null,"ALIS"]
[1433,151003,"LIMA","YAUYOS","AYAUCA",439,3151,-12.591100000000001,-76.036900000000003,{"$f":"IFERROR(VLOOKUP(B1438,#REF!,8,FALSE),\"\")","v":""},null,"AYAUCA"]
[1434,151004,"LIMA","YAUYOS","AYAVIRI",239,3263,-12.3825,-76.136899999999997,{"$f":"IFERROR(VLOOKUP(B1439,#REF!,8,FALSE),\"\")","v":""},null,"AYAVIRI"]
[1435,151005,"LIMA","YAUYOS","AZANGARO",80,3435,-13,-75.837199999999996,{"$f":"IFERROR(VLOOKUP(B1440,#REF!,8,FALSE),\"\")","v":""},null,"AZANGARO"]
[1436,151006,"LIMA","YAUYOS","CACRA",214,2788,-12.8125,-75.783100000000005,{"$f":"IFERROR(VLOOKUP(B1441,#REF!,8,FALSE),\"\")","v":""},null,"CACRA"]
[1437,151007,"LIMA","YAUYOS","CARANIA",122,3846,-12.345599999999999,-75.869399999999999,{"$f":"IFERROR(VLOOKUP(B1442,#REF!,8,FALSE),\"\")","v":""},null,"CARANIA"]
[1438,151008,"LIMA","YAUYOS","CATAHUASI",124,1203,-12.7994,-75.891400000000004,{"$f":"IFERROR(VLOOKUP(B1443,#REF!,8,FALSE),\"\")","v":""},null,"CATAHUASI"]
[1439,151009,"LIMA","YAUYOS","CHOCOS",213,2733,-12.914400000000001,-75.862799999999993,{"$f":"IFERROR(VLOOKUP(B1444,#REF!,8,FALSE),\"\")","v":""},null,"CHOCOS"]
[1440,151010,"LIMA","YAUYOS","COCHAS",28,2851,-12.2942,-76.157499999999999,{"$f":"IFERROR(VLOOKUP(B1445,#REF!,8,FALSE),\"\")","v":""},null,"COCHAS"]
[1441,151011,"LIMA","YAUYOS","COLONIA",324,3399,-12.633900000000001,-75.890299999999996,{"$f":"IFERROR(VLOOKUP(B1446,#REF!,8,FALSE),\"\")","v":""},null,"COLONIA"]
[1442,151012,"LIMA","YAUYOS","HONGOS",104,3215,-12.8108,-75.765299999999996,{"$f":"IFERROR(VLOOKUP(B1447,#REF!,8,FALSE),\"\")","v":""},null,"HONGOS"]
[1443,151013,"LIMA","YAUYOS","HUAMPARA",54,2501,-12.360300000000001,-76.167199999999994,{"$f":"IFERROR(VLOOKUP(B1448,#REF!,8,FALSE),\"\")","v":""},null,"HUAMPARA"]
[1444,151014,"LIMA","YAUYOS","HUANCAYA",284,3591,-12.2033,-75.799199999999999,{"$f":"IFERROR(VLOOKUP(B1449,#REF!,8,FALSE),\"\")","v":""},null,"HUANCAYA"]
[1445,151015,"LIMA","YAUYOS","HUANGASCAR",50,2529,-12.8994,-75.831900000000005,{"$f":"IFERROR(VLOOKUP(B1450,#REF!,8,FALSE),\"\")","v":""},null,"HUANGASCAR"]
[1446,151016,"LIMA","YAUYOS","HUANTAN",516,3315,-12.4564,-75.811700000000002,{"$f":"IFERROR(VLOOKUP(B1451,#REF!,8,FALSE),\"\")","v":""},null,"HUANTAN"]
[1447,151017,"LIMA","YAUYOS","HUAÑEC",38,3222,-12.293900000000001,-76.138599999999997,{"$f":"IFERROR(VLOOKUP(B1452,#REF!,8,FALSE),\"\")","v":""},null,"HUAÑEC"]
[1448,151018,"LIMA","YAUYOS","LARAOS",403,3492,-12.3467,-75.785799999999995,{"$f":"IFERROR(VLOOKUP(B1453,#REF!,8,FALSE),\"\")","v":""},null,"LARAOS"]
[1449,151019,"LIMA","YAUYOS","LINCHA",221,3516,-12.7997,-75.666700000000006,{"$f":"IFERROR(VLOOKUP(B1454,#REF!,8,FALSE),\"\")","v":""},null,"LINCHA"]
[1450,151020,"LIMA","YAUYOS","MADEAN",221,3292,-12.9444,-75.777199999999993,{"$f":"IFERROR(VLOOKUP(B1455,#REF!,8,FALSE),\"\")","v":""},null,"MADEAN"]
[1451,151021,"LIMA","YAUYOS","MIRAFLORES",226,3677,-12.2744,-75.850300000000004,{"$f":"IFERROR(VLOOKUP(B1456,#REF!,8,FALSE),\"\")","v":""},null,"MIRAFLORES"]
[1452,151022,"LIMA","YAUYOS","OMAS",295,1572,-12.514699999999999,-76.289400000000001,{"$f":"IFERROR(VLOOKUP(B1457,#REF!,8,FALSE),\"\")","v":""},null,"OMAS"]
[1453,151023,"LIMA","YAUYOS","PUTINZA",66,1985,-12.668100000000001,-75.949399999999997,{"$f":"IFERROR(VLOOKUP(B1458,#REF!,8,FALSE),\"\")","v":""},null,"PUTINZA"]
[1454,151024,"LIMA","YAUYOS","QUINCHES",113,2981,-12.3078,-76.143299999999996,{"$f":"IFERROR(VLOOKUP(B1459,#REF!,8,FALSE),\"\")","v":""},null,"QUINCHES"]
[1455,151025,"LIMA","YAUYOS","QUINOCAY",153,2672,-12.3622,-76.226399999999998,{"$f":"IFERROR(VLOOKUP(B1460,#REF!,8,FALSE),\"\")","v":""},null,"QUINOCAY"]
[1456,151026,"LIMA","YAUYOS","SAN JOAQUIN",41,2960,-12.283899999999999,-76.146900000000002,{"$f":"IFERROR(VLOOKUP(B1461,#REF!,8,FALSE),\"\")","v":""},null,"SAN JOAQUIN"]
[1457,151027,"LIMA","YAUYOS","SAN PEDRO DE PILAS",97,2678,-12.4544,-76.226900000000001,{"$f":"IFERROR(VLOOKUP(B1462,#REF!,8,FALSE),\"\")","v":""},null,"SAN PEDRO DE PILAS"]
[1458,151028,"LIMA","YAUYOS","TANTA",347,4293,-12.122199999999999,-76.013300000000001,{"$f":"IFERROR(VLOOKUP(B1463,#REF!,8,FALSE),\"\")","v":""},null,"TANTA"]
[1459,151029,"LIMA","YAUYOS","TAURIPAMPA",531,3526,-12.6172,-76.161900000000003,{"$f":"IFERROR(VLOOKUP(B1464,#REF!,8,FALSE),\"\")","v":""},null,"TAURIPAMPA"]
[1460,151030,"LIMA","YAUYOS","TOMAS",298,3580,-12.2378,-75.745000000000005,{"$f":"IFERROR(VLOOKUP(B1465,#REF!,8,FALSE),\"\")","v":""},null,"TOMAS"]
[1461,151031,"LIMA","YAUYOS","TUPE",321,2841,-12.741099999999999,-75.809399999999997,{"$f":"IFERROR(VLOOKUP(B1466,#REF!,8,FALSE),\"\")","v":""},null,"TUPE"]
[1462,151032,"LIMA","YAUYOS","VIÑAC",165,3315,-12.931100000000001,-75.78,{"$f":"IFERROR(VLOOKUP(B1467,#REF!,8,FALSE),\"\")","v":""},null,"VIÑAC"]
[1463,151033,"LIMA","YAUYOS","VITIS",102,3625,-12.2239,-75.808099999999996,{"$f":"IFERROR(VLOOKUP(B1468,#REF!,8,FALSE),\"\")","v":""},null,"VITIS"]
[1464,151001,"LIMA","YAUYOS","YAUYOS",327,2895,-12.4597,-75.918300000000002,{"$f":"IFERROR(VLOOKUP(B1469,#REF!,8,FALSE),\"\")","v":""},null,"YAUYOS"]
[1465,160202,"LORETO","ALTO AMAZONAS","BALSAPUERTO",2954,220,-5.8333000000000004,-76.559700000000007,{"$f":"IFERROR(VLOOKUP(B1470,#REF!,8,FALSE),\"\")","v":""},null,"BALSAPUERTO"]
[1466,160205,"LORETO","ALTO AMAZONAS","JEBEROS",4254,146,-5.2907999999999999,-76.283299999999997,{"$f":"IFERROR(VLOOKUP(B1471,#REF!,8,FALSE),\"\")","v":""},null,"JEBEROS"]
[1467,160206,"LORETO","ALTO AMAZONAS","LAGUNAS",5929,119,-5.2239000000000004,-75.674999999999997,{"$f":"IFERROR(VLOOKUP(B1472,#REF!,8,FALSE),\"\")","v":""},null,"LAGUNAS"]
[1468,160210,"LORETO","ALTO AMAZONAS","SANTA CRUZ",2222,131,-5.5133000000000001,-75.858900000000006,{"$f":"IFERROR(VLOOKUP(B1473,#REF!,8,FALSE),\"\")","v":""},null,"SANTA CRUZ"]
[1469,160211,"LORETO","ALTO AMAZONAS","TENIENTE CESAR LOPEZ ROJAS",1292,149,-6.0255999999999998,-75.874200000000002,{"$f":"IFERROR(VLOOKUP(B1474,#REF!,8,FALSE),\"\")","v":""},null,"TENIENTE CESAR LOPEZ ROJAS"]
[1470,160201,"LORETO","ALTO AMAZONAS","YURIMAGUAS",2188,150,-5.8841999999999999,-76.128100000000003,{"$f":"IFERROR(VLOOKUP(B1475,#REF!,8,FALSE),\"\")","v":""},null,"YURIMAGUAS"]
[1471,160706,"LORETO","DATEM DEL MARAÑON","ANDOAS",11541,172,-3.4756,-76.433599999999998,{"$f":"IFERROR(VLOOKUP(B1476,#REF!,8,FALSE),\"\")","v":""},null,"ANDOAS"]
[1472,160701,"LORETO","DATEM DEL MARAÑON","BARRANCA",7236,134,-4.8311000000000002,-76.555000000000007,{"$f":"IFERROR(VLOOKUP(B1477,#REF!,8,FALSE),\"\")","v":""},null,"BARRANCA"]
[1473,160702,"LORETO","DATEM DEL MARAÑON","CAHUAPANAS",4685,162,-5.2492000000000001,-77.041399999999996,{"$f":"IFERROR(VLOOKUP(B1478,#REF!,8,FALSE),\"\")","v":""},null,"CAHUAPANAS"]
[1474,160703,"LORETO","DATEM DEL MARAÑON","MANSERICHE",3494,155,-4.5636000000000001,-77.417199999999994,{"$f":"IFERROR(VLOOKUP(B1479,#REF!,8,FALSE),\"\")","v":""},null,"MANSERICHE"]
[{"$f":"+A1479+1","v":1475},160704,"LORETO","DATEM DEL MARAÑON","MORONA",10777,144,-4.3263999999999996,-77.216099999999997,{"$f":"IFERROR(VLOOKUP(B1480,#REF!,8,FALSE),\"\")","v":""},null,"MORONA"]
[1476,160705,"LORETO","DATEM DEL MARAÑON","PASTAZA",8909,137,-4.6510999999999996,-76.587500000000006,{"$f":"IFERROR(VLOOKUP(B1481,#REF!,8,FALSE),\"\")","v":""},null,"PASTAZA"]
[1477,160301,"LORETO","LORETO","NAUTA",6672,127,-4.5014000000000003,-73.569400000000002,{"$f":"IFERROR(VLOOKUP(B1482,#REF!,8,FALSE),\"\")","v":""},null,"NAUTA"]
[1478,160302,"LORETO","LORETO","PARINARI",12935,106,-4.6317000000000004,-74.463099999999997,{"$f":"IFERROR(VLOOKUP(B1483,#REF!,8,FALSE),\"\")","v":""},null,"PARINARI"]
[1479,160303,"LORETO","LORETO","TIGRE",19786,131,-3.4897,-74.781700000000001,{"$f":"IFERROR(VLOOKUP(B1484,#REF!,8,FALSE),\"\")","v":""},null,"TIGRE"]
[1480,160304,"LORETO","LORETO","TROMPETEROS",12246,131,-3.8050000000000002,-75.060599999999994,{"$f":"IFERROR(VLOOKUP(B1485,#REF!,8,FALSE),\"\")","v":""},null,"TROMPETEROS"]
[1481,160305,"LORETO","LORETO","URARINAS",15434,100,-4.5875000000000004,-74.767200000000003,{"$f":"IFERROR(VLOOKUP(B1486,#REF!,8,FALSE),\"\")","v":""},null,"URARINAS"]
[1482,160402,"LORETO","MARISCAL RAMON CASTILLA","PEBAS",11048,117,-3.3203,-71.861900000000006,{"$f":"IFERROR(VLOOKUP(B1487,#REF!,8,FALSE),\"\")","v":""},null,"PEBAS"]
[1483,160401,"LORETO","MARISCAL RAMON CASTILLA","RAMON CASTILLA",7163,86,-3.9060999999999999,-70.516900000000007,{"$f":"IFERROR(VLOOKUP(B1488,#REF!,8,FALSE),\"\")","v":""},null,"RAMON CASTILLA"]
[1484,160404,"LORETO","MARISCAL RAMON CASTILLA","SAN PABLO",5046,85,-4.0202999999999998,-71.103099999999998,{"$f":"IFERROR(VLOOKUP(B1489,#REF!,8,FALSE),\"\")","v":""},null,"SAN PABLO"]
[1485,160403,"LORETO","MARISCAL RAMON CASTILLA","YAVARI",13808,75,-4.3536000000000001,-70.041700000000006,{"$f":"IFERROR(VLOOKUP(B1490,#REF!,8,FALSE),\"\")","v":""},null,"YAVARI"]
[1486,160102,"LORETO","MAYNAS","ALTO NANAY",14291,115,-3.8883000000000001,-73.697500000000005,{"$f":"IFERROR(VLOOKUP(B1491,#REF!,8,FALSE),\"\")","v":""},null,"ALTO NANAY"]
[1487,160112,"LORETO","MAYNAS","BELEN",633,116,-3.7692000000000001,-73.260000000000005,{"$f":"IFERROR(VLOOKUP(B1492,#REF!,8,FALSE),\"\")","v":""},null,"BELEN"]
[1488,160103,"LORETO","MAYNAS","FERNANDO LORES",4476,129,-4.0016999999999996,-73.156899999999993,{"$f":"IFERROR(VLOOKUP(B1493,#REF!,8,FALSE),\"\")","v":""},null,"FERNANDO LORES"]
[1489,160104,"LORETO","MAYNAS","INDIANA",3298,98,-3.5003000000000002,-73.0411,{"$f":"IFERROR(VLOOKUP(B1494,#REF!,8,FALSE),\"\")","v":""},null,"INDIANA"]
[1490,160101,"LORETO","MAYNAS","IQUITOS",358,107,-3.7481,-73.244200000000006,{"$f":"IFERROR(VLOOKUP(B1495,#REF!,8,FALSE),\"\")","v":""},null,"IQUITOS"]
[1491,160105,"LORETO","MAYNAS","LAS AMAZONAS",6594,100,-3.4230999999999998,-72.764399999999995,{"$f":"IFERROR(VLOOKUP(B1496,#REF!,8,FALSE),\"\")","v":""},null,"LAS AMAZONAS"]
[1492,160106,"LORETO","MAYNAS","MAZAN",9884,106,-3.4885999999999999,-73.081699999999998,{"$f":"IFERROR(VLOOKUP(B1497,#REF!,8,FALSE),\"\")","v":""},null,"MAZAN"]
[1493,160107,"LORETO","MAYNAS","NAPO",24050,142,-2.4891999999999999,-73.676100000000005,{"$f":"IFERROR(VLOOKUP(B1498,#REF!,8,FALSE),\"\")","v":""},null,"NAPO"]
[1494,160108,"LORETO","MAYNAS","PUNCHANA",1573,124,-3.7286000000000001,-73.241900000000001,{"$f":"IFERROR(VLOOKUP(B1499,#REF!,8,FALSE),\"\")","v":""},null,"PUNCHANA"]
[1495,160109,"LORETO","MAYNAS","PUTUMAYO",null,139,-2.5767000000000002,-72.755099999999999,{"$f":"IFERROR(VLOOKUP(B1500,#REF!,8,FALSE),\"\")","v":""},null,"PUTUMAYO"]
[1496,160113,"LORETO","MAYNAS","SAN JUAN BAUTISTA",3117,120,-3.7703000000000002,-73.280299999999997,{"$f":"IFERROR(VLOOKUP(B1501,#REF!,8,FALSE),\"\")","v":""},null,"SAN JUAN BAUTISTA"]
[1497,160114,"LORETO","MAYNAS","TENIENTE MANUEL CLAVERO",9621,197,-0.60609999999999997,-74.808300000000003,{"$f":"IFERROR(VLOOKUP(B1502,#REF!,8,FALSE),\"\")","v":""},null,"TENIENTE MANUEL CLAVERO"]
[1498,160110,"LORETO","MAYNAS","TORRES CAUSANA",6795,196,-0.97060000000000002,-75.174199999999999,{"$f":"IFERROR(VLOOKUP(B1503,#REF!,8,FALSE),\"\")","v":""},null,"TORRES CAUSANA"]
[1499,160801,"LORETO","PUTUMAYO","PUTUMAYO",10886,131,-2.4468999999999999,-72.668099999999995,{"$f":"IFERROR(VLOOKUP(B1504,#REF!,8,FALSE),\"\")","v":""},null,"PUTUMAYO"]
[1500,160802,"LORETO","PUTUMAYO","ROSA PANDURO",7039,132,-1.7886,-73.4131,{"$f":"IFERROR(VLOOKUP(B1505,#REF!,8,FALSE),\"\")","v":""},null,"ROSA PANDURO"]
[1501,160803,"LORETO","PUTUMAYO","TENIENTE MANUEL CLAVERO",9489,185,-0.37330000000000002,-74.675799999999995,{"$f":"IFERROR(VLOOKUP(B1506,#REF!,8,FALSE),\"\")","v":""},null,"TENIENTE MANUEL CLAVERO"]
[1502,160804,"LORETO","PUTUMAYO","YAGUAS",17725,94,-2.4081000000000001,-71.176699999999997,{"$f":"IFERROR(VLOOKUP(B1507,#REF!,8,FALSE),\"\")","v":""},null,"YAGUAS"]
[1503,160502,"LORETO","REQUENA","ALTO TAPICHE",9014,123,-6.0255999999999998,-74.094200000000001,{"$f":"IFERROR(VLOOKUP(B1508,#REF!,8,FALSE),\"\")","v":""},null,"ALTO TAPICHE"]
[1504,160503,"LORETO","REQUENA","CAPELO",842,112,-5.4053000000000004,-74.157799999999995,{"$f":"IFERROR(VLOOKUP(B1509,#REF!,8,FALSE),\"\")","v":""},null,"CAPELO"]
[1505,160504,"LORETO","REQUENA","EMILIO SAN MARTIN",4573,108,-5.7935999999999996,-74.283900000000003,{"$f":"IFERROR(VLOOKUP(B1510,#REF!,8,FALSE),\"\")","v":""},null,"EMILIO SAN MARTIN"]
[1506,160510,"LORETO","REQUENA","JENARO HERRERA",1517,116,-4.9036,-73.670599999999993,{"$f":"IFERROR(VLOOKUP(B1511,#REF!,8,FALSE),\"\")","v":""},null,"JENARO HERRERA"]
[1507,160505,"LORETO","REQUENA","MAQUIA",4792,108,-5.7496999999999998,-74.537800000000004,{"$f":"IFERROR(VLOOKUP(B1512,#REF!,8,FALSE),\"\")","v":""},null,"MAQUIA"]
[1508,160506,"LORETO","REQUENA","PUINAHUA",6149,113,-5.2556000000000003,-74.345600000000005,{"$f":"IFERROR(VLOOKUP(B1513,#REF!,8,FALSE),\"\")","v":""},null,"PUINAHUA"]
[1509,160501,"LORETO","REQUENA","REQUENA",3039,116,-5.0639000000000003,-73.856700000000004,{"$f":"IFERROR(VLOOKUP(B1514,#REF!,8,FALSE),\"\")","v":""},null,"REQUENA"]
[1510,160507,"LORETO","REQUENA","SAQUENA",2081,106,-4.7249999999999996,-73.533100000000005,{"$f":"IFERROR(VLOOKUP(B1515,#REF!,8,FALSE),\"\")","v":""},null,"SAQUENA"]
[1511,160508,"LORETO","REQUENA","SOPLIN",4711,118,-6.0077999999999996,-73.692499999999995,{"$f":"IFERROR(VLOOKUP(B1516,#REF!,8,FALSE),\"\")","v":""},null,"SOPLIN"]
[1512,160509,"LORETO","REQUENA","TAPICHE",2014,108,-5.6936,-74.137799999999999,{"$f":"IFERROR(VLOOKUP(B1517,#REF!,8,FALSE),\"\")","v":""},null,"TAPICHE"]
[1513,160511,"LORETO","REQUENA","YAQUERANA",10947,90,-5.1489000000000003,-72.875299999999996,{"$f":"IFERROR(VLOOKUP(B1518,#REF!,8,FALSE),\"\")","v":""},null,"YAQUERANA"]
[1514,160601,"LORETO","UCAYALI","CONTAMANA",10675,138,-7.3506,-75.009699999999995,{"$f":"IFERROR(VLOOKUP(B1519,#REF!,8,FALSE),\"\")","v":""},null,"CONTAMANA"]
[1515,160602,"LORETO","UCAYALI","INAHUAYA",646,140,-7.1169000000000002,-75.262500000000003,{"$f":"IFERROR(VLOOKUP(B1520,#REF!,8,FALSE),\"\")","v":""},null,"INAHUAYA"]
[1516,160603,"LORETO","UCAYALI","PADRE MARQUEZ",2476,139,-7.9466999999999999,-74.840800000000002,{"$f":"IFERROR(VLOOKUP(B1521,#REF!,8,FALSE),\"\")","v":""},null,"PADRE MARQUEZ"]
[1517,160604,"LORETO","UCAYALI","PAMPA HERMOSA",7347,111,-7.1963999999999997,-75.294399999999996,{"$f":"IFERROR(VLOOKUP(B1522,#REF!,8,FALSE),\"\")","v":""},null,"PAMPA HERMOSA"]
[1518,160605,"LORETO","UCAYALI","SARAYACU",6303,122,-6.3930999999999996,-75.116900000000001,{"$f":"IFERROR(VLOOKUP(B1523,#REF!,8,FALSE),\"\")","v":""},null,"SARAYACU"]
[1519,160606,"LORETO","UCAYALI","VARGAS GUERRA",1846,129,-6.9111000000000002,-75.158900000000003,{"$f":"IFERROR(VLOOKUP(B1524,#REF!,8,FALSE),\"\")","v":""},null,"VARGAS GUERRA"]
[1520,170202,"MADRE DE DIOS","MANU","FITZCARRALD",10955,282,-12.2653,-70.91,{"$f":"IFERROR(VLOOKUP(B1525,#REF!,8,FALSE),\"\")","v":""},null,"FITZCARRALD"]
[1521,170204,"MADRE DE DIOS","MANU","HUEPETUHE",1478,444,-12.993600000000001,-70.527199999999993,{"$f":"IFERROR(VLOOKUP(B1526,#REF!,8,FALSE),\"\")","v":""},null,"HUEPETUHE"]
[1522,170203,"MADRE DE DIOS","MANU","MADRE DE DIOS",7235,246,-12.618600000000001,-70.394199999999998,{"$f":"IFERROR(VLOOKUP(B1527,#REF!,8,FALSE),\"\")","v":""},null,"MADRE DE DIOS"]
[1523,170201,"MADRE DE DIOS","MANU","MANU",8167,535,-12.837199999999999,-71.365300000000005,{"$f":"IFERROR(VLOOKUP(B1528,#REF!,8,FALSE),\"\")","v":""},null,"MANU"]
[1524,170302,"MADRE DE DIOS","TAHUAMANU","IBERIA",2549,268,-11.4108,-69.486900000000006,{"$f":"IFERROR(VLOOKUP(B1529,#REF!,8,FALSE),\"\")","v":""},null,"IBERIA"]
[1525,170301,"MADRE DE DIOS","TAHUAMANU","IÑAPARI",14854,238,-10.945,-69.576700000000002,{"$f":"IFERROR(VLOOKUP(B1530,#REF!,8,FALSE),\"\")","v":""},null,"IÑAPARI"]
[1526,170303,"MADRE DE DIOS","TAHUAMANU","TAHUAMANU",3794,261,-11.454700000000001,-69.321399999999997,{"$f":"IFERROR(VLOOKUP(B1531,#REF!,8,FALSE),\"\")","v":""},null,"TAHUAMANU"]
[1527,170102,"MADRE DE DIOS","TAMBOPATA","INAMBARI",4257,351,-13.1014,-70.371700000000004,{"$f":"IFERROR(VLOOKUP(B1532,#REF!,8,FALSE),\"\")","v":""},null,"INAMBARI"]
[1528,170104,"MADRE DE DIOS","TAMBOPATA","LABERINTO",2761,192,-12.7172,-69.586699999999993,{"$f":"IFERROR(VLOOKUP(B1533,#REF!,8,FALSE),\"\")","v":""},null,"LABERINTO"]
[1529,170103,"MADRE DE DIOS","TAMBOPATA","LAS PIEDRAS",7032,239,-12.279199999999999,-69.150300000000001,{"$f":"IFERROR(VLOOKUP(B1534,#REF!,8,FALSE),\"\")","v":""},null,"LAS PIEDRAS"]
[1530,170101,"MADRE DE DIOS","TAMBOPATA","TAMBOPATA",22219,204,-12.5936,-69.176699999999997,{"$f":"IFERROR(VLOOKUP(B1535,#REF!,8,FALSE),\"\")","v":""},null,"TAMBOPATA"]
[1531,180202,"MOQUEGUA","GENERAL SANCHEZ CERRO","CHOJATA",848,3634,-16.388300000000001,-70.7303,{"$f":"IFERROR(VLOOKUP(B1536,#REF!,8,FALSE),\"\")","v":""},null,"CHOJATA"]
[1532,180203,"MOQUEGUA","GENERAL SANCHEZ CERRO","COALAQUE",248,2300,-16.648900000000001,-71.021699999999996,{"$f":"IFERROR(VLOOKUP(B1537,#REF!,8,FALSE),\"\")","v":""},null,"COALAQUE"]
[1533,180204,"MOQUEGUA","GENERAL SANCHEZ CERRO","ICHUÑA",1018,3794,-16.140599999999999,-70.535600000000002,{"$f":"IFERROR(VLOOKUP(B1538,#REF!,8,FALSE),\"\")","v":""},null,"ICHUÑA"]
[1534,180205,"MOQUEGUA","GENERAL SANCHEZ CERRO","LA CAPILLA",776,1817,-16.756699999999999,-71.179199999999994,{"$f":"IFERROR(VLOOKUP(B1539,#REF!,8,FALSE),\"\")","v":""},null,"LA CAPILLA"]
[1535,180206,"MOQUEGUA","GENERAL SANCHEZ CERRO","LLOQUE",254,3325,-16.323899999999998,-70.738600000000005,{"$f":"IFERROR(VLOOKUP(B1540,#REF!,8,FALSE),\"\")","v":""},null,"LLOQUE"]
[1536,180207,"MOQUEGUA","GENERAL SANCHEZ CERRO","MATALAQUE",557,2577,-16.481100000000001,-70.826700000000002,{"$f":"IFERROR(VLOOKUP(B1541,#REF!,8,FALSE),\"\")","v":""},null,"MATALAQUE"]
[1537,180201,"MOQUEGUA","GENERAL SANCHEZ CERRO","OMATE",251,2169,-16.6736,-70.970600000000005,{"$f":"IFERROR(VLOOKUP(B1542,#REF!,8,FALSE),\"\")","v":""},null,"OMATE"]
[1538,180208,"MOQUEGUA","GENERAL SANCHEZ CERRO","PUQUINA",551,3092,-16.625299999999999,-71.183899999999994,{"$f":"IFERROR(VLOOKUP(B1543,#REF!,8,FALSE),\"\")","v":""},null,"PUQUINA"]
[{"$f":"+A1543+1","v":1539},180209,"MOQUEGUA","GENERAL SANCHEZ CERRO","QUINISTAQUILLAS",194,1789,-16.748899999999999,-70.880300000000005,{"$f":"IFERROR(VLOOKUP(B1544,#REF!,8,FALSE),\"\")","v":""},null,"QUINISTAQUILLAS"]
[1540,180210,"MOQUEGUA","GENERAL SANCHEZ CERRO","UBINAS",875,3395,-16.386700000000001,-70.855599999999995,{"$f":"IFERROR(VLOOKUP(B1545,#REF!,8,FALSE),\"\")","v":""},null,"UBINAS"]
[1541,180211,"MOQUEGUA","GENERAL SANCHEZ CERRO","YUNGA",111,3619,-16.195,-70.677800000000005,{"$f":"IFERROR(VLOOKUP(B1546,#REF!,8,FALSE),\"\")","v":""},null,"YUNGA"]
[1542,180302,"MOQUEGUA","ILO","EL ALGARROBAL",747,136,-17.622800000000002,-71.268299999999996,{"$f":"IFERROR(VLOOKUP(B1547,#REF!,8,FALSE),\"\")","v":""},null,"EL ALGARROBAL"]
[1543,180301,"MOQUEGUA","ILO","ILO",296,33,-17.625,-71.343299999999999,{"$f":"IFERROR(VLOOKUP(B1548,#REF!,8,FALSE),\"\")","v":""},null,"ILO"]
[1544,180303,"MOQUEGUA","ILO","PACOCHA",338,77,-17.610800000000001,-71.340299999999999,{"$f":"IFERROR(VLOOKUP(B1549,#REF!,8,FALSE),\"\")","v":""},null,"PACOCHA"]
[1545,180102,"MOQUEGUA","MARISCAL NIETO","CARUMAS",2256,3054,-16.809200000000001,-70.694699999999997,{"$f":"IFERROR(VLOOKUP(B1550,#REF!,8,FALSE),\"\")","v":""},null,"CARUMAS"]
[1546,180103,"MOQUEGUA","MARISCAL NIETO","CUCHUMBAYA",68,3156,-16.750800000000002,-70.686099999999996,{"$f":"IFERROR(VLOOKUP(B1551,#REF!,8,FALSE),\"\")","v":""},null,"CUCHUMBAYA"]
[1547,180101,"MOQUEGUA","MARISCAL NIETO","MOQUEGUA",3949,1428,-17.194199999999999,-70.933300000000003,{"$f":"IFERROR(VLOOKUP(B1552,#REF!,8,FALSE),\"\")","v":""},null,"MOQUEGUA"]
[1548,180104,"MOQUEGUA","MARISCAL NIETO","SAMEGUA",63,1615,-17.182200000000002,-70.900300000000001,{"$f":"IFERROR(VLOOKUP(B1553,#REF!,8,FALSE),\"\")","v":""},null,"SAMEGUA"]
[1549,180199,"MOQUEGUA","MARISCAL NIETO","SAN ANTONIO",null,1362,-17.207000000000001,-70.947400000000002,{"$f":"IFERROR(VLOOKUP(B1554,#REF!,8,FALSE),\"\")","v":""},null,"SAN ANTONIO"]
[1550,180105,"MOQUEGUA","MARISCAL NIETO","SAN CRISTOBAL",543,3472,-16.7392,-70.683300000000003,{"$f":"IFERROR(VLOOKUP(B1555,#REF!,8,FALSE),\"\")","v":""},null,"SAN CRISTOBAL"]
[1551,180106,"MOQUEGUA","MARISCAL NIETO","TORATA",1793,2203,-17.076699999999999,-70.844200000000001,{"$f":"IFERROR(VLOOKUP(B1556,#REF!,8,FALSE),\"\")","v":""},null,"TORATA"]
[1552,190202,"PASCO","DANIEL ALCIDES CARRION","CHACAYAN",199,3385,-10.4344,-76.437200000000004,{"$f":"IFERROR(VLOOKUP(B1557,#REF!,8,FALSE),\"\")","v":""},null,"CHACAYAN"]
[1553,190203,"PASCO","DANIEL ALCIDES CARRION","GOYLLARISQUIZGA",23,4202,-10.473100000000001,-76.408299999999997,{"$f":"IFERROR(VLOOKUP(B1558,#REF!,8,FALSE),\"\")","v":""},null,"GOYLLARISQUIZGA"]
[1554,190204,"PASCO","DANIEL ALCIDES CARRION","PAUCAR",134,3381,-10.3711,-76.443299999999994,{"$f":"IFERROR(VLOOKUP(B1559,#REF!,8,FALSE),\"\")","v":""},null,"PAUCAR"]
[1555,190205,"PASCO","DANIEL ALCIDES CARRION","SAN PEDRO DE PILLAO",92,3648,-10.4389,-76.4953,{"$f":"IFERROR(VLOOKUP(B1560,#REF!,8,FALSE),\"\")","v":""},null,"SAN PEDRO DE PILLAO"]
[1556,190206,"PASCO","DANIEL ALCIDES CARRION","SANTA ANA DE TUSI",353,3786,-10.4725,-76.3536,{"$f":"IFERROR(VLOOKUP(B1561,#REF!,8,FALSE),\"\")","v":""},null,"SANTA ANA DE TUSI"]
[1557,190207,"PASCO","DANIEL ALCIDES CARRION","TAPUC",60,3713,-10.454700000000001,-76.462500000000006,{"$f":"IFERROR(VLOOKUP(B1562,#REF!,8,FALSE),\"\")","v":""},null,"TAPUC"]
[1558,190208,"PASCO","DANIEL ALCIDES CARRION","VILCABAMBA",102,3459,-10.4786,-76.446899999999999,{"$f":"IFERROR(VLOOKUP(B1563,#REF!,8,FALSE),\"\")","v":""},null,"VILCABAMBA"]
[1559,190201,"PASCO","DANIEL ALCIDES CARRION","YANAHUANCA",921,3203,-10.491400000000001,-76.516400000000004,{"$f":"IFERROR(VLOOKUP(B1564,#REF!,8,FALSE),\"\")","v":""},null,"YANAHUANCA"]
[1560,190302,"PASCO","OXAPAMPA","CHONTABAMBA",457,1849,-10.6022,-75.438900000000004,{"$f":"IFERROR(VLOOKUP(B1565,#REF!,8,FALSE),\"\")","v":""},null,"CHONTABAMBA"]
[1561,190308,"PASCO","OXAPAMPA","CONSTITUCION",3171,247,-9.8564000000000007,-75.016900000000007,{"$f":"IFERROR(VLOOKUP(B1566,#REF!,8,FALSE),\"\")","v":""},null,"CONSTITUCION"]
[1562,190303,"PASCO","OXAPAMPA","HUANCABAMBA",1182,1769,-10.4261,-75.523899999999998,{"$f":"IFERROR(VLOOKUP(B1567,#REF!,8,FALSE),\"\")","v":""},null,"HUANCABAMBA"]
[1563,190301,"PASCO","OXAPAMPA","OXAPAMPA",420,1832,-10.574999999999999,-75.404700000000005,{"$f":"IFERROR(VLOOKUP(B1568,#REF!,8,FALSE),\"\")","v":""},null,"OXAPAMPA"]
[1564,190304,"PASCO","OXAPAMPA","PALCAZU",2912,302,-10.184200000000001,-75.148099999999999,{"$f":"IFERROR(VLOOKUP(B1569,#REF!,8,FALSE),\"\")","v":""},null,"PALCAZU"]
[1565,190305,"PASCO","OXAPAMPA","POZUZO",751,750,-10.071099999999999,-75.550299999999993,{"$f":"IFERROR(VLOOKUP(B1570,#REF!,8,FALSE),\"\")","v":""},null,"POZUZO"]
[1566,190306,"PASCO","OXAPAMPA","PUERTO BERMUDEZ",8014,281,-10.299200000000001,-74.937200000000004,{"$f":"IFERROR(VLOOKUP(B1571,#REF!,8,FALSE),\"\")","v":""},null,"PUERTO BERMUDEZ"]
[1567,190307,"PASCO","OXAPAMPA","VILLA RICA",859,1551,-10.7392,-75.275800000000004,{"$f":"IFERROR(VLOOKUP(B1572,#REF!,8,FALSE),\"\")","v":""},null,"VILLA RICA"]
[1568,190101,"PASCO","PASCO","CHAUPIMARCA",7,4373,-10.682499999999999,-76.256900000000002,{"$f":"IFERROR(VLOOKUP(B1573,#REF!,8,FALSE),\"\")","v":""},null,"CHAUPIMARCA"]
[1569,190102,"PASCO","PASCO","HUACHON",846,3400,-10.6364,-75.951099999999997,{"$f":"IFERROR(VLOOKUP(B1574,#REF!,8,FALSE),\"\")","v":""},null,"HUACHON"]
[1570,190103,"PASCO","PASCO","HUARIACA",133,2986,-10.4392,-76.191699999999997,{"$f":"IFERROR(VLOOKUP(B1575,#REF!,8,FALSE),\"\")","v":""},null,"HUARIACA"]
[1571,190104,"PASCO","PASCO","HUAYLLAY",1027,4341,-11.001899999999999,-76.364699999999999,{"$f":"IFERROR(VLOOKUP(B1576,#REF!,8,FALSE),\"\")","v":""},null,"HUAYLLAY"]
[1572,190105,"PASCO","PASCO","NINACACA",509,4172,-10.855600000000001,-76.113100000000003,{"$f":"IFERROR(VLOOKUP(B1577,#REF!,8,FALSE),\"\")","v":""},null,"NINACACA"]
[1573,190106,"PASCO","PASCO","PALLANCHACRA",74,3126,-10.4153,-76.235600000000005,{"$f":"IFERROR(VLOOKUP(B1578,#REF!,8,FALSE),\"\")","v":""},null,"PALLANCHACRA"]
[1574,190107,"PASCO","PASCO","PAUCARTAMBO",782,2954,-10.7744,-75.813299999999998,{"$f":"IFERROR(VLOOKUP(B1579,#REF!,8,FALSE),\"\")","v":""},null,"PAUCARTAMBO"]
[1575,190108,"PASCO","PASCO","SAN FRANCISCO DE ASIS DE YARUSYACAN",118,3785,-10.49,-76.196100000000001,{"$f":"IFERROR(VLOOKUP(B1580,#REF!,8,FALSE),\"\")","v":""},null,"SAN FRANCISCO DE ASIS DE YARUSYACAN"]
[1576,190109,"PASCO","PASCO","SIMON BOLIVAR",697,4234,-10.6892,-76.316400000000002,{"$f":"IFERROR(VLOOKUP(B1581,#REF!,8,FALSE),\"\")","v":""},null,"SIMON BOLIVAR"]
[1577,190110,"PASCO","PASCO","TICLACAYAN",748,3543,-10.535,-76.164199999999994,{"$f":"IFERROR(VLOOKUP(B1582,#REF!,8,FALSE),\"\")","v":""},null,"TICLACAYAN"]
[1578,190111,"PASCO","PASCO","TINYAHUARCO",94,4281,-10.7697,-76.276899999999998,{"$f":"IFERROR(VLOOKUP(B1583,#REF!,8,FALSE),\"\")","v":""},null,"TINYAHUARCO"]
[1579,190112,"PASCO","PASCO","VICCO",173,4128,-10.8383,-76.238299999999995,{"$f":"IFERROR(VLOOKUP(B1584,#REF!,8,FALSE),\"\")","v":""},null,"VICCO"]
[1580,190113,"PASCO","PASCO","YANACANCHA",165,4394,-10.6633,-76.253100000000003,{"$f":"IFERROR(VLOOKUP(B1585,#REF!,8,FALSE),\"\")","v":""},null,"YANACANCHA"]
[1581,200201,"PIURA","AYABACA","AYABACA",1550,2735,-4.6406000000000001,-79.715299999999999,{"$f":"IFERROR(VLOOKUP(B1586,#REF!,8,FALSE),\"\")","v":""},null,"AYABACA"]
[1582,200202,"PIURA","AYABACA","FRIAS",565,1703,-4.9317000000000002,-79.947500000000005,{"$f":"IFERROR(VLOOKUP(B1587,#REF!,8,FALSE),\"\")","v":""},null,"FRIAS"]
[1583,200203,"PIURA","AYABACA","JILILI",105,1311,-4.5846999999999998,-79.797200000000004,{"$f":"IFERROR(VLOOKUP(B1588,#REF!,8,FALSE),\"\")","v":""},null,"JILILI"]
[1584,200204,"PIURA","AYABACA","LAGUNAS",191,2219,-4.7892000000000001,-79.844999999999999,{"$f":"IFERROR(VLOOKUP(B1589,#REF!,8,FALSE),\"\")","v":""},null,"LAGUNAS"]
[1585,200205,"PIURA","AYABACA","MONTERO",131,1058,-4.6322000000000001,-79.828900000000004,{"$f":"IFERROR(VLOOKUP(B1590,#REF!,8,FALSE),\"\")","v":""},null,"MONTERO"]
[1586,200206,"PIURA","AYABACA","PACAIPAMPA",982,1980,-4.9955999999999996,-79.6678,{"$f":"IFERROR(VLOOKUP(B1591,#REF!,8,FALSE),\"\")","v":""},null,"PACAIPAMPA"]
[1587,200207,"PIURA","AYABACA","PAIMAS",320,598,-4.6275000000000004,-79.945599999999999,{"$f":"IFERROR(VLOOKUP(B1592,#REF!,8,FALSE),\"\")","v":""},null,"PAIMAS"]
[1588,200208,"PIURA","AYABACA","SAPILLICA",267,1464,-4.7792000000000003,-79.982200000000006,{"$f":"IFERROR(VLOOKUP(B1593,#REF!,8,FALSE),\"\")","v":""},null,"SAPILLICA"]
[1589,200209,"PIURA","AYABACA","SICCHEZ",33,1452,-4.57,-79.763900000000007,{"$f":"IFERROR(VLOOKUP(B1594,#REF!,8,FALSE),\"\")","v":""},null,"SICCHEZ"]
[1590,200210,"PIURA","AYABACA","SUYO",1079,417,-4.5128000000000004,-80.002499999999998,{"$f":"IFERROR(VLOOKUP(B1595,#REF!,8,FALSE),\"\")","v":""},null,"SUYO"]
[1591,200302,"PIURA","HUANCABAMBA","CANCHAQUE",306,1152,-5.3757999999999999,-79.605599999999995,{"$f":"IFERROR(VLOOKUP(B1596,#REF!,8,FALSE),\"\")","v":""},null,"CANCHAQUE"]
[1592,200303,"PIURA","HUANCABAMBA","EL CARMEN DE LA FRONTERA",703,2472,-5.1482999999999999,-79.428299999999993,{"$f":"IFERROR(VLOOKUP(B1597,#REF!,8,FALSE),\"\")","v":""},null,"EL CARMEN DE LA FRONTERA"]
[1593,200301,"PIURA","HUANCABAMBA","HUANCABAMBA",447,1955,-5.2385999999999999,-79.450299999999999,{"$f":"IFERROR(VLOOKUP(B1598,#REF!,8,FALSE),\"\")","v":""},null,"HUANCABAMBA"]
[1594,200304,"PIURA","HUANCABAMBA","HUARMACA",1908,2188,-5.5681000000000003,-79.5244,{"$f":"IFERROR(VLOOKUP(B1599,#REF!,8,FALSE),\"\")","v":""},null,"HUARMACA"]
[1595,200305,"PIURA","HUANCABAMBA","LALAQUIZ",139,972,-5.2157999999999998,-79.680000000000007,{"$f":"IFERROR(VLOOKUP(B1600,#REF!,8,FALSE),\"\")","v":""},null,"LALAQUIZ"]
[1596,200306,"PIURA","HUANCABAMBA","SAN MIGUEL DE EL FAIQUE",202,1259,-5.4019000000000004,-79.606099999999998,{"$f":"IFERROR(VLOOKUP(B1601,#REF!,8,FALSE),\"\")","v":""},null,"SAN MIGUEL DE EL FAIQUE"]
[1597,200307,"PIURA","HUANCABAMBA","SONDOR",337,2003,-5.3155999999999999,-79.409700000000001,{"$f":"IFERROR(VLOOKUP(B1602,#REF!,8,FALSE),\"\")","v":""},null,"SONDOR"]
[1598,200308,"PIURA","HUANCABAMBA","SONDORILLO",226,1886,-5.3394000000000004,-79.428600000000003,{"$f":"IFERROR(VLOOKUP(B1603,#REF!,8,FALSE),\"\")","v":""},null,"SONDORILLO"]
[1599,200402,"PIURA","MORROPON","BUENOS AIRES",245,154,-5.2668999999999997,-79.966899999999995,{"$f":"IFERROR(VLOOKUP(B1604,#REF!,8,FALSE),\"\")","v":""},null,"BUENOS AIRES"]
[1600,200403,"PIURA","MORROPON","CHALACO",152,2261,-5.0411000000000001,-79.795599999999993,{"$f":"IFERROR(VLOOKUP(B1605,#REF!,8,FALSE),\"\")","v":""},null,"CHALACO"]
[1601,200401,"PIURA","MORROPON","CHULUCANAS",842,135,-5.0972,-80.160300000000007,{"$f":"IFERROR(VLOOKUP(B1606,#REF!,8,FALSE),\"\")","v":""},null,"CHULUCANAS"]
[1602,200404,"PIURA","MORROPON","LA MATANZA",1044,126,-5.2135999999999996,-80.090599999999995,{"$f":"IFERROR(VLOOKUP(B1607,#REF!,8,FALSE),\"\")","v":""},null,"LA MATANZA"]
[{"$f":"+A1607+1","v":1603},200405,"PIURA","MORROPON","MORROPON",170,151,-5.1860999999999997,-79.969200000000001,{"$f":"IFERROR(VLOOKUP(B1608,#REF!,8,FALSE),\"\")","v":""},null,"MORROPON"]
[1604,200406,"PIURA","MORROPON","SALITRAL",614,175,-5.3418999999999999,-79.833600000000004,{"$f":"IFERROR(VLOOKUP(B1609,#REF!,8,FALSE),\"\")","v":""},null,"SALITRAL"]
[1605,200407,"PIURA","MORROPON","SAN JUAN DE BIGOTE",245,201,-5.3193999999999999,-79.786100000000005,{"$f":"IFERROR(VLOOKUP(B1610,#REF!,8,FALSE),\"\")","v":""},null,"SAN JUAN DE BIGOTE"]
[1606,200408,"PIURA","MORROPON","SANTA CATALINA DE MOSSA",77,881,-5.1028000000000002,-79.885000000000005,{"$f":"IFERROR(VLOOKUP(B1611,#REF!,8,FALSE),\"\")","v":""},null,"SANTA CATALINA DE MOSSA"]
[1607,200409,"PIURA","MORROPON","SANTO DOMINGO",187,1490,-5.0293999999999999,-79.875799999999998,{"$f":"IFERROR(VLOOKUP(B1612,#REF!,8,FALSE),\"\")","v":""},null,"SANTO DOMINGO"]
[1608,200410,"PIURA","MORROPON","YAMANGO",217,1192,-5.1807999999999996,-79.751099999999994,{"$f":"IFERROR(VLOOKUP(B1613,#REF!,8,FALSE),\"\")","v":""},null,"YAMANGO"]
[1609,200502,"PIURA","PAITA","AMOTAPE",91,23,-4.8818999999999999,-81.015299999999996,{"$f":"IFERROR(VLOOKUP(B1614,#REF!,8,FALSE),\"\")","v":""},null,"AMOTAPE"]
[1610,200503,"PIURA","PAITA","ARENAL",8,37,-4.8836000000000004,-81.026399999999995,{"$f":"IFERROR(VLOOKUP(B1615,#REF!,8,FALSE),\"\")","v":""},null,"ARENAL"]
[1611,200504,"PIURA","PAITA","COLAN",125,25,-4.9005999999999998,-81.056399999999996,{"$f":"IFERROR(VLOOKUP(B1616,#REF!,8,FALSE),\"\")","v":""},null,"COLAN"]
[1612,200505,"PIURA","PAITA","LA HUACA",600,33,-4.9103000000000003,-80.961399999999998,{"$f":"IFERROR(VLOOKUP(B1617,#REF!,8,FALSE),\"\")","v":""},null,"LA HUACA"]
[1613,200501,"PIURA","PAITA","PAITA",706,71,-5.0930999999999997,-81.099400000000003,{"$f":"IFERROR(VLOOKUP(B1618,#REF!,8,FALSE),\"\")","v":""},null,"PAITA"]
[1614,200506,"PIURA","PAITA","TAMARINDO",64,33,-4.8783000000000003,-80.975800000000007,{"$f":"IFERROR(VLOOKUP(B1619,#REF!,8,FALSE),\"\")","v":""},null,"TAMARINDO"]
[1615,200507,"PIURA","PAITA","VICHAYAL",134,27,-4.8642000000000003,-81.073099999999997,{"$f":"IFERROR(VLOOKUP(B1620,#REF!,8,FALSE),\"\")","v":""},null,"VICHAYAL"]
[1616,200104,"PIURA","PIURA","CASTILLA",657,35,-5.2013999999999996,-80.622799999999998,{"$f":"IFERROR(VLOOKUP(B1621,#REF!,8,FALSE),\"\")","v":""},null,"CASTILLA"]
[1617,200105,"PIURA","PIURA","CATACAOS",2287,35,-5.2671999999999999,-80.672499999999999,{"$f":"IFERROR(VLOOKUP(B1622,#REF!,8,FALSE),\"\")","v":""},null,"CATACAOS"]
[1618,200107,"PIURA","PIURA","CURA MORI",217,35,-5.3235999999999999,-80.665599999999998,{"$f":"IFERROR(VLOOKUP(B1623,#REF!,8,FALSE),\"\")","v":""},null,"CURA MORI"]
[1619,200108,"PIURA","PIURA","EL TALLAN",101,21,-5.4092000000000002,-80.681100000000001,{"$f":"IFERROR(VLOOKUP(B1624,#REF!,8,FALSE),\"\")","v":""},null,"EL TALLAN"]
[1620,200109,"PIURA","PIURA","LA ARENA",171,33,-5.3430999999999997,-80.703599999999994,{"$f":"IFERROR(VLOOKUP(B1625,#REF!,8,FALSE),\"\")","v":""},null,"LA ARENA"]
[1621,200110,"PIURA","PIURA","LA UNION",321,27,-5.3883000000000001,-80.737200000000001,{"$f":"IFERROR(VLOOKUP(B1626,#REF!,8,FALSE),\"\")","v":""},null,"LA UNION"]
[1622,200111,"PIURA","PIURA","LAS LOMAS",558,257,-4.6500000000000004,-80.239199999999997,{"$f":"IFERROR(VLOOKUP(B1627,#REF!,8,FALSE),\"\")","v":""},null,"LAS LOMAS"]
[1623,200101,"PIURA","PIURA","PIURA",196,57,-5.1524999999999999,-80.657799999999995,{"$f":"IFERROR(VLOOKUP(B1628,#REF!,8,FALSE),\"\")","v":""},null,"PIURA"]
[1624,200114,"PIURA","PIURA","TAMBO GRANDE",1497,76,-4.9280999999999997,-80.337199999999996,{"$f":"IFERROR(VLOOKUP(B1629,#REF!,8,FALSE),\"\")","v":""},null,"TAMBO GRANDE"]
[1625,200115,"PIURA","PIURA","VEINTISEIS DE OCTUBRE",72,53,-5.1791999999999998,-80.678100000000001,{"$f":"IFERROR(VLOOKUP(B1630,#REF!,8,FALSE),\"\")","v":""},null,"VEINTISEIS DE OCTUBRE"]
[1626,200802,"PIURA","SECHURA","BELLAVISTA DE LA UNION",14,23,-5.4402999999999997,-80.754999999999995,{"$f":"IFERROR(VLOOKUP(B1631,#REF!,8,FALSE),\"\")","v":""},null,"BELLAVISTA DE LA UNION"]
[1627,200803,"PIURA","SECHURA","BERNAL",72,22,-5.4588999999999999,-80.741900000000001,{"$f":"IFERROR(VLOOKUP(B1632,#REF!,8,FALSE),\"\")","v":""},null,"BERNAL"]
[1628,200804,"PIURA","SECHURA","CRISTO NOS VALGA",234,25,-5.4931000000000001,-80.741100000000003,{"$f":"IFERROR(VLOOKUP(B1633,#REF!,8,FALSE),\"\")","v":""},null,"CRISTO NOS VALGA"]
[1629,200806,"PIURA","SECHURA","RINCONADA LLICUAR",19,26,-5.4635999999999996,-80.765299999999996,{"$f":"IFERROR(VLOOKUP(B1634,#REF!,8,FALSE),\"\")","v":""},null,"RINCONADA LLICUAR"]
[1630,200801,"PIURA","SECHURA","SECHURA",5711,12,-5.5571999999999999,-80.822199999999995,{"$f":"IFERROR(VLOOKUP(B1635,#REF!,8,FALSE),\"\")","v":""},null,"SECHURA"]
[1631,200805,"PIURA","SECHURA","VICE",261,23,-5.4222000000000001,-80.776399999999995,{"$f":"IFERROR(VLOOKUP(B1636,#REF!,8,FALSE),\"\")","v":""},null,"VICE"]
[1632,200602,"PIURA","SULLANA","BELLAVISTA",3,77,-4.8899999999999997,-80.680300000000003,{"$f":"IFERROR(VLOOKUP(B1637,#REF!,8,FALSE),\"\")","v":""},null,"BELLAVISTA"]
[1633,200603,"PIURA","SULLANA","IGNACIO ESCUDERO",307,39,-4.8460999999999999,-80.873099999999994,{"$f":"IFERROR(VLOOKUP(B1638,#REF!,8,FALSE),\"\")","v":""},null,"IGNACIO ESCUDERO"]
[1634,200604,"PIURA","SULLANA","LANCONES",2153,156,-4.6327999999999996,-80.545599999999993,{"$f":"IFERROR(VLOOKUP(B1639,#REF!,8,FALSE),\"\")","v":""},null,"LANCONES"]
[1635,200605,"PIURA","SULLANA","MARCAVELICA",1688,53,-4.8817000000000004,-80.703599999999994,{"$f":"IFERROR(VLOOKUP(B1640,#REF!,8,FALSE),\"\")","v":""},null,"MARCAVELICA"]
[1636,200606,"PIURA","SULLANA","MIGUEL CHECA",480,62,-4.9002999999999997,-80.814700000000002,{"$f":"IFERROR(VLOOKUP(B1641,#REF!,8,FALSE),\"\")","v":""},null,"MIGUEL CHECA"]
[1637,200607,"PIURA","SULLANA","QUERECOTILLO",270,66,-4.8391999999999999,-80.648300000000006,{"$f":"IFERROR(VLOOKUP(B1642,#REF!,8,FALSE),\"\")","v":""},null,"QUERECOTILLO"]
[1638,200608,"PIURA","SULLANA","SALITRAL",28,65,-4.8569000000000004,-80.680800000000005,{"$f":"IFERROR(VLOOKUP(B1643,#REF!,8,FALSE),\"\")","v":""},null,"SALITRAL"]
[1639,200601,"PIURA","SULLANA","SULLANA",530,76,-4.8906000000000001,-80.687799999999996,{"$f":"IFERROR(VLOOKUP(B1644,#REF!,8,FALSE),\"\")","v":""},null,"SULLANA"]
[1640,200702,"PIURA","TALARA","EL ALTO",491,276,-4.2686000000000002,-81.221400000000003,{"$f":"IFERROR(VLOOKUP(B1645,#REF!,8,FALSE),\"\")","v":""},null,"EL ALTO"]
[1641,200703,"PIURA","TALARA","LA BREA",693,8,-4.6547000000000001,-81.305800000000005,{"$f":"IFERROR(VLOOKUP(B1646,#REF!,8,FALSE),\"\")","v":""},null,"LA BREA"]
[1642,200704,"PIURA","TALARA","LOBITOS",233,31,-4.4569000000000001,-81.284999999999997,{"$f":"IFERROR(VLOOKUP(B1647,#REF!,8,FALSE),\"\")","v":""},null,"LOBITOS"]
[1643,200705,"PIURA","TALARA","LOS ORGANOS",165,7,-4.1791999999999998,-81.129400000000004,{"$f":"IFERROR(VLOOKUP(B1648,#REF!,8,FALSE),\"\")","v":""},null,"LOS ORGANOS"]
[1644,200706,"PIURA","TALARA","MANCORA",100,8,-4.1069000000000004,-81.053899999999999,{"$f":"IFERROR(VLOOKUP(B1649,#REF!,8,FALSE),\"\")","v":""},null,"MANCORA"]
[1645,200701,"PIURA","TALARA","PARIÑAS",1117,23,-4.5793999999999997,-81.269400000000005,{"$f":"IFERROR(VLOOKUP(B1650,#REF!,8,FALSE),\"\")","v":""},null,"PARIÑAS"]
[1646,210202,"PUNO","AZANGARO","ACHAYA",132,3868,-15.284700000000001,-70.161100000000005,{"$f":"IFERROR(VLOOKUP(B1651,#REF!,8,FALSE),\"\")","v":""},null,"ACHAYA"]
[1647,210203,"PUNO","AZANGARO","ARAPA",330,3846,-15.1389,-70.11,{"$f":"IFERROR(VLOOKUP(B1652,#REF!,8,FALSE),\"\")","v":""},null,"ARAPA"]
[1648,210204,"PUNO","AZANGARO","ASILLO",392,3927,-14.7864,-70.3536,{"$f":"IFERROR(VLOOKUP(B1653,#REF!,8,FALSE),\"\")","v":""},null,"ASILLO"]
[1649,210201,"PUNO","AZANGARO","AZANGARO",706,3878,-14.908099999999999,-70.195599999999999,{"$f":"IFERROR(VLOOKUP(B1654,#REF!,8,FALSE),\"\")","v":""},null,"AZANGARO"]
[1650,210205,"PUNO","AZANGARO","CAMINACA",147,3857,-15.3247,-70.072800000000001,{"$f":"IFERROR(VLOOKUP(B1655,#REF!,8,FALSE),\"\")","v":""},null,"CAMINACA"]
[1651,210206,"PUNO","AZANGARO","CHUPA",143,3847,-15.1058,-69.987200000000001,{"$f":"IFERROR(VLOOKUP(B1656,#REF!,8,FALSE),\"\")","v":""},null,"CHUPA"]
[1652,210207,"PUNO","AZANGARO","JOSE DOMINGO CHOQUEHUANCA",70,3887,-15.033899999999999,-70.338099999999997,{"$f":"IFERROR(VLOOKUP(B1657,#REF!,8,FALSE),\"\")","v":""},null,"JOSE DOMINGO CHOQUEHUANCA"]
[1653,210208,"PUNO","AZANGARO","MUÑANI",764,3925,-14.770799999999999,-69.955600000000004,{"$f":"IFERROR(VLOOKUP(B1658,#REF!,8,FALSE),\"\")","v":""},null,"MUÑANI"]
[1654,210209,"PUNO","AZANGARO","POTONI",603,4133,-14.39,-70.105000000000004,{"$f":"IFERROR(VLOOKUP(B1659,#REF!,8,FALSE),\"\")","v":""},null,"POTONI"]
[1655,210210,"PUNO","AZANGARO","SAMAN",189,3836,-15.2919,-70.017200000000003,{"$f":"IFERROR(VLOOKUP(B1660,#REF!,8,FALSE),\"\")","v":""},null,"SAMAN"]
[1656,210211,"PUNO","AZANGARO","SAN ANTON",515,3971,-14.5839,-70.3172,{"$f":"IFERROR(VLOOKUP(B1661,#REF!,8,FALSE),\"\")","v":""},null,"SAN ANTON"]
[1657,210212,"PUNO","AZANGARO","SAN JOSE",373,4094,-14.680300000000001,-70.16,{"$f":"IFERROR(VLOOKUP(B1662,#REF!,8,FALSE),\"\")","v":""},null,"SAN JOSE"]
[1658,210213,"PUNO","AZANGARO","SAN JUAN DE SALINAS",106,3841,-14.991400000000001,-70.106099999999998,{"$f":"IFERROR(VLOOKUP(B1663,#REF!,8,FALSE),\"\")","v":""},null,"SAN JUAN DE SALINAS"]
[1659,210214,"PUNO","AZANGARO","SANTIAGO DE PUPUJA",301,3933,-15.0528,-70.278099999999995,{"$f":"IFERROR(VLOOKUP(B1664,#REF!,8,FALSE),\"\")","v":""},null,"SANTIAGO DE PUPUJA"]
[1660,210215,"PUNO","AZANGARO","TIRAPATA",199,3903,-14.955,-70.402799999999999,{"$f":"IFERROR(VLOOKUP(B1665,#REF!,8,FALSE),\"\")","v":""},null,"TIRAPATA"]
[1661,210302,"PUNO","CARABAYA","AJOYANI",413,4272,-14.2294,-70.223600000000005,{"$f":"IFERROR(VLOOKUP(B1666,#REF!,8,FALSE),\"\")","v":""},null,"AJOYANI"]
[1662,210303,"PUNO","CARABAYA","AYAPATA",1092,3481,-13.7767,-70.322800000000001,{"$f":"IFERROR(VLOOKUP(B1667,#REF!,8,FALSE),\"\")","v":""},null,"AYAPATA"]
[1663,210304,"PUNO","CARABAYA","COASA",3573,3768,-13.9892,-70.015799999999999,{"$f":"IFERROR(VLOOKUP(B1668,#REF!,8,FALSE),\"\")","v":""},null,"COASA"]
[1664,210305,"PUNO","CARABAYA","CORANI",853,4039,-13.868600000000001,-70.604399999999998,{"$f":"IFERROR(VLOOKUP(B1669,#REF!,8,FALSE),\"\")","v":""},null,"CORANI"]
[1665,210306,"PUNO","CARABAYA","CRUCERO",836,4146,-14.361700000000001,-70.023600000000002,{"$f":"IFERROR(VLOOKUP(B1670,#REF!,8,FALSE),\"\")","v":""},null,"CRUCERO"]
[1666,210307,"PUNO","CARABAYA","ITUATA",1201,3787,-13.8764,-70.213899999999995,{"$f":"IFERROR(VLOOKUP(B1671,#REF!,8,FALSE),\"\")","v":""},null,"ITUATA"]
[{"$f":"+A1671+1","v":1667},210301,"PUNO","CARABAYA","MACUSANI",1030,4311,-14.0686,-70.431100000000001,{"$f":"IFERROR(VLOOKUP(B1672,#REF!,8,FALSE),\"\")","v":""},null,"MACUSANI"]
[1668,210308,"PUNO","CARABAYA","OLLACHEA",596,2746,-13.793900000000001,-70.472499999999997,{"$f":"IFERROR(VLOOKUP(B1673,#REF!,8,FALSE),\"\")","v":""},null,"OLLACHEA"]
[1669,210309,"PUNO","CARABAYA","SAN GABAN",2029,641,-13.4383,-70.402799999999999,{"$f":"IFERROR(VLOOKUP(B1674,#REF!,8,FALSE),\"\")","v":""},null,"SAN GABAN"]
[1670,210310,"PUNO","CARABAYA","USICAYOS",644,3781,-14.125299999999999,-69.967500000000001,{"$f":"IFERROR(VLOOKUP(B1675,#REF!,8,FALSE),\"\")","v":""},null,"USICAYOS"]
[1671,210402,"PUNO","CHUCUITO","DESAGUADERO",178,3849,-16.564399999999999,-69.039400000000001,{"$f":"IFERROR(VLOOKUP(B1676,#REF!,8,FALSE),\"\")","v":""},null,"DESAGUADERO"]
[1672,210403,"PUNO","CHUCUITO","HUACULLANI",705,3945,-16.630600000000001,-69.321899999999999,{"$f":"IFERROR(VLOOKUP(B1677,#REF!,8,FALSE),\"\")","v":""},null,"HUACULLANI"]
[1673,210401,"PUNO","CHUCUITO","JULI",720,3878,-16.212800000000001,-69.459400000000002,{"$f":"IFERROR(VLOOKUP(B1678,#REF!,8,FALSE),\"\")","v":""},null,"JULI"]
[1674,210404,"PUNO","CHUCUITO","KELLUYO",486,3858,-16.726900000000001,-69.250299999999996,{"$f":"IFERROR(VLOOKUP(B1679,#REF!,8,FALSE),\"\")","v":""},null,"KELLUYO"]
[1675,210405,"PUNO","CHUCUITO","PISACOMA",959,3932,-16.9086,-69.371399999999994,{"$f":"IFERROR(VLOOKUP(B1680,#REF!,8,FALSE),\"\")","v":""},null,"PISACOMA"]
[1676,210406,"PUNO","CHUCUITO","POMATA",383,3878,-16.273599999999998,-69.2928,{"$f":"IFERROR(VLOOKUP(B1681,#REF!,8,FALSE),\"\")","v":""},null,"POMATA"]
[1677,210407,"PUNO","CHUCUITO","ZEPITA",547,3836,-16.4969,-69.103300000000004,{"$f":"IFERROR(VLOOKUP(B1682,#REF!,8,FALSE),\"\")","v":""},null,"ZEPITA"]
[1678,210502,"PUNO","EL COLLAO","CAPAZO",1039,4402,-17.183900000000001,-69.744399999999999,{"$f":"IFERROR(VLOOKUP(B1683,#REF!,8,FALSE),\"\")","v":""},null,"CAPAZO"]
[1679,210505,"PUNO","EL COLLAO","CONDURIRI",1006,3969,-16.6219,-69.708600000000004,{"$f":"IFERROR(VLOOKUP(B1684,#REF!,8,FALSE),\"\")","v":""},null,"CONDURIRI"]
[1680,210501,"PUNO","EL COLLAO","ILAVE",875,3907,-16.0869,-69.638099999999994,{"$f":"IFERROR(VLOOKUP(B1685,#REF!,8,FALSE),\"\")","v":""},null,"ILAVE"]
[1681,210503,"PUNO","EL COLLAO","PILCUYO",157,3841,-16.110800000000001,-69.554199999999994,{"$f":"IFERROR(VLOOKUP(B1686,#REF!,8,FALSE),\"\")","v":""},null,"PILCUYO"]
[1682,210504,"PUNO","EL COLLAO","SANTA ROSA",2524,3981,-16.7422,-69.716700000000003,{"$f":"IFERROR(VLOOKUP(B1687,#REF!,8,FALSE),\"\")","v":""},null,"SANTA ROSA"]
[1683,210602,"PUNO","HUANCANE","COJATA",881,4354,-15.0153,-69.365600000000001,{"$f":"IFERROR(VLOOKUP(B1688,#REF!,8,FALSE),\"\")","v":""},null,"COJATA"]
[1684,210601,"PUNO","HUANCANE","HUANCANE",382,3866,-15.200799999999999,-69.767799999999994,{"$f":"IFERROR(VLOOKUP(B1689,#REF!,8,FALSE),\"\")","v":""},null,"HUANCANE"]
[1685,210603,"PUNO","HUANCANE","HUATASANI",107,3849,-15.0594,-69.801900000000003,{"$f":"IFERROR(VLOOKUP(B1690,#REF!,8,FALSE),\"\")","v":""},null,"HUATASANI"]
[1686,210604,"PUNO","HUANCANE","INCHUPALLA",289,3930,-15.0097,-69.6828,{"$f":"IFERROR(VLOOKUP(B1691,#REF!,8,FALSE),\"\")","v":""},null,"INCHUPALLA"]
[1687,210605,"PUNO","HUANCANE","PUSI",148,3851,-15.4419,-69.929699999999997,{"$f":"IFERROR(VLOOKUP(B1692,#REF!,8,FALSE),\"\")","v":""},null,"PUSI"]
[1688,210606,"PUNO","HUANCANE","ROSASPATA",301,3891,-15.2347,-69.527500000000003,{"$f":"IFERROR(VLOOKUP(B1693,#REF!,8,FALSE),\"\")","v":""},null,"ROSASPATA"]
[1689,210607,"PUNO","HUANCANE","TARACO",198,3848,-15.2972,-69.978300000000004,{"$f":"IFERROR(VLOOKUP(B1694,#REF!,8,FALSE),\"\")","v":""},null,"TARACO"]
[1690,210608,"PUNO","HUANCANE","VILQUE CHICO",499,3851,-15.213900000000001,-69.6892,{"$f":"IFERROR(VLOOKUP(B1695,#REF!,8,FALSE),\"\")","v":""},null,"VILQUE CHICO"]
[1691,210702,"PUNO","LAMPA","CABANILLA",443,3890,-15.6203,-70.345600000000005,{"$f":"IFERROR(VLOOKUP(B1696,#REF!,8,FALSE),\"\")","v":""},null,"CABANILLA"]
[1692,210703,"PUNO","LAMPA","CALAPUJA",141,3851,-15.310600000000001,-70.221699999999998,{"$f":"IFERROR(VLOOKUP(B1697,#REF!,8,FALSE),\"\")","v":""},null,"CALAPUJA"]
[1693,210701,"PUNO","LAMPA","LAMPA",676,3881,-15.364699999999999,-70.367800000000003,{"$f":"IFERROR(VLOOKUP(B1698,#REF!,8,FALSE),\"\")","v":""},null,"LAMPA"]
[1694,210704,"PUNO","LAMPA","NICASIO",134,3868,-15.2356,-70.261099999999999,{"$f":"IFERROR(VLOOKUP(B1699,#REF!,8,FALSE),\"\")","v":""},null,"NICASIO"]
[1695,210705,"PUNO","LAMPA","OCUVIRI",878,4227,-15.113899999999999,-70.909199999999998,{"$f":"IFERROR(VLOOKUP(B1700,#REF!,8,FALSE),\"\")","v":""},null,"OCUVIRI"]
[1696,210706,"PUNO","LAMPA","PALCA",484,4082,-15.2369,-70.598100000000002,{"$f":"IFERROR(VLOOKUP(B1701,#REF!,8,FALSE),\"\")","v":""},null,"PALCA"]
[1697,210707,"PUNO","LAMPA","PARATIA",745,4352,-15.4542,-70.599699999999999,{"$f":"IFERROR(VLOOKUP(B1702,#REF!,8,FALSE),\"\")","v":""},null,"PARATIA"]
[1698,210708,"PUNO","LAMPA","PUCARA",538,3894,-15.041700000000001,-70.367800000000003,{"$f":"IFERROR(VLOOKUP(B1703,#REF!,8,FALSE),\"\")","v":""},null,"PUCARA"]
[1699,210709,"PUNO","LAMPA","SANTA LUCIA",1596,4053,-15.699400000000001,-70.606399999999994,{"$f":"IFERROR(VLOOKUP(B1704,#REF!,8,FALSE),\"\")","v":""},null,"SANTA LUCIA"]
[1700,210710,"PUNO","LAMPA","VILAVILA",157,4316,-15.1883,-70.66,{"$f":"IFERROR(VLOOKUP(B1705,#REF!,8,FALSE),\"\")","v":""},null,"VILAVILA"]
[1701,210802,"PUNO","MELGAR","ANTAUTA",636,4152,-14.2997,-70.292199999999994,{"$f":"IFERROR(VLOOKUP(B1706,#REF!,8,FALSE),\"\")","v":""},null,"ANTAUTA"]
[1702,210801,"PUNO","MELGAR","AYAVIRI",1013,3937,-14.8817,-70.589399999999998,{"$f":"IFERROR(VLOOKUP(B1707,#REF!,8,FALSE),\"\")","v":""},null,"AYAVIRI"]
[1703,210803,"PUNO","MELGAR","CUPI",214,3984,-14.904999999999999,-70.866699999999994,{"$f":"IFERROR(VLOOKUP(B1708,#REF!,8,FALSE),\"\")","v":""},null,"CUPI"]
[1704,210804,"PUNO","MELGAR","LLALLI",216,3998,-14.9481,-70.880600000000001,{"$f":"IFERROR(VLOOKUP(B1709,#REF!,8,FALSE),\"\")","v":""},null,"LLALLI"]
[1705,210805,"PUNO","MELGAR","MACARI",674,3979,-14.771699999999999,-70.903300000000002,{"$f":"IFERROR(VLOOKUP(B1710,#REF!,8,FALSE),\"\")","v":""},null,"MACARI"]
[1706,210806,"PUNO","MELGAR","NUÑOA",2200,4038,-14.476100000000001,-70.636399999999995,{"$f":"IFERROR(VLOOKUP(B1711,#REF!,8,FALSE),\"\")","v":""},null,"NUÑOA"]
[1707,210807,"PUNO","MELGAR","ORURILLO",379,3915,-14.7278,-70.512200000000007,{"$f":"IFERROR(VLOOKUP(B1712,#REF!,8,FALSE),\"\")","v":""},null,"ORURILLO"]
[1708,210808,"PUNO","MELGAR","SANTA ROSA",790,4010,-14.6075,-70.787800000000004,{"$f":"IFERROR(VLOOKUP(B1713,#REF!,8,FALSE),\"\")","v":""},null,"SANTA ROSA"]
[1709,210809,"PUNO","MELGAR","UMACHIRI",324,3943,-14.853899999999999,-70.753900000000002,{"$f":"IFERROR(VLOOKUP(B1714,#REF!,8,FALSE),\"\")","v":""},null,"UMACHIRI"]
[1710,210902,"PUNO","MOHO","CONIMA",73,3862,-15.457800000000001,-69.437799999999996,{"$f":"IFERROR(VLOOKUP(B1715,#REF!,8,FALSE),\"\")","v":""},null,"CONIMA"]
[1711,210903,"PUNO","MOHO","HUAYRAPATA",388,3912,-15.321400000000001,-69.341099999999997,{"$f":"IFERROR(VLOOKUP(B1716,#REF!,8,FALSE),\"\")","v":""},null,"HUAYRAPATA"]
[1712,210901,"PUNO","MOHO","MOHO",494,3902,-15.360300000000001,-69.499700000000004,{"$f":"IFERROR(VLOOKUP(B1717,#REF!,8,FALSE),\"\")","v":""},null,"MOHO"]
[1713,210904,"PUNO","MOHO","TILALI",48,3843,-15.515000000000001,-69.348100000000002,{"$f":"IFERROR(VLOOKUP(B1718,#REF!,8,FALSE),\"\")","v":""},null,"TILALI"]
[1714,210102,"PUNO","PUNO","ACORA",1941,3848,-15.973599999999999,-69.797799999999995,{"$f":"IFERROR(VLOOKUP(B1719,#REF!,8,FALSE),\"\")","v":""},null,"ACORA"]
[1715,210103,"PUNO","PUNO","AMANTANI",15,3871,-15.6572,-69.718299999999999,{"$f":"IFERROR(VLOOKUP(B1720,#REF!,8,FALSE),\"\")","v":""},null,"AMANTANI"]
[1716,210104,"PUNO","PUNO","ATUNCOLLA",125,3844,-15.6883,-70.143900000000002,{"$f":"IFERROR(VLOOKUP(B1721,#REF!,8,FALSE),\"\")","v":""},null,"ATUNCOLLA"]
[1717,210105,"PUNO","PUNO","CAPACHICA",117,3872,-15.6417,-69.830799999999996,{"$f":"IFERROR(VLOOKUP(B1722,#REF!,8,FALSE),\"\")","v":""},null,"CAPACHICA"]
[1718,210106,"PUNO","PUNO","CHUCUITO",121,3893,-15.8947,-69.889399999999995,{"$f":"IFERROR(VLOOKUP(B1723,#REF!,8,FALSE),\"\")","v":""},null,"CHUCUITO"]
[1719,210107,"PUNO","PUNO","COATA",104,3839,-15.571400000000001,-69.950599999999994,{"$f":"IFERROR(VLOOKUP(B1724,#REF!,8,FALSE),\"\")","v":""},null,"COATA"]
[1720,210108,"PUNO","PUNO","HUATA",130,3863,-15.615,-69.971400000000003,{"$f":"IFERROR(VLOOKUP(B1725,#REF!,8,FALSE),\"\")","v":""},null,"HUATA"]
[1721,210109,"PUNO","PUNO","MAÑAZO",411,3949,-15.8011,-70.343299999999999,{"$f":"IFERROR(VLOOKUP(B1726,#REF!,8,FALSE),\"\")","v":""},null,"MAÑAZO"]
[1722,210110,"PUNO","PUNO","PAUCARCOLLA",170,3864,-15.7456,-70.056100000000001,{"$f":"IFERROR(VLOOKUP(B1727,#REF!,8,FALSE),\"\")","v":""},null,"PAUCARCOLLA"]
[1723,210111,"PUNO","PUNO","PICHACANI",1633,3962,-16.149999999999999,-70.063299999999998,{"$f":"IFERROR(VLOOKUP(B1728,#REF!,8,FALSE),\"\")","v":""},null,"PICHACANI"]
[1724,210112,"PUNO","PUNO","PLATERIA",239,3835,-15.9483,-69.833299999999994,{"$f":"IFERROR(VLOOKUP(B1729,#REF!,8,FALSE),\"\")","v":""},null,"PLATERIA"]
[1725,210101,"PUNO","PUNO","PUNO",461,3848,-15.840299999999999,-70.028099999999995,{"$f":"IFERROR(VLOOKUP(B1730,#REF!,8,FALSE),\"\")","v":""},null,"PUNO"]
[1726,210113,"PUNO","PUNO","SAN ANTONIO",377,4330,-16.140599999999999,-70.343900000000005,{"$f":"IFERROR(VLOOKUP(B1731,#REF!,8,FALSE),\"\")","v":""},null,"SAN ANTONIO"]
[1727,210114,"PUNO","PUNO","TIQUILLACA",456,3912,-15.796900000000001,-70.186700000000002,{"$f":"IFERROR(VLOOKUP(B1732,#REF!,8,FALSE),\"\")","v":""},null,"TIQUILLACA"]
[1728,210115,"PUNO","PUNO","VILQUE",193,3878,-15.7667,-70.258899999999997,{"$f":"IFERROR(VLOOKUP(B1733,#REF!,8,FALSE),\"\")","v":""},null,"VILQUE"]
[1729,211002,"PUNO","SAN ANTONIO DE PUTINA","ANANEA",940,4705,-14.678599999999999,-69.534999999999997,{"$f":"IFERROR(VLOOKUP(B1734,#REF!,8,FALSE),\"\")","v":""},null,"ANANEA"]
[1730,211003,"PUNO","SAN ANTONIO DE PUTINA","PEDRO VILCA APAZA",566,3873,-15.063599999999999,-69.881699999999995,{"$f":"IFERROR(VLOOKUP(B1735,#REF!,8,FALSE),\"\")","v":""},null,"PEDRO VILCA APAZA"]
[{"$f":"+A1735+1","v":1731},211001,"PUNO","SAN ANTONIO DE PUTINA","PUTINA",1022,3878,-14.914199999999999,-69.868899999999996,{"$f":"IFERROR(VLOOKUP(B1736,#REF!,8,FALSE),\"\")","v":""},null,"PUTINA"]
[1732,211004,"PUNO","SAN ANTONIO DE PUTINA","QUILCAPUNCU",517,3928,-14.893599999999999,-69.7303,{"$f":"IFERROR(VLOOKUP(B1737,#REF!,8,FALSE),\"\")","v":""},null,"QUILCAPUNCU"]
[1733,211005,"PUNO","SAN ANTONIO DE PUTINA","SINA",163,3181,-14.496700000000001,-69.280299999999997,{"$f":"IFERROR(VLOOKUP(B1738,#REF!,8,FALSE),\"\")","v":""},null,"SINA"]
[1734,211102,"PUNO","SAN ROMAN","CABANA",191,3912,-15.6492,-70.321899999999999,{"$f":"IFERROR(VLOOKUP(B1739,#REF!,8,FALSE),\"\")","v":""},null,"CABANA"]
[1735,211103,"PUNO","SAN ROMAN","CABANILLAS",1267,3894,-15.644399999999999,-70.353899999999996,{"$f":"IFERROR(VLOOKUP(B1740,#REF!,8,FALSE),\"\")","v":""},null,"CABANILLAS"]
[1736,211104,"PUNO","SAN ROMAN","CARACOTO",286,3844,-15.567500000000001,-70.102500000000006,{"$f":"IFERROR(VLOOKUP(B1741,#REF!,8,FALSE),\"\")","v":""},null,"CARACOTO"]
[1737,211101,"PUNO","SAN ROMAN","JULIACA",534,3877,-15.4839,-70.133300000000006,{"$f":"IFERROR(VLOOKUP(B1742,#REF!,8,FALSE),\"\")","v":""},null,"JULIACA"]
[1738,211105,"PUNO","SAN ROMAN","SAN MIGUEL - PUNO",122,3875,-15.4603,-70.126900000000006,{"$f":"IFERROR(VLOOKUP(B1743,#REF!,8,FALSE),\"\")","v":""},null,"SAN MIGUEL - PUNO"]
[1739,211209,"PUNO","SANDIA","ALTO INAMBARI",1125,1352,-14.09,-69.243300000000005,{"$f":"IFERROR(VLOOKUP(B1744,#REF!,8,FALSE),\"\")","v":""},null,"ALTO INAMBARI"]
[1740,211202,"PUNO","SANDIA","CUYOCUYO",504,3425,-14.4703,-69.537199999999999,{"$f":"IFERROR(VLOOKUP(B1745,#REF!,8,FALSE),\"\")","v":""},null,"CUYOCUYO"]
[1741,211203,"PUNO","SANDIA","LIMBANI",2112,3333,-14.149699999999999,-69.690600000000003,{"$f":"IFERROR(VLOOKUP(B1746,#REF!,8,FALSE),\"\")","v":""},null,"LIMBANI"]
[1742,211204,"PUNO","SANDIA","PATAMBUCO",463,3650,-14.361700000000001,-69.619399999999999,{"$f":"IFERROR(VLOOKUP(B1747,#REF!,8,FALSE),\"\")","v":""},null,"PATAMBUCO"]
[1743,211205,"PUNO","SANDIA","PHARA",401,3485,-14.151899999999999,-69.665300000000002,{"$f":"IFERROR(VLOOKUP(B1748,#REF!,8,FALSE),\"\")","v":""},null,"PHARA"]
[1744,211206,"PUNO","SANDIA","QUIACA",448,2970,-14.4222,-69.344999999999999,{"$f":"IFERROR(VLOOKUP(B1749,#REF!,8,FALSE),\"\")","v":""},null,"QUIACA"]
[1745,211207,"PUNO","SANDIA","SAN JUAN DEL ORO",197,1308,-14.220800000000001,-69.153599999999997,{"$f":"IFERROR(VLOOKUP(B1750,#REF!,8,FALSE),\"\")","v":""},null,"SAN JUAN DEL ORO"]
[1746,211210,"PUNO","SANDIA","SAN PEDRO DE PUTINA PUNCO",5362,948,-14.112500000000001,-69.047799999999995,{"$f":"IFERROR(VLOOKUP(B1751,#REF!,8,FALSE),\"\")","v":""},null,"SAN PEDRO DE PUTINA PUNCO"]
[1747,211201,"PUNO","SANDIA","SANDIA",580,2206,-14.3222,-69.466399999999993,{"$f":"IFERROR(VLOOKUP(B1752,#REF!,8,FALSE),\"\")","v":""},null,"SANDIA"]
[1748,211208,"PUNO","SANDIA","YANAHUAYA",671,1419,-14.258599999999999,-69.169399999999996,{"$f":"IFERROR(VLOOKUP(B1753,#REF!,8,FALSE),\"\")","v":""},null,"YANAHUAYA"]
[1749,211302,"PUNO","YUNGUYO","ANAPIA",10,3864,-16.3139,-68.852800000000002,{"$f":"IFERROR(VLOOKUP(B1754,#REF!,8,FALSE),\"\")","v":""},null,"ANAPIA"]
[1750,211303,"PUNO","YUNGUYO","COPANI",47,3864,-16.399999999999999,-69.040300000000002,{"$f":"IFERROR(VLOOKUP(B1755,#REF!,8,FALSE),\"\")","v":""},null,"COPANI"]
[1751,211304,"PUNO","YUNGUYO","CUTURAPI",22,3861,-16.270600000000002,-69.176900000000003,{"$f":"IFERROR(VLOOKUP(B1756,#REF!,8,FALSE),\"\")","v":""},null,"CUTURAPI"]
[1752,211305,"PUNO","YUNGUYO","OLLARAYA",24,3852,-16.2197,-68.991100000000003,{"$f":"IFERROR(VLOOKUP(B1757,#REF!,8,FALSE),\"\")","v":""},null,"OLLARAYA"]
[1753,211306,"PUNO","YUNGUYO","TINICACHI",6,3853,-16.198599999999999,-68.961699999999993,{"$f":"IFERROR(VLOOKUP(B1758,#REF!,8,FALSE),\"\")","v":""},null,"TINICACHI"]
[1754,211307,"PUNO","YUNGUYO","UNICACHI",11,3827,-16.223600000000001,-68.981099999999998,{"$f":"IFERROR(VLOOKUP(B1759,#REF!,8,FALSE),\"\")","v":""},null,"UNICACHI"]
[1755,211301,"PUNO","YUNGUYO","YUNGUYO",171,3850,-16.226700000000001,-69.095600000000005,{"$f":"IFERROR(VLOOKUP(B1760,#REF!,8,FALSE),\"\")","v":""},null,"YUNGUYO"]
[1756,220202,"SAN MARTIN","BELLAVISTA","ALTO BIAVO",6117,253,-7.2557999999999998,-76.476699999999994,{"$f":"IFERROR(VLOOKUP(B1761,#REF!,8,FALSE),\"\")","v":""},null,"ALTO BIAVO"]
[1757,220203,"SAN MARTIN","BELLAVISTA","BAJO BIAVO",975,256,-7.1017000000000001,-76.471900000000005,{"$f":"IFERROR(VLOOKUP(B1762,#REF!,8,FALSE),\"\")","v":""},null,"BAJO BIAVO"]
[1758,220201,"SAN MARTIN","BELLAVISTA","BELLAVISTA",287,330,-7.0522,-76.589699999999993,{"$f":"IFERROR(VLOOKUP(B1763,#REF!,8,FALSE),\"\")","v":""},null,"BELLAVISTA"]
[1759,220204,"SAN MARTIN","BELLAVISTA","HUALLAGA",210,267,-7.1311,-76.648600000000002,{"$f":"IFERROR(VLOOKUP(B1764,#REF!,8,FALSE),\"\")","v":""},null,"HUALLAGA"]
[1760,220205,"SAN MARTIN","BELLAVISTA","SAN PABLO",362,278,-6.8097000000000003,-76.574700000000007,{"$f":"IFERROR(VLOOKUP(B1765,#REF!,8,FALSE),\"\")","v":""},null,"SAN PABLO"]
[1761,220206,"SAN MARTIN","BELLAVISTA","SAN RAFAEL",98,242,-7.0231000000000003,-76.465800000000002,{"$f":"IFERROR(VLOOKUP(B1766,#REF!,8,FALSE),\"\")","v":""},null,"SAN RAFAEL"]
[1762,220302,"SAN MARTIN","EL DORADO","AGUA BLANCA",168,318,-6.7252999999999998,-76.695300000000003,{"$f":"IFERROR(VLOOKUP(B1767,#REF!,8,FALSE),\"\")","v":""},null,"AGUA BLANCA"]
[1763,220301,"SAN MARTIN","EL DORADO","SAN JOSE DE SISA",300,342,-6.6139000000000001,-76.695300000000003,{"$f":"IFERROR(VLOOKUP(B1768,#REF!,8,FALSE),\"\")","v":""},null,"SAN JOSE DE SISA"]
[1764,220303,"SAN MARTIN","EL DORADO","SAN MARTIN",563,437,-6.5144000000000002,-76.740600000000001,{"$f":"IFERROR(VLOOKUP(B1769,#REF!,8,FALSE),\"\")","v":""},null,"SAN MARTIN"]
[1765,220304,"SAN MARTIN","EL DORADO","SANTA ROSA",243,288,-6.7464000000000004,-76.623599999999996,{"$f":"IFERROR(VLOOKUP(B1770,#REF!,8,FALSE),\"\")","v":""},null,"SANTA ROSA"]
[1766,220305,"SAN MARTIN","EL DORADO","SHATOJA",24,413,-6.5282999999999998,-76.72,{"$f":"IFERROR(VLOOKUP(B1771,#REF!,8,FALSE),\"\")","v":""},null,"SHATOJA"]
[1767,220402,"SAN MARTIN","HUALLAGA","ALTO SAPOSOA",1347,408,-6.7647000000000004,-76.813599999999994,{"$f":"IFERROR(VLOOKUP(B1772,#REF!,8,FALSE),\"\")","v":""},null,"ALTO SAPOSOA"]
[1768,220403,"SAN MARTIN","HUALLAGA","EL ESLABON",123,293,-7.0217000000000001,-76.723299999999995,{"$f":"IFERROR(VLOOKUP(B1773,#REF!,8,FALSE),\"\")","v":""},null,"EL ESLABON"]
[1769,220404,"SAN MARTIN","HUALLAGA","PISCOYACU",185,310,-6.9810999999999996,-76.769400000000005,{"$f":"IFERROR(VLOOKUP(B1774,#REF!,8,FALSE),\"\")","v":""},null,"PISCOYACU"]
[1770,220405,"SAN MARTIN","HUALLAGA","SACANCHE",143,269,-7.07,-76.7136,{"$f":"IFERROR(VLOOKUP(B1775,#REF!,8,FALSE),\"\")","v":""},null,"SACANCHE"]
[1771,220401,"SAN MARTIN","HUALLAGA","SAPOSOA",545,317,-6.9367000000000001,-76.772199999999998,{"$f":"IFERROR(VLOOKUP(B1776,#REF!,8,FALSE),\"\")","v":""},null,"SAPOSOA"]
[1772,220406,"SAN MARTIN","HUALLAGA","TINGO DE SAPOSOA",37,259,-7.0918999999999999,-76.641400000000004,{"$f":"IFERROR(VLOOKUP(B1777,#REF!,8,FALSE),\"\")","v":""},null,"TINGO DE SAPOSOA"]
[1773,220502,"SAN MARTIN","LAMAS","ALONSO DE ALVARADO",294,1090,-6.3558000000000003,-76.775300000000001,{"$f":"IFERROR(VLOOKUP(B1778,#REF!,8,FALSE),\"\")","v":""},null,"ALONSO DE ALVARADO"]
[1774,220503,"SAN MARTIN","LAMAS","BARRANQUITA",1065,173,-6.2522000000000002,-76.033299999999997,{"$f":"IFERROR(VLOOKUP(B1779,#REF!,8,FALSE),\"\")","v":""},null,"BARRANQUITA"]
[1775,220504,"SAN MARTIN","LAMAS","CAYNARACHI",1679,193,-6.3308,-76.284199999999998,{"$f":"IFERROR(VLOOKUP(B1780,#REF!,8,FALSE),\"\")","v":""},null,"CAYNARACHI"]
[1776,220505,"SAN MARTIN","LAMAS","CUÑUMBUQUI",191,248,-6.5106000000000002,-76.481700000000004,{"$f":"IFERROR(VLOOKUP(B1781,#REF!,8,FALSE),\"\")","v":""},null,"CUÑUMBUQUI"]
[1777,220501,"SAN MARTIN","LAMAS","LAMAS",80,764,-6.4238999999999997,-76.523300000000006,{"$f":"IFERROR(VLOOKUP(B1782,#REF!,8,FALSE),\"\")","v":""},null,"LAMAS"]
[1778,220506,"SAN MARTIN","LAMAS","PINTO RECODO",524,276,-6.3792,-76.604399999999998,{"$f":"IFERROR(VLOOKUP(B1783,#REF!,8,FALSE),\"\")","v":""},null,"PINTO RECODO"]
[1779,220507,"SAN MARTIN","LAMAS","RUMISAPA",39,328,-6.4489000000000001,-76.471699999999998,{"$f":"IFERROR(VLOOKUP(B1784,#REF!,8,FALSE),\"\")","v":""},null,"RUMISAPA"]
[1780,220508,"SAN MARTIN","LAMAS","SAN ROQUE DE CUMBAZA",525,611,-6.3856000000000002,-76.438599999999994,{"$f":"IFERROR(VLOOKUP(B1785,#REF!,8,FALSE),\"\")","v":""},null,"SAN ROQUE DE CUMBAZA"]
[1781,220509,"SAN MARTIN","LAMAS","SHANAO",25,260,-6.4116999999999997,-76.594200000000001,{"$f":"IFERROR(VLOOKUP(B1786,#REF!,8,FALSE),\"\")","v":""},null,"SHANAO"]
[1782,220510,"SAN MARTIN","LAMAS","TABALOSOS",485,597,-6.3894000000000002,-76.634200000000007,{"$f":"IFERROR(VLOOKUP(B1787,#REF!,8,FALSE),\"\")","v":""},null,"TABALOSOS"]
[1783,220511,"SAN MARTIN","LAMAS","ZAPATERO",175,299,-6.5297000000000001,-76.494200000000006,{"$f":"IFERROR(VLOOKUP(B1788,#REF!,8,FALSE),\"\")","v":""},null,"ZAPATERO"]
[1784,220602,"SAN MARTIN","MARISCAL CACERES","CAMPANILLA",2250,318,-7.4831000000000003,-76.649699999999996,{"$f":"IFERROR(VLOOKUP(B1789,#REF!,8,FALSE),\"\")","v":""},null,"CAMPANILLA"]
[1785,220603,"SAN MARTIN","MARISCAL CACERES","HUICUNGO",9830,308,-7.3169000000000004,-76.777199999999993,{"$f":"IFERROR(VLOOKUP(B1790,#REF!,8,FALSE),\"\")","v":""},null,"HUICUNGO"]
[1786,220601,"SAN MARTIN","MARISCAL CACERES","JUANJUI",335,299,-7.1767000000000003,-76.7239,{"$f":"IFERROR(VLOOKUP(B1791,#REF!,8,FALSE),\"\")","v":""},null,"JUANJUI"]
[1787,220604,"SAN MARTIN","MARISCAL CACERES","PACHIZA",1840,295,-7.2980999999999998,-76.773300000000006,{"$f":"IFERROR(VLOOKUP(B1792,#REF!,8,FALSE),\"\")","v":""},null,"PACHIZA"]
[1788,220605,"SAN MARTIN","MARISCAL CACERES","PAJARILLO",244,286,-7.1767000000000003,-76.688599999999994,{"$f":"IFERROR(VLOOKUP(B1793,#REF!,8,FALSE),\"\")","v":""},null,"PAJARILLO"]
[1789,220102,"SAN MARTIN","MOYOBAMBA","CALZADA",95,856,-6.0303000000000004,-77.066699999999997,{"$f":"IFERROR(VLOOKUP(B1794,#REF!,8,FALSE),\"\")","v":""},null,"CALZADA"]
[1790,220103,"SAN MARTIN","MOYOBAMBA","HABANA",91,850,-6.0796999999999999,-77.091399999999993,{"$f":"IFERROR(VLOOKUP(B1795,#REF!,8,FALSE),\"\")","v":""},null,"HABANA"]
[1791,220104,"SAN MARTIN","MOYOBAMBA","JEPELACIO",360,1067,-6.1081000000000003,-76.915300000000002,{"$f":"IFERROR(VLOOKUP(B1796,#REF!,8,FALSE),\"\")","v":""},null,"JEPELACIO"]
[1792,220101,"SAN MARTIN","MOYOBAMBA","MOYOBAMBA",2738,895,-6.0347,-76.974199999999996,{"$f":"IFERROR(VLOOKUP(B1797,#REF!,8,FALSE),\"\")","v":""},null,"MOYOBAMBA"]
[1793,220105,"SAN MARTIN","MOYOBAMBA","SORITOR",388,904,-6.1394000000000002,-77.102500000000006,{"$f":"IFERROR(VLOOKUP(B1798,#REF!,8,FALSE),\"\")","v":""},null,"SORITOR"]
[1794,220106,"SAN MARTIN","MOYOBAMBA","YANTALO",100,862,-5.9744000000000002,-77.020799999999994,{"$f":"IFERROR(VLOOKUP(B1799,#REF!,8,FALSE),\"\")","v":""},null,"YANTALO"]
[{"$f":"+A1799+1","v":1795},220702,"SAN MARTIN","PICOTA","BUENOS AIRES",273,209,-6.7916999999999996,-76.327799999999996,{"$f":"IFERROR(VLOOKUP(B1800,#REF!,8,FALSE),\"\")","v":""},null,"BUENOS AIRES"]
[1796,220703,"SAN MARTIN","PICOTA","CASPISAPA",81,238,-6.9564000000000004,-76.418599999999998,{"$f":"IFERROR(VLOOKUP(B1801,#REF!,8,FALSE),\"\")","v":""},null,"CASPISAPA"]
[1797,220701,"SAN MARTIN","PICOTA","PICOTA",219,228,-6.92,-76.330299999999994,{"$f":"IFERROR(VLOOKUP(B1802,#REF!,8,FALSE),\"\")","v":""},null,"PICOTA"]
[1798,220704,"SAN MARTIN","PICOTA","PILLUANA",239,218,-6.7766999999999999,-76.291700000000006,{"$f":"IFERROR(VLOOKUP(B1803,#REF!,8,FALSE),\"\")","v":""},null,"PILLUANA"]
[1799,220705,"SAN MARTIN","PICOTA","PUCACACA",231,228,-6.8489000000000004,-76.341099999999997,{"$f":"IFERROR(VLOOKUP(B1804,#REF!,8,FALSE),\"\")","v":""},null,"PUCACACA"]
[1800,220706,"SAN MARTIN","PICOTA","SAN CRISTOBAL",30,238,-6.9919000000000002,-76.4178,{"$f":"IFERROR(VLOOKUP(B1805,#REF!,8,FALSE),\"\")","v":""},null,"SAN CRISTOBAL"]
[1801,220707,"SAN MARTIN","PICOTA","SAN HILARION",97,230,-7.0038999999999998,-76.439400000000006,{"$f":"IFERROR(VLOOKUP(B1806,#REF!,8,FALSE),\"\")","v":""},null,"SAN HILARION"]
[1802,220708,"SAN MARTIN","PICOTA","SHAMBOYACU",416,289,-7.0242000000000004,-76.132800000000003,{"$f":"IFERROR(VLOOKUP(B1807,#REF!,8,FALSE),\"\")","v":""},null,"SHAMBOYACU"]
[1803,220709,"SAN MARTIN","PICOTA","TINGO DE PONASA",340,244,-6.9360999999999997,-76.253900000000002,{"$f":"IFERROR(VLOOKUP(B1808,#REF!,8,FALSE),\"\")","v":""},null,"TINGO DE PONASA"]
[1804,220710,"SAN MARTIN","PICOTA","TRES UNIDOS",247,237,-6.8057999999999996,-76.232200000000006,{"$f":"IFERROR(VLOOKUP(B1809,#REF!,8,FALSE),\"\")","v":""},null,"TRES UNIDOS"]
[1805,220802,"SAN MARTIN","RIOJA","AWAJUN",481,888,-5.8160999999999996,-77.382800000000003,{"$f":"IFERROR(VLOOKUP(B1810,#REF!,8,FALSE),\"\")","v":""},null,"AWAJUN"]
[1806,220803,"SAN MARTIN","RIOJA","ELIAS SOPLIN VARGAS",200,853,-5.9871999999999996,-77.278099999999995,{"$f":"IFERROR(VLOOKUP(B1811,#REF!,8,FALSE),\"\")","v":""},null,"ELIAS SOPLIN VARGAS"]
[1807,220804,"SAN MARTIN","RIOJA","NUEVA CAJAMARCA",330,869,-5.9360999999999997,-77.306899999999999,{"$f":"IFERROR(VLOOKUP(B1812,#REF!,8,FALSE),\"\")","v":""},null,"NUEVA CAJAMARCA"]
[1808,220805,"SAN MARTIN","RIOJA","PARDO MIGUEL",1132,963,-5.7393999999999998,-77.504400000000004,{"$f":"IFERROR(VLOOKUP(B1813,#REF!,8,FALSE),\"\")","v":""},null,"PARDO MIGUEL"]
[1809,220806,"SAN MARTIN","RIOJA","POSIC",55,838,-6.0133000000000001,-77.161900000000003,{"$f":"IFERROR(VLOOKUP(B1814,#REF!,8,FALSE),\"\")","v":""},null,"POSIC"]
[1810,220801,"SAN MARTIN","RIOJA","RIOJA",186,850,-6.0625,-77.168300000000002,{"$f":"IFERROR(VLOOKUP(B1815,#REF!,8,FALSE),\"\")","v":""},null,"RIOJA"]
[1811,220807,"SAN MARTIN","RIOJA","SAN FERNANDO",64,828,-5.9019000000000004,-77.269400000000005,{"$f":"IFERROR(VLOOKUP(B1816,#REF!,8,FALSE),\"\")","v":""},null,"SAN FERNANDO"]
[1812,220808,"SAN MARTIN","RIOJA","YORONGOS",75,883,-6.1386000000000003,-77.144199999999998,{"$f":"IFERROR(VLOOKUP(B1817,#REF!,8,FALSE),\"\")","v":""},null,"YORONGOS"]
[1813,220809,"SAN MARTIN","RIOJA","YURACYACU",14,812,-5.9310999999999998,-77.226399999999998,{"$f":"IFERROR(VLOOKUP(B1818,#REF!,8,FALSE),\"\")","v":""},null,"YURACYACU"]
[1814,220902,"SAN MARTIN","SAN MARTIN","ALBERTO LEVEAU",268,215,-6.6631,-76.286699999999996,{"$f":"IFERROR(VLOOKUP(B1819,#REF!,8,FALSE),\"\")","v":""},null,"ALBERTO LEVEAU"]
[1815,220903,"SAN MARTIN","SAN MARTIN","CACATACHI",75,309,-6.4619,-76.451400000000007,{"$f":"IFERROR(VLOOKUP(B1820,#REF!,8,FALSE),\"\")","v":""},null,"CACATACHI"]
[1816,220904,"SAN MARTIN","SAN MARTIN","CHAZUTA",966,189,-6.5735999999999999,-76.137799999999999,{"$f":"IFERROR(VLOOKUP(B1821,#REF!,8,FALSE),\"\")","v":""},null,"CHAZUTA"]
[1817,220905,"SAN MARTIN","SAN MARTIN","CHIPURANA",500,152,-6.3541999999999996,-75.741399999999999,{"$f":"IFERROR(VLOOKUP(B1822,#REF!,8,FALSE),\"\")","v":""},null,"CHIPURANA"]
[1818,220906,"SAN MARTIN","SAN MARTIN","EL PORVENIR",483,152,-6.2117000000000004,-75.800799999999995,{"$f":"IFERROR(VLOOKUP(B1823,#REF!,8,FALSE),\"\")","v":""},null,"EL PORVENIR"]
[1819,220907,"SAN MARTIN","SAN MARTIN","HUIMBAYOC",1609,181,-6.4177999999999997,-75.768100000000004,{"$f":"IFERROR(VLOOKUP(B1824,#REF!,8,FALSE),\"\")","v":""},null,"HUIMBAYOC"]
[1820,220908,"SAN MARTIN","SAN MARTIN","JUAN GUERRA",197,207,-6.5842000000000001,-76.330799999999996,{"$f":"IFERROR(VLOOKUP(B1825,#REF!,8,FALSE),\"\")","v":""},null,"JUAN GUERRA"]
[1821,220909,"SAN MARTIN","SAN MARTIN","LA BANDA DE SHILCAYO",287,418,-6.49,-76.340599999999995,{"$f":"IFERROR(VLOOKUP(B1826,#REF!,8,FALSE),\"\")","v":""},null,"LA BANDA DE SHILCAYO"]
[1822,220910,"SAN MARTIN","SAN MARTIN","MORALES",44,290,-6.4791999999999996,-76.383099999999999,{"$f":"IFERROR(VLOOKUP(B1827,#REF!,8,FALSE),\"\")","v":""},null,"MORALES"]
[1823,220911,"SAN MARTIN","SAN MARTIN","PAPAPLAYA",686,149,-6.2453000000000003,-75.790599999999998,{"$f":"IFERROR(VLOOKUP(B1828,#REF!,8,FALSE),\"\")","v":""},null,"PAPAPLAYA"]
[1824,220912,"SAN MARTIN","SAN MARTIN","SAN ANTONIO",93,499,-6.4093999999999998,-76.406700000000001,{"$f":"IFERROR(VLOOKUP(B1829,#REF!,8,FALSE),\"\")","v":""},null,"SAN ANTONIO"]
[1825,220913,"SAN MARTIN","SAN MARTIN","SAUCE",103,622,-6.6905999999999999,-76.216700000000003,{"$f":"IFERROR(VLOOKUP(B1830,#REF!,8,FALSE),\"\")","v":""},null,"SAUCE"]
[1826,220914,"SAN MARTIN","SAN MARTIN","SHAPAJA",270,214,-6.5796999999999999,-76.261899999999997,{"$f":"IFERROR(VLOOKUP(B1831,#REF!,8,FALSE),\"\")","v":""},null,"SHAPAJA"]
[1827,220901,"SAN MARTIN","SAN MARTIN","TARAPOTO",68,342,-6.4893999999999998,-76.360299999999995,{"$f":"IFERROR(VLOOKUP(B1832,#REF!,8,FALSE),\"\")","v":""},null,"TARAPOTO"]
[1828,221002,"SAN MARTIN","TOCACHE","NUEVO PROGRESO",861,512,-8.4505999999999997,-76.326400000000007,{"$f":"IFERROR(VLOOKUP(B1833,#REF!,8,FALSE),\"\")","v":""},null,"NUEVO PROGRESO"]
[1829,221003,"SAN MARTIN","TOCACHE","POLVORA",2174,543,-7.9077999999999999,-76.6678,{"$f":"IFERROR(VLOOKUP(B1834,#REF!,8,FALSE),\"\")","v":""},null,"POLVORA"]
[1830,221006,"SAN MARTIN","TOCACHE","SANTA LUCIA",null,499,-8.343,-76.389200000000002,{"$f":"IFERROR(VLOOKUP(B1835,#REF!,8,FALSE),\"\")","v":""},null,"SANTA LUCIA"]
[1831,221004,"SAN MARTIN","TOCACHE","SHUNTE",964,1015,-8.3516999999999992,-76.729699999999994,{"$f":"IFERROR(VLOOKUP(B1836,#REF!,8,FALSE),\"\")","v":""},null,"SHUNTE"]
[1832,221001,"SAN MARTIN","TOCACHE","TOCACHE",1142,519,-8.1882999999999999,-76.509399999999999,{"$f":"IFERROR(VLOOKUP(B1837,#REF!,8,FALSE),\"\")","v":""},null,"TOCACHE"]
[1833,221005,"SAN MARTIN","TOCACHE","UCHIZA",724,566,-8.4582999999999995,-76.461699999999993,{"$f":"IFERROR(VLOOKUP(B1838,#REF!,8,FALSE),\"\")","v":""},null,"UCHIZA"]
[1834,230202,"TACNA","CANDARAVE","CAIRANI",371,3389,-17.285299999999999,-70.363600000000005,{"$f":"IFERROR(VLOOKUP(B1839,#REF!,8,FALSE),\"\")","v":""},null,"CAIRANI"]
[1835,230203,"TACNA","CANDARAVE","CAMILACA",519,3853,-17.2425,-70.388099999999994,{"$f":"IFERROR(VLOOKUP(B1840,#REF!,8,FALSE),\"\")","v":""},null,"CAMILACA"]
[1836,230201,"TACNA","CANDARAVE","CANDARAVE",1111,3427,-17.2681,-70.250299999999996,{"$f":"IFERROR(VLOOKUP(B1841,#REF!,8,FALSE),\"\")","v":""},null,"CANDARAVE"]
[1837,230204,"TACNA","CANDARAVE","CURIBAYA",127,2412,-17.381399999999999,-70.334699999999998,{"$f":"IFERROR(VLOOKUP(B1842,#REF!,8,FALSE),\"\")","v":""},null,"CURIBAYA"]
[1838,230205,"TACNA","CANDARAVE","HUANUARA",96,3226,-17.313600000000001,-70.322500000000005,{"$f":"IFERROR(VLOOKUP(B1843,#REF!,8,FALSE),\"\")","v":""},null,"HUANUARA"]
[1839,230206,"TACNA","CANDARAVE","QUILAHUANI",38,3205,-17.318300000000001,-70.258600000000001,{"$f":"IFERROR(VLOOKUP(B1844,#REF!,8,FALSE),\"\")","v":""},null,"QUILAHUANI"]
[1840,230302,"TACNA","JORGE BASADRE","ILABAYA",1111,1387,-17.418099999999999,-70.513099999999994,{"$f":"IFERROR(VLOOKUP(B1845,#REF!,8,FALSE),\"\")","v":""},null,"ILABAYA"]
[1841,230303,"TACNA","JORGE BASADRE","ITE",848,160,-17.861699999999999,-70.965800000000002,{"$f":"IFERROR(VLOOKUP(B1846,#REF!,8,FALSE),\"\")","v":""},null,"ITE"]
[1842,230301,"TACNA","JORGE BASADRE","LOCUMBA",969,589,-17.613900000000001,-70.762799999999999,{"$f":"IFERROR(VLOOKUP(B1847,#REF!,8,FALSE),\"\")","v":""},null,"LOCUMBA"]
[1843,230102,"TACNA","TACNA","ALTO DE LA ALIANZA",371,603,-17.993099999999998,-70.247799999999998,{"$f":"IFERROR(VLOOKUP(B1848,#REF!,8,FALSE),\"\")","v":""},null,"ALTO DE LA ALIANZA"]
[1844,230103,"TACNA","TACNA","CALANA",108,881,-17.943300000000001,-70.188299999999998,{"$f":"IFERROR(VLOOKUP(B1849,#REF!,8,FALSE),\"\")","v":""},null,"CALANA"]
[1845,230104,"TACNA","TACNA","CIUDAD NUEVA",173,695,-17.9819,-70.238100000000003,{"$f":"IFERROR(VLOOKUP(B1850,#REF!,8,FALSE),\"\")","v":""},null,"CIUDAD NUEVA"]
[1846,230110,"TACNA","TACNA","CORONEL GREGORIO ALBARRACIN LANCHIP",188,562,-18.043099999999999,-70.2517,{"$f":"IFERROR(VLOOKUP(B1851,#REF!,8,FALSE),\"\")","v":""},null,"CORONEL GREGORIO ALBARRACIN LANCHIP"]
[1847,230105,"TACNA","TACNA","INCLAN",1415,519,-17.793900000000001,-70.494699999999995,{"$f":"IFERROR(VLOOKUP(B1852,#REF!,8,FALSE),\"\")","v":""},null,"INCLAN"]
[1848,230111,"TACNA","TACNA","LA YARADA LOS PALOS",529,42,-18.286100000000001,-70.4392,{"$f":"IFERROR(VLOOKUP(B1853,#REF!,8,FALSE),\"\")","v":""},null,"LA YARADA LOS PALOS"]
[1849,230106,"TACNA","TACNA","PACHIA",604,1087,-17.8964,-70.153899999999993,{"$f":"IFERROR(VLOOKUP(B1854,#REF!,8,FALSE),\"\")","v":""},null,"PACHIA"]
[1850,230107,"TACNA","TACNA","PALCA",1418,2939,-17.778300000000002,-69.959699999999998,{"$f":"IFERROR(VLOOKUP(B1855,#REF!,8,FALSE),\"\")","v":""},null,"PALCA"]
[1851,230108,"TACNA","TACNA","POCOLLAY",266,690,-17.996700000000001,-70.225800000000007,{"$f":"IFERROR(VLOOKUP(B1856,#REF!,8,FALSE),\"\")","v":""},null,"POCOLLAY"]
[1852,230109,"TACNA","TACNA","SAMA",1116,397,-17.862500000000001,-70.56,{"$f":"IFERROR(VLOOKUP(B1857,#REF!,8,FALSE),\"\")","v":""},null,"SAMA"]
[1853,230101,"TACNA","TACNA","TACNA",1878,583,-18.001899999999999,-70.251900000000006,{"$f":"IFERROR(VLOOKUP(B1858,#REF!,8,FALSE),\"\")","v":""},null,"TACNA"]
[1854,230402,"TACNA","TARATA","CHUCATAMANI",372,2352,-17.480599999999999,-70.123099999999994,{"$f":"IFERROR(VLOOKUP(B1859,#REF!,8,FALSE),\"\")","v":""},null,"CHUCATAMANI"]
[1855,230403,"TACNA","TARATA","ESTIQUE",313,3149,-17.541899999999998,-70.018299999999996,{"$f":"IFERROR(VLOOKUP(B1860,#REF!,8,FALSE),\"\")","v":""},null,"ESTIQUE"]
[1856,230404,"TACNA","TARATA","ESTIQUE-PAMPA",186,3064,-17.538599999999999,-70.031400000000005,{"$f":"IFERROR(VLOOKUP(B1861,#REF!,8,FALSE),\"\")","v":""},null,"ESTIQUE-PAMPA"]
[1857,230405,"TACNA","TARATA","SITAJARA",251,3163,-17.375299999999999,-70.133899999999997,{"$f":"IFERROR(VLOOKUP(B1862,#REF!,8,FALSE),\"\")","v":""},null,"SITAJARA"]
[1858,230406,"TACNA","TARATA","SUSAPAYA",373,3462,-17.348099999999999,-70.133600000000001,{"$f":"IFERROR(VLOOKUP(B1863,#REF!,8,FALSE),\"\")","v":""},null,"SUSAPAYA"]
[{"$f":"+A1863+1","v":1859},230401,"TACNA","TARATA","TARATA",864,3077,-17.475000000000001,-70.031899999999993,{"$f":"IFERROR(VLOOKUP(B1864,#REF!,8,FALSE),\"\")","v":""},null,"TARATA"]
[1860,230407,"TACNA","TARATA","TARUCACHI",113,3054,-17.5258,-70.031700000000001,{"$f":"IFERROR(VLOOKUP(B1865,#REF!,8,FALSE),\"\")","v":""},null,"TARUCACHI"]
[1861,230408,"TACNA","TARATA","TICACO",347,3272,-17.447199999999999,-70.046700000000001,{"$f":"IFERROR(VLOOKUP(B1866,#REF!,8,FALSE),\"\")","v":""},null,"TICACO"]
[1862,240203,"TUMBES","CONTRALMIRANTE VILLAR","CANOAS DE PUNTA SAL",623,66,-3.9506000000000001,-80.94,{"$f":"IFERROR(VLOOKUP(B1867,#REF!,8,FALSE),\"\")","v":""},null,"CANOAS DE PUNTA SAL"]
[1863,240202,"TUMBES","CONTRALMIRANTE VILLAR","CASITAS",855,137,-3.9422000000000001,-80.6511,{"$f":"IFERROR(VLOOKUP(B1868,#REF!,8,FALSE),\"\")","v":""},null,"CASITAS"]
[1864,240201,"TUMBES","CONTRALMIRANTE VILLAR","ZORRITOS",645,11,-3.6775000000000002,-80.668099999999995,{"$f":"IFERROR(VLOOKUP(B1869,#REF!,8,FALSE),\"\")","v":""},null,"ZORRITOS"]
[1865,240102,"TUMBES","TUMBES","CORRALES",132,27,-3.6013999999999999,-80.480599999999995,{"$f":"IFERROR(VLOOKUP(B1870,#REF!,8,FALSE),\"\")","v":""},null,"CORRALES"]
[1866,240103,"TUMBES","TUMBES","LA CRUZ",65,10,-3.6372,-80.59,{"$f":"IFERROR(VLOOKUP(B1871,#REF!,8,FALSE),\"\")","v":""},null,"LA CRUZ"]
[1867,240104,"TUMBES","TUMBES","PAMPAS DE HOSPITAL",728,28,-3.6932999999999998,-80.4392,{"$f":"IFERROR(VLOOKUP(B1872,#REF!,8,FALSE),\"\")","v":""},null,"PAMPAS DE HOSPITAL"]
[1868,240105,"TUMBES","TUMBES","SAN JACINTO",599,23,-3.6408,-80.445300000000003,{"$f":"IFERROR(VLOOKUP(B1873,#REF!,8,FALSE),\"\")","v":""},null,"SAN JACINTO"]
[1869,240106,"TUMBES","TUMBES","SAN JUAN DE LA VIRGEN",119,26,-3.6278000000000001,-80.433599999999998,{"$f":"IFERROR(VLOOKUP(B1874,#REF!,8,FALSE),\"\")","v":""},null,"SAN JUAN DE LA VIRGEN"]
[1870,240101,"TUMBES","TUMBES","TUMBES",158,9,-3.5710999999999999,-80.459199999999996,{"$f":"IFERROR(VLOOKUP(B1875,#REF!,8,FALSE),\"\")","v":""},null,"TUMBES"]
[1871,240302,"TUMBES","ZARUMILLA","AGUAS VERDES",46,13,-3.4817,-80.245000000000005,{"$f":"IFERROR(VLOOKUP(B1876,#REF!,8,FALSE),\"\")","v":""},null,"AGUAS VERDES"]
[1872,240303,"TUMBES","ZARUMILLA","MATAPALO",392,69,-3.6821999999999999,-80.199700000000007,{"$f":"IFERROR(VLOOKUP(B1877,#REF!,8,FALSE),\"\")","v":""},null,"MATAPALO"]
[1873,240304,"TUMBES","ZARUMILLA","PAPAYAL",194,36,-3.5714000000000001,-80.234999999999999,{"$f":"IFERROR(VLOOKUP(B1878,#REF!,8,FALSE),\"\")","v":""},null,"PAPAYAL"]
[1874,240301,"TUMBES","ZARUMILLA","ZARUMILLA",113,15,-3.5011000000000001,-80.275599999999997,{"$f":"IFERROR(VLOOKUP(B1879,#REF!,8,FALSE),\"\")","v":""},null,"ZARUMILLA"]
[1875,250201,"UCAYALI","ATALAYA","RAYMONDI",14505,256,-10.729699999999999,-73.755300000000005,{"$f":"IFERROR(VLOOKUP(B1880,#REF!,8,FALSE),\"\")","v":""},null,"RAYMONDI"]
[1876,250202,"UCAYALI","ATALAYA","SEPAHUA",8224,277,-11.1372,-73.045599999999993,{"$f":"IFERROR(VLOOKUP(B1881,#REF!,8,FALSE),\"\")","v":""},null,"SEPAHUA"]
[1877,250203,"UCAYALI","ATALAYA","TAHUANIA",7010,197,-10.0306,-73.956400000000002,{"$f":"IFERROR(VLOOKUP(B1882,#REF!,8,FALSE),\"\")","v":""},null,"TAHUANIA"]
[1878,250204,"UCAYALI","ATALAYA","YURUA",9176,240,-9.5313999999999997,-72.760000000000005,{"$f":"IFERROR(VLOOKUP(B1883,#REF!,8,FALSE),\"\")","v":""},null,"YURUA"]
[1879,250101,"UCAYALI","CORONEL PORTILLO","CALLERIA",10485,162,-8.3681000000000001,-74.543300000000002,{"$f":"IFERROR(VLOOKUP(B1884,#REF!,8,FALSE),\"\")","v":""},null,"CALLERIA"]
[1880,250102,"UCAYALI","CORONEL PORTILLO","CAMPOVERDE",1194,203,-8.4718999999999998,-74.805300000000003,{"$f":"IFERROR(VLOOKUP(B1885,#REF!,8,FALSE),\"\")","v":""},null,"CAMPOVERDE"]
[1881,250103,"UCAYALI","CORONEL PORTILLO","IPARIA",8029,170,-9.3061000000000007,-74.435599999999994,{"$f":"IFERROR(VLOOKUP(B1886,#REF!,8,FALSE),\"\")","v":""},null,"IPARIA"]
[1882,250107,"UCAYALI","CORONEL PORTILLO","MANANTAY",580,165,-8.4002999999999997,-74.541399999999996,{"$f":"IFERROR(VLOOKUP(B1887,#REF!,8,FALSE),\"\")","v":""},null,"MANANTAY"]
[1883,250104,"UCAYALI","CORONEL PORTILLO","MASISEA",14102,150,-8.6046999999999993,-74.306100000000001,{"$f":"IFERROR(VLOOKUP(B1888,#REF!,8,FALSE),\"\")","v":""},null,"MASISEA"]
[1884,250106,"UCAYALI","CORONEL PORTILLO","NUEVA REQUENA",1858,183,-8.3206000000000007,-74.851399999999998,{"$f":"IFERROR(VLOOKUP(B1889,#REF!,8,FALSE),\"\")","v":""},null,"NUEVA REQUENA"]
[1885,250105,"UCAYALI","CORONEL PORTILLO","YARINACOCHA",596,131,-8.3556000000000008,-74.575800000000001,{"$f":"IFERROR(VLOOKUP(B1890,#REF!,8,FALSE),\"\")","v":""},null,"YARINACOCHA"]
[1886,250305,"UCAYALI","PADRE ABAD","ALEXANDER VON HUMBOLDT",191,237,-8.8275000000000006,-75.050799999999995,{"$f":"IFERROR(VLOOKUP(B1891,#REF!,8,FALSE),\"\")","v":""},null,"ALEXANDER VON HUMBOLDT"]
[1887,250307,"UCAYALI","PADRE ABAD","BOQUERON",null,411,-9.0584000000000007,-75.636799999999994,{"$f":"IFERROR(VLOOKUP(B1892,#REF!,8,FALSE),\"\")","v":""},null,"BOQUERON"]
[1888,250303,"UCAYALI","PADRE ABAD","CURIMANA",2134,181,-8.4332999999999991,-75.147800000000004,{"$f":"IFERROR(VLOOKUP(B1893,#REF!,8,FALSE),\"\")","v":""},null,"CURIMANA"]
[1889,250306,"UCAYALI","PADRE ABAD","HUIPOCA",null,294,-8.9770000000000003,-75.446799999999996,{"$f":"IFERROR(VLOOKUP(B1894,#REF!,8,FALSE),\"\")","v":""},null,"HUIPOCA"]
[1890,250302,"UCAYALI","PADRE ABAD","IRAZOLA",999,228,-8.8285999999999998,-75.213300000000004,{"$f":"IFERROR(VLOOKUP(B1895,#REF!,8,FALSE),\"\")","v":""},null,"IRAZOLA"]
[1891,250304,"UCAYALI","PADRE ABAD","NESHUYA",580,193,-8.64,-74.964399999999998,{"$f":"IFERROR(VLOOKUP(B1896,#REF!,8,FALSE),\"\")","v":""},null,"NESHUYA"]
[1892,250301,"UCAYALI","PADRE ABAD","PADRE ABAD",4689,275,-9.0335999999999999,-75.507499999999993,{"$f":"IFERROR(VLOOKUP(B1897,#REF!,8,FALSE),\"\")","v":""},null,"PADRE ABAD"]
[1893,250401,"UCAYALI","PURUS","PURUS",17848,228,-9.7721999999999998,-70.709699999999998,{"$f":"IFERROR(VLOOKUP(B1898,#REF!,8,FALSE),\"\")","v":""},null,"PURUS"]

{"sheet":"C","index":2,"n_rows":667,"n_cols":21,"rows_kept":667,"cut":false,"hidden":true,"merged":[]}
["N° Certificado","N°","Año","Promotor","RUC","Nombre del proyecto","DIRECCIÓN DEL PROYECTO","Distrito","Provincia","Departamento","N° Etapa","Cantidad de Viviendas Totales","Cantidad de Viviendas con Bono","Area Promedio M2","Precio de la Vivienda (S/.)","Precio de la Vivienda (S/.) Mín.","Precio de la Vivienda (S/.) Máx.","Precio de la Vivienda Promedio (S/.)","Grado de Bono anterior al 2020","Grado de Bono al que postula","motivo de reitro"]
["AE.RE-092-2020",1,2017,"Madrid Ingenieros",20508967226,"Sol de Santa Clara","Ate, Lima","Ate Vitarte","Lima","Lima",1,279,279,73.23,181693,181693,181693,181693,2,"3+"]
["301/15-0502.02",2,2017,"CORPORACION INMOBILIARIA SUDAMERICANA SAC",20506908061,"Condominio Paseo Colonial","Cercado, Lima","Cercado de Lima","Lima","Lima",1,262,262,62.02,235339,235339,235339,235339,1]
["AE.RE-053-2020",3,2017,"REDBAY DEL PERU SAC",20500523540,"Alameda las Gaviotas","Chorrillos, Lima","Chorrillos","Lima","Lima","Etapa 3 - Torre A y B",358,144,66.16,265956,265956,265956,265956,1,"3+"]
["AE-RE-007-2020",4,2017,"VIVA GYM S.A.",20493040643,"Los Parques de Comas, Los Girasoles","Comas, Lima","Comas","Lima","Lima",4,384,256,50,"101,240 a 81,100",101240,81100,91170,2,"3+"]
["AE.RE.001.2020",5,2017,"VIVA GYM S.A.",20493040643,"Los Parques de Comas, Los Nogales","Comas, Lima","Comas","Lima","Lima",1,576,192,72,"281,200 a 161,600",281200,161600,221400,2,"3+"]
["AE-RE-008-2020",6,2017,"VIVA GYM S.A.",20493040643,"Los Parques de Comas, Los Molles","Comas, Lima","Comas","Lima","Lima",1,720,360,60,"162,300 a 114,400",162200,114400,138300,2,"3+"]
["AE-RE-009-2020",7,2017,"VIVA GYM S.A.",20493040643,"Los Parques de Comas, Los Girasoles","Comas, Lima","Comas","Lima","Lima",6,512,512,50,"101,240 a 80,990",101240,80990,91115,2,"3+"]
["AE-RE-013-2020",8,2017,"VIVA GYM S.A.",20493040643,"Los Parques del Callao","Callao, Lima","Callao","Callao","Lima","2,3 y 4",984,360,65,"219,565 a 153,900",219565,153900,186732.5,2,"3+"]
["AE-RE-002-2020",9,2017,"Besco S.A.C.",20416162299,"Altaluz Condominio ","Callao, Lima","Callao","Callao","Lima ","Etapa 3 - Torre 3",338,308,62.3,"287,629 a 157,000",287629,157000,222314.5,2,"3+"]
["AE.RE-016-2020",10,2017,"Besco S.A.C.",20416162299,"Nuevo Nogales","El Agustino, Lima","El Agustino","Lima","Lima ","Torres 10,11,12",2120,480,63.7,"155,250 a 305,000",155250,305000,230125,2,"3+"]
["301/17-0314.07",11,2017,"Inmobiliaria Ruttini",20518010329,"Terrazas del Sol Condominio","SJL, Lima","San Juan de Lurigancho","Lima","Lima ","1, 2,3 y 4",858,858,59.06,"123,009 a 308,646",123009,308646,215827.5,1]
["301/17-2529",12,2017,"BELGICA EDIFICACIONES S.A.",20329728022,"Precursores 4","San Miguel, Lima","San Miguel","Lima","Lima ",1,57,6,89.47,425964,425964,425964,425964,1]
["AE.RE-077-2020",13,2018,"LIDER INGENIERIA Y CONSTRUCCIÓN SA",20519431395,"Conjunto Residencial Kampu","Ate, Lima","Ate Vitarte","Lima","Lima ","2 (Edif. 9,10,11); 3(Edif. 5,6); 4(Edif. 12,13); 5(Edif. 14,15); 6( Edif. ,16,17)",220,220,65,149000,149000,149000,149000,1,"3+"]
["301/17-2180",14,2018,"WR S.A. ",20100048702,"Buganvillas","Comas, Lima","Comas","Lima","Lima ","Torre C y Torre D",384,140,84,225000,225000,225000,225000,1]
["301/17-2528",15,2018,"D&D CONSTRUCTORES S.A.C.",20494649161,"Urbanizacion Los Huarangos","Ica, Ica","Ica","Ica","Ica",3,99,99,51.73,170000,170000,170000,170000,1]
["N° 001.2018",16,2018,"Inversiones Qualiving SAC /Zen Grupo Inmobiliairo",20601622581,"Edificio Multifamiliar Arnaldo Marquez","Jesus Maria, Lima","Jesús María","Lima","Lima","Torre unica",132,112,60,307420,307420,307420,307420,1]
["N° 003.2018",17,2018,"AN Inmobiliaria",20563652145,"Ciudad Horcones","Jayanca, Chiclayo, Lambayeque","Jayanca","Lambayeque","Lambayeque",8,1025,1025,30.76,58000,58000,58000,58000,2]
["N° 002.2018",18,2018,"Desarrollo Sucre 132 SAC /COSAPI",20601803993,"Edificio PRANA","Pueblo Libre, Lima","Pueblo Libre","Lima","Lima",1,79,73,75,345675,345675,345675,345675,1]
["AE.RE.023-2020",19,2018,"Inversiones Inmobiliarias del Indico S.A. (IMAGINA)",20514048071,"Alto Benavides","Av. Colonial 1111 - Cercado de Lima, Lima","Cercado de Lima","Lima","Lima","Todo el Proyecto",647,647,63,270000,270000,270000,270000,1,"3+"]
["N° 005.2018",20,2018,"Inversiones Inmobiliarias del Mantaro SA. (IMAGINA)",20517503224,"Alto Venezuela","Av. Venezuela 5415 - San Miguel, Lima\n","San Miguel","Lima","Lima",3,687,447,66.37,298251,298251,298251,298251,1,"3+"]
["AE.RE.028-2020",21,2018,"MEJ INMOBILIARIA SAC",20602151655,"Grand Central","jr. Zorritos 475 Breña, Lima","Breña","Lima","Lima",1,148,148,62.81,255098,255098,255098,255098,1,"3+"]
["N° 007.2018",22,2018,"CONSTRUCTORA INARCO PERU SAC",20519219922,"Condominio Paseo San Martin ","San Martin de Porres, Lima","San Martin de Porres","Lima","Lima","Torre 3",456,116,68,220606,220606,220606,220606,1]
["AE.RE-159-2020",23,2018,"MY HOME Organización Inmobiliaria",20509748633,"Edificio Millenium","Av. Canada 1180  La Victoria, Lima","La Victoria","Lima","Lima",1,84,84,65,330000,330000,330000,330000,1,"2+"]
["N° 008.2018",24,2018,"COSAPI INMOBILIARIA & GRUPO LAR",20555934263,"Duplo","Av. Brasil N°  , Breña, Lima","Breña","Lima","Lima","Torre A",177,147,65.7,355000,355000,355000,355000,1]
["N° 010.2018",25,2018,"INVERSIONES GRANADERO S.A.C.",20506916080,"Altus One","San Miguel, Lima","San Miguel","Lima","Lima","Torre A",112,112,68.92,362202,362202,362202,362202,1]
["N° 012.2018",26,2018,"TM GESTION INMOBILIARIA SAC",20549790373,"Condominio Jardines de Santa Beatriz","Cercado de Lima, Lima","Cercado de Lima","Lima","Lima","1  (Torre C)",77,77,70,346000,346000,346000,346000,1]
["AE.RE-089-2020",27,2018,"DESARROLLO INMOBILIARIO FT S.A.C.",20601881749,"Hara","La Victoria, Lima","La Victoria","Lima","Lima","Fase 1 y Fase 2",170,160,62,320000,320000,320000,320000,1,"3+"]
["N° 012B.2018",28,2018,"WESCON",20509940666,"Edificio Residencial Conecta"," Cercado de Lima, Lima"," Cercado de Lima","Lima","Lima",1,75,75,60.47,317021,317021,317021,317021,1]
["AE.RE.019-2021",29,2018,"AMAUTA 2272 SAC  (antes WESCON)",20557848411,"Edificio Multifamiliar FESTIVA - Etapa 2( antes Edificio de Vivienda Multifamiliar Amauta)"," Av Arica 2250- 2272 "," Cercado de Lima","Lima","Lima","Etapa 2",140,136,67.540000000000006,269294,269294,269294,269294,1,"3+"]
["N° 016.2018",30,2018,"PAZ CENTENARIO S.A.",20518023579,"Ciudad Verde 3","Puente Piedra, Lima","Puente Piedra","Lima","Lima","3 (Torre E y F)",144,45,59.45,171657,171657,171657,171657,1]
["N° 015.2018",31,2018,"PAZ CENTENARIO S.A.",20518023579,"Ciudad Nueva 3","Callao, Callao","Callao","Callao","Lima","3 (Torre E y F)",444,63,56.7,189311,189311,189311,189311,1]
["AE.RE-111-2020",32,2018,"PAZ CENTENARIO S.A.",20518023579,"Ciudad Nueva 5","Callao, Callao","Callao","Callao","Lima","5 (Torre I,J)",128,128,62.96,192383,192383,192383,192383,1,"3+"]
["AE.RE-113-2020",33,2018,"PAZ CENTENARIO S.A.",20518023579,"Ciudad Nueva 4","Callao, Callao","Callao","Callao","Lima","4(Torre D)",27,27,56.49,192383,192383,192383,192383,1]
["AE.RE-114-2020",34,2018,"PAZ CENTENARIO S.A.",20518023579,"Proyectos Prados del Sol 4","Ate, Lima","Ate Vitarte","Lima","Lima","4 (Torre J,K,L)",120,58,67.7,224689,224689,224689,224689,1,"3+"]
["N° 018.2018",35,2018,"PAZ CENTENARIO S.A.",20518023579,"Ciudad Verde","Puente Piedra, Lima","Puente Piedra","Lima","Lima","4 (Torre G)",72,72,60.9,167468,167468,167468,167468,1]
["AE-RE-027-2020",36,2018,"DESARROLLO PLAZA GRAU SAC  (GRUPO LAR)",20563177323,"CONJUNTO RESIDENCIAL Y DE COMERCIO MIDLIMA (antes Midtown)"," Cercado de Lima, Lima"," Cercado de Lima","Lima","Lima","Torres 1,2,3,4,5,6,7,8,9,10,11,12,13",414,414,54.9,296690,296690,296690,296690,1,"3+"]
["AE-RE-052-2020",37,2018,"DESARROLLADORA VISTA NEVADO SAC (Cissac)",20602442439,"CasaParq","Pago de Challapampa-Fundo \"La Manrique\", Cerro Colorado, Arequipa","Cerro Colorado","Arequipa","Arequipa","Torres B",63,63,85.65,291674,291674,291674,291674,1,"3+"]
["N° 020.2018",38,2018,"LIDER INVERSIONES AREQUIPA SA (Lider)",20539613716,"Almira Condominio","Calle Argentina N° 398, Jacobo D. Hunter, Arequipa","Jacobo D. Hunter","Arequipa","Arequipa","1 Etapa, 1 Edificio",63,63,79.349999999999994,227115,227115,227115,227115,1]
["AE-RE-011-2020",39,2018,"VIVA GYM S.A.",20493040643,"Los Parques de Comas, Villa Jacaranda","Esquina Av. A con Calle 2 s/n Mz. D Sub Lt. 1, Comas, Lima","Comas","Lima","Lima","6 Edificios, 1,2,3,4,5,6",720,720,60,130000,130000,130000,130000,2,"3+"]
["N° 025.2018",40,2018,"A-ZERO INMOBILIARIA S.A.C.",20451658337,"Buenavista","Surco, Lima","Santiago de Surco","Lima","Lima","Torre unica",3,3,75,384000,384000,384000,384000,1]
["N° 026.2018",41,2018,"A-ZERO INMOBILIARIA S.A.C.",20451658337,"Multifamiliar Nature","Lurigancho, Chosica","Lurigancho-Chosica","Lima","Lima","Torre unica",8,8,70,200000,200000,200000,200000,1]
["AE.RE.026-2020",42,2018,"DESARROLLO TANGUIS S.A.C. (antes GRUPO LAR DESARROLLOS INMOBILIARIOS S.A.C.)",20551609538,"Eres","Av. Republica de  Panama 4077 , Surquillo, Lima","Surquillo","Lima","Lima","Fase 1 Torre A, Fase 2 Torre B, Fase 3 Torre C",599,365,61.06,388162,388162,388162,388162,1,"3+"]
["AE-RE-021-2020",43,2018,"DESARROLLO PASEO DE LA REPUBLICA S.A.C.  (Anteriormente GRUPO LAR DESARROLLOS INMOBILIARIOS SAC)",20601832098,"Elant","Av. Canada 185 , La Victoria, Lima","La Victoria","Lima","Lima","Fase 1 Torre A, Fase 2 Torre B, Fase 3 Torre C",448,447,58.85,320992,320992,320992,320992,1,"3+"]
["N° 029.2018",44,2018,"INMOBILIARIA VALLE LUZ S.A.C. (CANTABRIA)",20492434052,"Edificio Motion San Miguel","Calle Cesar Lopez Rojas  N°183-187-189-191, Urb. Maranga, San Miguel, Lima","San Miguel","Lima","Lima","Torre Unica",138,54,71.180000000000007,351298,351298,351298,351298,1]
["N° 030.2018",45,2018,"INMOBILIARIA NUESTRA SEÑORA DE COPACABANA SAC (Magbis)",20549933409,"Residencial Nuevo Lurin","Lurin , Lima","Lurin","Lima","Lima","Torre unica",68,68,55,130000,130000,130000,130000,1]
["AE.RE-115-2020",46,2018,"PAZ CENTENARIO S.A.",20518023579,"Proyectos Prados del Sol 5","Ate Vitarte , Lima","Ate Vitarte","Lima","Lima","5 (Torre H,I)",60,40,64.55,216000,216000,216000,216000,1,"3+"]
["AE.RE-116-2020",47,2018,"PAZ CENTENARIO S.A.",20518023579,"Proyectos Prados del Sol 3","Ate Vitarte , Lima","Ate Vitarte","Lima","Lima","3 (Torre M,N,O)",100,70,66.44,226168,226168,226168,226168,1,"3+"]
["AE-RE-074-2020",48,2018,"ALBAURBE PROMOTORA INMOBILIARIA SAC (ALBAMAR)",20601552249,"POINT PUEBLO LIBRE (antes EDIFICIO BOLIVAR POINT)","Av. Simon Bolivar, Pueblo Libre, Lima","Pueblo Libre","Lima","Lima","Torre unica (del piso 5° al piso 20°)",166,55,64.56,328921,328921,328921,328921,1,"3+"]
["AE.RE.004.2020",49,2018,"VIVA GYM S.A.",20493040643,"Los Parques de Comas, Los Laureles","Comas, Lima","Comas","Lima","Lima",1,640,640,50,95065,95065,95065,95065,2,"3+"]
["AE-RE-012-2020",50,2018,"VIVA GYM S.A.",20493040643,"Los Parques de Comas, Los Laureles","Comas, Lima","Comas","Lima","Lima",2,640,640,50,95065,95065,95065,95065,2,"3+"]
["AE-RE-014-2020",51,2018,"VIVA GYM S.A.",20493040643,"Los Parques de Comas, Los Laureles","Comas, Lima","Comas","Lima","Lima",3,640,640,50,95065,95065,95065,95065,2,"3+"]
["AE-RE-015-2020",52,2018,"VIVA GYM S.A.",20493040643,"Los Parques de Comas, Los Laureles","Comas, Lima","Comas","Lima","Lima",4,640,640,50,95065,95065,95065,95065,2,"3+"]
["N° 036.2018",53,2018,"VIVA GYM S.A.",20493040643,"Los Parques de Comas, Girasoles 5","Comas, Lima","Comas","Lima","Lima",5,384,384,50,91433,91433,91433,91433,2]
["AE-RE-010-2020",54,2018,"VIVA GYM S.A.",20493040643,"Los Parques de Comas, Las Magnolias","Comas, Lima","Comas","Lima","Lima","Torres 1,2,3,4,5,6",768,768,76.03,204877,204877,204877,204877,2,"3+"]
["AE.RE-034-2020",55,2018,"VIVA GYM S.A.",20493040643,"Los Parques de Piura 2","Urb. Los parques de Piura, II Etapa, Mza. B Lote 1, Piura","Piura","Piura","Piura","ETAPA 2",336,240,50,94189,94189,94189,94189,2,"3+"]
["N° 040.2018",56,2018,"NEOVIDA CONSTRUCCIONES SAC",20524115213,"Residencial Santa elena","Calle 28 de Julio 636, Magdalena del Mar, Lima","Magdalena del Mar","Lima","Lima","Torre unica",31,11,75,370000,370000,370000,370000,1]
["AE.RE-160-2020",57,2018,"VIVA GYM S.A.",20493040643,"Parques del Mar","Av. Costanera 1690, San Miguel, Lima","San Miguel","Lima","Lima","Torre A y Torre B",248,248,77,269038,269038,269038,269038,2,"2+"]
["AE.RE-105-2020 / AE.RE 95-2020.",58,2018,"CONSORCIO DH MONT & CG&M S.A.C.",20502574109,"Ciudad Sol de Collique","Alt. Cdra. 80 Av. Universitaria con Av. Micaela Bastidas-Urb. El Retablo, Comas, Lima","Comas","Lima","Lima","Manzana E (todos los blocks) y Manzana G Lote 4 (Block N° 9 y 18) y Lote 5 (Block N° 7 y 8)",4260,2906,58.3,269038,269038,269038,269038,1,"3+"]
["AE.RE.096-2020",59,2018,"CONSORCIO DH MONT & CG&M S.A.C.",20502574109,"Oasis de Piura","Calle Chulucanas s/n distrito 26 de Octubre, provincia y departamento de Piura","Piura","Piura","Piura","1,2,3,4",2352,2352,63.5,131050,131050,131050,131050,1,"3+"]
["AE.RE.022-2020",60,2018,"INVERSIONES INMOBILIARIAS DE LA ATLANTIDA S.A.",20515544187,"Conjunto residencial SMART","Av. Tomas Marsano 358-368, Surquillo, Lima","Surquillo","Lima","Lima","Torre A y Torre B",306,178,56,428200,428200,428200,428200,1,"3+"]
["N° 045.2018",61,2018,"PAZ CENTENARIO S.A.",20518023579,"Vista Azul Etapa 1","Av. La Paz, San Miguel, Lima","San Miguel","Lima","Lima","Torre A",123,123,57.1,281046,281046,281046,281046,1]
["N° 046.2018",62,2018,"PAZ CENTENARIO S.A.",20518023579,"Icono","Av. Arica N° 600, esq. con Jr Jorge Chavez, Breña, Lima","Breña","Lima","Lima","Torre unica",255,75,66.23,250725,250725,250725,250725,1]
["AE.RE-055-2020",63,2018,"CONSORCIO CISSAC SCANDER S.A.C. (CISSAC)",20601676622,"Del Parque","Av. El Sol S/N - Pimentel, Chiclayo, Lambayeque","Pimentel","Chiclayo","Lambayeque","Edificio 1-Modulo 2",120,120,65.16,169325,169325,169325,169325,1,"3+"]
["N° 048.2018",64,2018,"PAZ CENTENARIO S.A.",20492390098,"Villa Club Ica Sub Etapa 2","Av. Finlandia, Sector Las Lunas-Zona 7, La Tinguiña, Ica"," La Tinguiña","Ica","Ica",2,59,31,53.77,176764,176764,176764,176764,1]
["N° 049.2018 ",65,2018,"PAZ CENTENARIO S.A.",20492390098,"Villa Club Ica Sub Etapa 3","Av. Finlandia, Sector Las Lunas-Zona 7, La Tinguiña, Ica"," La Tinguiña","Ica","Ica",3,68,68,47.96,180300,180300,180300,180300,1]
["N° 050.2018",66,2018,"CONSTRUCTORA E INMOBILIARIA  PALCER SAC",20505196865,"Condominio Residencial Los Huertos","Calle Ambo N° 301-311 Urb. Los Huertos de Naranjal - San Martin de Porres, Lima","San Martin de Porres","Lima","Lima","II-2",70,70,78,"165,000 - 230,000",165000,230000,197500,1]
["AE.RE-059-2020",67,2018,"BUENAS INVERSIONES SAC (Senda)",20600930258,"Vivienda - Comercio MET","Av. Paseo de la Republica  esq. con Calle Ricardo Flores N° 2199-2197 y Jr. Flores N° 155, La Victoria, Lima","La Victoria","Lima","Lima","Torre unica",381,256,54.92,289955,289955,289955,289955,1,"3+"]
["N° 052.2018",68,2018,"LAPSA ORGANIZACIÓN INMOBILIARIA SA",20507908943,"Santa Sofia","Pasaje Las Gaviotas Mz A Lt. 20, Urb. La Campiña, Chorrillos, Lima","Chorrillos","Lima","Lima","Torre A,B y C",116,99,75.489999999999995,315135,315135,315135,315135,1]
["AE.RE.030-2020",69,2018,"DESARROLLO OLGUIN S.A.C.",20603106521,"Epiqe","Av. Olguin, Surco, Lima","Santiago de Surco","Lima","Lima",3,204,143,62.92,365000,365000,365000,365000,1,"3+"]
["AE.RE-090-2020",70,2018,"SAN JOSE INMOBILIARIA PERU SAC",20509534838,"Nuevavista Condominio","Av. Venezuela N° 2597 / 2597-A, Bellavista, Callao","Bellavista","Callao","Lima","Edificio 2,3,4, 5, 6, 7, 8, 9, 10",1104,1032,67.900000000000006,234100,234100,234100,234100,1,"3+"]
["AE.RE-016-2021",71,2018,"A&A GRUPO INMOBILIARIO SAC (antes INVERSIONES CH & M SAC)",20603898126,"Prados del Este","Panamericana Sur Km. 296 – Distrito de Subtanjalla - Ica, Ica","Subtanjalla","Ica","Ica","1 y 2",322,199,94.73,134400,134400,134400,134400,1,"1+"]
["AE.RE-038-2020",72,2018,"CONSTRUCTORA CUMBRES VILLANOVA SAC (Cumbres)",20602704891,"Conjunto Residencial Villanova 2","Mz. B, Lote 1, Callao, Callao","Callao","Callao","Lima","Etapa  2",538,96,60.28,172440,172440,172440,172440,1,"3+"]
["AE.RE-102-2020",73,2018," INSURCO PROYECTOS SAC (INVENT)",20602544461,"Invent San Felipe","Av. San Felipe 1191 - 1195, Esquina jr. Pachacutec, Jesus Maria, Lima","Jesús María","Lima","Lima","Torre 1",72,38,58.94,377602,377602,377602,377602,1,"2+"]
["AE-RE-018-2020",74,2018,"Besco S.A.C.",20416162299,"Las Palmas (Ex Proyecto Chorrillos)","Chorrillos, Lima","Chorrillos","Lima","Lima","Edif. A, B, C, D, E",313,313,65,236000,236000,236000,236000,1,"3+"]
["N° 059.2018",75,2018,"VILLA CLUB S.A.C.",20492390098,"Proyecto Villa Club Carabayllo -etapa 4","Av. Las Lomas km. 6.5 urb. Villa club 4 etapa, Carabayllo, Lima","Carabayllo","Lima","Lima",4,600,58,79.95,223547,223547,223547,223547,1]
["N° 060.2018",76,2018,"VILLA CLUB S.A.C.",20492390098,"Proyecto Villa Club Carabayllo -etapa 5","Av. Las Lomas km. 6.5 urb. Villa club 4 etapa, Carabayllo, Lima","Carabayllo","Lima","Lima",5,655,68,76.64,212211,212211,212211,212211,1]
["AE.RE.043.2020",77,2018,"AIP 15 SAC (Arteco)",20600327411,"Depa+Club Lince","Av. Prolongacion Iquitos, Lince , Lima","Lince ","Lima","Lima","Etapa 1 y 2, Torre única",177,172,59.48,312105,312105,312105,312105,1,"3+"]
["N° 062.2018",78,2018,"CORPORACION INMOBILIARIA NERIDA MARIA SAC (Abril Inmobiliaria)",20518128249,"Edificio Los Robles","Calle Los Negocios N° 185, Surquillo, Lima","Surquillo","Lima","Lima","Torres A, B, C",301,282,63.83,340258,340258,340258,340258,1]
["N° 063.2018",79,2018,"GRECO INMOBILIARIA SAC",20552897863,"Edificio Ficus","Av. Horacio Urteaga 432, Jesus Maria","Jesús María","Lima","Lima","Torre 1",264,264,64.73,318809,318809,318809,318809,1]
["N° 064.2018",80,2018,"AMAUTA 2272 SAC  (antes WESCON)",20557848411,"Edificio Amauta - Etapa 1","Esquinas entre Av. Arica, Jr. Tellería y Pasaje Casapalca. Urb. Chacra Rios - Cercado de Lima","Cercado de Lima","Lima","Lima","Etapa 1",36,36,58.64,275279.7,275279.7,275279.7,275279.7,1]
["AE.RE-071-2020",81,2018,"INMOBILIARIA CAPIENTE SAC (URBANA)",20602336850,"Tempo Etapa 1 Etapa 2","Av. Republica de Panama N° 2075-2099 Esq. Jr. Ernesto Odriozola N° 111-149-159, Urb. Santa Catalina, La Victoria, Lima","La Victoria","Lima","Lima","2 Sectores/ Etapa 1",396,320,60,325000,325000,325000,325000,1,"3+"]
["AE.RE-049-2020",82,2018,"QUATRO PROYECTOS SAC",20555726075,"FAMILY TOWER","Av. Arica N° 1263-1279, Breña, Lima","Breña","Lima","Lima","Torre unica",173,172,64.19,273700,273700,273700,273700,1,"2+"]
["N° 067.2018",83,2018,"MY HOME Organización Inmobiliaria",20509748633,"Edificio Voce","Calle Horacio Cachay Diaz Mz. N-7 Lt.4 Urb. Santa Catalina, La Victoria, Lima","La Victoria","Lima","Lima","Torre 1",39,19,71.28,404087,404087,404087,404087,1]
["N° 068.2018",84,2018,"BARQUEROS GRUPO CONSTRUCTOR SAC",20601148481,"Residencial Medis","Parque San Martin 241 - 247 - Pueblo Libre, Lima","Pueblo Libre","Lima","Lima",1,63,36,71,333125,333125,333125,333125,1]
["N° 069.2018",85,2018,"ZyV INVERSIONES SAC",20537924137,"Ingarden","Prolongacion Magnolias S/N - Urbanizacion Planicie de San Carlos - El Tambo _ Huancayo","El Tambo","Huancayo","Junin",1,32,32,90,231000,231000,231000,231000,1]
["N° 070.2018",86,2018,"LA VENTUROSA S.A.",20383731705,"Condominio Bella Flora","Lote 1,  MzD. Esquina Av. Los Faisanes con Jr. Artemisa - Santiago de Surco, Lima","Santiago de Surco","Lima","Lima",3,215,133,79.510000000000005,"198,369.6 - 400,648.8",198369.6,400648.8,299509.2,1]
["N° 071.2018",87,2018,"URBANIZACION LOS JARDINES DEL EDEN S.A.C.",20602187145,"Los Jardines del Eden Etapa 2","Sector Cachiche - Predio Casma Lechuza, Parcela 12875, Ica, Ica","Ica","Ica","Ica",2,178,178,40.020000000000003,132709,132709,132709,132709,1]
["N° 072.2018",88,2018,"P&G GROUP SAC",20482628487,"Residencial las Orquideas II","Mz. D, Lote 7A de la Urbanizacion Las Orquideas, Trujillo, La Libertad","Trujillo","Trujillo"," La Libertad","Torre Interior y exterior",60,60,null,180342,180342,180342,180342,1]
["N° 073.2018",89,2018,"CIUDARIS CONSULTORES INMOBILIARIOS SAC",20432280056,"Residencial Shine","Av. Escardo 618 - 620 - San Miguel, Lima","San Miguel","Lima","Lima",1,139,100,71,284500,284500,284500,284500,1]
["N° 074.2018",90,2018,"A-ZERO INMOBILIARIA S.A.C.",20451658337,"Edificio Multifamiliar Golf de Huampani","Lurigancho, Chosica, Lima","San Juan de Lurigancho","Lima","Lima","Torre unica",8,8,75,240000,240000,240000,240000,1]
["N° 075.2018",91,2018,"CONSTRUCTORA E INMOBILIARIA OHOSO SAC (ARMAS DOOMO)",20548363331,"Alto Lima","Av. Paseo de la Republica, Av. Grau N° 102,104,106,108,110,112 y pasaje que comunica al Paseo de l Republica, La Victoria, Lima"," La Victoria","Lima","Lima",1,444,280,66.3,270849,270849,270849,270849,1]
["AE.RE.031.2020 ",92,2018,"AIP 14 SAC (Arteco)",20556280925,"Depas+Club La Breña","Jr. Jorge Chavez N° 1644-1652, Breña, Lima","Breña","Lima","Lima",1,119,119,70,281557,281557,281557,281557,1,"3+"]
["AE.RE.020-2020",93,2018,"INVERSIONES INMOBILIARIAS DE LAS CONDES S.A. (Imagina)",20537745631,"Proyecto Concepto \"Magic Ocean\"","Av. Costanera N° 2810, San Miguel, Lima","San Miguel","Lima","Lima","1 y 2",368,136,57.85,396159.13,386234.07,396159.13,391196.6,1,"3+"]
["N° 078.2018",94,2018,"VIVIENDAS DEL PERU SAC (Urbana)",20512691529,"Bonavi 2","Av. Manuel Cipriano Dulanto (Ex La Mar) N°1205 - 1209 - 1213 - 1217 - 1225 Urb. Colmenares - Distrito de Pueblo Libre - Provincia y Departamento de Lima.","Pueblo Libre","Lima","Lima","Proyecto Integral",75,56,75.400000000000006,397024,397024,397024,397024,1]
["N° 079.2018",95,2018,"PROEDCO SAC",20602414630,"Edificio Yanacoto","Calle Yanacoto 151, San Miguel, Lima","San Miguel","Lima","Lima",1,16,16,65,205000,205000,205000,205000,1]
["AE.RE-060-2020",96,2018,"INMOBILIARIA NARANJUELO S.A.C.",20537115026,"Condominio Paseo La Arboleda","Jr. Combate de Angamos S/N Urb. Naranjuelo, Surco, Lima","Santiago de Surco","Lima","Lima","Edificios D, E, F, G, H, I, J, K, L, M, N,O",480,480,72,335000,335000,335000,335000,1,"3+"]
["AE.RE-107-2020 (anterior 081-2018)",97,2018,"VIVIENDAS DEL PERU SAC (Urbana)",20512691529,"Allegro","Av. Costanera N° 980, San Miguel, Lima","San Miguel","Lima","Lima","Torre A y B (4 Y 5)",180,132,56,344000,344000,344000,344000,1,"2+"]
["N° 082.2018",98,2018,"PC SANTA CLARA SRL (Caral)",20544419081,"Conjunto Residencial La Ribera de Santa Clara","Av. Pedro Ruiz Gallo 2991, Ate, Lima","Ate Vitarte","Lima","Lima","Torres 1,2,3,4,5,6,7,8,9,12",812,684,60.36,180859,180859,180859,180859,1]
["N° 083.2018",99,2018,"INMOBILIARIA SUANCES SAC (Cantabria)",20601101221,"Edificio Look Lince","Av. Iquitos N°2501 esquina Calle Tulipanes, Lince, Lima","Lince ","Lima","Lima","Torre unica",147,89,63.57,329339,329339,329339,329339,1]
["N° 084.2018",100,2018,"INMOBILIARIA Y EDIFICACIONES DOMUS SAC",20602501028,"Residencial Madalengoitia","Nestor Madalengoitia Toledo 193, Urb Rosario de Villa, Chorrillos, Lima","Chorrillos","Lima","Lima","Torre unica",27,27,60,275000,275000,275000,275000,1]
["N° 085.2018",101,2018,"INVERSIONES ESTRATEGICAS INTEGRALES SAC",20503680174,"Residencial del Carmen","Mz. E-2, Lt. 1, Urb. Primavera, Trujillo","Trujillo","Trujillo"," La Libertad","Torre unica",43,43,94,103400,103400,103400,103400,1]
["AE.RE-086-2020",102,2018,"CONSTRUCTORA GALILEA SAC",20521119943,"Sol de Pimentel","Sec. Las Pampas Km 8.5 de la carretera Pimentel, Chiclayo","Pimentel","Chiclayo","Lambayeque","De la etapa 20 a la etapa 36, etapa 44 (lote 11), etapa 45 (lote 3) y etapa 46 ",1139,429,67.5,167131,167131,167131,167131,1,"3+"]
["N° 087.2018",103,2018,"GERENCIA Y CONSTRUCCION EDIFICA SAC ",20521800748,"Garden 360","Via secundaria s/n , Piura, Piura","Piura","Piura","Piura","Torres 1,2,3,4,5,6,7,8",360,145,70,240156,240156,240156,240156,1]
["AE.RE-142-2020",104,2018,"CIUDARIS CONSULTORES INMOBILIARIOS SAC",20432280056,"Residencial Serk Barranco Club 2 - 2da etapa","Av. Republica de Panamá 308 - Barranco, Lima","Barranco","Lima","Lima",2,329,127,60,333700,333700,333700,333700,1,"3+"]
["N° 089.2018",105,2018,"DHMONT SAC CONTRATISTAS GENERALES",20108664640,"TORRE LOS CIPRESES","Av. Luis braille 1368-1386-1394, Cercado de Lima, Lima","Cercado de Lima","Lima","Lima","Torre unica",88,26,71.489999999999995,278151,278151,278151,278151,1]
["N° 091.2018",106,2018,"MG HOGAR SAC",20601420121,"Edificio Multifamiliar Aranibar","Av. Nicolas de Aranibar N° 651-661-671 (Mz. 10-E Norte Lt. 07) en la Urbanizacion Santa Beatriz, Cercado de Lima, Lima","Cercado de Lima","Lima","Lima","Torre unica",54,54,70.400000000000006,354767,354767,354767,354767,1]
["AE.RE-084-2020",107,2018,"CONSTRUCTORA GALILEA SAC",20521119943,"Vista Alegre","Predio Vista Alegre y Anexos/Sector Vista Alegre, Valle Chancay, Chiclayo, Lambayeque","Chiclayo","Chiclayo","Lambayeque","9 hasta la 31",1029,741,67.5,157585,157585,157585,157585,1,"3+"]
["AE.RE-036-2020",108,2018,"COSAPI INMOBILIARIA & GRUPO LAR",20555934263,"SENTE (antes Centenario)","Jr. Centenario 175, Urbanizacion Garden City, Breña, Lima","Breña","Lima","Lima",2,204,192,62.42,400000,400000,400000,400000,1,"3+"]
["AE.RE.035.2020",109,2018,"AIP 10 SAC (Arteco)",20548906301,"Paseo la Campiña V","Av. Faisanes N° 356 Urb. La Campiña Chorrillos, Lima","Chorrillos","Lima","Lima","Torre C",185,32,70,255942,255942,255942,255942,1,"3+"]
["AE.RE-073-2020",110,2018,"LOS PORTALES CONSTRUYE SAC",20553346178,"Conjunto Residencial Mirador del Golf I","Av. Alameda Ñaña S/N, Lurigancho-Chosica, Lima","Lurigancho-Chosica","Lima","Lima","Torres 3,4 y 5",320,127,59.75,148422,148422,148422,148422,1,"3+"]
["N° 096-2018",111,2018,"LOS PORTALES CONSTRUYE SAC",20553346178,"Edificio Multifamiliar y comercial Gran Colonial","Av. Oscar Benavides 866 esquina con jr. Antonio Elizalde, Cercado de Lima, Lima","Cercado de Lima","Lima","Lima","Torre A y B",210,95,59.03,239866,239866,239866,239866,1]
["N° 097-2018",112,2018,"Besco S.A.C.",20416162299,"Alameda Santa Ana I - 2° Etapa","Urb. Residencial Piura - Mz. J Sub Lote B, Piura, Piura","Piura","Piura","Piura","Edificio 2 y Edificio 4",144,144,72,218900,218900,218900,218900,2]
["AE.RE.006-2022",113,2018,"PC COSTANERA SAN MIGUEL SRL (Caral)",20600610652,"CONJUNTO RESIDENCIAL VERAH","JR PARQUE ALTO, JR PEÑA RIVERA, JR BATALLA DE MIRAFLORES, SUB LOTE D","SANTIAGO DE SURCO","Lima","LIMA","TORRE 4,5,6,7,8,9,10,11",288,288,68.39,293868.0058396837,293868.0058396837,293868.0058396837,293868.0058396837,"2+","3+"]
["AE.RE-143-2020",114,2018,"PORTAL SANTA CLARA (Caral)",20544155831,"Uptown 2","Ca. Puquina N° 100 Sección 1 - 4B Urb. Maranga, San Miguel, Lima","San Miguel","Lima","Lima",2,287,127,81.5,333731,333731,333731,333731,1,"2+"]
["N° 100-2019",115,2018,"INMOBILIARIA CONSTRUCTORA WASI SAC",20532672032,"Condominio Club San Pedro de Latarce","Av. Jose Abelardo Quiñones S/N, Gregorio Albarracin, Tacna","Tacna","Tacna","Tacna","Torre B1a, B2a, B1b, B2b",200,200,118,300000,300000,300000,300000,1]
["AE.RE-054-2020",116,2018,"CORPORACION INMOBILIARIA SUDAMERICANA SELVA SAC (CISSAC)",20602187889,"Condominio Del Parque Tarapoto","Banda de Shilcayo, San Martin, San Martin","Banda de Shilcayo","San Martin","San Martin",1,140,100,61,122734,122734,122734,122734,1,"3+"]
["AE.RE.024-2020",117,2018,"INVERSIONES INMOBILIARIAS DEL MOCHE S.A. (Imagina)",20519159920,"Conjunto Residencial Urban (Etapa II)","Av. Arequipa 1501 esquina con jr. Manuel Segura, Lince, Lima","Lince ","Lima","Lima",2,111,18,66.08,333710,333710,333710,333710,1,"3+"]
["AE.RE-041-2020",118,2018,"CONSTRUCTORA CUMBRES VILLANOVA SAC (Cumbres)",20602704891,"Conjunto Residencial \" Condominio Villanova 3\"","Av. Argentina N°2424 y Av. Villegas N°582-584. Mz: A Lote: 3. Distrito de: Callao. Provincia de: Callao. Departamento de: Lima","Callao","Callao","Lima",3,484,484,63.94,185859.71,185859.71,185859.71,185859.71,1,"3+"]
["AE.RE-123-2020",119,2018,"DHMONT SAC CONTRATISTAS GENERALES",20108664640,"Jockey Residencial ","Habilitacion Urbana Los Cipreses de La Victoria","La Victoria","Chiclayo","Lambayeque","Lote 3 Block A-B-C-D-D'; Lote 10 Block AB-AC-AD-AE-AF",240,240,78.86,173343,173343,173343,173343,1,"3+"]
["AE.RE-163-2020",120,2018,"TER EDIFICACIONES SAC",20602491511,"Marsano 2175","Av Tomas Marsano 2169 - 2175 - 2183 - 2189, Surquillo, Lima","Surquillo","Lima","Lima","Torre unica",114,68,53.26,380000,380000,380000,380000,1,"3+"]
["AE.RE-056-2020",121,2018,"INVERSIONES INMOBILIARIAS CUBA SAC (Senda)",20603012110,"Side","Av. Cuba 950, Jesus Maria, Lima","Jesús María","Lima","Lima",1,176,176,70.900000000000006,382201,382201,382201,382201,1,"3+"]
["AE.RE-101-2020",122,2018,"INJAVIER PRADO PROYECTOS SAC (INVENT)",20602909965,"Invent Javier Prado","Av. Javier prado Oeste 808, Esquina Jr. Comandante Jimenez, Magdalena del Mar, Lima","Magdalena del Mar","Lima","Lima","Torre 1",53,17,63.5,224562,224562,224562,224562,1,"2+"]
["N° 108-2018",123,2018,"D&D CONSTRUCTORES S.A.C.",20494649161,"Urbanizacion Los Huarangos 4 Etapa","Predio Santa Sofia, Sector Casa Blanca-Cachiche, Ica, Ica","Ica","Ica","Ica","4 ( Mzs L,M,N,O,P,Q,R,S,T)",159,159,49.85,178000,178000,178000,178000,1]
["N° 109-2018",124,2018,"INVERSIONES NUEVO PACIFICO SAC",20481775575,"Multifamiliar Liverpool","Calle Bruselas N° 139 Urb. Santa Isabel, Trujillo, La Libertad","Trujillo","Trujillo"," La Libertad","Dos unicas torres ( del piso 1° al 8°)",64,64,79,175000,175000,175000,175000,1,"1+"]
["N° 110-2018",125,2018,"CONSORCIO DH MONT & CG&M S.A.C.",20502574109,"Ciudad Sol de Collique","Alt. Cdra. 80 Av. Universitaria con Av. Micaela Bastidas-Urb. El Retablo, Comas, Lima","Comas","Lima","Lima","Manzana G, Lote 5 (Block N° 6), Lote 6 (Block N° 4 y 5), Lote 7 (Block N° 3,19 y 20)",690,127,null,151075,151075,151075,151075,1]
["AE.RE.125-2020",126,2018,"CONSORCIO DH MONT & CG&M S.A.C.",20502574109,"SAN ANDRES HOUSE","Av. Genaro Medrano Cuadra 7, Distrito de San Andres, Provincia de Pisco, departamento de Ica.","San Andres","Pisco","Ica","3 Etapas (IA, IB,IC, ID)",114,92,null,88000,88000,88000,88000,1,"3+"]
["AE.RE.033.2020",127,2018,"AIP 5 SAC (Arteco)",20537263998,"Depas y Club Huachipa","Calle Guadalupe N° 555 Urbanizacion Lotizacion Industrial La Estrella Limitada, Ate, Lima","Ate Vitarte","Lima","Lima","Etapa 1, torres (A,B,G,H,J,K,L), Etapa 2, torres (C,D,E,F,I,M,N,O)",396,61,70,235000,235000,235000,235000,1,"3+"]
["N° 113-2018",128,2018,"CONSTRUCTORA GALILEA SAC",20521119943,"Torres de Quevedo","Cruce de Av. Santa Rosa con Av. El Contador, Trujillo, La Libertad","Trujillo","Trujillo"," La Libertad","Torre 13 y 14",280,40,null,133708,133708,133708,133708,1]
["AE.RE-087-2020",129,2018,"CONSTRUCTORA GALILEA SAC",20521119943,"Alto Chimbote","Prolongacion Av. Buenos Aires Km. 4.5 La Campiña Chimbote, Ancash","Chimbote","Chimbote","Ancash","Etapa 6 (2 lotes), 3, 4, 5, 7",560,121,67.5,148050,148050,148050,148050,1,"3+"]
["N° 115-2018",130,2018,"DESARROLLOS INMOBILIARIOS COMAR S.A.C.",20537802457,"Edificio Multifamiliar Centric","Av. Petit Thouars N° 1936-1940-1942, Lince, Lima","Lince ","Lima","Lima","torre unica",80,80,55,346500,346500,346500,346500,1]
["AE.RE-058-2020",131,2018,"PROMSAL S.A.C.",20515876937,"Hey Catalina","Av. Esteban Campodónico N°383 – LA VICTORIA","La Victoria","Lima","Lima","torre unica",112,92,65.75,311911.38940385601,311911.38940385601,311911.38940385601,311911.38940385601,1,"3+"]
["AE.RE-108-2020",132,2018,"INVERSIONES ROCAZUL SAC",20507322311,"Vista Mar","Av. Costanera N° 1380 Urb. Miramar, San Miguel, Lima","San Miguel","Lima","Lima","Torre A",80,80,70,360100,360100,360100,360100,1,"3+"]
["N° 118-2018",133,2018,"CONSTRUCTORA E INMOBILIARIA OPTIMUS",20547778333,"Edificio Lugo","Jr. Junin 558, Magdalena del Mar","Magdalena del Mar","Lima","Lima","Torre unica",38,36,63.42,308169,308169,308169,308169,1]
["AE.RE-122-2020",134,2018,"PI JORGE CHAVEZ S.A.C. (Flesan)",20600833317,"BUENAVISTA","Av. Emilio Fernandez 533. Cercado de Lima, Lima","Cercado de Lima","Lima","Lima",1,49,5,65,352100,352100,352100,352100,1,"2+"]
["AE.RE-121-2020",135,2018,"PI PRADO 1 S.A.C. (Flesan)",20603240163,"VITTORIA","Av. Militar 1765. Lince, Lima","Lince ","Lima","Lima",1,128,54,62,327486,327486,327486,327486,1,"2+"]
["N° 121-2018",136,2018,"PROMORE INMOBILIARIA S.A.C.",20524800862,"Edificio Victoria","Pasaje Leoncio Prado N° 206, Huacho, Huaura, Lima","Huacho ","Huaura","Lima","Torre unica",20,20,70,213200,213200,213200,213200,1]
["N° 123-2018",137,2019,"EDIFICACIONES INMOBILIARIAS SAC",20511988757,"Edificio Multifamiliar Avida","Av. Costanera N° 2982, San Miguel , Lima","San Miguel","Lima","Lima","Etapa 2 (Torre A y B)",166,127,60.38,296425,296425,296425,296425,1,"2+"]
["AE.RE-098-2020",138,2019,"CONSTRUCTORA CUMBRES CHALLPAMPA S.A.C.",20602699537,"Conjunto Residencial “Condominio Villa Verde 2”","Manzana F, Lote 3 Challapampa o la Goyeneche del Distrito de Cerro Colorado Provincia y Departamento de Arequipa.","Cerro Colorado","Arequipa","Arequipa","C Y D",288,160,109.88,332064,332064,332064,332064,1,"3+"]
["AE.RE-097.2020",139,2019,"CONSTRUCTORA CUMBRES CHALLPAMPA S.A.C.",20602699537,"Conjunto Residencial \" Condominio Valle Blanco Reserva\"","Manzana D, Lote 1 y 2 Challapampa o la Goyeneche del Distrito de Cerro Colorado Provincia y Departamento de Arequipa.","Cerro Colorado","Arequipa","Arequipa",4,640,160,null,178366.04375000001,178366.04375000001,178366.04375000001,178366.04375000001,1,"3+"]
["N° 122-2018",140,2019,"GRUPO ARIATZA S.A.C.",20600134729,"Mirador Palatino Casa Club","Av. Brasil N° 3445, Magdalena, Lima","Magdalena del Mar","Lima","Lima","Torre unica",97,55,73.58,331943,331943,331943,331943,1]
["AE.RE.029-2020",141,2019,"DESARROLLO SALAVERRY 475 SAC (Cosapi)",20566143381,"Nesta","Av. Salaverry N° 475, Jesus Maria, Lima","Jesús María","Lima","Lima","Fase 3, 4 Y 5",290,115,75,375000,355000,375000,365000,1,"3+"]
["N° 001-2019",142,2019,"PROYEC CONTRATISTAS GENERALES S.A.",20333686237,"Varela 2","Av. General Varela N° 1270 esquina con Jr. Olmedo N° 400, Breña, Lima","Breña","Lima","Lima","torre unica",58,58,null,293000,293000,293000,293000,1]
["N° 002-2019",143,2019,"PROYEC CONTRATISTAS GENERALES S.A.",20333686237,"Varela 879","Av. General Varela N° 871-879 , Breña, Lima","Breña","Lima","Lima","torre unica",23,23,null,286820,286820,286820,286820,1]
["N° 003-2019",144,2019,"EMPRESA PROMOTORA BRAVO DE RUEDA (MAGVIS)",20602081797,"Los Jardines del Rimac II","Jr. Jorge Bravo de Rueda N° 270, Urb. El Bosque, Rimac, Lima","Rimac","Lima","Lima","Torre unica",23,17,68,239000,239000,239000,239000,1]
["N° 004-2019",145,2019,"NEOVIDA CONSTRUCCIONES SAC",20524115213,"Edificio Multifamiliar \" Residencial El Rio\"","Av. Del Río 209","Pueblo Libre","Lima","Lima",1,30,25,64.7,341500,258000,425000,341500,1]
["N° 005-2019",146,2019,"A&C CONSTRUCTORA E INMOBILIARIA S.A.C.",20486530147,"Edificio Santa Rosa","Pasaje Santa Mónica (ex Pasaje Santa Rosa) N°135-143, San Carlos, Huancayo, Junín","Huancayo","Huancayo","Junin",1,20,20,110.65,296055.5,296055.5,296055.5,296055.5,1]
["AE.RE.103.2020",147,2019,"ALEMAN CONSTRUCTORES CO SAC ",20566072182,"Las Cumbres del Mirador","Calle Vista 300","Cerro Colorado","Arequipa","Arequipa","Etapa 1 (Torres I, II), Etapa 2 (Torres III, IV)",116,116,85,260000,260000,260000,260000,2,"3+"]
["AE.RE-076-2020",148,2019,"INVERSIONES INMOBILIARIAS MAGDALENA S.A.C.",20547173261,"Juan de Aliaga","Av. Antonio Miroquesada N° 650-670-690 con Jr. Francisco Graña, Mz. 43","Magdalena del Mar","Lima","Lima","1 y 2 ",297,175,69,318780,318780,318780,318780,2,"3+"]
["N° 014-2019",149,2019,"MINISTERIO DE TRANSPORTES Y COMUNICACIONES (BESCO, BESALCO)",20131379944,"Condominio Villa Atletas","Pueblo Joven Villa El Salvador, Sector Quinto, Area Zonal 26, Complejo Biotecnologico Mz. A","Villa El Salvador","Lima","Lima","Torres 1,2,3,4,5,6 y 7",1096,1096,null,186000,186000,186000,186000,2]
["N° 009-2019",150,2019,"ANTARES CONTRATISTAS S.A.",20143382339,"Edificio Multifamiliar I Los Parques del Chipe","Av. Colectora Norte 359 Ex Fundo El Chipe - Parcela 4 - Lote 07","26 de Octubre","Piura","Piura",2,60,60,55.84,161000,161000,161000,161000,1]
["AE.RE-078-2020",151,2019,"GLJ CONSTRUCTORES E INMOBILIARIOS SAC",20547261551,"La Gloria IV","Jr. Alfonso Ugarte N° 535","Magdalena del Mar","Lima","Lima",1,48,41,57.85,372586,372586,372586,372586,1,"3+"]
["N° 010-2019",152,2019,"IMMO NAUTIC SAC (Nuvo)",20553227080,"Smart San Felipe","Av. San Felipe lote 8  y 9, Jesus Maria, Lima","Jesús María","Lima","Lima","Torre unica",138,98,60.38,379235,379235,379235,379235,1]
["AE-RE-006-2020",153,2019,"MIRANDA CONSTRUCTORES S.A. (BESCO)",20392504894,"Praderas del Rimac","Terreno eriazo colindante al predio denominado Poligono Nacional de Tiro esquina con acceso por la prolongacion de la Av. Abelardo Gamarra y Pasaje Actual poligono de Tiro Fundo Muñoz","Rimac","Lima","Lima","Condominio del 1 al 6 ( 3 torres c/u)",2880,2880,65,194326,194326,194326,194326,1,"3+"]
["AE-RE-005-2020",154,2019,"MIRANDA CONSTRUCTORES S.A. (BESCO)",20392504894,"Altos del Rimac","Terreno eriazo colindante al predio denominado Poligono Nacional de Tiro esquina con acceso por la prolongacion de la Av. Abelardo Gamarra y Pasaje Actual poligono de Tiro Fundo Muñoz","Rimac","Lima","Lima","Condominios:  1 (3 torres), 2 (3 torres),3(3 torres),4 (3 torres), 5 (4 torres)",2304,2304,50,102488,102488,102488,102488,1,"3+"]
["N° 015-2019",155,2019,"REPRESENTACIONES DACA S.A.C.",20477373977,"Residencial Los Jazmines","Av. America Oeste N° 801 Urb. La Esmeralda","Trujillo","Trujillo","La Libertad",1,18,17,85,257206,257206,257206,257206,1]
["AE.RE-080-2020",156,2019,"QUATRO PROYECTOS SAC",20602816851,"Urban Tower 2","Av. Mariano Cornejo 1436","Lima Cercado","Lima","Lima",1,98,98,62.83,324533,324533,324533,324533,1,"3+"]
["AE.RE-047-2020",157,2019,"INVERSIONES INMOBILIARIAS VERANO S.A.C.",20553608041,"Edificio Multifamiliar CYPRES","Av. Víctor Alzamora 481 Barrio Médico","Surquillo","Lima","Lima",1,72,72,56.67,364110.15,364110.15,364110.15,364110.15,1,"3+"]
["AE.RE-154-2020",158,2019,"MENORCA INVERSIONES S.A.C.",20173223626,"Proyecto Villa SARAJA","Fundo Santa María Sub lote B","Ica","Ica","Ica",1,147,50,60.95,119239,119239,119239,119239,1,"2+"]
["AE.RE-106-2020",159,2019,"GRUPO ORE PARIONA S.A.C.",20502668421,"Proyecto Camino Real - 1era Etapa","Predio \"Los Pecanos Fundo N° 01\" - Sector Cachiche","Ica","Ica","Ica",1,51,51,60.88,106259,106259,106259,106259,1,"2+"]
["AE.RE-136-2020",160,2019,"BUEN VIVIR S.A.C.",20554638911,"Proyecto Edificio Libertad","Av. Libertad Esq. Jr. Los Mochicas Mz. KB Lote 15","San Miguel","Lima","Lima","Torre unica",23,23,62.76,286530,286530,286530,286530,1,"2+"]
["N° 021-2019",161,2019,"LINEA 21 S.A.C.",20563050331,"Edificio Multifamiliar Los Andes","Jr. Ayacucho N° 649","Magdalena del Mar","Lima","Lima",1,29,29,52,252720,252720,252720,252720,1]
["N° 022-2019",162,2019,"CONSTRUCTORA BETANIA S.A.C.",20503685567,"PASEO CASTILLA (antes Edificio Multifamiliar Alameda)","Jr. Gran mariscal Ramon Castilla, Grupo K, Sub Lote 1 Urb. Lt. del Fundo San Miguel","San Miguel","Lima","Lima","Torre A",94,94,73.73,348143,348143,348143,348143,1]
["N° 023-2019",163,2019,"CONSTRUCTORA BETANIA S.A.C.",20503685567,"Edificio Multifamiliar Aereo Home","Av. Arica N°1120, Lt. 2 Mz. 1, Urb. Huerta Izquierda Chacra Colorada","Breña","Lima","Lima","Torre A",60,60,68.47,305767,305767,305767,305767,1]
["AE-RE-003-2020",164,2019,"BESCO S.A.C",20416162299,"Proyecto Centrika Condominio ","Urb. Residencial Piura , Mz. J Sub Lote A","Piura","Piura","Piura","Edificios 1,2 y 3",436,436,50,113577,113577,113577,113577,2,"3+"]
["N° 025-2019",165,2019,"GRUPO DU BOIS S.A.C.",20546518567,"Proyecto Residencial DUBOIS III","Calle Fisher (Ex calle 15) Mz. T, Lt. 8","Surquillo","Lima","Lima","TORRE UNICA",26,26,76.400000000000006,275000,275000,275000,275000,1]
["AE.RE-093-2020",166,2019,"INMOBILIARIA RUTURI S.A.C. (ALTOZANO)",20551234542,"Solar de la Alameda - Prime Torre A y B","Urb. Alameda Salaverry, Mz. 5C, Lt 1","Miraflores","Arequipa","Arequipa","Torre A y Torre B",149,149,75.78,209093.06,209093.06,209093.06,209093.06,1,"2+"]
["N° 026-2019",167,2019,"BECA INVERSIONES Y PROYECTOS S.A.C.",20603503326,"Edificio Granada 274","Jirón Granada 274-278 ","Pueblo Libre","Lima","Lima","Torre única",18,11,null,398000,398000,398000,398000,1]
["N° 027-2019",168,2019,"INVERSIONES TIERRA BLANCA S.A.C.",20518883322,"Edificio Granada 135","Jr. Granada N° 135, Urb. San Martin","Pueblo Libre","Lima","Lima","Torre unica",18,12,91.81,375208,375208,375208,375208,1]
["AE.RE-127-2020",169,2019,"CASAIDEAL PROYECTO BRASIL 3 SAC",20602736483,"Edificio Multifamiliar NOU","Av. Brasil 2768 - 2790 - 2794 esquina con Jirón San José 112 - 116 - 120 - 124 - 128 - 130","Pueblo Libre","Lima","Lima","Torre unica",137,137,63,370552,370552,370552,370552,1,"2+"]
["N° 029-2019",170,2019,"LIMACOR INMOBILIARIA S.A.C. ",20563374404,"Residencial Castilla II – Eco House","Jr. Mariscal Castilla 956 - Torre A y B","Magdalena del Mar","Lima","Lima","Torre A y B",84,84,56,250500,250500,250500,250500,1]
["AE.RE-088-2020",171,2019,"CONSTRUCTORA GALILEA SAC",20521119943,"Conjunto Habitacional Monte Verde II - Etapa 8 - Etapa 29","A.H. Chiclayito , Av. Progreso 3200","Castillo","Piura","Piura","Etapa 8 - etapa 29",886,688,62.7,135490,135490,135490,135490,1,"3+"]
["N° 031-2019",172,2019,"J & F PERU GROUP S.A.C.",20539995490,"Residencial Primavera","Calle Héctor Villalobos 794 Urb. Primavera","Trujillo","Trujillo"," La Libertad","Torre unica",20,16,90,290000,290000,290000,290000,1]
["AE.RE-129-2020",173,2019,"MATIER SAC",20392737058,"Gorriones","Av. Los Gorriones S/N Lote 28-B Mz A, Urb. La Campiña primera etapa","Chorrillos","Lima","Lima","Torre unica",167,167,62.14,249610,249610,249610,249610,1,"2+"]
["AE.RE-016-2020",174,2019,"Besco S.A.C.",20416162299,"Nuevo Nogales Condominio Club Torre 13 y 14","Av. Los Nogales sublote 1 alt. Km 2.8 de la carretera central","El Agustino","Lima","Lima","Torre 13 y 14",4240,400,63.7,"155,250 - 305,000",155250,305000,230125,2,"3+"]
["AE.RE-057-2020",176,2019,"BELGICA EDIFICACIONES S.A.",20329728022,"Precursores 5","Av. Elmer Faucett 298","San Miguel","Lima","Lima","Torre unica",56,56,64.38,325000,325000,325000,325000,1,"3+"]
["AE.RE.015-2021",177,2019,"INMOBILIARIA IPR SAC (antes VERTICALIA S.A.C. (Nuvo))",20603264208,"Conjunto Residencial Vive 500","Terreno denominado \"El Morro\" - irrigacion Zamácola - Av. Aviacion sin numero","Cerro Colorado","Arequipa","Arequipa","Torres 1,2 y 3",240,240,92.55,303833,303833,303833,303833,1,"2+"]
["N° 037-2019",178,2019,"CONSTRUCTORA E INMOBILIARIA EL REFUGIO S.A.C.",20536777891,"Parque de La Justicia","Mz. LL Lote 2 Los Jazmines del Naranjal","Los Olivos","Lima","Lima","Torre unica",11,9,90,313651,313651,313651,313651,1]
["N° 038-2019",179,2019,"SERCON CONSTRUCTORA SAC",20538605671,"C 943","Av San Felipe 943 ","Jesús María","Lima","Lima",1,77,41,72.900000000000006,352276,352276,352276,352276,1]
["AE.RE-133-2020",180,2019,"ACTIVA MARIATEGUI SAC (Antes ORION INMOBILIARIA E INVERSIONES SAC)",20606580551,"Conjunto Residencial Mariategui","Av. Francisco Javier Mariategui Nº558","Jesús María","Lima","Lima","Torre 01",92,27,67.94,357965,357965,357965,357965,1,"2+"]
["N° 040-2019",181,2019,"SER CASA S.A.C.",20603670362,"Edificio La Peña","Urb. La Peña D-10 y D-11","Sachara","Arequipa","Arequipa","Torre 1 y 2 ",10,10,70,261288,261288,261288,261288,1]
["AE.RE.010.2021",182,2019,"S&P DESARROLLADORES INMOBILIARIOS SAC (Grupo Toscana)",20600690028,"Gorriones 4","Calle Los Gorriones N° 225, Mz. A Lote 34 y 35, Urb. La Campiña","Chorrillos","Lima","Lima","Torres A,B y C",132,131,70,235000,235000,235000,235000,1,"2+"]
["AE.RE-048-2020",183,2019,"CORPORACION INMOBILIARIA FERMONT  S.A.C. (Abril grupo Inmobiliario)",20600245504,"Abedul","Esq. Av. Brasil 2985","Magdalena del Mar","Lima","Lima","Torre 1",228,59,69.88,334102,334102,334102,334102,1,"3+"]
["N° 044-2019",184,2019,"LIDER INVERSIONES AREQUIPA SA (Lider)",20539613716,"Condominio A_Etapa 2","Av. Pizarro 115 ","José Luis Bustamante y Rivero","Arequipa","Arequipa","Etapa 02 (Torre 01)",150,150,95.05,293041,293041,293041,293041,1]
["N° 045-2019",185,2019,"CONSTRUCTORA E INMOBILIARIA CDR S.A.C.",20509746428,"Edificio Multifamiliar Vista Club Callao","Av. Oscar R Benavides (Av. Saenz Peña) Nº1839 ","Bellavista","Callao","Lima","Torre A y B",247,247,60.07,219376.3,219376.3,219376.3,219376.3,1]
["N° 046-2019",186,2019,"GRINSA S.A.C.",20440209123,"Urbanizacion Residencial Valle Hermoso","Predio Chacupe UC: 08710, Sector  Chacupe","La Victoria","Chiclayo","Lambayeque","1,2 y 3",384,136,31.12,97500,97500,97500,97500,1]
[" N° 047-2019",187,2019,"GRINSA S.A.C.",20440209123,"Los Rosales de Miraflores","Predio Miraflores UR: 10864","Castilla","Piura","Piura","1,2 y 3",178,126,43.8,118000,118000,118000,118000,1]
["AE.RE-120-2020",188,2019,"LA PAZ DESARROLLO INMOBILIARIO S.A.C.",20556482471,"AMARI ( antes Ambar)","Av. La Paz 118-120-122 Urb. Miramar","San Miguel","Lima","Lima","Torre unica",99,99,58.2,260000,260000,260000,260000,1,"3+"]
["AE.RE-138-2020",189,2019,"PROYECTOS Y CONSTRUCCIONES LUGANO S.A.C.",20507028986,"Green Park","Av. General Santa Cruz ","Jesús María","Lima","Lima","Torre unica",151,17,97.9,253000,253000,253000,253000,1,"2+"]
["AE.RE-135-2020",190,2019,"BUEN VIVIR S.A.C.",20554638911,"Universitaria","Av. Universitaria 2017 Mz A-4 lote 10","San Miguel","Lima","Lima",1,104,104,46.81,222081.04,222081.04,222081.04,222081.04,1,"2+"]
["AE.RE-100-2020",191,2019,"GRUPO D Y M CONSTRUCTORA E INMOBILIARIA S.A.C.",20550506352,"Residencial Prado","Av. Javier Prado Este Mz. I Lote 25 y 26 Urb. Mayorazgo Chico","Ate Vitarte","Lima","Lima",1,24,21,81.72,344415,344415,344415,344415,1,"2+"]
["N° 051-2019",192,2019,"LUIS FERNANDO LINARES MORANTE",10292204774,"Eco Residencial TAHUAYCANI","Pueblo Tradicional Tahuaycani Mz. B Sub Lote 5B","Sachara","Arequipa","Arequipa","Torre A",4,4,65,240900,240900,240900,240900,1]
["N° 052-2019",193,2019,"INMOBILIARIA EUROEDIFICACIONES S.A.C.",20486852420,"Condominio Parque San Antonio","Calle José Galvez Barrenechea Lote Acumulado Nº1, Coop. De vivienda Centenario","Huancayo","Huancayo","Junin","Torre 01 y 02",188,183,81.099999999999994,181441.49,181441.49,181441.49,181441.49,1]
["N° 053-2019",194,2019,"INMOBILIARIA LOPEZ S.A.C.",20505927231,"Proyecto Edificio START","Calle Julian Sandoval n° 155, Urb. Barrio Medico","Surquillo","Lima","Lima","Torre unica",43,12,64.38,383596,383596,383596,383596,1]
["N° 054-2019",195,2019,"REAL EDIFICACIONES S.A.C.",20562827936,"TORRE REAL 6","Av. Principal 806","Surquillo","Lima","Lima",1,59,45,63.18,254488,254488,254488,254488,1]
["AE.RE-072-2020",196,2019,"PROYECTOS GCF SAC",20603961715,"VILLA DULANTO (antes Cipriano Dulanto)","Av. Manuel Cipriano Dulanto N° 1441, 1443, 1445, 1447, 1449 1451 ","Pueblo Libre","Lima","Lima",1,102,80,78.319999999999993,366678.94,366678.94,366678.94,366678.94,1,"3+"]
["AE.RE.006.2021",197,2019,"TOLEMAN SAC (Altozano)",20603841086,"La Arboleda","Calle 27 de Noviembre, Mz  A, lote 1, sector Alto Libertad","Cerro Colorado","Arequipa","Arequipa","Etapa 1 ( Edificios 1,2,3 y 4)",528,528,79.45,227893,227893,227893,227893,1,"2+"]
["N° 057-2019",198,2019,"CONSTRUCTORES INTERAMERICANOS SAC",20305146618,"Condominio de Viviendas Andalucia","Av. El Cortijo s/n Común de Chacras los Comunes. Mz A Lote 1 Urb. Andalucía. ","Huanchaco","Trujillo","La Libertad",3,840,80,62.04,144326.25,144326.25,144326.25,144326.25,1]
["AE.RE.166-2020",199,2019,"BERTOLOTTO INVESTMENTS SAC",20601935458,"PACIFIK OCEAN TOWER","Av. Bertolotto N° 842-844-846-848-850-854","San Miguel","Lima","Lima","Torre A",190,76,63.84,398939,398939,398939,398939,1,"2+"]
["AE.RE-091-2020",200,2019,"ALTOZANO DESARROLLO Y CONSTRUCCION SAC",20507251111,"Lomas de La Alameda - 1ra Etapa","Urb. Alameda Salaverry, Manzana 4R, Lote 1","Miraflores","Arequipa","Arequipa","Modulo 5 ( Etapa 1)",165,165,58.71,133032.76,133032.76,133032.76,133032.76,1,"2+"]
["AE.RE-039-2020",201,2019,"CONSTRUCTORA CUMBRES VILLANOVA SAC (Cumbres)",20602704891,"Condominio Residencial Villanova 02 - Edificio 3","Av. Argentina N°2424 y Av. Villegas N°582-584. Mz: A Lote: 1","Callao","Callao ","Lima","Etapa 2 , Edif 3",538,44,57.21,168686.98,168686.98,168686.98,168686.98,1,"3+"]
["AE.RE-045-2020",202,2019,"CORPORACIÓN KAOBA S.A.C. (Sumac)",20602580149,"Cerezos","Av. Cuba 254/ Jr. General Córdova","Jesús María","Lima","Lima","Torre 1",98,46,66.86,369760.08,369760.08,369760.08,369760.08,1,"3+"]
["AE.RE-050-2020",203,2019,"INVERSIONES MAPLE S.A.C. ",20602127118,"Almendra","Mello Franco 545- 561-569-573","Jesús María","Lima","Lima","Torre 1",193,117,66.760000000000005,359400.3,359400.3,359400.3,359400.3,1,"3+"]
["AE.RE-099-2020",204,2019,"JGH INMOBILIARIA S.A.C. (PMS)",20603567804,"PLUS JESUS MARIA (antes Edificio Multifamiliar Huiracocha)","Jr. Huiracocha N° 2001-2005, Urbanizacion Matalechuza","Jesús María","Lima","Lima",1,54,13,50.41,267309.40000000002,267309.40000000002,267309.40000000002,267309.40000000002,1,"2+"]
["AE.RE-117-2020",205,2019,"CHECOR TEODORO CÁRDENAS SAC",20604088187,"LAS CAMELIAS (antes EDIFICIO MULTIFAMILIAR TEODORO CARDENAS)","Calle Montero Rosas y Calle Teodoro Cardenas Mz. 13-B","Cercado de Lima","Lima","Lima",1,57,56,64.47,294470,294470,294470,294470,1,"2+"]
["AE.RE-085-2020",206,2019,"CONSTRUCTORA GALILEA SAC",20521119943,"Sol de Lambayeque","Parcela 2 - Ex Finca Rustica El Cortijo ","Lambayeque","Lambayeque","Lambayeque","De la Etapa 1 a la etapa 6",448,221,62.7,146990,146990,146990,146990,1,"3+"]
["AE.RE-126-2020",207,2019,"JC CARAL MAGDALENA SAC.",20602691170,"Edificio Multifamiliar Villa Convivium","Jr. Salaverry 245","Magdalena del Mar","Lima","Lima","Etapa 1,2,3 (E1-75, E2-64, E3-69)",326,208,66.260000000000005,454618,454618,454618,454618,1,"2+"]
["AE.RE-094-2020",208,2019,"ALTOZANO DESARROLLO Y CONSTRUCCION SAC",20507251111,"Paseo de la Alameda - 4ta etapa","Av. Jose Abelardo Quiñones, Sector Pago Arunta II, Mz. A, Sub lote A-1","Coronel Gregorio Albarracin Lanchipa","Tacna","Tacna","4ta Etapa, BLOQUES 17, 18 y 19",120,120,72,130783,130783,130783,130783,1,"2+"]
["N° 068-2019",209,2019,"JJM GROUP SAC",20543948706,"Eco House Santa Maria","Jr. Toma y Calla, lote 1, sub lote 1, sector El Milagro","Santa Maria","Huaura","Lima","1ra Etapa",24,24,56.52,109340.74,109340.74,109340.74,109340.74,1]
["AE.RE.152-2020",210,2019,"CONSTRUCTORA INARCO PERU SAC",20519219922,"Paseo San Martin","Av. 10 de Junio 1020","San Martin de Porres","Lima","Lima","Etapa IV y V (Torre 4 y 5)",456,180,66,227020,227020,227020,227020,1,"2+"]
["N° 070-2019",211,2019,"4F PROYECTOS INTEGRALES S.A.C.",20600851790,"Edificio Multifamiliar Vigo","Calle Vigo Mz. U lote 02 Urb. Mayorazgo 3era Etapa","Ate Vitarte","Lima","Lima","Torre unica",8,5,61.53,271070.42,271070.42,271070.42,271070.42,1]
["AE.RE-124-2020",212,2019,"CLASEM S.A.C.",20516390060,"CONDOMINIO PARQUE SANTA MARGARITA","Av. Principal y Av. Amapolas S/N, Lote 01, Mz. Gc, Urb. Santa Margarita de Piura 4ta Etapa","  26 de Octubre","Piura","Piura","Etapa 2, Torres 3 y 4",272,72,73.040000000000006,135000,135000,135000,135000,1,"2+"]
["AE.RE.153-2020",213,2019,"NOVALAND S.A.C.",20555122480,"Villa Campiña","Jr. Juno 182 - La Campiña","Chorrillos","Lima","Lima","Torre 1",113,113,68.42,266417,266417,266417,266417,1,"2+"]
["AE.RE.013.2022 (antes  AE.RE.147.2020)",214,2019,"CONSTRUCTORA E INMOBILIARIA LMR SAC (antes 1060 DOS DE MAYO S.A.C)",20609781506," EDIFICIO VARELA ( antes EDIFICIO MULTIFAMILIAR ESMERALDA\nTorre A)"," JR. GENERAL FELIPE VALERA 1788-1792, LOTE C","Breña","Lima","Lima","Torre A",51,45,73.3,399732.3,332880,405004,368942,1,"2+"]
["AE.RE-128-2020",215,2019,"CASAIDEAL PROYECTOS PT S.A.C.",20603800576,"Edificio Multifamiliar Town","Avenida Almirante Abel B Du Petit Thouars 1281-1285 mitad del lote 8 de la manzana 12-B Urb. Fundo Santa Beatriz","Cercado de Lima","Lima","Lima","Torre unica",64,64,63.84,261139,261139,261139,261139,1,"2+"]
["AE.RE-130-2020",216,2019,"GRECO INMOBILIARIA SAC",20552897863,"Edificio Los Ceibos","Av. César Vallejo N°233, 241-249 ","Lince ","Lima","Lima","Torre unica",139,57,68.63,426456.25,255900,332700,294300,1,"3+"]
["AE.RE-042-2020",217,2019,"INMOBILIARIA ACTUAL BRASIL SAC",20603605773,"Multifamiliar Brasil","Av. Brasil N° 1869","Jesús María","Lima","Lima","Torre unica",172,88,60.75,365000,365000,365000,365000,1,"3+"]
["N° 077-2019",218,2019,"CCGIL S.R.L.",20537655306,"Residencial San Lorenzo","Calle Jose Galvez 1314","La Perla","Lima","Lima","Torre A",28,28,50.1,181226.83,181226.83,181226.83,181226.83,1]
["N° 078-2019",219,2019,"A-ZERO INMOBILIARIA S.A.C.",20451658337,"Multifamiliar Los Olivos","Calle 3 Mz. J Lote 19 \" urb. Carrizal del Carmen\"","Los Olivos","Lima","Lima","Torre unica",12,12,80,135000,135000,135000,135000,1]
["AE.RE.012-2021",220,2019,"T&C HOLDING S.A.C.",20392638408,"Bertolotto Etapa I","Av. Malecón Bertolotto lote 3A 750-754","San Miguel","Lima","Lima","Torre unica",115,91,62.32,378198,378198,378198,378198,1,"2+"]
["AE.RE.014.2021",221,2019,"BRASIL 657 S.A.C.",20601159245,"Catalino","Jr. Catalino Miranda 330","Barranco","Lima","Lima","Torre unica",75,146,67.989999999999995,359139.14,359139.14,359139.14,359139.14,1,"2+"]
["AE.RE.025-2020",222,2019,"INMOBILIARIA SAN MARTÍN TOURS S.A.C.",20512781196,"Edificio Multifamiliar Plaza Cuba","Av. Cuba 1249-1255 1261","Jesús María","Lima","Lima","Torre Principal",76,45,70.680000000000007,363864.74,363864.74,363864.74,363864.74,1,"3+"]
["AE.RE-068-2020",223,2019,"LYNX CONSTRUCTORA S.A.C.",20602062318,"Edificio Santa Cruz Infinite","Av. General Andrés de Santa Cruz 773-777","Jesús María","Lima","Lima","Torre Principal",98,91,63.86,391470.33,391470.33,391470.33,391470.33,1,"3+"]
["AE.RE-150-2020",224,2019,"LOS PORTALES S.A.",20301837896,"Praderas del Sol Etapas II y III","Av. Camino a la Huega","Ica","Ica","Ica","2 y 3",182,182,45.02,121709,121709,121709,121709,1,"2+"]
["AE.RE-165-2020",225,2019,"INMOBILIARIA LA PACIFICA SAC (Armas Doomo)",20545094488,"SIMPLICITY (antes Supra)","Av. Manuel Olguin N° 481 – 485 – 489, esquina con el Jr. Tres Marias, urbanización Los Granados","Santiago de Surco","Lima","Lima","Etapas 1,2,3",398,156,60.2,344938,344938,344938,344938,1,"2+"]
["AE.RE-141-2020",226,2019,"MENORCA INVERSIONES S.A.C.",20173223626,"Villa San Antonio de Chiclayo","Predio El Destino, Sector Micarcape, Valle Chancay","Monsefu","Chiclayo","Lambayeque","Etapa 1 , Etapa 2 , Etapa 3 ",171,171,61.11,126600,126600,126600,126600,1,"2+"]
["N° 087-2019",227,2019,"VIENNA CONSTRUCTORES SA",20555073098,"Residencial Nueva Aurora 2 (antes Sergio Bernales)","Av. Sergio Bernales Lastre 259","Surquillo","Lima","Lima","Torre unica",51,15,71.8,214940,214940,214940,214940,1]
["AE.RE.032-2020",228,2019," INMOBILIARIA NUEVO UNIVERSO II SAC (Arquimia)",20491915961,"Conjunto Residencial Mivivienda Nuevo Universo","Parcela L (intersección Panamericana Norte y Av. Canta Callao - Trapiche)","San Martin de Porres","Lima","Lima","9 fases (4 torres)",1356,1356,63.4,176351,176351,176351,176351,1,"3+"]
["N° 090-2019",229,2019,"YS EMPRESAS S.A.C.",20512432264,"Alameda del Sur","Av. Guardia Civil 191/193 Urb. La Campiña","Chorrillos","Lima","Lima","Torre unica",158,14,68,250000,250000,250000,250000,1]
["AE.RE-075-2020",230,2019,"VIVIENDAS DEL PERU SAC (Urbana)",20512691529,"Edificio Switch","Av. Tomas Marsano 1647 ","Surquillo","Lima","Lima",1,169,92,108.71,365872,365872,365872,365872,1,"3+"]
["N° 093-2019",231,2019,"CORPORACION INMOBILIARIA AUSANGATE SAC",20603296762,"Residencial San Sebastian","jr. San Jose N° 328","Pueblo Libre","Lima","Lima","Torre unica",20,20,62.5,382660,382660,382660,382660,1]
["AE.RE.008-2021",232,2019,"GRUPO MAJIEL SAC",20513862050,"Edificio Merino","Av. Ignacio Merino 1772-1784","Lince ","Lima","Lima","Torre unica",59,59,58.69,290514.65999999997,290514.65999999997,290514.65999999997,290514.65999999997,1,"2+"]
["N° 088-2019",233,2019,"CONSTRUCTORA RFG S.A.C.",20550363811,"Centrica VIP","Av. Brasil 1433","Jesús María","Lima","Lima","Torre A",78,19,75,400000,400000,400000,400000,1]
["AE.RE.013.2021",234,2019,"VYV PROYECTO 56 SAC",20602907156,"Edificio Multifamiliar El Sol","Av. El Sol N° 170","Barranco","Lima","Lima","Torre unica",182,92,40,334533,334533,334533,334533,1,"2+"]
["AE.RE-079-2020",235,2019,"QUATRO ALFA S.A.C.",20603540744,"Edificio Multifamiliar Dual Tower","Av. La Marina 234-236-238 ","Pueblo Libre","Lima","Lima","Torre unica",125,110,64.22,346815.62,346815.62,346815.62,346815.62,1,"3+"]
["N° 097-2019",236,2019,"GAMMA URBANA SAC",20602257194,"Habilitacion Urbana y Construccion Simultanea las Villas de Chosica III Etapa","Calle Hipolito Unanue, Sector Chosica del Norte","La Victoria","Chiclayo","Lambayeque","3 Etapa",69,34,33.67,87471.87,87471.87,87471.87,87471.87,1]
["N° 098-2019",237,2019,"PROYECTOS Y CONSTRUCCIONES LUGANO S.A.C.",20507028986,"Liberty","Av. Manuel Cipriano Dulanto N° 1707","Pueblo Libre","Lima","Lima","Torre A",67,20,95,360968,360968,360968,360968,1]
["AE.RE-164-2020",238,2019,"CONSTRUCTORA E INMOBILIARIA EMBLEMA TRES S.A.C.",20600212223,"HOMIE (antes Conjunto Residencial Rio Grande)","Jr. 8 de Octubre 702-704-706-710 (antes Amazonas 702-704-706-710)","Pueblo Libre","Lima","Lima","Torre A y B",217,178,67.680000000000007,357519.41,357519.41,357519.41,357519.41,1,"2+"]
["N° 100-2019",239,2019,"MOGADOR TRADING S.A.C.",20600040198,"Echenique 932","Jr. Echenique 930-932","Magdalena del Mar","Lima","Lima",4,31,31,68.34,373333,373333,373333,373333,1]
["N° 101-2019",240,2019,"FORCE HOUSE PROMOTORES INMOBILIARIOS SAC",20601584868,"Residencial Oceanica","Calle Nicolas de Pierola N° 140","San Miguel","Lima","Lima",1,68,54,62.42,297119,297119,297119,297119,1]
["N° 102-2019",241,2019,"DECAL PROPERTIES SAC",20522875024,"Monterosso","Lotizacion Fundo Azcona, Av. Pedro Ruiz Gallo N° 280-286","Breña","Lima","Lima","Torre 1",51,51,90.5,378731,378731,378731,378731,1]
["N° 105-2019",242,2019,"YOPLAC ASOCIADOS SAC",20516014912,"Residencial Limatambo II de Pueblo Libre","Calle Galicia 380-390, Urb. 28 de julio","Pueblo Libre","Lima","Lima","Torre unica",34,33,70.84,363968,363968,363968,363968,1]
["AE.RE-146-2020",243,2019,"LOS PORTALES S.A.","CIUDAD VERDE  ETAPA 5Y6","Villa de La Rinconada","Via colector norte 2 (cruce entre Av. Uno y Av. S/N, Via Colectora Secundaria)","26 de Octubre","Piura","Piura","Etapas A,B y C",315,315,45.02,125401,125401,125401,125401,1,"2+"]
["AE.RE-158-2020",244,2019,"INGENIERIA DE LA CONSTRUCCION SAC",20101330258,"Edificio Residencial Brasil 14","Av. Brasil 1459, Urb. Fundo Desamparados","Jesús María","Lima","Lima","Torre unica",87,12,73.09,398400,398400,398400,398400,1,"2+"]
["016_C-2021",245,2019,"AZUL GRUPO INMOBILIARIO S.A.C.",20552898835,"Edificio Multifamiliar SOCIAL TREE","Av. General Felipe Salaverry N° 1840 - 1880","Jesús María","Lima","Lima","Torre unica",233,95,68.63,404129,404129,404129,404129,1,"3+"]
["AE.RE046-2020",246,2019,"CORPORACION OLMO S.A.C. ",20602579906,"Edificio Multifamiliar Damasco","Av. San Felipe N° 209-219 esq. Av. General Eugenio Garzon N° 2153","Jesús María","Lima","Lima","Torre unica",155,93,41.19,373783,373783,373783,373783,1,"3+"]
["AE.RE-065-2020",247,2019,"WR S.A. ",20100048702,"Conjunto Residencial Condominio Unno","Mz. C2 Lote 1, Parcela B2-B1","Comas","Lima","Lima","Etapas 1 y 2- Torres Ay B (Todo el condominio Unno)",285,285,62.45,202175,202175,202175,202175,1,"3+"]
["AE.RE-064-2020",248,2019,"WR S.A. ",20100048702,"Conjunto Residencial Condominio Doss","Mz. B2 Lote 1, Parcela B2-A","Comas","Lima","Lima","Etapas 1 y 2- Torres A, B y C (Todo el condominio Doss)",316,316,92.05,285650,285650,285650,285650,1,"3+"]
["AE.RE-063-2020",249,2019,"WR S.A. ",20100048702,"Conjunto Residencial Condominio Tress","Mz. A2 Lote 1, Parcela B2-A","Comas","Lima","Lima","Etapas 1 y 2- Torres A, B, C (departamentos) y Bloques D,E y F (casas). Todo El condominio Tress.",253,253,102.5,335500,335500,335500,335500,1,"3+"]
["AE.RE-083-2020",250,2019,"CONSTRUCTORA GALILEA SAC",20521119943,"Sol de Huanchaco","Altura  Km. 10de la carretera Huanchaco","Huanchaco","Trujillo","La Libertad","Etapas 1 y 2",223,221,72.95,159670,159670,159670,159670,1,"3+"]
["AE.RE.011.2021",251,2019,"PROYECTO CANTABRIA 01 S.A.C.",20602847943,"Edificio Brissa 4112","Av. Brasil n° 4110-4112-4114-4116","Magdalena del Mar","Lima","Lima","Torre unica",136,113,65.78,336129,336129,336129,336129,1,"3+"]
["AE.RE-148-2020",252,2019,"INVERSIONES 4X S.A.C.",20600594207,"Edificio Multifamiliar Tamayo","Urb. Tejadita Calle Augusto Tamayo vargas, Mz. A Sub Lote 1-E 7 1-D-2","Barranco","Lima","Lima","Torre 1",90,75,53.01,283589,283589,283589,283589,1,"3+"]
["AE.RE-016-2020",253,2019,"Besco S.A.C.",20416162299,"Nuevo Nogales Condominio Club","Av. Los Nogales, Sub Lote B1, Altura del Km 2.8 de la carretera Central","El Agustino","Lima","Lima","Torre 7,8,15,16,17,18",1080,1080,63.7,155250,155250,155250,155250,2,"3+"]
["N° 115-2019",254,2019,"GRUPO DIMENSIONA S.A.C.",20540037061,"Sky Up","Calle Hamilton Mz B Lt. 18 Urb. San Fernando","Trujillo","Trujillo","La Libertad",1,22,22,95,301045,301045,301045,301045,1]
["AE.RE-051-2020",255,2019,"KUADRAT S.A.C.",20549184376,"SQ Concept","Av. Angamos Este 1551","Surquillo","Lima","Lima","Torre unica",111,111,56.29,318135,318135,318135,318135,1,"3+"]
["N° 120-2019",256,2019,"CONSTRUCTORA E INMOBILIARIA CONSORCIO UGARTE S.A.C.",20603885440,"Boulevard San Juan","Pasaje veintidos Sur Mz V Lote 07","San Juan de Miraflores","Lima","Lima",1,23,23,60,217400,217400,217400,217400,1]
["N° 121-2019",257,2019,"PROMOTORA COLINA VERDE S.A.C.",20603693354,"Conjunto Residencial Arborea","Algarrobo Lote N° 2-Mz. F-1 Urb. San Fernando","Pachacamac","Lima","Lima","Torres : 1A, 1B, 2, 3, 4 y 5",240,240,54.17,154825,154825,154825,154825,1]
["AE.RE.019-2020",258,2019,"INVERSIONES INMOBILIARIAS DE PACASMAYO S.A.",20519161746,"Edificio Multifamiliar Urban Park","Av. Petit Thouars N°1140","Cercado de Lima","Lima","Lima",2,291,149,63.93,439655,439655,439655,439655,1,"3+"]
["N° 123-2019",259,2019,"MENORCA INVERSIONES S.A.C.",20173223626,"San Antonio de Mala 3","Predio Parcela 5 Fundo Vinchos, Sector Pampas Vinchos","Mala","Cañete","Lima",1,302,302,62.04,77900,77900,77900,77900,1]
["N° 124-2019",260,2019,"GRUPO ROSALES Y ALFARO S.A.C. - GRUPO ROYAL S.A.C.",20601302111,"Edificio Multifamiliar Residencial Violeta","Calle Enrique Oppenheimer 682-684, Mz. I2, Lt. 4, Urbanizacion San Juan Unidad B","San Juan de Miraflores","Lima","Lima",1,28,28,61.44,248005,248005,248005,248005,1]
["N° 126-2019",261,2019,"PROMOTORA LOPEZ S.A.C",20604471878,"NITOA 3","Calle Las Garzas 171 - 173 ","Surquillo","Lima","Lima",1,31,25,61.05,370209,370209,370209,370209,1]
["N° 127-2019",262,2019,"PROMOTORA LOPEZ S.A.C",20603954557,"NITOA 2","Calle las Aguilas 154","Surquillo","Lima","Lima","1ra Etapa",31,18,61.04,369955,369955,369955,369955,1]
["N° 128-2019",263,2019,"CONCYSSA PROMOTORA INMOBILIARIA SAC",20600882890,"Conjunto Residencial Barcelona","Jr. Mariano Jose Arce, 561-553 (Mz. 4 C, Lotes 26, 27 y 28) de la Urb. San Bernardo","Pueblo Libre","Lima","Lima","Torre unica",65,36,69,305000,305000,305000,305000,1]
["AE.RE.044.2020",264,2019,"AIP 8 S.A.C. (Arteco)",20548435936,"Depas y Club Las Quintanas","Av. Hermanos Uceda Meza N° 480 -498, Av. Salvador Lara N° 1055, Calle Elvira Garcia y Garcia N° 429, Urb. Las Quintanas","Trujillo ","Trujillo ","La Libertad","2da Etapa: Torre A",559,38,74,227590,227590,227590,227590,1,"3+"]
["N° 133-2019",265,2019,"INVERSIONES POZO Y ASOCIADOS S.A.C",20536221272," Residencial Los Abetos de los Recaudadores","Calle Los Abetos N°207 URB. Los Recaudadores","Ate Vitarte","Lima","Lima",1,15,8,80,310800,310800,310800,310800,1]
["AE.RE-162-2020",266,2019,"PROYECTO CANTABRIA 02 SAC",20602838405,"Edificio Reserva 748","Av. Arequipa N° 748-768, Urb. Santa Beatriz","Cercado de Lima","Lima","Lima",1,102,98,63.2,367251,367251,367251,367251,1,"2+"]
["AE.RE.156-2020",267,2019,"LA MURALLA INVERSIONES INMOBILIARIAS S.A.C.",20516726319,"Edificio Multifamiliar Roomie","Jr. Teodosio Parreño N° 124","Barranco","Lima","Lima","Torre unica",82,25,48,380000,380000,380000,380000,1,"2+"]
["N° 132-2019",268,2019,"CONSORCIO JERGO CONTRATISTAS Y CONSULTORES S.A.C.",20527026238,"Multifamiliar Torres del Sol 2","Av. 5 E-4-3,11,12,13 Urb. Larapa Grande","San Jeronimo","Cusco","Cusco","Torres A y B",77,67,101.25,307245,307245,307245,307245,1]
["AE.RE-061-2020",269,2019,"KUADRAT S.A.C.",20549184376,"On Apartments Etapa 1 Y 2","Av. Paseo de La Republica N° 1453-1459-1465-1467, esq. Jr. Los Topacios N° 142-148-152-184","La Victoria","Lima","Lima","2 Etapas Etapa 1 - 215 viv./ Etapa 2 - 108 viv.",323,323,58.32,290218,290218,290218,290218,1,"3+"]
["N° 131-2019",270,2019,"GRINSA S.A.C.",20440209123,"Las Margaritas","Urb. Santa Margarita I etapa - Mz. V, Lote 1-28","La Victoria","Chiclayo","Lambayeque","Torres A y B",18,12,75.099999999999994,166600,166600,166600,166600,1]
["N° 136-2019",271,2019,"GRINSA S.A.C.",20440209123,"Las Flores de Picsi","Predio Temoche - El Mango, sector Capote, Distrito de Picsi","Picsi","Chiclayo","Lambayeque","Etapa I y II",157,81,32.56,59100,59100,59100,59100,1]
["AE.RE-134-2020",272,2019,"INVERSIONES DOLLY S.A.C. ",20117788360,"CENTRAL PARK AQUARIUS (antes Proyecto de Viviendas de Interes Social D.S. 012-2019-VIVIENDA)","Urb. Sagitario , Jr. Las Gaviotas Esq. Con Jr. Vista Alegre, Mz. A-31, Lote 32","Santiago de Surco","Lima","Lima","Torre 1",64,48,67.180000000000007,337118,337118,337118,337118,1,"2+"]
["AE.RE-069-2020",273,2019,"INMOBILIARIA ACTUAL FAISANES S.A.C.",20604775800,"Multifamiliar Faisanes","Av. Los Faisanes Mz. K, Lote 18","Chorrillos","Lima","Lima","Torre A y B",249,245,56.95,249166,249166,249166,249166,1,"3+"]
["AE-RE-052-2020",274,2019,"DESARROLLADORA VISTA NEVADO SAC (Cissac)",20602442439,"Casaparq","Pago de Challapampa - Fundo \"la Manrique\"","Cerro Colorado","Arequipa ","Arequipa","Torre A",54,54,85.65,319480,319480,319480,319480,1,"3+"]
["AE.RE-082-2020",275,2019,"PROMOTORA ALBAMAR MARSANO S.A.C.",20602700161,"Edificio Cuore","Av. Arequipa N° 2441,  Urb. Del Fundo Lobaton","Lince ","Lima","Lima",1,166,122,56.8,259000,259000,259000,259000,1,"3+"]
["AE.RE-081-2020",276,2019,"PROMOTORA ALBAGEIN S.A.C. ",20603691173,"Edificio Santa Beatriz Point","Av. Arequipa N° 1421, esquina con jr. Manuel del Pino, Urb. Santa Beatriz","Cercado de Lima","Lima","Lima",1,159,156,60,328500,328500,328500,328500,1,"3+"]
["AE.RE-123-2020",277,2020,"CLASEM S.A.C.",20516390060,"Condominio Club El Rosedal","Av. Circunvalación s/n","El Tambo","Huancayo","Junin","Torres 4, 5, 6, 7, 8 y 9",120,120,69,168946,168946,168946,168946,1,"2+"]
["N° 143-2019",278,2020,"INMOBILIARIA  JVG S.A.C.",20548893993,"EDIFICIO MULTIFAMILIAR SARAY 2","Jr. Junin 550","Magdalena del Mar","Lima","Lima","Torre unica",67,67,65.05,316009,316009,316009,316009,1]
["AE.RE-037-2020",279,2020,"DESARROLLO INMOBILIARIO FT S.A.C.",20601881749,"Hara Torre B1 y B2/ FASES 3 y 4","Calle Fermin Tanguis N° 160","La Victoria","Lima","Lima","Fase 3: (Torre B1)                      Fase 4: (Torre B2)",185,171,62.9,213129,213129,213129,213129,1,"3+"]
["AE.RE-119-2020",280,2020,"ARQUIA INVESTMENTS S.A.C.",20604370150,"GRAND CENTRAL PUEBLO LIBRE","Av. Jose Leguia y Melendez s/n Esq. Con calle Rosa Toledo","Pueblo Libre","Lima","Lima","Torre unica",127,127,71,385365,385365,385365,385365,1,"2+"]
["AE.RE-001-2022",281,2020,"NEGOCIOS CORPORATIVOS EL NOGAL S.A.C.",20515602306,"EDIFICIO MULTIFAMILIAR EL NOGAL","Av. Soldado Manuel Castañeda N°329","Lince ","Lima","Lima","Torre unica",39,32,70.95,342603,342603,342603,342603,1,"2+"]
["N° 147-2019",282,2020,"HSC OVERSEAS GROUP S.A.C.",20544436504,"EDIFICIO ALPAMAYO","Calle Nevado Salcantay y calle Nevado de Huandoy MZ J lote 02 y 28  Urbanización Alpamayo","Ate Vitarte","Lima","Lima","Torre unica",32,32,71.2,295680,295680,295680,295680,1]
["AE.RE-131-2020",283,2020,"CORPORACION LUXOR INMOBILIARIA S.A.C. ",20605489231,"EDIFICIO MULTIFAMILIAR GERANIO (antes JOSE LEAL)","Av. Jose Lea N° 1168","Lince ","Lima","Lima","Torre unica",56,53,67.819999999999993,337968,337968,337968,337968,1,"3+"]
["AE.RE-067-2020",284,2020,"Besco S.A.C.",20416162299,"TORREMAR COSTANERA","Av. Costanera N°2397, Esq. Con Ramon Zavala","La Perla","Callao","Lima","Torre 1",114,114,60,245664,245664,245664,245664,1,"3+"]
["N° 150-2019",285,2020,"J&S PERUANA STAR S.A.C.",20549423389,"LAS VILLAS DE BOUGANVILLE","Km. 767.5 Panamericana Norte - Reque","Reque","Chiclayo","Lambayeque",null,194,194,120,185750,185750,185750,185750,1]
["N° 151-2019",286,2020,"ESPACIOS Y ESTRUCTURAS INMOBILIARIA S.A.C.",20552655932,"EDIFICIO MULTIFMAILIAR INSIGNE (antes Edificio Multifamiliar La Marina)","Av. La Marina N° 449-485","Pueblo Libre","Lima","Lima","Torre unica",32,19,68.739999999999995,336375,336375,336375,336375,1]
["N° 152-2019",287,2020,"AMESUR INMOBILIARIA S.A.C.",20603546521,"Residencial LAS PALOMAS 160","Calle Palomas 160 - 162, Urbanizacion Limatambo","Surquillo","Lima","Lima","Torre unica",35,34,63,375053,375053,375053,375053,1]
["AE.RE-040-2020",288,2020,"CONSTRUCTORA CUMBRES VILLANOVA SAC (Cumbres)",20602704891,"CONJUNTO RESIDENCIAL CONDOMINIO VILLANOVA 04","Av. Argentina N°2424 y Av. Villegas N°582-584. Mz A, Lote 2","Callao","Callao","Lima","Etapa 4",484,484,64.94,204433,204433,204433,204433,1,"3+"]
["AE.RE-066-2020",289,2020,"URSA CONSTRUCTORA S.A.C.",20602099416,"CUBA CONNECT 486","Av. Cuba N° 486","Jesús María","Lima","Lima","Torre principal",116,33,62.29,329840,329840,329840,329840,1,"3+"]
["AE.RE-149-2020",290,2020,"LOS PORTALES S.A.",20301837896,"Villas de La Alameda Sur","Av. 1 cruce con Av. A ( acceso por cruce de Av. San francisco con Av. Miramar )","Chilca","Cañete","Lima","Etapas I, II y III",324,324,45.02,150291,150291,150291,150291,1,"2+"]
["AE.RE-112-2020",291,2020,"CONSTRUCTORA CUMBRES CHALLPAMPA S.A.C.",20602699537,"CONJUNTO RESIDENCIAL VALLE BLANCO PREMIUM","Etapa C, Lote F4, Urb. Challapampa","Cerro Colorado","Arequipa","Arequipa","Etapa 1 ( Edificios 1,2 y 5); Etapa 2(Edificios 3 y 4)",360,360,72.98,178156,178156,178156,178156,1,"3+"]
["AE.RE-062-2020",292,2020,"INVERSIONES INMOBILIARIAS SEIS S.A.C. ",20603903693,"EDIFICIO MULTIFAMILIAR AUDACITY","Av. Javier prado Este 1501","La Victoria","Lima","Lima","Torre unica",342,275,57.24,312000,312000,312000,312000,1,"3+"]
["N° 156-2019",293,2020,"ESPACIOS Y ESTRUCTURAS INMOBILIARIA S.A.C.",20552655932,"EDIFICIO QIU ( antes EDIFICIO MULTIFAMILIAR ZAMORA)","Esq. Jr. Zamora N° 366 y Av. Higuereta N° 595- 589","Santiago de Surco","Lima","Lima","Torre 1",51,33,72.209999999999994,216026,216026,216026,216026,1]
["AE.RE-137-2020",294,2020,"INVERSION RENTABLE 1 S.A.C.",20605293388,"RESIDENCIAL LIENZO","Av. Jose Arnaldo Marquez N° 2431 esquina con jr. Diego de Almagro N° 332-336","Jesús María","Lima","Lima","Torre unica",74,47,71,390000,390000,390000,390000,1,"3+"]
["N° 158-2019",295,2020,"EVERGRAN GRUPO INMOBILIARIO S.A.C.",20604416206,"CONDOMINIO ALIAGA GARDEN","Av Antonio Miroquesada N° 456","Magdalena del Mar","Lima","Lima","Torres 1, 2 y 3",370,96,79.5,299505,299505,299505,299505,1]
["N° 160-2019",296,2020,"CONSTRUCTORA E INMOBILIARIA RAMVAL S.A.C.",20477648232,"TERRA","Av. Carlos Valderrama N° 568, Urb. Las Quintanas","Trujillo ","Trujillo","La Libertad","Torre unica",35,34,88.14,302840,302840,302840,302840,1]
["AE.RE-070-2020",297,2020,"METROPOLI GRUPO INMOBILIARIO S.A.C.",20603578211,"NATALIO SANCHEZ 287","Calle Natalio Sanchez N° 287","Jesús María","Lima","Lima","Torre unica",55,53,57.38,317092,317092,317092,317092,1,"3+"]
["AE.RE.004-2021",298,2020,"ANDIAMO INVESTMENTS S.A.C.",20492803601,"CONJUNTO RESIDENCIAL ALAMEDA LOS HORIZONTES (SANTORINI)","Av. Alameda Los Horizontes Urb. San Juan Bautista de Villa Lt. 29 y 30 Mz. G","Chorrillos","Lima","Lima","Torre unica",76,69,74.8,259460,259460,259460,259460,1,"2+"]
["AE.RE.004-2022",299,2020,"PORTAL SANTA CLARA (Caral)",20544155831,"VALENTE 2","CALLE PUQUINA NRO 100 SECTOR 1-4B URB MARANGA","San Miguel","Lima","LIMA","TORRE UNICA",174,172,63.11,344223,344223,344223,344223,"2+","3+"]
["N° 174-2019",300,2020,"A-ZERO INMOBILIARIA S.A.C.",20451658337,"EDIFICIO MULTIFAMILIAR LA MOLINA","Jr. Huaca del Sol Mz. I' 1 Lote 16 Urb. Portada del Sol","La Molina","Lima","Lima","Torre unica",5,5,97,377000,377000,377000,377000,1]
["N° 176-2019",301,2020,"ESENCIA INMOBILIARIA S.A.C. ",20602634150,"LIFE 1239 (antes MULTIFAMILIAR CORONEL LEON VELARDE)","Jr. Coronel Leon Velarde N° 1239-1243-1247, Urb. Matalechuza","Lince ","Lima","Lima","Torre unica",26,9,67.36,128846,128846,128846,128846,1]
["N° 177-2019",302,2020,"AF CONSTRUCTENIA S.A.C.",20460366624,"AIRES DE SEVILLA","Av. Sevilla 230","Pueblo Libre","Lima","Lima","Torre unica",17,17,86.6,127906,127906,127906,127906,1]
["AE.RE.003.2021",303,2020,"INMOBILIARIA 21 SAC (antes EDIFICACIONES JK  S.A.C.)",20602478905,"JOIN","Av. Cuba N° 1145-1155","Jesús María","Lima","Lima","Torre unica",96,61,75.28,391587,391587,391587,391587,1,"2+"]
["AE.RE.002.2021",304,2020,"INMOBILIARIA 21 SAC (antes EDIFICACIONES JK  S.A.C.)",20602478905,"WE LIVE","Av, Javier Prado Oeste 770","Magdalena del Mar","Lima","Lima","Torre principal",192,95,69.87,416180,416180,416180,416180,1,"2+"]
["N° 175-2019",305,2020,"INMOBILIARIA &CONSTRUCTORA WORLD S.A.C. ",20600025873,"EDIFICIO MULTIFAMILIAR NEW BLAS","Calle 28  (Calle Rodin) Mz. D lote 14 La Calera de La Merced","Surquillo","Lima","Lima","Torre unica",23,23,40.6,418000,418000,418000,418000,1]
[" AE N° 180-2019",306,2020,"URBANIZACION LOS JARDINES DEL EDEN S.A.C.",20602187145,"CONJUNTO RESIDENCIAL JARDINES DEL EDEN ","Sector Cachiche - Predio Casma Lechuza","Ica","Ica","Ica","Etapa 1",107,7,40.020000000000003,126043,126043,126043,126043,1]
["AE.RE-118-2020",307,2020,"GRUPO D Y M CONSTRUCTORA E INMOBILIARIA S.A.C.",20550506352,"RESIDENCIAL ALTO MONTERRICO","Sub Lote 13-B de la Mz. D con frente a la Calle 3 Urb. El Rosal de Salamanca de Monterrico","Ate Vitarte","Lima","Lima","Torre unica",38,32,70.22,315897,315897,315897,315897,1,"2+"]
["AE.RE.007.2021",308,2020,"LOS PORTALES CONSTRUYE SAC",20553346178,"GRAN PARQUE ROMA","Jr. Leonardo Arrieta N° 819Urb. Industrial Conde","Cercado de Lima","Lima","Lima","Torre unica",220,218,null,281620,281620,281620,281620,1,"3+"]
["AE.RE-151-2020",309,2020,"D&D CONSTRUCTORES S.A.C.",20494649161,"URBANIZACION LOS HUARANGOS 5ta ETAPA","Predio Casma Lechuza","Ica","Ica","Ica","Etapa 5, Manzanas A,B,C,D,E,F,G,H,I,J",234,234,45.5,168323,168323,168323,168323,1,"2+"]
["007C_2020",310,2020,"PAZ CENTENARIO S.A.",20518023579,"PIAZZA","AV DEL RIO 111-113 URB AZCONA","PUEBLO LIBRE","Lima","LIMA","TORRE UNICA",220,216,63.43,302298,302298,302298,302298,0,"3+"]
["N° 183-2019",311,2020,"AGUITEL S.A.C. ",20481407266,"RESIDENCIAL LA FONTANA","URB SAN ANDRES 5TA ETAPA MZ U3 LT 29 AV VICTOR RAUL HAYA DE LA TORRE NRO 538 ","VICTOR LARCO HERRERA","TRUJILLO","LA LIBERTAD","ETAPA 1",30,30,89,300000,300000,300000,300000,1,"1+"]
["005C_2020",312,2020,"ESPACIOS Y ESTRUCTURAS INMOBILIARIA S.A.C.",20552655932,"EDIFICIO MULTIFAMILIAR ALCAZAR 255","AV LOS VICUS 255 CAL EL ALCAZAR ESQUINA MZ V LOTE 03 LA CASTELLANA","SANTIAGO DE SURCO","Lima","LIMA","TORRE 1",23,14,74.12,419600,419600,419600,419600,0,"1+"]
["AE.RE-155-2020",313,2020,"ESPARTA CONSTRUCTORES S.A.",20551106897,"AMBAR","AV BRASIL NRO 2363-2367","Jesús María","Lima","LIMA","TORRE PRINCIPAL",91,72,69.260000000000005,360594,360594,360594,360594,"1+","2+"]
["AE.RE.001.2021",314,2020,"LA VENTUROSA S.A.",20383731705,"CONJUNTO RESIDENCIAL ESENCIAL","LT 1 MZ C UBICADO ENTRE LAS ESQ DE AV LOS FAISANES AV GUARDIA CIVIL NORTE JR VIÑA TACAMA Y JR VULCANO","SANTIAGO DE SURCO","Lima","LIMA","MZ C TORRE A",501,42,70,419000,419000,419000,419000,1,"2+"]
["AE.RE-157-2020",315,2020,"INMOBILIARIA CARLOS GONZALES S.A.C.",20369059565,"LEVEL ONE","CAL CARLOS GONZALES NRO 251-257 ","San Miguel","Lima","LIMA","TORRE A",103,103,62.93,395882,395882,395882,395882,1,"2+"]
["014C_2020",316,2020,"LA MURALLA INVERSIONES INMOBILIARIAS S.A.C.",20516726319,"EDIFICIO MULTIFAMILIAR NOMADE","AV CHORRILLOS NRO 646","CHORRILLOS","Lima","LIMA","TORRE UNICA",134,66,53.76,276714,276714,276714,276714,0,"2+"]
["AE.012_C-2020",317,2020,"C&V INVERSIONES INMOBILIARIAS SA",20339469882,"LOS CIPRESES","CAL LOS CIPRESES DE CAMPOY MZ B1 LOTE 3-4","SAN JUAN DE LURIGANCHO","Lima","LIMA","BLOQUES A,B,C",240,240,57.89,205493,205493,205493,205493,0,"1+"]
["AE.013C_2020",318,2020,"INMOBILIARIA LOS ALERCES S.A.",20600517571,"DREAMS","AV PERSHING 298 ESQ CON JR TRUJILLO 797-793","Magdalena del Mar","Lima","LIMA","TORRE UNICA",76,46,65.55,427703,427703,427703,427703,0,"2+"]
["AE.016C_2020",319,2020,"PI PRADO 2 SAC",20604419329,"EMERALD","CAL PROLONGACION CAYETANO HEREDIA ESQ CON JR MANUEL UGARTECHE 101-143","PUEBLO LIBRE","Lima","LIMA","TORRE A, B",222,178,63.79,339131,339131,339131,339131,0,"2+"]
["AE.RE.009-2021",320,2020,"DESARROLLO LINCE SAC",20605662529,"MUVIN","AV PROLONGACION IQUITOS 1870","Lince ","Lima","LIMA","UNICA ETAPA",172,146,56.5,340476,340476,340476,340476,0,"3+"]
["AE.010_C-2020",321,2020,"INVENT LUXURY SAC",20604930317,"INVENT BARRANCO","AV GRAU 1310","BARRANCO","Lima","LIMA","TORRE 1",49,17,39,427600,427600,427600,427600,0,"1+"]
["017C_2020",322,2020,"PAZ CENTENARIO S.A.",20518023579,"VILLA CLUB ICA SUB ETAPA 4","AV FINLANDIA - SECTOR LAS LUNAS ZONA 7","LA TINGUIÑA","ICA","ICA","SUB ETAPA 4",95,95,50,167936,167936,167936,167936,0,"1+"]
["019C_2020",323,2020,"PAZ CENTENARIO S.A.",20518023579,"VILLA CLUB ICA SUB ETAPA 5","AV FINLANDIA - SECTOR LAS LUNAS ZONA 7","LA TINGUIÑA","ICA","ICA","SUB ETAPA 5",94,94,52.5,157787,157787,157787,157787,0,"1+"]
["018_C-2020",324,2020,"INVERSIONES DKASA SAC",20514294608,"FERRARA","CAL MARISCAL CASTILLA NRO 250-260","Magdalena del Mar","Lima","LIMA","TORRE UNICA",62,59,76.77,391498,391498,391498,391498,0,"2+"]
["AE.020_C-2020",325,2020,"HECTOR MORAN NEGOCIOS INMOBILIARIOS SAC",20603893183,"RESIDENCIAL VILLA OBSTETRA","PARCELA 9-A SECTOR LEGUIA CECOAVI","TACNA","TACNA","TACNA","ETAPA 1",50,49,70,135000,135000,135000,135000,0,"1+"]
["008_C-2020",326,2020,"LA VENTUROSA S.A.",20383731705,"FELIZIA CONDOMINIO (Antes Los Faisanes)","AV LOS FAISANES MZ K LT 19 PARCELACION SEMIRUSTICA LA CAMPIÑA","CHORRILLOS","Lima","LIMA","ETAPA 1- 5 TORRES (TORRE A, B, C, D, E)",219,186,65,427000,427000,427000,427000,0,"2+"]
["AE.006C_2020",327,2020,"INMOBILIARIA LOS ALERCES S.A.",20600517571,"EDIFICIO MULTIFAMILIAR ESENCIAL","AV CESAR VALLEJO NRO 1445-1465","Lince ","Lima","LIMA","TORRE UNICA",121,70,65,404481,404481,404481,404481,0,"2+"]
["021_C-2020",328,2020,"CONSTRUCCIONES CAMALI S.A.C.",20512156305,"RESIDENCIAL TARICA","JR PIRA ESQUINA CON JR TARICA MZ K LOTE 66 URB EL PARQUE NARANJAL","LOS OLIVOS","Lima","LIMA","TORRE UNICA",21,20,77.47,341852,341852,341852,341852,0,"2+"]
["022C_2020",329,2020,"PAZ CENTENARIO S.A.",20518023579,"VILLA CLUB CARABAYLLO","AV COLECTORA - LAS LOMAS DE CARABAYLLO","CARABAYLLO","Lima","LIMA","ETAPA 6",130,130,67,183678,183678,183678,183678,0,"1+"]
["023C_2020",330,2020,"PAZ CENTENARIO S.A.",20518023579,"VILLA CLUB CARABAYLLO","AV COLECTORA - LAS LOMAS DE CARABAYLLO","CARABAYLLO","Lima","LIMA","ETAPA 7",121,121,66.819999999999993,192860,192860,192860,192860,0,"1+"]
["024C_2020",331,2020,"PAZ CENTENARIO S.A.",20518023579,"VILLA CLUB CARABAYLLO","AV COLECTORA - LAS LOMAS DE CARABAYLLO","CARABAYLLO","Lima","LIMA","ETAPA 8",126,126,67,198650,198650,198650,198650,0,"1+"]
["025C_2020",332,2020,"PAZ CENTENARIO S.A.",20518023579,"LIMA UNO","JR LARRABURE Y UNANUE 146-150","CERCADO DE LIMA","Lima","LIMA","TORRE UNICA",145,126,63.43,302298,302298,302298,302298,0,"3+"]
["026C_2020",333,2020,"PAZ CENTENARIO S.A.",20518023579,"PERGOLA","AV MELLO FRANCO 620-626-628-630-638-644-646-652-654-664","Jesús María","Lima","LIMA","TORRE UNICA",184,130,65.13,384235,384235,384235,384235,0,"3+"]
["AE.RE.005.2021",334,2020,"GCK AVIACION SAC",20605294627,"EDIFICIO MULTIFAMILIAR VILLAMAR 131","CAL AVIACION NRO 131","San Miguel","Lima","LIMA","ETAPA 1",174,174,68.83,320902,320902,320902,320902,0,"3+"]
["AE.029C_2020",335,2020,"SESHAT INMOBILIARIA SAC",20604826854,"MULTIFAMILIAR LOS LAURELES","AV GENERAL EUGENIO GARZON 866-868-870-872-874","Jesús María","Lima","LIMA","ETAPA 1 (TORRE A), ETAPA 2 (TORRE B Y C)",368,286,61.57,338326,338326,338326,338326,0,"2+"]
["AE.027_C-2020",336,2020,"ECOHABITAT DESARROLLO INMOBILIARIO S.A.C.",20604223980,"RESIDENCIAL ALMUDENA","AV PIO XII ESQUINA CAL JOSE MARTI URB MARANGA","San Miguel","Lima","LIMA","TORRE UNICA",63,63,56.66,264078,264078,264078,264078,0,"2+"]
["AE.028_C-2020",337,2020,"ECOHABITAT DESARROLLO INMOBILIARIO S.A.C.",20604223980,"RESIDENCIAL PUCALA","CAL PUCALA NRO 166 URB MARANGA","San Miguel","Lima","LIMA","TORRE UNICA",23,23,56.66,264078,264078,264078,264078,0,"2+"]
["AE.003C_2020",338,2020,"GPR-AQP SAC",20602780229,"LOMAS DE YURA","SUB LOTE SECTOR 3 LAS LADERAS DENOMINADO SAN GERONIMO","YURA","AREQUIPA","AREQUIPA","1,2,3,4",1179,693,57.78,154831,154831,154831,154831,0,"2+"]
["AE.031C_2020",339,2021,"TRIADA PROYECTO 01 SAC",20604455082,"PACHACUTEC 936","JR PACHACUTEC","Jesús María","Lima","LIMA","TORRE A",69,49,73.67,401115,401115,401115,401115,0,"2+"]
["001-C-2021",340,2021,"COPROIN CONTRATISTAS GENERALES SAC",20516264358,"LA CASONA DEL BEATERIO","CAL BEATERIO 263, 265, 267","AREQUIPA","AREQUIPA","AREQUIPA","BLOQUES A,B,C",36,36,79.2,319386,319386,319386,319386,0,"2+"]
["AE.009_C-2020",341,2021,"CASAIDEAL PROYECTO 17 SAC",20604235996,"EDIFICIO MULTIFAMILIAR TREND","AV MARIANO CORNEJO NRO 1848-1858-1864 URB LA LUZ","CERCADO DE LIMA","Lima","LIMA","TORRE UNICA",84,84,62.61,326505,326505,326505,326505,0,"2+"]
["AE_015C_2020",342,2021,"MURALLA VERDE SAC",20603785925,"EDIFICIO MULTIFAMILIAR CARDINAL","AV ALEJANDRO IGLESIAS 111","CHORRILLOS","Lima","LIMA","TORRE UNICA",89,49,69.13,320365,320365,320365,320365,0,"2+"]
["002-C-2021",343,2021,"QUATRO BETA SAC",20603740123,"EDIFICIO MULTIFAMILIAR LIVING TOWER","JR JOSE GALVEZ 1380 CON JR MANUEL DEL PINO 769 - 793","CERCADO DE LIMA","Lima","LIMA","TORRE UNICA",65,59,64.569999999999993,333785,333785,333785,333785,0,"2+"]
["003-C-2021",344,2021,"V&V PROYECTO 60 SAC",20603663986,"ARAMBURU 836","AV ARAMBURU 836","Surquillo","Lima","LIMA","TORRE UNICA",134,85,52,361746,361746,361746,361746,0,"3+"]
["AE.RE.001-2021",345,2021,"LA VENTUROSA S.A.",20383731705,"CONJUNTO RESIDENCIAL ESENCIAL","LT 1 MZ C UBICADO ENTRE LAS ESQ DE AV LOS FAISANES AV GUARDIA CIVIL NORTE JR VIÑA TACAMA Y JR VULCANO","SANTIAGO DE SURCO","Lima","LIMA","MZ C TORRE B",501,127,70,419000,419000,419000,419000,1,"2+"]
["010-C-2021",346,2021,"MENORCA INVERSIONES S.A.C.",20173223626,"VILLA SARAJA II","LOTE A SUBDIVIDIR URB FUNDO SANTA MARIA LOTE B","ICA","ICA","ICA","ETAPA 1 (41 unid.); ETAPA 2 (40 unid.)",81,81,59.45,125649,125649,125649,125649,0,"2+"]
["008-C-2021",347,2021,"BECTEK CONTRATISTAS SAC",20430578805,"URB RESIDENCIAL MONTEMAR","URB MONTEMAR MZ F ","MOCHE","TRUJILLO","LA LIBERTAD","LOTES 1 AL 28",28,28,76.099999999999994,215800,215800,215800,215800,0,"2+"]
["009-C-2021",348,2021,"LIDER INGENIERIA Y CONSTRUCCIÓN SA",20519431395,"FLOW LIVING APARTMENTS","AV TOMAS MARSANO NRO 392 SUB LOTE 11A URB INDUSTRIAL EL AEROPUERTO","Surquillo","Lima","LIMA","TORRE UNICA",176,176,51.85,368056,368056,368056,368056,0,"2+"]
["006-C-2021",349,2021,"ARCH PARTNERS INVERSIONES INMOBILIARIAS EIRL",20605798145,"EDIFICIO MULTIFAMILIAR TEJADA ARCH ONE","JR TEJADA NRO 165-173","BARRANCO","Lima","LIMA","TORRE PRINCIPAL",53,48,69.84,350038,350038,350038,350038,0,"2+"]
["011-C-2021",350,2021,"PROEDCO SAC",20602414630,"EDIFICIO RUNTER","CAL JOSE MANUEL MEDINA NRO 139 SAN MIGUELITO","San Miguel","Lima","LIMA","TORRE UNICA",19,17,42.14,343832,343832,343832,343832,0,"2+"]
["013-C-2021",351,2021,"ALTOZANO DESARROLLO Y CONSTRUCCION SAC",20507251111,"PASEO DE LA  ALAMEDA 5 ETAPA","AV JOSE ABELARDO QUINONES SECTOR PAGO ARUNTA II MZ A SUB LOTE A1","CORONEL GREGORIO ALBARRACIN LANCHIPA","TACNA","TACNA","ETAPA 5 (BLOQUE 20,21, 22)",120,120,72,136075,112000,137000,124500,0,"2+"]
["012-C-2021",352,2021,"INMOBILIARIA FORTEM DOS SAC",20602250751,"EDIFICIO MULTIFAMILIAR LOS NEGOCIOS MATCH","CAL LOS NEGOCIOS NRO 424 MZ C2 LOTE 6 URB LIMATAMBO","Surquillo","Lima","LIMA","TORRE UNICA",88,75,59.82,393383,393383,393383,393383,0,"2+"]
["014-C-2021",353,2021,"INMOBILIARIA AGUARICO SAC",20604507911,"CONJUNTO RESIDENCIAL DEL PARQUE CENTRO ETAPA 1","JR LORETO NRO 1608-1610 ESQ CON JR DEAN VALDIVIA","Breña","Lima","LIMA","ETAPA 1 (TORRE 1)",115,115,60.24,250374,250374,250374,250374,0,"3+"]
["015-C-2021",354,2021,"GRINSA S.A.C.",20440209123,"VILLA SILVESTRE","CURVA DEL SUN Nº 2497 - SECTOR SUN CHICO -CAMPIÑA DE MOCHE","MOCHE","TRUJILLO","LA LIBERTAD","A,B,C,D",50,50,90,140000,140000,140000,140000,0,"2+"]
["018-C-2021",355,2021,"DHMONT SAC CONTRATISTAS GENERALES",20108664640,"JOCKEY RESIDENCIAL","HABILITACION URBANA LOS CIPRESES DE LA VICTORIA ","LA VICTORIA","CHICLAYO","LAMBAYEQUE","LOTE 11,12,13,14,15 Y 16",832,832,65,150000,150000,150000,150000,0,"2+"]
["016- C-2021",356,2021,"CONSORCIO DH MONT & CG&M S.A.C.",20502574109,"CIUDAD SOL DE COLLIQUE","ALTURA CUADRA 80 AV UNIVERSITARIA CON AVENIDA MICAELA BASTIDAS - URB. EL RETABLO","COMAS","Lima","LIMA","MANZANAS C, D Y H",8760,8760,65,120000,120000,120000,120000,0,"2+"]
["017-C-2021",357,2021,"CONSORCIO DH MONT & CG&M S.A.C.",20502574109,"LOS JARDINES DE SAN ANDRES","AV GENARO MEDRANO CDRA 07 URB LOS JARDINES DE SAN ANDRES","SAN ANDRES","PISCO","ICA","MANZANAS K, L, M, N, Ñ, O, P, Q, R, S y T ",774,774,65,150000,150000,150000,150000,0,"2+"]
["021-C-2021",358,2021,"KNCM INMOBILIARIA SAC",20605908455,"EDIFICIO MULTIFAMILIAR MORE JESUS MARIA","JR HERMILIO VALDIZAN NRO 679-681-683-687","Jesús María","Lima","LIMA","TORRE UNICA",50,31,64.25,270514,270514,270514,270514,0,"2+"]
["023-C-2021",359,2021,"CLASEM S.A.C.",20516390060,"CONDOMINIO EL MIRADOR DEL GOLF – TORRE II","PROLONGACION AV CESAR VALLEJO Y CAL 28 DE JULIO LT 1 MZ A URB MIRADOR DEL","VICTOR LARCO HERRERA","TRUJILLO","LA LIBERTAD","ETAPA 2 - TORRE 2",99,91,70.819999999999993,266963,266963,266963,266963,0,"2+"]
["019-C-2021",360,2021,"GRINSA S.A.C.",20440209123,"VALLE HERMOSO II","LT A SECTOR CHACUPE UC:08710","LA VICTORIA","CHICLAYO","LAMBAYEQUE","UNA SOLA ETAPA",49,45,45,145055,145055,145055,145055,0,"1+"]
["022-C-2021",361,2021,"GRINSA S.A.C.",20440209123,"HABILITACION URBANA CON CONSTRUCCION SIMULTANEA JARDINES DE CHOSICA","PREDIO CHACUPE UC 11804 SECTOR CHACUPE","LA VICTORIA","CHICLAYO","LAMBAYEQUE","UNA SOLA ETAPA",91,49,45,81635,81635,81635,81635,0,"1+"]
["023-C-2021",362,2021,"PROMOTORA INMOBILIARIA JYM SA",20605192557,"LOS JACARANDAS","AA HH ASOC DE VIVIENDA Y TALLERES DE IS ANDRES AVELINO CACERES MZ U LOTE 1","CERRO COLORADO","AREQUIPA","AREQUIPA","BLOQUES A,B",18,18,73.73,197388,197388,197388,197388,0,"2+"]
["024-C-2021",363,2021,"URBANIZA PERU SAC",20604867046,"LOS PARQUES DE HUACACHINA","PREDIO SAN JOSE SECTOR – PARCELA 189","ICA","ICA","ICA","MANZANAS A, B, C, D, E, F",96,96,50.36,183357,183357,183357,183357,0,"2+"]
["025-C-2021",364,2021,"PROYEC CONTRATISTAS GENERALES S.A.",20333686237,"EDIFICIO MULTIFAMILIAR LIBERI","AV BOLIVAR 1310-1316","PUEBLO LIBRE","Lima","LIMA","TORRE UNICA",68,41,71.36,409698,409698,409698,409698,0,"2+"]
["020-C-2021",365,2021,"FREAK CONSTRUCTORES Y CONSULTORES SRL",20450515010,"VENECIA","APV INGENIEROS LARAPA GRANDE H-2-5-6","SAN JERONIMO","CUSCO ","CUSCO ","TORRE UNICA",64,64,78.099999999999994,197721,197721,197721,197721,0,"1+"]
["AE.RE.007-2022",366,2021,"INJUANDEALIAGA PROYECTOS SAC",20603374844,"RESIDENCIAL JOSE OLAYA ","AV JOSE OLAYA NRO 225","CHORRILLOS","Lima","LIMA","TORRE 1",187,154,57.34,280779,280779,280779,280779,0,"3+"]
["027-C-2021",367,2021,"CONSTRUCTORA E INMOBILIARIA EL REFUGIO SAC",20536777891,"EDIFICIO LOS NOGALES","MZ  A LOTE 1 URB LOS NOGALES II ETAPA ","LOS OLIVOS","Lima","LIMA","TORRE UNICA",23,23,83.77,373199,373199,373199,373199,0,"2+"]
["030-C-2021",368,2021,"INMOBILIARIA 21 SAC (antes EDIFICACIONES JK  S.A.C.)",20602478905,"EDIFICIO MULTIFAMILIAR UP LIVING","AV BRASIL NRO 1672","PUEBLO LIBRE","Lima","LIMA","TORRE UNICA",125,125,55.73,284225,284225,284225,284225,0,"2+"]
["031-C-2021",369,2021,"GRUPO D Y M CONSTRUCTORA E INMOBILIARIA S.A.C.",20550506352,"EDIFICIO MULTIFAMILIAR VIDAMOR","AV PROLONGACION JAVIER PRADO MZ A LOTE 20 Y 21 URB MAYORAZGO CHICO","Ate Vitarte","Lima","LIMA","TORRE UNICA",72,67,78.63,362006,362006,362006,362006,0,"2+"]
["028-C-2021",370,2021,"TRIADA PROYECTO 02 ",20605037462,"RESIDENCIAL SAN FELIPE 270","AV SAN FELIPE NRO 270 Y AV SAN FELIPE MZ L PARTE DEL LOTE 1 URB BOSQUE BOLIVARIANO ","Jesús María","Lima","LIMA","TORRE A",91,48,58.15,362460,362460,362460,362460,0,"2+"]
["033-C-2021",371,2021,"EV INMOBILIARIA BRASIL SAC",20606819341,"EDIFICIO MULTIFAMILIAR BRASIL 3395","AV BRASIL NRO 3395","Magdalena del Mar","Lima","LIMA","TORRE UNICA",130,87,66.59,399144,399144,399144,399144,0,"2+"]
["034-C-2021",372,2021,"FLAT AREQUIPA SAC",20555016451,"MULTIFAMILIAR SKY 4","AV AREQUIPA NRO 2479-2485-2491 ESQ CON JR JOSE DE LA TORRE","Lince ","Lima","LIMA","TORRE UNICA",115,77,55.69,408904,408904,408904,408904,0,"2+"]
["034-C-2021",373,2021,"DESARROLLO INMOBILIARIO FG SAC",20603735651,"MULTIFAMILIAR QANAI FASE 1 Y 2","JR FRANCISCO GRANIA Mz B 7 LT 2-3-4 y 6 URB  SANTA CATALINA","LA VICTORIA","Lima","LIMA","FASE 1 Y 2",314,200,62.45,409949,409949,409949,409949,0,"3+"]
["038_C-2021",374,2021,"J & M INVERSIONES INMOBILIARIAS SAC",20548182973,"MULTIFAMILIAR COSTANERA 29","AV COSTANERA 2996","San Miguel","Lima","LIMA","TORRE UNICA",62,50,47.5,293283,293283,293283,293283,0,"2+"]
["039_C-2021",375,2021,"LOS PORTALES CONSTRUYE SAC",20553346178,"CONJUNTO RESIDENCIAL EL MIRADOR DEL GOLF II","CAL ALAMEDA NAÑA ESQUINA CON CAL A","LURIGANCHO-CHOSICA","Lima","LIMA","TORRE A, TORRE B, TORRE C, TORRE D",268,268,55.04,164614,164614,164614,164614,0,"2+"]
["040_C-2021",376,2021,"INMOBILIARIA CENTRIC ARENALES SAC",20605316116,"EDIFICIO BARRIO 2 DE MAYO","AV ARENALES 2558-2570","Lince ","Lima","LIMA","TORRE UNICA",112,94,52.2,342626,342626,342626,342626,0,"3+"]
["037_C-2021",377,2021,"VYV PROYECTO 54 SAC",20601984394,"AREQUIPA 2655","AV AREQUIPA 2655","SAN ISIDRO","Lima","LIMA","TORRE UNICA",190,114,55.4,411546,411546,411546,411546,0,"3+"]
["041_C-2021",378,2021,"INMOBILIARIA 21 SAC (antes EDIFICACIONES JK  S.A.C.)",20602478905,"CONJUNTO RESIDENCIAL ONE PARK (OUR PARK)","CAL PARQUE LEONCIO PRADO NRO 130","Magdalena del Mar","Lima","LIMA","TORRE UNICA",57,36,72.180000000000007,519403,436100,436100,436100,0,"2+"]
["040_C-2021",379,2021,"CORPORACION INMOBILIARIA NERMAR SAC (Abril Inmobiliaria)",20600245393,"EDIFICIO MULTIFAMILIAR LAVANDA","AV AREQUIPA NRO 2643-2661","Lince ","Lima","LIMA","TORRE UNICA",155,95,65,393865,393865,393865,393865,0,"2+"]
["042_C-2021",380,2021,"INVENT PACIFIC SAC",20604933634,"EDIFICIO RESIDENCIAL ALIAGA","AV ANTONIO MIROQUESADA NRO 435-437-439","Magdalena del Mar","Lima","LIMA","EDIFICIO 1",164,98,65.39,437200,416100,458300,437200,0,"2+"]
["043_C-2021",381,2021,"INBOULEVARD PROYECTOS SAC",20604707332,"EDIFICIO RESIDENCIAL JESUS MARIA","AV TALARA 765-767-769 URB SANTA BEATRIZ","Jesús María","Lima","LIMA","TORRE UNICA",96,78,57.34,374054,374054,374054,374054,0,"3+"]
["044_C-2021",382,2021,"CASAIDEAL PROYECTO 18 SAC",20605145249,"EDIFICIO MULTIFAMILIAR MIDWAY","AV PERSHING 162-166","Magdalena del Mar","Lima","LIMA","TODO EL PROYECTO",118,114,57.03,340000,340000,340000,340000,0,"3+"]
["045_C-2021",383,2021,"MEGADREU SAC",20493103157,"PARQUES BARRIO MEDICO","JR SAN LORENZO NRO 280-284-286-288","Surquillo","Lima","LIMA","TORRE UNICA",35,28,52.22,346698,346698,346698,346698,0,"2+"]
["050_C-2021",384,2021,"CORPORACION INMOBILIARIA HUANDOY SAC",20604490759,"RESIDENCIAL VIA NOVA","JR CUZCO NRO 865-867","Magdalena del Mar","Lima","LIMA","TORRE UNICA",36,36,58,303200,303200,303200,303200,0,"2+"]
["AE.RE.017-2021",385,2021,"VIVA NEGOCIO INMOBILIARIO SA",20493040643,"CEREZOS CLUB RESIDENCIAL (Antes LOS CONDORES CLUB RESIDENCIAL)","MZ G LT 1","COMAS","Lima","LIMA","EDIFICIOS 1,2,3,4,5,6",852,852,75.650000000000006,228226,228226,228226,228226,"2+","3+"]
["046_C-2021",386,2021,"PROMSAL S.A.C.",20515876937,"HOLA CATALINA 966","JR MARIANO PACHECO NRO 966","LA VICTORIA","Lima","LIMA","TORRE UNICA",42,19,73.400000000000006,450000,450000,450000,450000,0,"2+"]
["048_C-2021",387,2021,"GRUPO ROSALES Y ALFARO S.A.C. - GRUPO ROYAL S.A.C.",20601302111,"EDIFICIO MULTIFAMILIAR RESIDENCIAL AURORA","AV BELISARIO SUAREZ NRO 1196-1198 Y JR MANUEL PORTOCARRERO NRO 597 MZ B1 LT 13 URB SAN JUAN PARCELA C SUB PARCELA C-1","SAN JUAN DE MIRAFLORES","Lima","LIMA","TORRE UNICA",27,27,65.150000000000006,298146,298146,298146,298146,0,"1+"]
["047_C-2021",388,2021,"RESIDENCIAL NATIVO SAC",20606586133,"RESIDENCIAL NATIVO","JR CORONEL DOMINGO CASANOVA NRO 145-151-159","Lince ","Lima","LIMA","TORRE UNICA",93,93,53,333000,333000,333000,333000,0,"2+"]
["051_C-2021",389,2021,"VYV PROYECTO 62 SAC",20604706301,"CARRIQUIRY 894","AV CARRIQUIRY MAURER NRO 894","SAN ISIDRO","Lima","LIMA","TORRE UNICA",207,104,69.489999999999995,385000,320000,450000,385000,0,"3+"]
["052_C-2021",390,2021,"PROYECTOS INMOBILIARIOS STELLA SAC",20552613342,"QUPULA 28","JR 28 DE JULIO NRO 531-535","Magdalena del Mar","Lima","LIMA","TORRE UNICA",39,39,72.33,428565,428565,428565,428565,0,"1+"]
["053_C-2021",391,2021,"HOUZEN INMOBILIARIA SAC",20605480986,"RESIDENCIAL DOMUS SMART","JR GENERAL ORBEGOSO NRO 740 MZ P LT 6 Y 7 URB SAN LUIS GONZAGA","Breña","Lima","LIMA","TORRE UNICA",39,38,62.44,324538,324538,324538,324538,0,"2+"]
["AE.RE.018-2021",392,2021,"Besco S.A.C.",20416162299,"LAS PALMAS 2","JR LAS PLEYADES NRO 368-372 URB LA CAMPIÑA","CHORRILLOS","Lima","LIMA","TORRE UNICA",154,154,65.8,279660,279660,279660,279660,0,"3+"]
["058_C-2021",393,2021,"INVERSIONES ALKO SAC",20109391787,"SAGITARIO I","JR DIANA S/N ESQ CON JR VIÑA LA RIENA LT 30 MZA A-31 URB SAGITARIO","SANTIAGO DE SURCO","Lima","LIMA","TORRE UNICA",89,88,66.260000000000005,356559,356559,356559,356559,0,"2+"]
["054_C-2021",394,2021,"CATANIA INMOBILIARIA SAC",20605891714,"EDIFICIO MULTIFAMILIAR AQUILARIA","AV GENERAL FELIPE SALAVERRY NRO 3580-3570","SAN ISIDRO","Lima","LIMA","TORRE UNICA",352,214,55.42,394944.2,353788.4,436100,394944.2,0,"2+"]
["055_C-2021",395,2021,"AGUITEL S.A.C. ",20481407266,"EDIFICIO MULTIFAMILIAR LOS COLIBRIES","AV LOS COLIBRIS MZ T3 LT 14A POSESION INFORMAL SAN JUDAS TADEO I","TRUJILLO","TRUJILLO","LA LIBERTAD","TORRE UNICA",42,42,83.62,245816,245816,245816,245816,0,"2+"]
["059_C-2021",396,2021,"LASIC COMPANY SAC",20600221770,"EDIFICIO MULTIFAMILIAR MALVA","AV BRASIL NRO 1775","Jesús María","Lima","LIMA","TORRE UNICA",152,73,69.709999999999994,425456,425456,425456,425456,0,"2+"]
["001_C-2020",397,2021,"SALFCORP PERU SA",20551332552,"TORRE SUMO","AV LA MARINA ESQ CAL SAN MARCOS 105 ","PUEBLO LIBRE","Lima","LIMA","TORRE UNICA",42,42,64.959999999999994,346591,346591,346591,346591,0,"1+"]
["063_C-2021",398,2021,"GRINSA S.A.C.",20440209123,"SAN SEBASTIAN","FUNDO CHACUPE CP PARCELA 70","LA VICTORIA","CHICLAYO","LAMBAYEQUE","2 ETAPAS",310,288,36.799999999999997,120589,120589,120589,120589,0,"1+"]
["061_C-2021",399,2021,"INMOBILIARIA VALLE LUZ S.A.C. (CANTABRIA)",20492434052,"LATIR 490","AV DE LOS PRECURSORES 490 URB MARANGA 5TA","San Miguel","Lima","LIMA","TORRE UNICA",78,62,60.6,353006,353006,353006,353006,0,"2+"]
["060_C-2021",400,2021,"FUTURA SOLUCIONES INMOBILIARIAS SAC",20553958459,"LAGUNAS DEL CHIPE CLUB HOUSE","LT 2 MZ C URB LAS TORRES DEL CHIPE","PIURA","PIURA","PIURA","8 TORRES (A,B,C,D,E,F,G,H)",155,155,90,120000,120000,120000,120000,0,"1+"]
["064_C-2021",401,2021,"VYV PROYECTO 68 SAC",20605651560,"REPUBLICA 498","AV REPUBLICA DE CHILE NRO 498","Jesús María","Lima","LIMA","TORRE UNICA",259,153,64.66,435888,435888,435888,435888,0,"3+"]
["066_C-2021",402,2021,"VYV PROYECTO 66 SAC",20605597301,"ROMA 498","AV SANCHEZ CARRION CON CAL ROMA NRO 306-320","SAN ISIDRO","Lima","LIMA","EDIFICIO UNICO",151,43,67.400000000000006,353550,344300,362800,353550,0,"3+"]
["065_C-2021",403,2021,"CORPORACIOON EDIFICA SAC",20492197336,"LAS PONCIANAS DEL CHIPE","PROLONGACION AV LOS TALLANES SECTOR NORTE LOS EJIDOS DE PIURA","PIURA","PIURA","PIURA","ETAPA 1",53,36,60.15,186000,186000,186000,186000,0,"1+"]
["062_C-2021",404,2021,"INVERSIONES SALETTI SAC",20604452440,"PROYECTO HELIO","JR TENIENTE ARISTIDES DEL CARPIO MUNOZ NRO 1858-1868-1876 ESQ CON AV VENEZUELA NRO 3258 ESQ CON AV VENEZUELA NRO 3258 URB LAS CIPRESES","CERCADO DE LIMA","Lima","LIMA","TORRE UNICA",92,90,47.31,183331,183331,183331,183331,0,"2+"]
["067_C-2021",405,2021,"INVERSIONES CESIA SAC",20522872602,"EDIFICIO MULTIFAMILIAR HUARAZ 951","JR HUARAZ 951","Breña","Lima","LIMA","TORRE UNICA",51,50,68.010000000000005,263556,263556,263556,263556,0,"2+"]
["073_C-2021",406,2021,"CORPORACION INMOBILIARIA SUDAMERICANA SAC",20506908061,"CASAPARQ MONTERRICO","AV. CRISTOBAL DE PERALTA NORTE CON ESQ. JR. JERONIMO DE ALIAGA NORTE N° 505 MZ. B URB. CHACARILLA DEL ESTANQUE","SANTIAGO DE SURCO","Lima","LIMA","ETAPA 1",220,125,102.67,428929,428929,428929,428929,0,"1+"]
["070_C-2021",407,2021,"CONSTRUCTORA GALILEA SAC",2052119943,"PUERTAS DEL SOL II","VALLE CHANCAY, DISTRITO DE LA VICTORIA, PROVINCIA DE CHICLAYO ","LA VICTORIA","CHICLAYO","LAMBAYEQUE","ETAPAS 1 AL 17",582,582,62.7,175340,175340,175340,175340,0,"1+"]
["AE.RE.002-2022",408,2021,"INMOBILIARIA TETUAN SAC",20601857511,"ETREA","AV SALAVERRY NRO 1810 CON AV SAN FELIPE","Jesús María","Lima","LIMA","TORRE UNICA",172,86,60.35,448014,448014,448014,448014,"2+","3+"]
["069_C-2021",409,2021,"PROHABIT E INMOBILIARIA SAC",20447637295,"PERLAS DEL ALTIPLANO","SECTOR TARIACHI","JULIACA","San Roman","Puno","ETAPA 1",1021,1021,46.98,164676,164676,164676,164676,0,"2+"]
["072_C-2021",410,2021,"CLASEM S.A.C.",20516390060,"CONDOMINIO LOS PARQUES DE SAN GABRIEL","CALLE VIA EVITAMIENTO SECTOR EX FUNDO PATAZCA","CHICLAYO","CHICLAYO","LAMBAYEQUE","ETAPAS 6B, 6C",240,240,75.52,138802,138802,138802,138802,0,"2+"]
["076_C-2021",411,2022,"INMOBILIARIA LA CHALACA SAC",20604496463,"TERRAZAS DE BELLAVISTA","JR GRAU NRO 455","BELLAVISTA","CALLAO","LIMA","TORRE UNICA",140,140,58.57,254962,254962,254962,254962,0,"2+"]
["074_C-2021",412,2022,"REDBAY DEL PERU SAC",20500523540,"EDIFICIO RESIDENCIAL LIBERTY - EL POLO","AV EL POLO NRO 661 URB EL DERBY DE MONTERRICO","SANTIAGO DE SURCO","Lima","LIMA","1 EDIFICIO",115,55,53.01,454354,454354,454354,454354,0,"1+"]
["075_C-2021",413,2022,"CONSTRUCTORA INMOBILIARIA VILLAREAL SAC",20492391574,"CONDOMINIO VILLAMAR","JR JUNIN NRO 815 ESQ CON JR ECHENIQUE NRO 1005-1013","Magdalena del Mar","Lima","LIMA","TORRE UNICA",47,47,48.73,292975,292975,292975,292975,0,"1+"]
["002_C-2022",414,2022,"PROHABIT E INMOBILIARIA SAC",20447637295,"CONJUNTO RESIDENCIAL ECOLOGICO LAS TORRES DE ANTA - CUSCO","SECTOR KEHUAR","ANTA","Anta","CUSCO","BLOQUES DEL A AL R",756,756,63.38,207194,207194,207194,207194,0,"2+"]
["003_C-2022",415,2022,"CONSTRUCTORA E INMOBILIARIA OPTIMUS",20547778333,"EDIFICIO LIBERTY 760","JR LIBERTAD NRO 760-762-764-766-768","Magdalena del Mar","Lima","LIMA","TORRE UNICA",27,17,58,350000,350000,350000,350000,0,"2+"]
["001_C-2022",416,2022,"HISPANO PERUANA DE CONSTRUCCION 2011 SAC",20545927790,"EDIFICIO MULTIFAMILIAR ZOE URBAN APARTMENTS","AV EL SOL ESTE NRO 545-555 ESQ JR ENRIQUE BARRON","BARRANCO","Lima","LIMA","ETAPA 1 (111 unid), ETAPA 2 (127 unid)",239,210,46.5,356132,356132,356132,356132,0,"3+"]
["005_C-2022",417,2022,"CONSTRUCTORA E INMOBILIARIA PIETRA SAC",20607732818,"EDIFICIO MULTIFAMILIAR PIETRA DI SOLE","JR RAMON DAGNINO NRO 270-280 MZ H LT 10 ","Jesús María","Lima","LIMA","TORRE UNICA",84,70,63.03,389352,389352,389352,389352,0,"2+"]
["004_C-2022",418,2022,"GRUPO D Y M CONSTRUCTORA E INMOBILIARIA S.A.C.",20550506352,"EDIFICIO MULTIFAMILIAR ELENOR","JR AREQUIPA NRO 253-255 MZ 86 LT 164","Magdalena del Mar","Lima","LIMA","TORRE UNICA",39,37,68.39,369743,369743,369743,369743,0,"2+"]
["006_C-2022",419,2022,"INMOBILIARIA EUREKA SAC",20508000163,"PARK LIVING","AV PETIT THOUARS NRO 965-969-973-977","CERCADO DE LIMA","Lima","LIMA","TORRE UNICA",83,73,64.930000000000007,395715,395715,395715,395715,0,"2+"]
["007_C-2022",420,2022,"CLASEM S.A.C.",20516390060,"CONDOMINIO PARQUE SANTA MARGARITA","AV PRINCIPAL CRUCE AV AMAPOLAS – LT 1 MZ Gc – URB SANTA MARGARITA DE PIURA CUARTA ETAPA","26 DE OCTUBRE","PIURA","PIURA","ETAPA 3 (TORRE 5 Y TORRE 6) – ETAPA 4 (TORRE 7 Y TORRE 8)",160,160,77.44,172150,172150,172150,172150,0,"2+"]
["032_C-2021",421,2022,"CASAIDEAL PROYECTO 20 SAC ",20605631291,"EDIFICIO MULTIFAMILIAR UNITY","AV ARENALES NRO 1101 - 1109 – 1117 ESQUINA CON LA CALLE MARIANO CARRANZA NRO 106 – 112 URB SANTA BEATRIZ ","CERCADO DE LIMA","Lima","LIMA","TODO EL PROYECTO",96,92,62.29,333155,333155,333155,333155,0,"3+"]
["036_C-2021",422,2022,"BUEN VIVIR S.A.C.",20554638911,"ION 160","CAL 2 CRUCE CON CAL 7","PUEBLO LIBRE","Lima","LIMA","TORRE UNICA",76,76,51.32,259189,259189,259189,259189,0,"2+"]
["071_C-2021",423,2022,"BIABO PERU SA",20503925461,"SKYNA","JR ENRIQUE VILLAR NRO 563-581 JR CARLOS ARRIETA NRO1166-1198 URB SANTA BEATRIZ","CERCADO DE LIMA","Lima","LIMA","TORRE UNICA",139,139,58.5,348476,348476,348476,348476,0,"3+"]
["008_C-2022",424,2022,"MG VILLA SAC",20606189282,"ALBORADA","AV LA PAZ NRO 1150 ESQUINA CON CALLE FRANCISCO DE ZELA URBANIZACION MIRAMAR","San Miguel","Lima","LIMA","TORRE A, TORRE B",243,243,67.180000000000007,303853,303853,303853,303853,0,"3+"]
["009_C-2022",425,2022,"LA VENTUROSA S.A.",20383731705,"CONDOMINIO ESENCIAL","LT 1, MZ C UBICADO ENTRE LAS ESQUINAS DE AV LOS FAISANES, AV GUARDIA CIVIL NORTE , JR VINA TACAMA Y JR VULCANO","SANTIAGO DE SURCO","Lima","LIMA","MZ C TORRE C",242,123,70,427600,427600,427600,427600,0,"2+"]
["010_C-2022",426,2022,"QUATRO PROYECTOS SAC",20602816851,"EDIFICIO MULTIFAMILIAR FAMILY TOWER 2","AV REPUBLICA DE PORTUGAL NRO 698","Breña","Lima","LIMA","TORRE UNICA",136,136,61.6,308564,308564,308564,308564,0,"2+"]
["011_C-2022",427,2022,"GRINSA S.A.C.",20440209123,"SANTA JULIA","LT VD 233-III-ETAPA VALLE MOCHE-SECTOR HUANCHAQUITO ALTO","HUANCHAQUITO","TRUJILLO","LA LIBERTAD","A,B,C,D,E,F,G,H,I,J,K",152,152,60,108140,108140,108140,108140,0,"2+"]
["AE.RE.005.2022",428,2022,"VIVA NEGOCIO INMOBILIARIO SA",20493040643,"ACACIAS VILLA RESIDENCIAL","MZ C LT 2","COMAS","Lima","LIMA","8 EDIFICIOS (EDIFICIOS 1, 2, 3, 4, 5, 6, 7, 8)",1312,1312,63.03,180413,180413,180413,180413,0,"3+"]
["014_C-2022",429,2022,"VENECIA PROYECTOS SA",20606071842,"MULTIFAMILIAR VERT","AV AREQUIPA Y JR SARGENTO ENRIQUE VILLAR NRO 1200-192","Lima Cercado","Lima","LIMA","TORRE A",74,74,53.73,222900,222900,222900,222900,0,"3+"]
["015_C-2022",430,2022,"NEOGAR SAC",20605645098,"VIA FERNANDINI","AV JUAN PABLO FERNANDINI","PUEBLO LIBRE","Lima","LIMA","TORRE A, TORRE B",95,95,70.05,399458,399458,399458,399458,0,"3+"]
["016_C-2022",431,2022,"ANTARES CONTRATISTAS S.A.",20143382339,"MULTIFAMILIAR JAVIER PRADO","AV JAVIER PRADO ESTE ESQ CON CAL CLEMENTE PARRAGA MZ G LT 1 URB LAS DALIAS","SAN BORJA","Lima","LIMA","TORRE UNICA",116,77,60.79,379116,379116,379116,379116,0,"1+"]
["017_C-2022",432,2022,"INMOBILIARIA FORTEM VII SAC",20603448252,"EDIFICIO MULTIFAMILIAR FILIN","JR CERRO NEGRO NR 209-299 MZ G LT B","SANTIAGO DE SURCO","Lima","LIMA","TORRE UNICA",82,53,85.51,455757,455757,455757,455757,0,"2+"]
["018_C-2022",433,2022,"CLASEM S.A.C.",20516390060,"CONDOMINIO CLUB EL ROSEDAL","AV CIRCUNVALACION URB SAÑOS CHICO","El Tambo","Huancayo","Junin","FASE 1,3: TORRES 7, 8 Y 9",120,120,71.72,163881,163881,163881,163881,0,"2+"]
["019_C-2022",434,2022,"MARINA PARK INMOBILIARIA S.A.C.",20602979297,"ECOPARK RESIDENCIAL","Cl. Hernando de Soto, Mz GM Lt. 19 esq. Cl.\nHatuey, Urbanización Maranga","San Miguel","Lima","LIMA","TORRE UNICA",75,73,60.27,333677,333677,333677,333677,0,"2+"]
["021_C-2022",435,2022,"WR S.A. ",20100048702,"CONJUNTO RESIDENCIAL CONDOMINIO CUATTRO","PARCELA B2-A DE LA PARCELA B. MANZANA B-2 LOTE 2 EN EL JR H (EX CALLE C) S/N","COMAS","Lima","LIMA","TORRES A,B y C (Etapas 1 y 2) TODOS LOS DEPARTAMENTOS EXCEPTO EL 1301, 1302, 1303, 1304, 1505, 1506, 1507 y 1508 de Torre B.",354,346,87,325500,325500,325500,325500,0,"2+"]
["020_C-2022",436,2022,"CORPORACION INMOBILIARIA FERMONT  S.A.C. (Abril grupo Inmobiliario)",20600245504,"EDIFICIO MULTIFAMILIAR AMARELO","AV BRASIL NRO 2475","Jesús María","Lima","LIMA","TORRE UNICA",311,255,61.06,353201,353201,353201,353201,0,"3+"]
["022_C-2022",437,2022,"VIVA NEGOCIO INMOBILIARIO SAC",20493040643,"LOS GERANIOS CONJUNTO RESIDENCIAL (antes H1 CONJUNTO RESIDENCIAL)","MZ H LT 1","COMAS","Lima","LIMA","2 EDIFICIOS (EDIFICIOS 1,2)",384,384,51.95,115000,115000,115000,115000,0,"2+"]
["024_C-2022",438,2022,"PROMSAL S.A.C.",20515876937,"LASSO 467","AV. AGUSTIN DE LA ROSA TORO N°467","SAN LUIS","Lima","LIMA","EDIFICIO UNICO",82,50,70,395000,395000,395000,395000,0,"2+"]
["023_C-2022",439,2022,"PLM INVERSIONES INMOBILIARIAS SAC",20601668913,"EDIFICIO MULTIFAMILIAR SAN FELIPE","AV SAN FELIPE 720 ESQ CON JR HUASCAR 2045 2055","Jesús María","Lima","LIMA","ETAPAS 1,2,3",304,189,83,416963,416963,416963,416963,0,"3+"]
["025_C-2022",440,2022,"LOS PORTALES S.A.",20301837896,"EL REMANSO DE LA FLORIDA","SECTOR DE LA ANGOSTURA","SUBTANJALLA","ICA","ICA","ETAPA ÚNICA",128,128,45.02,135141,135141,135141,135141,0,"1+"]
["026_C-2022",441,2022,"ANTARES CONTRATISTAS S.A.",20143382339,"EDIFICIO MULTIFAMILIAR II DEL CONDOMINIO CLUB PARQUES DEL CHIPE","AV COLECTORA NORTE PARCELA 4 MZ A LT 11 URB LOS PARQUES DEL CHIPE","26 DE OCTUBRE","PIURA","PIURA","TORRE A, TORRE B",64,64,83.28,200896,200896,200896,200896,0,"1+"]
["027_C-2022",442,2022,"IN ESMERALDA SAC",20607494658,"EDIFICIO RESIDENCIAL CUBA","AV. CUBA 1142-1142A-1144-1150-1156-1158","Jesús María","Lima","LIMA","EDIFICIO 1",138,76,58.9,402927.9,402927.9,402927.9,402927.9,0,"2+"]
["028_C-2022",443,2022,"IN AGATA SAC",20607521663,"EDIFICIO INVENT ALEJANDRO TIRADO","JIRON ALEJANDRO TIRADO N°627","CERCADO DE LIMA","Lima","LIMA","EDIFICIO 1",156,97,63.65,377791.9,377791.9,377791.9,377791.9,0,"2+"]
["029_C-2022",444,2022,"LAS BRISAS DE SANTA CLARA SAC",20607553476,"LAS BRISAS DE SANTA CLARA MZ N","MZA N LT N1 URB SANTA CLARA","HUANCHACO","TRUJILLO","LA LIBERTAD","TODO EL PROYECTO",32,32,74.180000000000007,235000,235000,235000,235000,0,"1+"]
["AE.RE.008.2022",445,2022,"Besco S.A.C.",20416162299,"ALAMEDA CENTRAL (Antes COLONIAL)","JR  PRESBITERO GASPAR HERNANDEZ N°973-975-985-989-995-999 (AV. COLONIAL 1108)","CERCADO DE LIMA","Lima","LIMA","TORRE 1, TORRE 2, TORRE 3 , TORRE 4, TORRE 5, TORRE 6, TORRE 7, TORRE 8, TORRE 9",1760,1760,67,259500,259500,259500,259500,0,"3+"]
["031_C-2022",446,2022,"CARLAMONICA SAC",20101947093,"EDIFICIO MULTIFAMILIAR NOBEL","AV JAVIER PRADO OESTE NRO 821-823-829-831-881-885","Magdalena del Mar","Lima","LIMA","TORRE UNICA",271,162,65.37,417619,380310,454928,417619,0,"3+"]
["032_C-2022",447,2022,"PAZ CENTENARIO S.A.",20518023579,"ESCALA","AV JOSE GALVEZ BARRENECHEA MZ E LT 3 URB EL PALOMAR NORTE","LA VICTORIA","Lima","LIMA","TORRE UNICA",276,175,60.45,424287,424287,424287,424287,0,"3+"]
["033_C-2022",448,2022,"LOS PORTALES CONSTRUYE SAC",20553346178,"GRAN CENTRAL COLONIAL","AV COLONIAL NRO 2703 LT 1 URB CHACRA RIOS","CERCADO DE LIMA","Lima","LIMA","TORRE UNICA",196,195,64.260000000000005,342844,342844,342844,342844,0,"3+"]
["035_C-2022",449,2022,"GLJ CONSTRUCTORES E INMOBILIARIOS SAC",20547261551,"EDIFICIO MULTIFAMILIAR SOIL","AV LA MARINA NRO 415-421-425 URB SANTO TORIBIO","PUEBLO LIBRE","Lima","LIMA","1 ETAPA, 1 TORRE",133,115,57.3,323250,323250,323250,323250,0,"3+"]
["034_C-2022",450,2022,"INVERSIONES LA GLORIA SAC",20600760298,"EDIFICIO MULTIFAMILAR SEED ","JR. REPUBLICA DEL LÍBANO N°173-179, 181 -185 ","SANTIAGO DE SURCO","Lima","LIMA","ETAPA 1, TORRE 1",91,20,80.900000000000006,397387.5,381100,416641,398870.5,0,"3+"]
["036_C-2022",451,2022,"WORLD LINE SAC",20468536014,"VIZUALE ECO SMART","JR PEDRO CONDE 169","Lince ","Lima","LIMA","1 ETAPA, 1 EDIFICIO",116,94,50.48,359189,359189,359189,359189,0,"2+"]
["037_C-2022",452,2022,"REDBAY DEL PERU SAC",20500523540," HANAN","AV. COLONIAL N°495 ESQ. JR. PRESBITERO GARCÍA VILLÓN N°614-660","CERCADO DE LIMA","Lima","LIMA","EDIFICIO UNICO",114,114,66.92,368475,368475,368475,368475,0,"3+"]
["039_C-2022",453,2022,"CONSTRUCTORA CAPON SAC",20414689559,"MULTIFAMILIAR BALBOA","COOP DE VIVIENDA ING ANTUNEZ DE MAYOLO MZ A LT 26-27 ","SANTIAGO DE SURCO","Lima","LIMA","1 ETAPA, 1 TORRE",42,42,55.92,314379,314379,314379,314379,0,"2+"]
["040_C-2022",454,2022,"SIENTE SOCIEDAD ANONIMA CERRADA SIENTE SAC",20605456287,"PROYECTO GRANADA","JR GRANADA NRO 481-483 MZ 2 LT 8 URB SAN BERNARDO","PUEBLO LIBRE","Lima","LIMA","TORRE UNICA",22,20,60,361670,361670,361670,361670,0,"2+"]
["041_C-2022",455,2022,"MENORCA INVERSIONES S.A.C.",20173223626,"VILLA KILLARI","FUNDO SANTA MARIA SUB LOTE 2","ICA","ICA","ICA","ETAPA UNICA",130,130,36.51,153441,153441,153441,153441,0,"2+"]
["042_C-2022",456,2022,"LD GESTORA SAC",20606167149,"RESIDENCIAL CASTILLA","PASAJE RONDA LA ISLA NRO 106","AREQUIPA","AREQUIPA","AREQUIPA","BLOQUES A,B,C",241,241,83.12,351930,351930,351930,351930,0,"2+"]
["043_C-2022",457,2022,"ELEVA PERU SAC",20516277336,"EDIFICIO MULTIFAMILIAR PLAZA ALDANA","CAL 6 MZ A-22 LT 12 URB CORPAC","SAN ISIDRO","Lima","LIMA","TORRE UNICA",36,24,62.92,432775.5,401375,464170,432772.5,0,"2+","Nulidad de Licencia"]
["045_C-2022",458,2022,"LOS PORTALES CONSTRUYE SAC",20553346178,"GRAN TOMAS VALLE","AV TOMAS VALLE NRO 1085","SAN MARTIN DE PORRES","Lima","LIMA","1 ETAPA",148,139,64.48,356952,356952,356952,356952,0,"3+"]
["044_C-2022",459,2022,"PAZ CENTENARIO S.A.",20518023579,"MAGNOLIA","AV MARIANO CORNEJO 715 ","PUEBLO LIBRE","Lima","LIMA","1 EDIFICIO",214,75,61.62,445077,445077,445077,445077,0,"3+"]
["047_C-2022",460,2022,"DESARROLLADORA VALERIA SAC",20551526918,"EDIFICIO RESIDENCIAL CUBA","AV CUBA 638-646-655-654","Jesús María","Lima","LIMA","1 TORRE",107,86,64.52,451828,451828,451828,451828,0,"2+"]
["046_C-2022",461,2022,"EV INMOBILIARIA BARRENECHEA SAC",20606992131,"EDIFICIO MULTIFAMILIAR ROOF GARDEN BARRENECHEA","AV JOSE GALVEZ BARRENECHEA MZ A LT 2 Y 3","SAN BORJA","LIMA","LIMA","TORRE UNICA",311,80,65.8,440760,440760,440760,440760,0,"3+"]
["048_C-2022",462,2022,"PAZ CENTENARIO S.A.",20518023579,"SAVIA","AV BRASIL 1466","PUEBLO LIBRE","LIMA","LIMA","1 EDIFICIO",213,29,64.05,434533,404952,464114,434533,0,"3+"]
["049_C-2022",463,2022,"DESARROLLO INMOBILIARIO DERBY SAC",20606679671,"ATIVA","AV EL DERBY MZA A LT 8","SANTIAGO DE SURCO","LIMA","LIMA","TORRES A,B,C",359,244,55,434967,434967,434967,434967,0,"2+","Subsanado"]
["050_C-2022",464,2022,"CHECOR PETIT THOUARS SAC",20606671700,"MULTIFAMILIAR LAS MAGNOLIAS","AV PETIT THOUARS NRO 1454-1460 URB SANTA BEATRIZ","CERCADO DE LIMA","LIMA","LIMA","ETAPA 1, TORRE 1",80,77,62.4,395000,395000,395000,395000,0,"2+"]
["038_C-2022",465,2022,"URBANIZA PERU SAC",20604867046,"LOS PARQUES DE HUACACHINA II Y III ETAPA","CAMINO A LA HUEGA SECTOR SAN JOSE","ICA","ICA","ICA","MZ A,B,C,D,E,F,G,H,I,J,K,L,M,N",193,193,50.12,195886,195886,195886,195886,0,"2+"]
["051_C-2022",466,2022,"VYV PROYECTO 74 SAC",20603652291,"ROOSEVELT 5591","AV ROOSEVELT NRO 5591","MIRAFLORES","LIMA","LIMA","EDIFICIO UNICO",155,60,51.82,380976,380976,380976,380976,0,"3+","Subsanado e incorporado el 24.07.24"]
["052_C-2022",467,2022,"DIEGAL SAC",20102067313,"EDIFICIO IMULTIFAMILIAR CATARI CONCEPT","CAL HERMANOS CATARI LT 13 MAZ HG URB MARANGA","San Miguel","LIMA","LIMA","TORRE UNICA",22,18,77.31,454324,454324,454324,454324,0,"2+"]
["AE.RE.010.2022",468,2022,"LA VENTUROSA S.A.",20383731705,"CONDOMINIO ESENCIAL","LT 1 MZ C UBICADO ENTRE LAS ESQ DE AV LOS FAISANES AV GUARDIA CIVIL NORTE JR VIÑA TACAMA Y JR VULCANO","SANTIAGO DE SURCO","Lima","LIMA","MZ C TORRE D",502,102,70,464200,464200,464200,464200,0,"2+"]
["053_C-2022",469,2022,"INMOBILIARIA AMA SAC",20606969032,"GARZON","AV GENERAL EUGENIO GARZON NRO 550-556-572","JESUS MARIA","LIMA","LIMA","1 ETAPA (1 TORRE)",110,21,50,365000,365000,365000,365000,0,"2+"]
["054_C-2022",470,2022,"FLORENCIA INMOBILIARIA SAC",20607005550,"EDIFICIO MULTIFAMILIAR GARDENIA","JR EMILIO ALTHAUS NRO 420-436-452 JR BARTOLOME HERRERA NRO 415-417-451","Lince ","LIMA","LIMA","TORRE A, B",346,346,56.29,301671,301671,301671,301671,0,"3+"]
["055_C-2022",471,2022,"GRUPO POZO SAC",20512957227,"RESIDENCIAL SAN SEBASTIAN","JR EL DERECHO NRO 670 MZ X4 LT 40 URB PRO 4TO SECTOR 1ERA ETAPA","LOS OLIVOS","LIMA","LIMA","TORRE UNICA",21,21,57.76,228624,228624,228624,228624,0,"2+"]
["057_C-2022",472,2022,"CONSORCIO CISSAC SCANDER SAC",20601676622,"CONJUNTO RESIDENCIAL LOS CIRUELOS ETAPA 2","AV EL SOL NRO 200 URB LA PLATA ","PIMENTEL","CHICLAYO","LAMBAYEQUE","1 EDIFICIO",120,120,71,368475,368475,368475,368475,0,"3+"]
["056_C-2022",473,2022,"INMOBILIARIA LA RECOLETA SAC",20606710501,"RESIDENCIAL LA RECOLETA","CAL BEATERIO NRO 125 Y CAL LA RECOLETA NRO 124","AREQUIPA","AREQUIPA","AREQUIPA","TORRE A, TORRE B, TORRE C, TORRE D, TORRE E",187,187,78.55,387391,387391,387391,387391,0,"2+","Proyecto Paralizado"]
["058_C-2022",474,2022,"PAZ CENTENARIO S.A.",20518023579,"AMALFI","AV COSTANERA 2560 (SUB LOTEN NRO 2) URBANIZACION MIRAMAR","SAN MIGUEL","LIMA","LIMA","1 EDIFICIO",279,101,62.81,266000,266000,266000,266000,0,"3+"]
["059_C-2022",475,2022,"HPC SERVICIOS INMOBILIARIOS SAC",20608936450,"EDIFICIO MULTIFAMILIAR FRIENDZ","JR ANDROMEDA MZ J LT 8","CHORRILLOS","LIMA","LIMA","BLOQUES 1,2,3",156,156,64.12,309573,309573,309573,309573,0,"3+"]
["062_C-2022",476,2022,"IN ESPINELA SAC",20607772054,"CONJUNTO RESIDENCIAL PATRIA","FUNDO TEJADA JIRON CARLOS ARRIETA 380","BARRANCO","LIMA","LIMA","TORRE A, TORRE B",116,72,70.28,418642,418642,418642,418642,0,"2+"]
["060_C-2022",477,2022,"MAAS MARIANO SANTOS SAC",20606977639,"EDIFICIO GRAY SAN ISIDRO","CAL ALFEREZ MARIANO SANTOS MATEO 0171 MZ 47 LT 07 URB SANTA ANA ","SAN ISIDRO","LIMA","LIMA","TORRE A, TORRE B",42,19,52.5,411659,411659,411659,411659,0,"2+"]
["061_C-2022",478,2023,"REAL EDIFICACIONES SAC",20562827936,"TORRE REAL 9","AV PRINCIPAL 765-755-791 MZ A LT 10, 11, 12 URB JORGE CHAVEZ","SURQUILLO","LIMA","LIMA","TORRE UNICA",112,75,54.52,356542,356542,356542,356542,0,"2+"]
["001_C-2023",479,2023,"DESARROLLO INMOBILIARIO FT SAC",20601881749,"EDIFICIO MULTIFAMILIAR HARA FASE 5 Y 6","CAL FERMIN TANGÜIS SUB LOTE 5 DE LA MZ B7 URB SANTA CATALINA ","LA VICTORIA","LIMA","LIMA","FASE 5 Y 6",286,272,53.7,352089,352089,352089,352089,0,"3+"]
["002_C-2023",480,2023,"FLAT AREQUIPA SAC",20555016451,"EDIFICIO MULTIFAMILIAR MAMA OCLLO","JR MAMA OCLLO NRO 1937-1941-1945","LINCE ","LIMA","LIMA","TORRE UNICA",102,70,56.99,399549,399549,399549,399549,0,"2+"]
["003_C-2023",481,2023,"INMOBILIARIA PUCLLANA SAC",20607800597,"EDIFICIO MULTIFAMILIAR LIKE ONE","AV UNIVERSITARIA NRO 843-845-849-851","SAN MIGUEL","LIMA","LIMA","TORRE UNICA",85,85,61.92,382176,382176,382176,382176,0,"2+"]
["004_C-2023",482,2023,"PAZ CENTENARIO 2 SAC",20605346716,"REAL","JR FRANCIA NRO 130","LA VICTORIA","LIMA","LIMA","ETAPA 1, ETAPA 2",320,261,58.02,372358,372358,372358,372358,0,"3+"]
["005_C-2023",483,2023,"GRUPO POZO SAC",20512957227,"RESIDENCIAL LA HUACA","CAL EL ESMERO NRO 100 ESQ JR EL PRINCIPIO URB PRO 4TO SECTOR 1RA ETAPA","LOS OLIVOS","LIMA","LIMA","TORRE UNICA",22,22,72.61,320906,320906,320906,320906,0,"2+"]
["006_C-2023",484,2023,"LA VENTUROSA SA",20383731705,"EDIFICIO ALTAURORA","AV TOMAS MARSANO NRO 1921, 1927, 1933, 1939, 1945 Y 1951, URB JORGE CHAVEZ","SURQUILLO","LIMA","LIMA","1 ETAPA",103,97,70,464200,464200,464200,464200,0,"2+"]
["007_C-2023",485,2023,"TIKI TREE SAC",20344873080,"SAGITARIO II","JR. DIANA ESQ. CON JR. VIÑA LARIENA LOTE31 MANZANA A-31","SANTIAGO DE SURCO","LIMA","LIMA","TORRE UNICA",62,38,71.19,381329,381329,381329,381329,0,"2+"]
["008_C-2023",486,2023,"VENECIA PROYECTOS SA",20606071842,"MULTIFAMILIAR PRIVIA","AV ARENALES NRO 680","JESUS MARIA","LIMA","LIMA","TORRE A",73,73,58.38,355480,355480,355480,355480,0,"3+"]
["009_C-2023",487,2023,"THE PISONAY COMPANY SAC",20601192404,"EDIFICIO STRONG","CAL ENRIQUE LEON GARCIA NRO 287-291-295 URB SANTA CATALINA","LA VICTORIA","LIMA","LIMA","TORRE UNICA",76,53,59.48,384670,384670,384670,384670,0,"2+"]
["010_C-2023",488,2023,"INVERSIONES DON ALBERTO SAC",20154543776,"SAGITARIO IV","JR LAS GAVIOTAS ESQ CON JR VIÑA LARENA URB SAGITARIO","SANTIAGO DE SURCO","LIMA","LIMA","1 ETAPA, 1 TORRE",81,80,67.209999999999994,358495,358495,358495,358495,0,"2+"]
["(011_C-2023)\nanterior\nAE.RE.004.2023",489,2023,"PROYECTO CANTABRIA 03 S.A.C.",20602848265,"DUETTO 846 - BERTELLO","AVENIDA ALEJANDRO BERTELLO, MANZANA H-5, LOTE 02,03,04, URBANIZACIÓN PANDO","CERCADO DE LIMA","LIMA","LIMA","TORRE A, TORRE B",209,199,59.27,353620,191866,680000,435933,0,"3+"]
["012_C-2023",490,2023,"ESPACIOS Y ESTRUCTURAS INMOBILIARIA SAC",20552655932,"MULTIFAMILIAR PUEBLO LIBRE","AV LA MARINA NRO 449-485","PUEBLO LIBRE","LIMA","LIMA","1 ETAPA, 1 TORRE",32,32,65,423192,423192,423192,423192,0,"2+"]
["013_C-2023",491,2023,"CONSTRUCTORA INARCO PERU SAC",20519219922,"CONJUNTO RESIDENCIAL MAZ","AV JUAN PABLO FERNANDINI 952-960-996 ESQ CON JR CASTRO VIRREYNA 216","BREÑA","LIMA","LIMA","TORRE A, TORRE B",274,274,66.17,403936,343672,464200,403936,0,"2+"]
["(014_C-2023)\nanterior\nAE.RE.003.2023\n",492,2023,"TRIANA EDIFICACIONES SAC",20609352214,"BE","AV BRASIL NRO 3198","MAGDALENA DEL MAR","LIMA","LIMA","TORRE UNICA",111,87,57.46,375145,347715.69,463364.01,405539.85,0,"3+"]
["015_C-2023",493,2023,"PROEDCO SAC",20602414630,"EDIFICIO MULTIFAMILIAR RUNTER II","CAL MANUEL OBLITAS 190, SAN MIGUELITO","SAN MIGUEL","LIMA","LIMA","TORRE UNICA",23,19,69,410000,410000,410000,410000,0,"2+"]
["016_C-2023",494,2023,"LIMAHOGAR INMOBILIARIA SAC",20602916732,"TRIVENTO","CALLE ELEAZAR BLANCO N°17 Y 18, URB. COLMENARES","PUEBLO LIBRE","LIMA","LIMA","TORRE UNICA",61,60,51.71,336420,336420,336420,336420,0,"2+"]
["017_C-2023",495,2023,"CORPORACIÓN EDIFICA SAC",20492197336,"LOS CEIBOS DEL CHIPE","PROLONGACIÓN AV. LOS TALLANES SN SUB- LOTE B, SECTOR NORTE PIURA REF. CARRETERA LOS EJIDOS AL COSTADO DE LA UPAO","PIURA","PIURA","PIURA","TORRE UNICA",51,47,54,160000,160000,160000,160000,0,"1+"]
["018-C-2023",496,2023,"MUREL DOMUM INVERSIONES S.A.C.",20601377633,"EDIFICIO MULTIFAMILIAR ALMARE","AVENIDA MARISCAL CASTILLA 555,567 Y JR. ZEPITA","CHORRILLOS","LIMA","LIMA","TORRE UNICA",85,84,60.86,333187.84999999998,241300,476900,359100,0,"3+"]
["019-C-2023",497,2023,"GC LEON VELARDE S.A.C.",20606065796,"EDIFICIO MULTIFAMILIAR VILLA VELARDE"," JIRÓN CORONEL LEON VELARDE 723 – 731","LINCE","LIMA","LIMA","EDIFICIO 1",109,85,70.28,413268.5,277659.59999999998,809819,543739.30000000005,0,"2+"]
["020-C-2023",498,2023,"TWO DESARROLLOS INMOBILIARIOS S.A.C.",20606098261,"NUEVOS AIRES DE VENTANILLA","CALLE 11 Y AV. JÚPITER CON LA AV. NEPTUNO, ALTURA KM. 7.5 CARRETERA PANAMERICANA NORTE",null,"VENTANILLA","CALLAO","TORRE B1 Y TORRE B2/  13 TORRES",544,544,58.65,214000,196828.79999999999,291993.88,244411.34,0,"2+"]
["(021-C-2023)\nantes\nAE.RE.003.2024 ",499,2023,"INMOBILIARIA PARQUE CENTRAL S.A.C.",20608972979,"EDIFICIO MULTIFAMILIAR CENTRAL PARK","AVENIDA GENERAL ARENALES N° 1387, URB. SANTA BEATRIZ","CENTRO DE LIMA","LIMA","LIMA","TORRE 1 Y TORRE 2",232,227,62.27,389581.79,316873.2,462231,389552.1,0,"3+"]
["022-C-2023",500,2023,"MUREL DOMUM INVERSIONES S.A.C.",20601377633,"EDIFICIO MULTIFAMILIAR FLORECE","AV. LOS FAISANES 222-226, URBANIZACIÓN LA CAMPIÑA","CHORRILLOS","LIMA","LIMA","TORRE UNICA",231,231,60.9,254324.2,165484,328000,246742,0,"3+"]
["023-C-2023",501,2023,"INMOBILIARIA TREVISO S.A.C.",20608891341,"TREVISO","AV. LOS PATRIOTAS N° 291 , URBANIZACIÓN MARANGA 3RA ETAPA","SAN  MIGUEL","LIMA","LIMA","TORRE UNICA",34,29,64.59,426735.29,43000,460000,251500,0,"2+"]
["024-C-2023",502,2023,"MENORCA INVERSIONES S.A.C",20173223626,"VILLA POSADA DEL SOL DE CHICLAYO"," SECTOR VISTA ALEGRE, UNIDAD CATASTRAL U.C. N°83306","CHICLAYO","CHICLAYO","LAMBAYEQUE","ETAPA ÚNICA",161,161,44.97,171599.89,135712.6,249133.35,192422.97500000001,0,"2+"]
["(025-C-2023)\n",503,2023,"CONSTRUCTORA CUMBRES VILLANOVA S.A.C.",20602704891,"CONJUNTO RESIDENCIAL “CONDOMINIO VILLANOVA 5”","AV. REPUBLICA DE ARGENTINA N°2424 Y JIRÓN VILLEGAS N°582-584 (MZ A LOTE 1). ","CALLAO","CALLAO","LIMA","EDIFICIO 1,3,4,6",660,420,68.19,245030.58,241009.17,365596,303302.58500000002,0,"2+"]
["026-C-2023",504,2023," INGENIEROS Y CONSULTORES ASOCIADOS KAMEN S.A.C",20607596761,"EDIFICIO MULTIFAMILIAR PIETRA DI MARE"," JR. RAMÓN DAGNINO 201-205-209-211","JESUS MARIA","LIMA","LIMA","TORRE UNICA",55,29,64.099999999999994,410587.45,313404,522475.2,417939.6,0,"2+"]
["027-C-2023",505,2023,"GDC PROYECTOS PERU A S.A.C.",20605597204,"PARK SAN MIGUEL","JR. GRAN MARISCAL RAMON CASTILLA N°740 LOTE 35B","SAN MIGUEL","LIMA","LIMA","TORRE A,B,C,D Y E",81,66,62.44,442204.41,345429,522475.2,433952.1,0,"2+"]
["028-C-2023",506,2023,"LAS BRISAS DE SANTA CLARA SAC",20607553476,"LAS BRISAS DE SANTA CLARA Mz Ñ"," MZA. Ñ LOTE. N1 URB. SANTA CLARA","HUANCHACO","TRUJILLO","LIBERTAD","TODO EL PROYECTO",38,38,74.52,250000,235000,255000,245000,0,"1+"]
["029-C-2023",507,2023,"INMOBILIARIA TRIESTE S.A.C.",20607004367,"TRIESTE","AV. LOS PATRIOTAS N° 431-435, URBANIZACIÓN MARANGA ","SAN MIGUEL","LIMA","LIMA","TORRE UNICA",60,29,74.98,370500,428000,455000,441500,0,"2+"]
["030-C-2023",508,2023,"BESCO S.A.C",20416162299,"CENTRIKA 2","URB. RESIDENCIAL PIURA MZ J- ÁREA FUTURA CONSTRUCCIÓN 1 DEL CONJUNTO RESIDENCIAL ALAMEDA SANTA ANA","PIURA","PIURA","PIURA","EDIFICIO 1",220,220,51,150000,150000,150000,150000,0,"2+"]
["031-C-2023",509,2023," INMOBILIARIA CAMINOS DEL INCA 508 S.A.C",20609741849,"EDIFICIO MULTIFAMILIAR HIGH LINE"," AVENIDA CAMINOS DEL INCA N° 508","SANTIAGO DE SURCO","LIMA","LIMA","TORRE UNICA",226,131,57.96,370500,340080,459680,399880,0,"2+"]
["032-C-2023",510,2023," INMOBILIARIA HEIMDALL S.A.C",20609575981,"EDIFICIO MULTIFAMILIAR ALICIA","AV. SANTA CATALINA N°631, MZ A-4, LOTE 4","LA VICTORIA","LIMA","LIMA","TORRE UNICA",25,22,55.51,377796,267800,683100,475450,0,"2+"]
["033-C-2023",511,2023,"CONSTRUCTORA MORENO LINCH S.A.C.",20440492283,"CONJUNTO RESIDENCIAL CONDOMINIO BICENTENARIO ETAPA C Y D","CAL DANIEL ALCIDES CARRION NRO 485","TRUJILLO","TRUJILLO","LIBERTAD","ETAPAS C Y D",250,125,75,285000,250000,320000,285000,0,"2+"]
["034-C-2023",512,2023,"INVERSIONES LOTUS S.A.C.",20602434452,"EDIFICIO MULTIFAMILIAR LE ROSIER","AVENIDA ROOSEVELT N° 5779-5777-5865-5867-5877-5879-5883-5873","MIRAFLORES","LIMA","LIMA","TORRE UNICA",256,147,68.599999999999994,425990,414933.4,444577,429755.2,0,"3+"]
["035-C-2023",513,2023,"VIVIENDAS DEL PERÚ S.A.C",20512691529,"S14"," AV. AREQUIPA N°1437-1441, URB. SANTA BEATRIZ","CERCADO DE LIMA","LIMA","LIMA","PROYECTO INTEGRAL",153,72,55,385000,239500,395394,317447,0,"2+"]
["036-C-2023",514,2023,"PROYEC CONTRATISTAS GENERALES S.A",20333686237,"EDIFICIO MULTIFAMILIAR OLMEDO","AVENIDA OLMEDO N° 463 – 469 – 473","BREÑA","LIMA","LIMA","TORRE A Y B",76,74,70.02,416584.23,333457,460000,396728.5,0,"2+"]
["037-C-2023",515,2023,"VIVIENDAS DEL PERÚ S.A.C",20512691529,"HOPE","JIRÓN TORRE DE LA MERCED 105 CON AV. CANADÁ 1075","LA VICTORIA","LIMA","LIMA","PROYECTO INTEGRAL",95,88,55.94,380965,299460,436304,367882,0,"2+"]
["038-C-2023",516,2023,"CONSTRUCTORA CYGNUS S.A.C.",20600597966,"MARIATEGUI"," AV. MARIÁTEGUI 1408, AV. HÚSARES DE JUNÍN 493-495, JR. HUAMACHUCO 1576 - 1580 – 1584.","JESUS MARIA","LIMA","LIMA","TORRE UNICA",60,31,62.28,379792.54,243736.75,463330.2,353533.47499999998,0,"2+"]
["039-C-2023",517,2023,"CONSTRUCTORA GALILEA S.A.C.",20521119943,"SOL DE CHAN CHAN II"," KM. 7 AUTOPISTA A HUANCHACO SUB LOTE 4","HUANCHACO","TRUJILLO","LIBERTAD","ETAPA 1 A LA ETAPA 4",368,108,80,260000,260000,260000,260000,0,"2+"]
["040-C-2023",518,2023,"PROMOTORA INDEPENDENCIA S.A.C.",20607683884,"EDIFICIO MULTIFAMILIAR IN DEPENDENCIA"," AV. GERARDO UNGER N° 3601","INDEPENDENCIA","LIMA","LIMA","TORRE UNICA",363,363,66.260000000000005,283831,237437,406000,321718.5,0,"3+"]
["041-C-2023",519,2023,"STEIN CONSTRUCTORA S.A.C",20608060741,"EDIFICIO MULTIFAMILIAR PIETRA DI PRADO","AV. JAVIER PRADO ESTE N°1095 MZ. B LT. 2","LA VICTORIA","LIMA","LIMA","TORRE UNICA",203,116,62.03,449105.14,319536,603144,461340,0,"3+"]
["042-C-2023",520,2023,"PI PRADO 3 S.A.C.",20606425288,"VANGUARDIA","AV. DEL EJERCITO N° 251","MAGDALENA DEL MAR","LIMA","LIMA","1 ETAPA",112,74,63.9,378031,330889,433411,382150,0,"2+"]
["043-C-2023",521,2023,"LM DESARROLLO INMOBILIARIO SAC",20608807463,"LA PAZ 2173","AV. LA PAZ 2173 - URB. MIRAMAR","SAN MIGUEL","LIMA","LIMA","TORRE UNICA",44,44,70,300000,347400,444600,396000,0,"2+"]
["044-C-2023",522,2023,"NEOGAR SAC",20605645098,"VÍA FERNANDINI"," AV. JUAN PABLO FERNANDINI 1275","PUEBLO LIBRE","LIMA","LIMA","TORRE A Y B",95,57,70.05,399458.49,399458.49,399458.49,399458.49,0,"3+"]
["045-C-2023",523,2023,"NEO INVERSIONES INMOBILIARIAS S.A.C.",20601678579,"EDIFICIO MULTIFAMILIAR SAUCO"," AVENIDA JAVIER PRADO ESTE N° 1091","LA VICTORIA","LIMA","LIMA","TORRE A Y B",628,564,55.9,356780.54,240081,578885.54,409483.27,0,"3+"]
["046-C-2023",524,2023,"INMOBILIRIA AGUARICO S.A.C.",20604507911,"DEL PARQUE CENTRO","JR .LORETO N° 1608-1610, ESQUINA CON EL JR. DEAN VALDIVI","BREÑA","LIMA","LIMA","ETAPA 2 (TORRE 2)",136,132,58.71,325202.09000000003,268107,379856,323981.5,0,"3+"]
["047-C-2023",525,2023,"HPC DESARROLLOS INMOBILIARIOS SAC",20608933434,"SQ WORK & LIVING APARTMENS","AV. PASEO DE LA REPÚBLICA N° 4117 – 4129 – 4137,ESQ. CALLE LOS CANARIOS","SURQUILLO","LIMA","LIMA","TORRE UNICA",144,132,52.18,390188,308229.03000000003,450800,379514.51500000001,0,"3+"]
["(048-C-2023)\nanterior\nAE.RE.001.2024",526,2023,"INMOBILIARIA 22 S.A.C.",20609368307,"BOTANIKA","AV. GENERAL EUGENIO GARZÓN 2160 - 2164","JESUS MARIA","LIMA","LIMA","TORRE UNICA",101,80,53.54,361980.41,187000,463315.55,325157.77500000002,0,"3+"]
["AE.RE.002.2023",527,2023,"BESCO S.A.C",20416162299,"CENTRIKA 2"," URB. RESIDENCIAL PIURA MZ J- SUB LOTE B-2","PIURA","PIURA","PIURA","EDIFICIO 1",220,220,50.2,150000,150000,150000,150000,0,"3+"]
["049-C-2023",528,2023,"CONSTRUCTORA GALILEA S.A.C.",20521119943,"SOL DE CHAN CHAN II","KM. 7 AUTOPISTA A HUANCHACO SUB-LOTE 4","HUANCHACO","TRUJILLO","LIBERTAD","ETAPA 5 A LA ETAPA 15",368,260,67,190000,151000,218000,184500,0,"2+"]
["050-C-2023",529,2023,"URBANIZA PERU S.A.C.",20604867046,"PARQUES DE HUACACHINA\n4TA - 5TA - 6TA ETAPA","Camino a la Huega, Sector San José.","ICA","ICA","ICA","ETAPA 4 A LA ETAPA 6",300,300,51.63,212216,243840,343717,293778.5,0,"2+"]
["051-C-2023",530,2023,"CONSTRUCTORA GALILEA S.A.C.",20521119943,"SOL DE PIMENTEL II","Predio La Joyita C.P./Parcela 10481 - Carretera a Pimentel Km 5.5","PIMENTEL","CHICLAYO","LAMBAYEQUE","ETAPA 1 A LA ETAPA 28",910,910,90,196845,163990,229700,196845,0,"2+"]
["052-C-2023",531,2023,"CORPORACIÓN KAOBA S.A.C.",20602580149,"EDIFICIO MULTIFAMILIAR ARÁNDANOS","Avenida Aramburú N° 1160","SURQUILLO","LIMA","LIMA","Torre A y B",466,417,56.78,356755,345501.83,463332,404416.91500000004,0,"3+"]
["053-C-2023",532,2023,"KALLPA INHOUSE S.A.C.",20603124716,"TOP 818","AV. PRINCIPAL NRO. 818 - 832","SURQUILLO","LIMA","LIMA","TORRE UNICA",82,65,51.74,358280.22,279000,455000,367000,0,"1+"]
["054-C-2023",533,2023,"SAN MIGUEL DESARROLLO INMOBILIARIO S.A.C.",20607214841,"INFINITY PARK","CALLE JOSEFINA SANCHEZ NRO. 187","SAN MIGUEL ","LIMA","LIMA","EDIFICIO",17,15,40.4,279000,358280.22,464000,411140.11,0,"2+"]
["055-C-2023",534,2023,"NOVO ARTE SOLUCIONES S.A.C.",20543722724,"MILLER 1050","JR MARISCAL MILLER 1050-1058","JESUS MARIA","LIMA","LIMA","1 ETAPA (EDIFICIO COMPLETO)",49,49,67.86,385900,106680,122992,114836,0,"2+"]
["056-C-2023",535,2023,"INMOBILIARIA ALBACRUZ S.A.C.",20607721611,"EDIFICIO RESIDENCIAL SCALA","AV. AREQUIPA N° 2698","LINCE","LIMA","LIMA","TORRE UNICA",84,58,58.78,388896.55,268100,321600,294850,0,"3+"]
["057-C-2023",536,2023,"PROMOTORA ALBANORTE S.A.C.",20609450071,"EDIFICIO RESIDENCIAL PARQUE HABICH","AV. REPUBLICA DE CHILE N°772-776/ JR. PABLO BERMÚDEZ N°316/ AV. REPUBLICA DE CHILE N°742-752","JESUS MARIA","LIMA","LIMA","TORRE UNICA",112,48,51.82,360250,361700,464000,412850,0,"3+"]
["058-C-2023",537,2023,"PROMOTORA ALBAESTE S.A.C.",20609590743,"EDIFICIO RESIDENCIAL VIEW 411","AV. FAUSTINO SANCHEZ CARRIÓN N° 411 SAN FELIPE","JESUS MARIA","LIMA","LIMA","TORRE UNICA",84,31,58.56,423600,395100,463600,429350,0,"3+"]
["059-C-2023",538,2023,"INVERSIONES MAPLE S.A.C",20602127118,"EDIFICIO MULTIFAMILIAR LA FORET","AV.SAN FELIPE N°758 Y JR.INCA RIPAC N°252","JESUS MARIA","LIMA","LIMA","TORRE A Y TORRE B",533,401,68.599999999999994,402007.7,431120,462576.8,446848.4,0,"3+"]
["060-C-2023",539,2023,"LOS PORTALES DEPARTAMENTOS S.A.C.",20553346178,"GRAN PLAZA LORETO","JIRÓN LORETO N°1588-159","BREÑA","LIMA","LIMA","TORRE UNICA",206,155,65.28,429375.83,429375.83,429375.83,429375.83,0,"3+"]
["061-C-2023",540,2023,"INMOBILIARIA VERNAZZA S.A.C.",20609052261,"VERNAZZA","AV. CORONEL JOSÉ ANDRÉS RAZURI MZ. IC LOTE 12 URB. MARANGA 3ERA ETAPA","SAN MIGUEL ","LIMA","LIMA","TORRE UNICA",67,31,67.67,443315.07,443315.07,443315.07,443315.07,0,"2+"]
["062-C-2023",541,2023,"BINDA INGENIEROS S.A.",20252109308,"VERONA - SBS 586","AVENIDA SAN BORJA SUR Y CALLE MARCHAND","SAN BORJA","LIMA","LIMA","TORRE 1",79,48,64.52,380473,360161,464000,412080.5,0,"2+"]
["063-C-2023",542,2023,"PF - NO INSCRITO EN LA SMV, DIRIGIDO A INVERSIONISTAS INSTITUCIONALES - PROYECTO GRAN OLIVO",20610338403,"CONJUNTO RESIDENCIAL “GRAN OLIVO – I ETAPA”","AV. ANGELICA GAMARRA DE LEÓN VELARDE N° 1301 ESQUINO CON CA. GAMA","LOS OLIVOS","LIMA","LIMA","TORRE A, ETAPA 1",180,23,81,406605,350500,460000,405250,0,"2+"]
["064-C-2023",543,2023,"REAL EDIFICACIONES S.A.C",20562827936,"TORRE REAL 11","AV. PRINCIPAL MZ. G LOTE 1 NRO. 497","SURQUILLO","LIMA","LIMA","TORRE UNICA",106,76,52.77,309348.11,309348.11,309348.11,309348.11,0,"2+"]
["065-C-2023 \nantes \nAE.RE.008.2024",544,2023,"DESARROLLO INMOBILIARIO FG S.A.C.",20603735651,"EDIFICIO MULTIFAMILIAR ORUM TORRE D (Antes Orum Fase 4)","JIRÓN FRANCISCO GRAÑA MZ B 7 LOTE 2-3-4 Y 6, URB SANTA CATALINA","LA VICTORIA","LIMA","LIMA","FASE 4",156,124,57.37,395576.5,387134.81,245000,316067.40500000003,0,"3+"]
["066-C-2023",545,2023,"VYV PROYECTO 71 S.A.C.",20607181625,"CARLOS GONZÁLES 239","CALLE CARLOS GONZÁLES 239","SAN MIGUEL","LIMA","LIMA","EDIFICIO ÚNICO",159,101,67,369043,345320,462650,403985,0,"3+"]
["067-C-2023",546,2023,"LIMA MODERNA INMOBILIARIA S.A.C.",20609789698,"EDIFICIO MULTIFAMILIAR MORE+ JESUS MARIA","AV. GRAL. EUGENIO GARZÓN 2018-2020-2022-2028","JESUS MARIA","LIMA","LIMA","TORRE 1",66,37,65.62,352500,352500,435000,393750,0,"1+"]
["068-C-2023",547,2023,"ARCH PARTNERS INVERSIONES INMOBILIARIAS S.A.C.",20605798145,"EDIFICIO MULTIFAMILIAR ARCH TWO","JR. AURELIO SOUSA 447","BARRANCO","LIMA","LIMA","TORRE PRINCIPAL",51,47,65.28,335818.51,343900,343900,343900,0,"2+"]
["AE.RE.005.2023",548,2023,"IN ESPINELA SAC",20607772054,"CONJUNTO RESIDENCIAL PATRIA"," FUNDO TEJADA, JIRÓN CARLOS ARRIETA 380","BARRANCO","LIMA","LIMA","EDIFICIO 1 ",116,72,70.28,418641.83,354300,374300,364300,0,"3+"]
["069-C-2023",549,2023,"HL.SI S.A.C.",20521119943,"FAMILY APARTMENTS"," CALLE RICARDO FLORES ESQUINA CON LA CALLE ALBERTO J. BATON, MZ L, LOTES 13,14 Y 15, URB SANTA CATALINA.","LA VICTORIA","LIMA","LIMA","ETAPA 1 A LA ETAPA 4",724,724,90,196845,357097.03,456506.16,406801.59499999997,0,"2+"]
["070-C-2023",550,2023,"CONSTRUCTORA GALILEA S.A.C.",20521119943,"SOL DE LAMBAYEQUE II","AV.ANDRES AVELINO CACERES - PARCELA 7","LAMBAYEQUE","LAMBAYEQUE","LAMBAYEQUE","ETAPA 1 A LA ETAPA 4 ",724,724,90,196845,163990,163990,163990,0,"2+"]
["071-C-2023",551,2023,"INMOBILIARIA DEL NORTE NEWCO S.A.C",20608408054,"SIMÓN"," AVENIDA SIMÓN BOLÍVAR / CALLE SAN CARLOS NÚMERO 1451, 1455, 1459","PUEBLO LIBRE","LIMA","LIMA","TORRE ÚNICA",65,55,60.61,411587.88,377400,377400,377400,0,"2+"]
["072-C-2023",552,2023,"INMOBILIARIA DEL ESTE NEWCO S.A.C",20607250406,"INIZZIO"," AVENIDA CAMINOS DEL INCA MANZANA B LOTE 03","SURCO","LIMA","LIMA","TORRE UNICA",90,26,65.400000000000006,510592,309138,422762,365950,0,"2+"]
["073-C-2023",553,2023,"TER EDIFICACIONES S.A.C.",20602491511,"MORAR"," AV. TOMAS MARSANO N° 2239-2245-2253-2259-2267- 2273","SURQUILLO","LIMA","LIMA","TORRE UNICA",160,90,53.9,432689.25,353440,464233,408836.5,0,"3+"]
["074-C-2023",554,2023,"INMOBILIARIA DEL OESTE NEWCO S.A.C",20609446561,"VELERO","RESIDENCIAL INGENIEROS LA CASTELLANA, CAL. EL VELERO, INMUEBLE 150, MANZANA C, LT.13","SANTIAGO DE SURCO","LIMA","LIMA","TORRE UNICA",16,7,80.64,484091,394007,422762,408384.5,0,"2+"]
["075-C-2023",555,2023,"PROYECTOS CONSTRUCTIVOS \nSTELLA S.AC.",20606415797,"ALTO GAVIOTAS"," AVENIDA GAVIOTAS 436-440-444 URB. LA CAMPIÑA.","CHORRILLOS","LIMA","LIMA","TORRE 1 Y 2 ",104,104,51.42,316759.62,345000,452000,398500,0,"3+"]
["076-C-2023",556,2023,"T&C HOLDING S.A.C",20392638408,"EDIFICIO MULTIFAMILIAR BERTOLOTTO ETAPA 2, 3 Y 4","MALECÓN BERTOLOTTO LOTE 3ª N°750-752-754","SAN MIGUEL","LIMA","LIMA","ETAPA 2, 3 Y 4 ",415,378,58.58,338902.25,351205.7,464059,407632.35,0,"2+"]
["077-C-2023",557,2023,"CORPORACION ALKAMAT EIRL",20610203613,"EDIFICIO MODERNA","JR CADIZ 410","PUEBLO LIBRE","LIMA","LIMA","TORRE 1 ",16,16,60,392876.14,347049,431831,389440,0,"1+"]
["078-C-2023",558,2023,"GRUPO D Y M CONSTRUCTORA S.A.C.",20603018754,"EDIFICIO PALMER","JR. JORGE CHÁVEZ N°1039-1045 URB. FUNDO BREÑA","BREÑA","LIMA","LIMA","TORRE UNICA",102,102,62.29,348590.99,343900,429500,386700,0,"2+"]
["079-C-2023",559,2023,"GENOVA PROYECTOS S.A",20606066083,"MULTIFAMILIAR NUEVA AURORA 3","CAL.JUAN DE LA FUENTE NRO.378","SURQUILLO","LIMA","LIMA","TORRE A",70,23,53.3,429991.75,440900,458900,449900,0,"3+"]
["080-C-2023",560,2023,"VIVIENDAS DEL PERU S.A.C.",20512691529,"HIT","AV. JAVIER PRADO, LOTE 7, MZA. H, URB. LAS DALIAS","SAN BORJA","LIMA","LIMA","PROYECTO INTEGRAL",96,80,57.16,387815.9,358167,449599,403883,0,"2+"]
["081-C-2023",561,2023,"INVERSIONES INMOBILIARIAS DEL SUDOESTE S.A",20508650613,"ALTO BELLAVISTA","AV.OSCAR R. BENAVIDES N°5082","BELLAVISTA","CALLAO","LIMA","TORRE A,B,C,D,E Y F",864,864,68.12,329668.07,343900,443989,393944.5,0,"3+"]
["082-C-2023",562,2023,"PAZ CENTENARIO S.A.",20518023579,"CIUDAD VERDE ETAPA 5 Y 6","AV. PANAMERICANA NORTE Y CA. LAS HIEDRAS. FUNDO GALLINAZOS PARCELA 73-UC","PUENTE PIEDRA","LIMA","LIMA","ETAPA 5 (TORRE C, TORRE D) ETAPA 6 (TORRE A, TORRE B)",252,252,61.6,208285,208285,183299,195792,0,"1+"]
["083-C-2023",563,2023,"INMOBILIARIA MARIELLE S.A.C.",20601557321,"RESIDENCIAL LOS LAURELES","CALLE TORONTO S/N MZ L LT 13, URB. LOS LAURELES","CHORRILLOS","LIMA","LIMA","TORRE ÚNICA",8,7,80,455520,252500,455520,354010,0,"1+"]
["084-C-2023",564,2023,"EDIFICACIONES INCA S.A.C",20533211195,"EDIFICIO STAMPA","CALLE ARICA MZ A LOTE 9 Y LOTE 10 ","TACNA","TACNA","TACNA","TORRE 1 ",33,33,80,270000,366753.2,447260,407006.6,0,"1+"]
["(085-C-2023)\nantes\nAE.RE.004.2024",565,2023,"CHECOR INVERSIONES S.A.C.",20608438701,"EDIFICIO MULTIFAMILIAR LAS DALIAS","JR. ENRIQUE BARRON N°1354-1356-1366, URB.  SANTA BEATRIZ ","CERCADO DE LIMA","LIMA","LIMA","ETAPA 1( EDIFICIO 1)",56,43,53.77,334488,305258,365371,335314.5,0,"3+"]
["086-C-2023",566,2023,"GRUPO POZO S.A.C.",20512957227,"RESIDENCIAL LA FLORESTA","CALLE 55 NRO. 242 MZ. TT-2, LOTE 51 DE LA URB. PRO 2DO SECTOR 1ERA ETAPA ","LOS OLIVOS","LIMA","LIMA","TORRE ÚNICA",18,18,64.13,303982,264660,341880,303270,0,"2+"]
["087-C-2023",567,2023,"COLONIA GRUPO INMOBILIARIA SAC.",20536959069,"MULTIFAMILIAR LA PERLAMAR TORRE","AV. JOSÉ GALVEZ  Nº 1314","LA PERLA","CALLAO","LIMA","TORRE ÚNICA",39,39,60,274846,290160,326900,308530,0,"1+"]
["088-C-2023",568,2023,"INVERSIONES INMOBILIARIAS DEL IGUAZU S.A",20517504620,"ALTO ALBORADA","AV. VENEZUELA N°2505 ESQUINA CON AV. ALBORADA Nº1085","CERCADO DE LIMA ","LIMA","LIMA","TORRE A, B Y C",644,644,68.59,347012.26,284800,439830,362315,0,"3+"]
["089-C-2023",569,2023,"INMOBILIARIA ACTUAL FAISANES 343 S.A.C.",20607539040,"MULTIFAMILIAR FAISANES 343"," AV. LOS FAISANES 343","CHORRILLOS","LIMA","LIMA","TORRE A Y B ",244,244,59.6,305080.82,174000,462600,318300,0,"3+"]
["090-C-2023",570,2023,"INVERSIONES INMOBILIARIAS DE LA HISPANIA S.A.",20517001636,"ALTO LIMA PARK  (antes Conjunto Residencial Alto Benavides 2)"," AV. COLONIAL N°1140, ESQUINA CON JR. RICARDO TRENNEMAN 880-884.","CERCADO DE LIMA","LIMA","LIMA","TORRE A, B , C, D Y E",848,848,66.900000000000006,367774.95,273510,461995.65,367752.82500000001,0,"3+"]
["091-C-2023",571,2023,"QUATRO LAMBDA S.A.C.",20607761702,"EDIFICIO MULTIFAMILIAR COR TOWER"," AV. NICOLAS ARRIOLA 501,503, 505,507, CON CALLE JOSE DE RIVADENEYRA 1093.","LA VICTORIA","LIMA","LIMA","TORRE ÚNICA",127,111,61.86,413855.13,343192.35,461030.06,402111.20499999996,0,"2+"]
["092-C-2023",572,2023,"INVERSIONES NUEVO PACIFICO S.A.C.",20481775575,"RESIDENCIAL EL CARMEN","CALLE 03A MZ.”P-3” LT “49” URB. ASOCIACIÓN DE VIVIENDA EL CARMEN","TRUJILLO","TRUJILLO","LIBERTAD","TORRE ÚNICA",30,30,85.88,274550,267150,289950,278550,0,"2+"]
["093-C-2023",573,2023,"LOS PORTALES S.A",20301837896,"VILLA SAN CARLOS","PREDIO GUAYABO","ICA","ICA","ICA","MANZANA A,C,D y E",58,58,45.02,156637.93,149000,174000,161500,0,"3+"]
["094-C-2023",574,2023,"ECO STYLE SAC",20603849923,"EDIFICIO MULTIFAMILIAR ECO STYLE ","AV. JAVIER PRADO OESTE 2355-2361- URB. COUNTRY CLUB - MZ 74 - LTES: 1 Y 2 /3","MAGDALENA DEL MAR","LIMA","LIMA","EDIFICIO 1 Y EDIFICIO 2 ",249,153,60.38,497269.68,311659,343638,327648.5,0,"1+"]
["095-C-2023",575,2023,"VIVIENDAS DEL PERÚ S.A.C",20512691529,"ABSTRACT","AV.JOSE CASIMIRO  ULLOA Nº 324-328,URB.MIRAFLORES","MIRAFLORES","LIMA","LIMA","PROYECTO INTEGRAL",113,75,46.8,337744.15,306408,391131,348769.5,0,"2+"]
["096-C-2023",576,2023,"VIVIENDAS DEL PERÚ S.A.C",20512691529,"LUXO","CA. MANUEL ROUD Y PZ Y SOLDAN Nº360-364-368, URB. CONDE DE SAN ISIDRO","SAN ISIDRO","LIMA","LIMA","TORRE ÚNICA",113,83,40,401314,337538,460818,399178,0,"2+"]
["097-C-2023",577,2023,"GRUPO POZO S.A.C.",20512957227,"ALASKA 24","CAL. NEVADO HUANDOY MZ. K LOTE 24 DE LA URBANIZACIÓN ALPAMAYO","ATE","LIMA","LIMA","TORRE ÚNICA",16,16,88.41,365963,326144,367796,346970,0,"2+"]
["098-C-2023",578,2023,"VIVIENDAS DEL PERÚ S.A.C",20512691529,"PREMINENZA","AV. JAVIER PRADO  OESTE  Nº 430-470, URB. ORRANTIA","SAN ISIDRO","LIMA","LIMA","PROYECTO INTEGRAL",195,124,37.5,429370,293400,441500,367450,0,"2+"]
["(001-C-2024)\nanterior\nAE.RE.002.2024",579,2024,"CONSTRUCTORA E INMOBILIARIA BRAZIL SAC",20543566501,"EDIFICIO MULTIFAMILIAR SANTORINI","JR. ALEJANDRO  TIRADO N° 731-737-741-751-771","CERCADO DE LIMA","LIMA","LIMA","TORRE ÚNICA",327,266,65.790000000000006,404787.4,266619.38,430711.88,348665.63,0,"3+"]
["002-C-2024",580,2024,"CLASEM SAC",20516390060,"CONDOMINIO CLUB EL ROSEDAL","AV. CIRCUNVALACIÓN, URB. SAÑOS CHICO","TAMBO","HUANCAYO","JUNIN","ETAPA 2 (TORRE 10,11,12,13,14,15) ETAPA 3 (TORRE 16,17,18,19,20 Y 21)",480,480,70.489999999999995,181907.74,124900,259900,192400,0,"2+"]
["003-C-2024",581,2024,"INMOBILIARIA  MIRAFLORES PERU S.A.C",20523155572,"VYVE PIURA","ACUMULACIÓN DE TERRENOS RÚSTICOS EN EL SECTOR DENOMINADO EL GOLF, UBICADO EN LA VÍA EXPRESA (AVENIDA APROBADA EN EL PLAN DE DESARROLLO URBANO DE PIURA).","CASTILLA","PIURA","PIURA","ETAPA 1: MANZANA B, MANZANA C,\nMANZANA D, MANZANA E, MANZANA F,\nMANZANA G, MANZANA H, MANZANA I,\nMANZANA K",212,212,44.77,158448.82999999999,139400,232200,185800,0,"3+"]
["004-C-2024",582,2024,"BESCO S.A.C.",20416162299," LOS PARQUES DE SAN JUAN CONDOMINIO ECOAMIGABLE \n","AV. PORTADA DEL SOL N°870 / 1050","SAN JUAN DE LURIGANCHO ","LIMA","LIMA","TORRE 1- TORRE 2, TORRE 3, TORRE 4, TORRE 5, TORRE 6, TORRE 7 Y TORRE 8. ",1308,1276,66,"284,00.00",265200,428000,346600,0,"3+"]
["005-C-2024",583,2024,"GCC VIVIENDAS SAC",20603964099,"EDIFICIO MULTIFAMILIAR NEREA"," AV. SIMÓN BOLÍVAR 947, URBANIZACIÓN PARQUE RESIDENCIAL","PUEBLO LIBRE","LIMA","LIMA","1 EDIFICIO",108,56,73.28,444118.98,207660.3,346200,276930.15000000002,0,"3+"]
["006-C-2024",584,2024,"H.L. DESARROLLOS INMOBILIARIOS S.A.C",20608933434,"FRIENDZ 2","CALLE ANDRÓMEDA, MZ. J, LOTE 03. URBANIZACIÓN PARCELACIÓN LA CAMPIÑA","CHORRILLOS","LIMA","LIMA","BLOQUE B Y BLOQUE A ",170,170,63.94,313103.42,238369.75,357123.49,297746.62,0,"3+"]
["007-C-2024",585,2024,"CLASEM S.A.C",20516390060,"CONDOMINIO MIRADOR DEL GOLF ETAPA 3, 4 Y 5","PROLONGACIÓN AV. CESAR VALLEJO Y CALLE 28 DE JULIO - LOTE 1 - MANZANA A, URB. MIRADOR DEL GOLF, SECTOR CAMPIÑA DE HUAMÁN, PREDIO EL CHALECO O TAITA BALTA,","VICTOR LARCO HERRERA","TRUJILLO","LIBERTAD","ETAPAS 3,4 Y 5",297,297,75.13,287045.81,203097.60000000001,436652.1,319874.84999999998,0,"2+"]
["(008-C-2024)\nanterior\nAE.RE.006.2024",586,2024,"IN ONIX SAC",20607766542,"CONJUNTO RESIDENCIAL SAN FELIPE"," AV. SAN FELIPE N°785-787 – URB. DEL FUNDO MATALECHUZA GRANDE O SAN FELIPE","JESUS MARIA","LIMA","LIMA","EDIFICIO 1 Y 2",116,72,70.28,448995.1,288705,423320,356012.5,0,"3+"]
["009-C-2024",587,2024,"CASAIDEAL PROYECTO 21 SAC",20605903976,"CONJUNTO MULTIFAMILIAR PRINT"," CA. ONTARIO MZ. M LOTE 27, URB. LA CAMPIÑA","CHORRILLOS","LIMA","LIMA","BLOQUE A,B Y C",124,124,60.89,306196.8,258300,326300,292300,0,"3+"]
["010-C-2024",588,2024,"MG HABITAT SAC",20608254421,"ALBORADA II"," AV. LA PAZ Nº 1147, 1149, 1163, 1171 MZ. E LT. 19 URB. MIRAMAR.","SAN MIGUEL","LIMA","LIMA","TORRE A",254,254,57.41,281686.15999999997,188000,421300,304650,0,"3+"]
["011-C-2024",589,2024,"INVERSIONES INMOBILIARIAS Z&Z S.A.C",20518426428,"CONJUNTO RESIDENCIAL MULTIFAMILIAR LAS TORRES DE CARABAYLLO","MANZANA 8, SUB-PARCELA 1D, LOTE 01 – NUEVA URBANIZACIÓN TORRE BLANCA III ETAPA","CARABAYLLO","LIMA","LIMA","MANZANA 8: TORRE A, TORRE B, TORRE C, TORRE D Y TORRE E ",320,320,47.78,159625,109000,189000,149000,0,"2+"]
["012-C-2024",590,2024,"DESARROLLADORA VISTA NEVADO S.A.C",20602442439,"CASAPARQ- CERRO COLORADO","CERRO COLORADO, PAGO DE CHALLAPAMPA, FUNDO \"LA MANRIQUE\" CALLE ROSARIO","CERRO COLORADO","AREQUIPA","AREQUIPA","TORRE C",84,76,70.64,271696.7,232000,340000,286000,0,"3+"]
["013-C-2024",591,2024,"LOS PORTALES S.A.",20301837896,"VILLA DE LA ALAMEDA SUR II","ALTURA DEL KM 61.2 DE LA CARRETERA PANAMERICANA SUR, DENOMINADO SUBLOTE 1 -QUEBRADA PARCA ","CHILCA","CAÑETE","LIMA","MANZANA A,B,C,D,E,F,G,H",201,201,45.02,156637.93,158900,165400,162150,0,"3+"]
["014-C-2024",592,2024,"RESIDENCIAL MIRADOR COSTA SUR S.A.C.",20609717131,"EDIFICIO MULTIFAMILIAR CASTILLA","AVENIDA MARISCAL RAMÓN CASTILLA N° 334- 338- 350-354","SANTIAGO DE SURCO","LIMA","LIMA","ETAPA ÚNICA",234,137,62.58,412157,322000,434000,378000,0,"2+"]
["015-C-2024",593,2024,"GRUPO D Y M CONSTRUCTORA E INMOBILIARIA S.A.C.",20550506352,"VITTORIE","AV. PRINCIPAL, MZ. A LOTE 23 Y 24","SURQUILLO","LIMA","LIMA","TORRE ÚNICA",57,56,55.52,236100,429200,430711.88,429955.94,0,"2+"]
["016-C-2024",594,2024,"INVERSIONES ZJME S.A.C.",20605500235,"EDIFICIO MULTIFAMILIAR THE PARK","JR JOAQUIN BERNAL N° 704-708","LINCE","LIMA","LIMA","TORRE ÚNICA",62,39,54.96,445410.73,408867.53,464200,436533.76500000001,0,"2+"]
["017-C-2024",595,2024," INMOBILIARIA 06 DE AGOSTO S.A.C",2610707182,"EDIFICIO MULTIFAMILIAR NEW ONE","AVENIDA 6 DE AGOSTO N° 409-416-419, ESQUINA CON JR. ALMIRANTE GUISSE N° 912.","JESUS MARIA","LIMA","LIMA","TORRE ÚNICA",63,52,57.47,395788.46,310000,464000,387000,0,"2+"]
["(018-C-2024) \nanterior\nAE.RE.005.2024",596,2024,"LOS PORTALES DEPARTAMENTOS S.A.C.",20553346178,"GRAN GUARDIA PERUANA \n","AV. GUARDIA PERUANA MZ. G, SUB-LOTE. 29 Y LOTE 30, URBANIZACIÓN LA CAMPIÑA.","CHORRILLOS","LIMA","LIMA","ETAPA 1 Y 2",386,386,61.63,328907.61,194708,378826,286767,0,"3+"]
["019-C-2024",597,2024,"CAPITAL CONSTRUCCION E INFRAESTRUCTURA S.A.C",20603433077,"CONDOMINIO LUZZO \n"," AV. FUNDO CALLAPAMPA MZ. J SUBLOTE 1-A. ","CERRO COLORADO","AREQUIPA","AREQUIPA","TORRE 1",97,88,74.53,375236.51,257184,444558.24,350871.12,0,"1+"]
["020-C-2024",598,2024,"EDIFICIO PIANA S.A.C.",20611398175,"EDIFICIO MULTIFAMILIAR PIANA"," AV. SIMÓN BOLÍVAR NRO. 105-107. ","PUEBLO LIBRE","LIMA","LIMA","TORRE 1",104,104,52.15,340403.85,228000,387000,307500,0,"2+"]
["021-C-2024",599,2024,"PROMOTORA ALBASUR S.A.C.",20609683946,"EDIFICIO MULTIFAMILIAR ARENALES"," AV. GENERAL ARENALES N°1085-1087-1093, ESQUINA CON EL JR. MARIANO CARRANZA","CERCADO DE LIMA","LIMA","LIMA","TORRE ÚNICA",126,78,54.23,336253,200900,461700,331300,0,"3+"]
["022-C-2024",600,2024,"PROMOTORA ALBAOESTE S.A.C.",20609645351,"EDIFICIO MULTIFAMILIAR PETIT THOUARS","AV. PETIT THOUARS N°1598 ESQUINA CON JR. EMILIO ALTHAUS N° 289-275","LINCE","LIMA","LIMA","TORRE ÚNICA",96,55,41.96,306853,221900,384000,302950,0,"3+"]
["023-C-2024",601,2024,"GDC PROYECTOS PERU D S.A.C.",20610161872,"CASA BARRANCO 695","CALLE ENRIQUE BARRON, MZ.15 LT 158 – 159, URB. TEJADA","BARRANCO","LIMA","LIMA","TORRE ÚNICA",26,22,45.95,452831.94,349318,461175,405246.5,0,"2+"]
["024-C-2024",602,2024,"GDC PROYECTOS PERU B S.A.C.",20606959118,"VIVIENDA MULTIFAMILIAR PARK PRADO","AV. JAVIER PRADO ESTE MZ, A LOTE 1 Y 2","VICTORIA","LIMA","LIMA","TORRE 1",384,194,60.63,457021.81,245000,449110.59,347055.29500000004,0,"3+"]
["025-C-2024",603,2024,"INMOBILIARIA BASILEA S.A.C",20609114518,"LUXURY TOWER","AV. METROPOLITANA O VILLA S/N, MZ. I, SUB. LOT. 1.","CERRO COLORADO","AREQUIPA","AREQUIPA","TORRE NORTE Y SUR",310,256,68.430000000000007,381499.91,247108.56940000001,469430.027,358269.29820000002,0,"2+"]
["026-C-2024",604,2024,"H.L. DESARROLLOS INMOBILIARIOS S.A.C",20608933434,"MF WORK & LIVING APARTMENTS"," AV. PASEO DE LA REPÚBLICA N° 6332-6334-6338-6340","MIRAFLORES","LIMA","LIMA","TORRE ÚNICA",177,177,54.02,411919.18,353165,463480.5,408322.75,0,"3+"]
["027-C-2024",605,2024,"TM GESTION INMOBILIARIA S.A.C.",20549790373,"RESIDENCIAL JARDINES DE SANTA BEATRIZ-ETAPA II"," JR. CMDTE. TORRE PAZ 1269-1299; CABO TEODORO CARDENAS 701-737; JOSÉ GALVEZ 1212-1276.","CERCADO DE LIMA","LIMA","LIMA","ETAPA II - TORRE B",58,52,52,379290,217695,448475,333085,0,"2+"]
["028-C-2024",606,2024,"CASALUX S.A.C.",20609819651,"LA MARINA BY BENGALA"," AV. LA MARINA 2255, URB PANDO II ETAPA.","SAN MIGUEL","LIMA","LIMA","TORRE 1",169,169,65,438880,256000,452000,354000,0,"3+"]
["029-C-2024",607,2024,"CERVANTES CONSTRUCTORES S.A.C.",20610835571,"RESIDENCIAL CERVANTES","CALLE CUL DE SAC, MIGUEL DE CERVANTES N°117-119 LOTE 3.","AREQUIPA","AREQUIPA","AREQUIPA","BLOQUE 1 Y 2",74,74,67.760000000000005,271788.95,170621.1,474536.4,322578.75,0,"2+"]
["030-C-2024",608,2024,"INMOBILIARIA CLASS PERÚ SAC",20609512076,"EDIFICIO MULTIFAMILIAR RESIDENCIAL LOS LAURELES","URBANIZACIÓN SAN JUAN DE MIRAFLORES PARCELA D, JR. MANUEL PORTOCARRERO N° 807-809 (MZ. P2 LOTE 21)","SAN JUAN DE MIRAFLORES","LIMA","LIMA","TORRE ÚNICA",22,22,64,320000,265486,435885,350685.5,0,"1+"]
["031-C-2024",609,2024,"INVERSIONES PSL S.A.C.",20505945213,"TORRE LUCAS","AV. PIO XII ESQUINA JIRÓN LAUTARO, MZ. DL LOTE 18, URB. MARANGA SEXTA ETAPA,","SAN MIGUEL","LIMA","LIMA","TORRE ÚNICA",34,34,72,395000,360000,430000,395000,0,"2+"]
["032-C-2024",610,2024,"PAZ REAL ESTATE S.A.C.",20605346716,"FLORENCIA","AV. MARIANO CORNEJO N° 1449-1451-1453-1453ᵃ-1455B-1457-1461-1463","PUEBLO LIBRE","LIMA","LIMA","TORRE ÚNICA",238,146,60.38,338238,192026,470719,331372.5,0,"3+"]
["033-C-2024",611,2024,"INMOBILIARIA DACITY S.A.C.",20601558352,"ALIAGA 750","AV. JUAN DE ALIAGA ESQ. AV. PERSHING","MAGDALENA DEL MAR","LIMA","LIMA","TORRE ÚNICA",237,109,54,414181,313500,463050,388275,0,"3+"]
["034-C-2024",612,2024,"CORPORACIÓN INMOBILIARIA SANTO CRISTO S.A.C.",20609501503,"EDIFICIO MULTIFAMILIAR ASTROMELIA","\n AVENIDA SALAVERRY N° 1880.","JESUS MARIA","LIMA","LIMA","TORRE ÚNICA",244,161,58.09,369480.12,250131,472299.95,361215.47499999998,0,"3+"]
["035-C-2024",613,2024,"WR S.A.",20100048702,"CONJUNTO RESIDENCIAL “CONDOMINIO CINNCO”","JR. H (EX CALLE C) S/N, MANZANA C-2, LOTE 02, LOTE 03, LOTE 04 Y LOTE 05, PERTENECIENTE A LA ACUMULACIÓN DE PARCELAS B2-B1 Y PARCELA B2-A DE LA PARCELA B2, URBANIZACIÓN \"ALAMEDAS DEL RETABLO- TERCERA ETAPA.","COMAS ","LIMA","LIMA","TORRES A, B Y C (ETAPAS 1,2 Y3)",420,420,75,315727,294680,352342.42,323511.20999999996,0,"3+"]
["036-C-2024",614,2024,"LOS PORTALES DEPARTAMENTOS S.A.C.",20553346178,"GRAN CENTRAL COLONIAL 2","AV. COLONIAL N°2140-2178 URB. ZONA INDUSTRIAL LA TRINIDAD SEGUNDA ETAPA.","CERCADO DE LIMA","LIMA","LIMA","ETAPA 1 Y 2",447,447,58.83,307976.90000000002,200676,349188,274932,0,"3+"]
["(037-C-2024)\nanterior\nAE.RE.007.2024",615,2024,"BESCO S.A.C.",20416162299,"CENTRIQO CLUB CONDOMINIO ECOAMIGABLE","AV. REPÚBLICA DE VENEZUELA 2505.","CERCADO DE LIMA","LIMA","LIMA","TORRES 1,2,3,4,5,6,7,8",1260,1260,67,309106,244433,477600,361016.5,0,"3+"]
["038-C-2024",616,2024,"LYNX CONSTRUCTORA S.A.C.",20602062318,"TIZON Y BUENO APARTAMENTOS","AV. RICARDO TIZON Y BUENO N° 160-162","JESUS MARIA","LIMA","LIMA","TORRE 1",114,99,65.64,404465.08,290178,451407.6,370792.8,0,"3+"]
["039-C-2024",617,2024,"DESARROLLO AGUARICO SAC",20610182730,"MOMEN"," AV. AGUARICO 1251","BREÑA","LIMA","LIMA","ETAPA ÚNICA",848,848,60.83,359760,294122.40000000002,427856,360989.2,0,"2+"]
["040-C-2024",618,2024,"PROMSAL S.A.C.",20515876937,"ENTRENOS"," JR. TACNA 655","MAGDALENA DEL MAR","LIMA","LIMA","EDIFICIO ÚNICO",52,58,52,379290,217695,448698,333196.5,0,"2+"]
["041-C-2024",619,2024,"BALANCE BETA S.A.C.",20602712851,"HERCELLES","JIRÓN OSWALDO HERCELLES N°264 - 266 - 276 Y 27","LA VICTORIA","LIMA","LIMA","EDIFICIO ÚNICO",71,51,58,426239,329000,462000,395500,0,"2+"]
["(042-C-2024)\nanterior\nAE.RE.009.2024",620,2024,"MIRANDA CONSTRUCTORES S.A.",20392504894,"LAS LOMAS RESIDENCIAL ECOAMIGABLE","AV. A / AV. B S/N LOTE N°2 MZ B","RIMAC","LIMA","LIMA","EDIFICIO 1",144,144,59.42,308850.69,250100,372800,311450,0,"3+"]
["043-C-2024",621,2024,"CONSTRUCTORA MARTE S.A",2508833611,"EDIFICIO AMATISTA"," AV. BRASIL NRO.325 ESQ. CALLE CERVANTES","CERCADO DE LIMA","LIMA","LIMA","TORRE 1",266,264,55.78,322299.63,186265,439000,312632.5,0,"3+"]
["(044-C-2024)\nanterior\nAE.RE.010.2024",622,2024,"DESARROLLADORA VISTA NEVADO S.A.C.",20602442439,"CASAPARQ- CERRO COLORADO TORRE D"," CERRO COLORADO, PAGO DE CHALLAPAMPA, FUNDO \" LA MANRIQUE \" CALLE ROSARIO","CERRO COLORADO","AREQUIPA","AREQUIPA","TORRE D",60,60,68.12,300788.64,232000,396250,314125,0,"3+"]
["045-C-2024",623,2024,"LOS PORTALES S.A",20301837896,"VILLA DEL VALLE ETAPAS 1, 2 Y 3","LOTE A, SIGNADO CON U.C. N° 12726, SECTOR DE HUACACHINA","ICA","ICA","ICA","ETAPAS 1, 2 Y 3",212,212,45.2,161733.96,157000,172000,164500,0,"3+"]
["047-C-2024",624,2024,"GDC PROYECTOS PERU E S.A.C.",20610568271,"CASA BARRANCO 195","PASAJE GENERAL PEDRO BUSTAMANTE Nº 195-197 Y PASAJE TUMAY Nº 60","BARRANCO","LIMA","LIMA","TORRE ÚNICA",26,13,51.74,427263.4,409212,478674,443943,0,"2+"]
["046-C-2024",625,2024,"CONSTRUCTORA E INMOBILIARIA OPTIMUS S.A.C.",20547778333,"EDIFICIO OMBÚ","JIRÓN PEDRO TORRES MALARÁN N° 522 - 524","PUEBLO LIBRE","LIMA","LIMA","TORRE ÚNICA",17,9,61.54,315000,227000,343300,285150,0,"1+"]
["048-C-2024",626,2024,"LOS PORTALES DEPARTAMENTOS S.A.C.",20553346178,"EDIFICIO MULTIFAMILIAR GRAN JARDÍN TICINO","CALLE TICINO N° 123 SUBLOTE A3-2, URB. FUNDO INQUISIDOR Y PULIDO","SANTA ANITA","LIMA","LIMA","5 EDIFICIOS",280,280,59.81,301410.77,217800,341299,279549.5,0,"3+"]
["049-C-2024",627,2024,"LARES INMOBILIARIA S.A.C",20610463780,"EDIFICIO MULTIFAMILIAR AMARANTA","AV. BOLÍVAR Nº959-961-963-965-967-969-971","PUEBLO LIBRE","LIMA","LIMA","TORRE ÚNICA",320,311,55.78,326616.71999999997,222334.09,476938.8,349636.44500000001,0,"3+"]
["050-C-2024",628,2024,"S&P DESARROLLADORES INMOBILIARIOS S.A.C",20600690028,"CONJUNTO RESIDENCIAL LOS GORRIONES 5","CALLE LOS GORRIONES 225, LOTE 35, URB. LA CAMPIÑA ","CHORRILLOS","LIMA","LIMA","EDIFICIO ÚNICO",144,142,71.97,318000,205900,400425.76,303162.88,0,"2+"]
["051-C-2024",629,2024,"INVERSIONES INMOBILIARIAS ÁRTICO S.A.C",20610776702,"EDIFICIO MULTIFAMILIAR ENEL"," JR. CESAR LÓPEZ ROJAS Nº201","SAN MIGUEL","LIMA","LIMA","TORRE ÚNICA",235,235,61.03,350136.3,214359,474582,344470.5,0,"3+"]
["052-C-2024",630,2024,"MARINA CITY CENTER SOCIEDAD ANÓNIMA CERRADA",20610141898,"MARINA CITY CENTER – TORRE 1"," AV. RAFAEL ESCARDO AGUIRRE Nº530 URB.MARANGA","SAN MIGUEL","LIMA","LIMA","TORRE 1",169,115,72.62,451547.12,319745,427896,373820.5,0,"2+"]
["053-C-2024",631,2024,"RESIDENCIAL ARAMBURU S.A.C.",20610294953,"TORRE PAINO","AV. ANDRÉS ARAMBURU Nº 654-656-662-668-670-676","SURQUILLO","LIMA","LIMA","ETAPA ÚNICA",230,132,62.5,450635,236880,476000,356440,0,"3+"]
["054-C-2024",632,2024,"CONSTRUCTORES & ASOCIADOS  HASA SOCIEDAD ANONIMA CERRADA",20610479066,"EDIFICIO MULTIFAMILIAR D´AVANTI","JR. LOS PATRIOTAS Nº 418-424 MZ \"4\" LT 14 Y 15. URBANIZACION MARANGA 3 ERA ETAPA ","SAN MIGUEL ","LIMA","LIMA","TORRE ÚNICA",158,158,56.61,337785.87,186294.51,456083.67,321189.08999999997,0,"3+"]
["055-C-2024",633,2024,"GRUPO POZO S.A.C.",20512957227,"SAN IGNACIO DE CHACLACAYO","CTRA. CENTRAL 2078","CHACLACAYO","LIMA","LIMA","TORRE 1, TORRE 2, TORRE 3 , TORRE 4, TORRE 5",348,348,57.7,239684,172000,308000,240000,0,"3+"]
["056-C-2024",634,2024,"ECO VITAL INMOBILIARIA SOCIEDAD ANONIMA CERRADA",20609696258,"CAMELIA","AV. 28 DE JULIO Nª332-334-336-338-340-342-344","JESUS MARIA","LIMA","LIMA","TORRE ÚNICA",240,238,68.83,295524.78000000003,139922.64000000001,464539.73,302231.185,0,"3+"]
["057-C-2024",635,2024,"V&V PROYECTO 75 SAC",20609787041,"SALAVERRY 2431","AVENIDA SALAVERRY 2431","SAN ISIDRO","LIMA","LIMA","EDIFICIO ÚNICO",297,187,50,393352,308865,464200,386532.5,0,"2+"]
["(025-C-2023)\nantes\nAE.RE.011.2024 ",636,2023,"CONSTRUCTORA CUMBRES VILLANOVA S.A.C.",20602704891,"CONJUNTO RESIDENCIAL “CONDOMINIO VILLANOVA 5” ETAPA B-240"," AV. REPUBLICA DE ARGENTINA N°2424 Y JIRÓN VILLEGAS N°582-584 (MZ A LOTE 1)","CALLAO","CALLAO","LIMA","TORRE 2 Y TORRE 5",660,240,68.19,245030.58,241009.17,365596,303302.58500000002,0,"3+","Primero certifico al grado 2+, con 660 con viviendas con Bono. "]
["058-C-2024",null,null,"CLASEM SOCIEDAD ANONIMA CERRADA",20516390060,"Residencial LA ARBOLEDA-CERRO COLORADO 1era etapa \"FASE II\"",null,null,null,null,"1 ERA ETAPA \"FASE II\"",null,120,null,null,null,null,null,null,"2+"]
["059-C-2024",null,null,"INVERSIONES TIERRA BLANCA S.A.C.",20518883322,"EDIFICIO RESIDENCIAL GALA",null,null,null,null,"TORRE ÚNICA ",null,51,null,null,null,null,null,null,"1+"]
["060-C-2024",null,null,"PROYEC PROYECTO 01 SAC",20611306386,"EDIFICIO MULTIFAMILIAR PATRIOTAS",null,null,null,null,"TORRE ÚNICA ",null,78,null,null,null,null,null,null,"2+"]
["061-C-2024",null,null,"MIXXO S.A.C",20611153903,"MIXXO",null,null,null,null,"TORRE A Y B",null,126,null,null,null,null,null,null,"2+"]
["062-C-2024",null,null,"CHECOR PROYECTO 12 S.A.C.",20611249072,"EDIFICIO MULTIFAMILIAR LOS LIRIOS",null,null,null,null,"TORRE ÚNICA ",null,79,null,null,null,null,null,null,"2+"]
["063-C-2024",null,null,"GDC PROYECTOS PERÚ F. S.A.C",20610817808,"VIVIENDA MULTIFAMILIAR UNICO MAGDALENA",null,null,null,null,"TORRE ÚNICA ",null,98,null,null,null,null,null,null,"2+"]
["064-C-2024",null,null,"DESARROLLO PLAZA GRAU S.A.C",20563177323,"EDIFICIO MULTIFAMILIAR QANTUA (MIDLIMA)",null,null,null,null,"PROYECTO INTEGRAL - ETAPA 1 A LA ETAPA 4 (11TORRES)",null,328,null,null,null,null,null,null,"2+"]
["065-C-2024",null,null,"ENFOCA REAL STATE S.A.C",20611199768,"BROADWAY RESIDENCIAL",null,null,null,null,"TORRE ÚNICA ",null,128,null,null,null,null,null,null,"2+"]
["066-C-2024",null,null,"AGUITEL S.A.C. ",20481407266,"CONJUNTO RESIDENCIAL LOS SAUCES 2DA ",null,null,null,null,"ETAPA 2 ",null,192,null,null,null,null,null,null,"2+"]
["067-C-2024",null,null,"PROMOTORA DICON S.A.C",20604700125,"EDIFICIO MULTIFAMILIAR SUMA",null,null,null,null,"TORRE ÚNICA ",null,52,null,null,null,null,null,null,"2+"]
["068-C-2024",null,null,"VIVIENDAS DEL PERÚ S.A.C.",20512691529,"BELALBA",null,null,null,null,"TORRE ÚNICA ",null,121,null,null,null,null,null,null,"2+"]
["069-C-2024",null,null,"LA VENTUROSA S.A.",20383731705,"CONDOMINIO VILLALEGRE",null,null,null,null,"BLOQUE A,B Y C",null,376,null,null,null,null,null,null,"2+"]
["001-C-2025",null,null,"VIVA NEGOCIO INMOBILIARIO S.A.C.",20493040643,"LAS PARQUES DEL CALLAO - CONDOMINIO RESIDENCIAL ",null,null,null,null,"TORRE 1,2,3",null,450,null,null,null,null,null,null,"2+"]
["002-C-2025",null,null,"CORPORACION OLMO S.A.C.",20554660178,"EDIFICIO MULTIFAMILIAR GIRASOL",null,null,null,null,"TORRE UNICA",null,184,null,null,null,null,null,null,"2+"]
["003-C-2025",null,null,"PAZ CENTENARIO S.A.",20518023579,"PATIO LA PAZ",null,null,null,null,"TORRE ÚNICA ",null,245,null,null,null,null,null,null,"3+"]
["004-C-2025",null,null,"CORPORACION INMOBILIARIA SANTA LEONOR S.A.C",20609866854,"EDIFICIO MULTIFAMILIAR ORQUIDEA",null,null,null,null,"TORRE ÚNICA ",null,94,null,null,null,null,null,null,"3+"]
["005-C-2025",null,null,"FLAT AREQUIPA SAC",20555016451,"EDIFICIO MULTIFAMILIAR CAMPO MARTE",null,null,null,null,"TORRE ÚNICA ",null,96,null,null,null,null,null,null,"2+"]
["006-C-2025",null,null,"INVERSIONES FIDENZA S.A.C",20553417709,"HELIO SANTA BEATRIZ",null,null,null,null,"TORRE ÚNICA ",null,366,null,null,null,null,null,null,"2+"]
["007-C-2025",null,null,"V Y V PROYECTO 64 S.A.C",20606327821,"SAN FELIPE 1190",null,null,null,null,"TORRE ÚNICA ",null,87,null,null,null,null,null,null,"2+"]
["008-C-2025",null,null,"BESCO S.A.C",20416162299,"COLONIAL C",null,null,null,null,"TORRE 1,2,3,4",null,768,null,null,null,null,null,null,"2+"]
["009-C-2025",null,null,"BESCO S.A.C",20416162299,"NUEVO INDEPENDENCIA CONDOMINIO ECOAMIGABLE ",null,null,null,null,"TORRE 1,2",null,480,null,null,null,null,null,null,"2+"]
["010-C-2025",null,null,"INVERSIONES PROPCO UNO",20601142075,"VALLEJO LIVING",null,null,null,null,"TORRE ÚNICA ",null,72,null,null,null,null,null,null,"2+"]
["011-C-2025",null,null,"ESPARQ INVERSIONES S.A",20109474488,"EDIFICIO MULTIFAMILIAR BLUE",null,null,null,null,"TORRE ÚNICA ",null,150,null,null,null,null,null,null,"2+"]
["012-C-2025",null,null,"LOS PORTALES DEPARTAMENTOS S.A.C.",20553346178,"GRAN PARQUE LAS FLORES",null,null,null,null,"ETAPA 1 (TORRE A), ETAPA 2 (TORRE B)",null,278,null,null,null,null,null,null,"3+"]
["013-C-2025",null,null,"CONSTRUCTORA GALILEA S.A.C.",20521119943,"MONTEVERDE III",null,null,null,null,"SECTOR 1:MZ B, MZ C, MZ D (LOTE 1 AL 4,  LOTES 12 AL 17),MZ.E (LOTES 1 AL 4, LOTES 21 AL 23); SECTOR 2: MZ.D( LOTES 5 AL 11),  MZ. E(LOTES 5 AL11, LOTES 13 AL 20)",null,50,null,null,null,null,null,null,"2+"]
["014-C-2025",null,null,"LIDER INGENIERIA Y CONSTRUCCIÓN SA",20519431395,"CONJUNTO RESIDENCIAL KAMPU",null,null,null,null,"TORRE 18 ",null,120,null,null,null,null,null,null,"1+"]
[]
[]
[]
[]
[1,2,3,4,5,6,7,8,9,10,11,12,13,14,15,16,17,18,19,20]

{"sheet":"Prefiltro","index":3,"n_rows":77,"n_cols":18,"rows_kept":77,"cut":false,"hidden":true,"merged":[[1,5,2,5],[1,0,2,0],[1,1,2,1],[1,2,2,2],[1,3,2,3],[1,4,2,4],[1,16,2,16],[1,17,2,17],[1,6,2,6],[1,8,2,8],[1,9,2,9],[1,10,1,11],[1,12,2,12],[1,14,1,15]]}
[1,2,3,4,5,6,7,8,9,10,11,12,13,14,15,16,17,18]
["01-PRE-2025","LOS PORTALES S.A",20301837896,"VILLA RINCONADA II","(Mz2A, MZ2B,MZ 2C, MZ 2D, MZ 2E, MZ 2F, MZ 2G)","VEINTISEIS DE OCTUBRE","PIURA","PIURA","H.U / UNIFAMILIAR","ETAPA 1, 93; ETAPA 2, 77",170,null,"JR. MARISCAL LA MAR NRO. 991 (ESQ.AV. EJERCITO.SALAVERRY PISOS 5, 6, 7) LIMA - LIMA - MAGDALENA DEL MAR","JUAN CARLOS CAMPANA HOLGUIN",535810.17000000004,null,"01-PRE-2025","ABRIL"]
[null,null,null,null,null,null,null,"PIURA",null,null,133,133,null,"LILIAN TRINIDAD CUSRRAMOS RODRIGO ",540374.46950000001,9421550.6618000008]
["03-PRE-2025","\nVIVA NEGOCIO INMOBILIARIO S.A.C.",20493040643,"\nLOS GERANIOS 2","AV. BELAUNDE, MZ. I, LOTE 1, URB.LOS PARQUE DE COMAS","COMAS","LIMA","LIMA","MULTIFAMILIAR","5  TORRES",814,814,"AV. PETIT THOUARS  4957, 2DO PISO, MIRAFLORES, LIMA, LIMA","THERESA GALLUCCIO  GALLARDO",2765652200,86659262900,"03-PRE-2025","MAYO"]
["04-PRE-2025","ENACORP SOCIEDAD ANONIMA - ENACORP S.A",20380449405,"CONJUNTO RESIDENCIAL AZUL","PROL. DIEGO FERRE CON PEÑA RIVERA","MIRAFLORES","LIMA","LIMA","MULTIFAMILIAR","TORRE A Y B",143,69,"AV. JOSE PARDO 231","MARCO AURELIO DEL RIO ARRIETA","\n276565,22","\n8665926,29","04-PRE-2025","MAYO"]
[" 05-PRE-2025","GRUPO DESARROLLADORA SAC",20612981036,"PARQUE LOS ROSALES","JR. DOÑA DEMIRA CON JR. DOÑA NORA MZ. C-2 LOTE 29","SANTIAGO DE SURCO","LIMA","LIMA","MULTIFAMILIAR","EDIFICIO 1","OBSERVADO","OBSERVADO","JIRÓN REAL 195 SANTIAGO DE SURCO, LIMA, LIMA","ANDREY APARICIO VENTURA",281875,8656950," 05-PRE-2025","MAYO"]
["06-PRE-2025","CONSTRUCTORA  CONCEPCION S.A.C",20109116051,"HABILITACION URBANA LAS VILLAS DE BOUGANVILLE ICA","SECTOR DE LA HUELGA","ICA","ICA","ICA","H.U / UNIFAMILIAR","ETAPA ÚNICA",232,232,"JR. JUAN PARRA DEL RIEGO NRO. 367 INT. 603 CERCADO DE EL TAMBO JUNIN - HUANCAYO - EL TAMBO","LUIS SALVADOR ZANELLI JONES",418966,8441697,"06-PRE-2025","MAYO"]
["07-PRE-2025","LIVENZA PROMOTORA INMOBILIARIA S.A.C",20605509593,"TORRICO 708","JR. JOAQUIN TORRICO","SAN JUAN DE MIRAFLORES","LIMA","LIMA","MULTIFAMILIAR","TORRE A (14,14)",14,14,"ALONSO DE MOLINA 1420, INT. 302","RONALD TINEO ARANGO",null,null,"07-PRE-2025","MAYO"]
["08-PRE-2025","INMOBILIARIA CANEVARO S.A.C",20610130608,"RESIDENCIAL SOFIA ","AV. CESAR CANEVARO  979","SAN JUAN DE MIRAFLORES","LIMA","LIMA","MULTIFAMILIAR","EDIFICIO 1",null,20,"AV. OVALEGOYA 2017","LUIS ARMANDO ROSALES HEREDIA",286266.96000000002,8655674.0999999996,"08-PRE-2025","MAYO"]
["09-PRE-2025","YOPLAC ASOCIADOS SAC",20516014912,"RESIDENCIAL SANTA SUSANA ","CALLE 142, M-05","CERCADO DE LIMA","LIMA","LIMA","MULTIFAMILIAR",null,38,35,"AV. MARIANO CORNEJO  1203","EDSON ALDAIR YOPLAC VILDOSO",274368,8665353,"09-PRE-2025","MAYO"]
["10-PRE-2025","CLASEM SAC",20516390060,"CONJUNTO RESIDENCIAL LOMAS DE LA ALAMEDA - ETAPA 2","CALLE 19 4R, LOTE 1 _ ALAMEDA SALAVERRY","MIRAFLORES","AREQUIPA","AREQUIPA","MULTIFAMILIAR","ETAPA 2",90,90,"AV. REPÚBLICA DE COLOMBIA 185 LIMA - LIMA - SAN ISIDRO","EFRAIN MANUEL POLAR ONTANEDA",231835.1447,8186150.1412000004,"10-PRE-2025","MAYO"]
["11-PRE-2025","BESCO SAC",20416162299,"NUEVO INDEPENDENCIA CONDOMINIO ECOAMIGABLE","AV. INDUSTRIAL N°3458-3436 Y AV. MARCOS FARFÁN N°3457","INDEPENDENCIA","LIMA","LIMA","MULTIFAMILIAR","TORRE 1 - TORRE 2",480,480,"AV. PASEO DE LA REPUBLICA NRO. 3245 - SAN ISIDRO","ELISA PIEDAD RIOS NORIEGA",275915.11,8673014.5700000003,"11-PRE-2025","JUNIO"]
["12-PRE-2025","CONSTRUCTORA INARCO S.A.C.",20519219922,"EDIFICIO MULTIFAMILIAR  SARANTI","AV. LA PAZ 124","SAN MIGUEL","LIMA","LIMA","MULTIFAMILIAR","TORRE A",101,98,"AV. LA MOLINA 140","JAVIER ALONSO  TORI GUERRERO",273091.34899999999,8662700.8699999992,"12-PRE-2025","JUNIO"]
["13-PRE-2025","SALERNO INMOBILIARIA SOCIEDAD ANONIMA CERRADA",20611820691,"CEDROS 33","AV. MARICAL OSCAR R. BENAVIDES 2200","LIMA","LIMA","LIMA","MULTIFAMILIAR","TORRE A Y TORRE B","\n331",268,"CALLE MAMA OCLLO 2647 URB. RISSO","FERNANDO FELIX TORATTO FERNANDEZ",2745980400,86671869800,"13-PRE-2025","JUNIO"]
["14-PRE-2025","LOS PORTALES S.A",20301837896,"VILLA DE LA ALAMEDA SUR","FUNDO YOLICO QUEBRADA DE PARCA Sublote N° 02","CHILCA\t\t\t\t","CAÑETE\t\t\t\t\t","LIMA","H.U / UNIFAMILIAR","ETAPA ÚNICA (MZ. A,MZ. B,MZ. C,MZ. D,MZ. E,MZ. F)","89\t",89,"JR. MARISCAL LA MAR 991, MAGDALENA DEL MAR, LIMA","JUAN CARLOS CAMPANA HOLGUIN","308754.00m E","8616119.00 m S","14-PRE-2025","JUNIO"]
[" 15-PRE-2025","CONSTRUCTORA INMOBILIARIA INKA DE AMERICA S.A.C.",20605731431,"EDIFICIO MULTIFAMILIAR SEVILLA ","AV. TACNA 130","SAN MIGUEL","LIMA","LIMA","MULTIFAMILIAR","TORRE A",65,61,"MLC.DE LA RESERVA NRO. 775","JUAN CARLOS PERAMAS SANCHEZ",273980.47700000001,8662487.5820000004," 15-PRE-2025","JUNIO"]
["16-PRE-2025","PROYECTOS INMOBILIARIOS LM S.A.C",20609196051,"EDIFICIO RESIDENCIAL PLAZA 57","JR. TACNA  1457 - 1457 A - 1459","MAGDALENA DEL MAR","LIMA","LIMA","MULTIFAMILIAR","EDIFICIO ÚNICO",47,9,"CALLE 2 DE MAYO N°516 (INTERIOR: 401), MIRAFLORES, LIMA, LIMA","ROSA YVONNE SEIJO CHAPA",274742.31800000003,8663174.2149999999,"16-PRE-2025","JUNIO"]
["17-PRE-2025","MCR PROYECTO 11 S.A.C.",20610460993,"AKO RESIDENCIAL","JR. ARICA 859","SAN MIGUEL","LIMA","LIMA","MULTIFAMILIAR","EDIFICIO 1",88,80,"CALLE CORONEL ANDRES REYES 550 ","YENNER AMANCIO LOPEZ",-12.089399999999999,-77.083100000000002,"17-PRE-2025","JUNIO"]
["18-PRE-2025","PEDRA CONSTRUCTORA E INMOBILIARIA S.A.C.",20608033859,"PIETRA  CENTRALE","JR. MANUEL DEL PINO 238-240","LIMA","LIMA","LIMA","MULTIFAMILIAR","EDIFICIO 1",126,120,"AV. ANGAMOS OESTE 651 INTERIOR 205","ALDO PIERO DIEZ NOBLECILLA",278508.40100000001,8663944.1300000008,"18-PRE-2025","JUNIO"]
["19-PRE-2025","THE PISONAY COMPANY SAC",20601192404,"EVOLUTION","MARIANO CORNEJO","CERCADO DE LIMA","LIMA","LIMA","MULTIFAMILIAR","TORRE ÚNICA",130,98,"AV. CAMINOS DEL INCA 1168","ERROL ALAN ROZAS ARROYO",274831,8665134,"19-PRE-2025","JUNIO"]
["20-PRE-2025","CLASEM SAC",20516390060,"CONJUNTO RESIDENCIAL PARQUE SANTA SOFÍA","CALLE VIA DE EVITAMIENTO LOTE 2 URB. EX FUNDO PATAZCA","CHICLAYIO","CHICLAYIO","LAMBAYEQUE","H.U / UNIFAMILIAR","ETAPA 1,2,3,4,5 Y 6",720,720,"AV. REPUBLICA DE COLOMBIA NRO. 185","EFRAIN MANUEL POLAR ONTANEDA",624384.32239999995,9250943.2714000009,"20-PRE-2025","JULIO"]
["21-PRE-2025","INMOBILIARIA DARALE S.A.C.",20609614723,"VIDA VARELA","JIRON GENERAL FELIPE VARELA","BREÑA","LIMA","LIMA","MULTIFAMILIAR","EDIFICIO 1",null,42,"CAL.PUMACURCO NRO. 187 URB. MARANGA ET. CUATRO LIMA - LIMA - SAN MIGUEL","SONNY ADOLPH TORBISCO CERVANTES",276945.90000000002,8665679.0199999996,"21-PRE-2025","JULIO"]
["22-PRE-2025","INMOBILIARIA EUREKA SAC",20508000163,"VIRIDIAN","CALLE LOS GERANIOS 244-248","LINCE","LIMA","LIMA","MULTIFAMILIAR","TORRE ÚNICA",108,42,"AV. BASADRE JORGE 310","ORLANDO IGOR REQUENA GONZALES DE LA COTERA",279282.995,8662590.4680000003,"22-PRE-2025","JULIO"]
["23-PRE-2025","LOS PORTALES DEPARTAMENTOS S.A.C.",20553346178,"GRAN JARDIN TICINO 2","CALLE TICINO N°167 SUB LOTE A2-1 Y SUBLOTE A2-2 , URBANIZACIÓN FUNDO INQUISIDOR Y PULIDO","SANTA ANITA","LIMA","LIMA","MULTIFAMILIAR","ETAPA 1 (TORRE 1 Y 2) Y ETAPA 2 (TORRE 3 Y 4)",594,594,"JR. MARISCAL LA MAR N°991, MAGDALENA DEL MAR, LIMA, LIMA","DIEGO ISAAC ABARCA OTAYZA",285794,8666761,"23-PRE-2025","JULIO"]
["24-PRE-2025","GRUPO INMOBILIARIO MOLINA SOCIEDAD COMERCIAL DE RESPONSABILIDAD",20613236563,"RESIDENCIAL GARDENIAS","JR. LAS GARDENIAS, LOTE 108-2","ABANCAY","ABANCAY","APURIMAC","MULTIFAMILIAR","TORRE ÚNICA",38,38,"AV. ANDRES AVELINO CACERES N°729 ABANCAY, ABANCAY, APURIMAC","FREDY ROLAND MOLINA VILLAR",728688.38,8490891.5899999999,"24-PRE-2025","JULIO"]
["25-PRE-2025","PROMOTORA ALBACENTRO SAC.",20610609687,"EDIFICIO RESIDENCIAL OASIS","AV. ANDRES ARAMBURU 860-862-864-866","SURQUILLO","LIMA","LIMA","MULTIFAMILIAR","EDIFICIO 1",149,104,"CALLE ENRIQUE PALACIOS N° 335 MIRAFLORES, LIMA, LIMA","CARLOS EDUARDO HIDALGO PEREZ",279952.12900000002,8661295.5140000004,"25-PRE-2025","JULIO"]
["26-PRE-2025","INMOBILARIA LOS ARCES DE CAYMA S.A.C.",20610947558,"RESIDENCIAL ACCES"," CALLE LOS ARCES N°295","CAYMA","AREQUIPA","AREQUIPA","MULTIFAMILIAR","ETAPA 1 (BLOQUE A, BLOQUE B, BLOQUE C)",167,167,"AV. CAYMA B - N° 701, CAYMA, AREQUIPA, AREQUIPA","LUIS ALBERTO DELGADO ARROSPIDE",227788.7317,8186990.1216000002,"26-PRE-2025","JULIO"]
["27-PRE-2025","BARRIONUEVO INMOBILIARIA S.A.C",20612302481,"KURA DEL BARRIO","JR. GRAU FELIPE VARELA 1594 CON JR. RESTAURACION ","LA VICTORIA","LIMA","LIMA","MULTIFAMILIAR","TORRE ÚNICA",42,42,"AV. MARISCAL JOSE DE LA MAR","EDGAR AUGUSTO RIOS REATEGUI",276884.58380000002,8665613.6221999992,"27-PRE-2025","AGOSTO"]
["28-PRE-2025","CONFORTA  INMOBILIARIA SAN ISIDRO S.A.C.",20611036249,"MULTIFAMILIAR INSIGH","AV. JOSE GALVEZ BARRENECHEA N° 459-465 URB. CORPAC","SAN ISIDRO","LIMA","LIMA","MULTIFAMILIAR","EDIFICIO 1",80,49,"CALLE BREA Y PARIÑAS N° 102 (INT. 302) SANTIAGO DE SURCO, LIMA, LIMA","SUSAN CLAUDIA DURAN PARDES",280920.45199999999,8662078.4149999991,"28-PRE-2025","AGOSTO"]
[" 29-PRE-2025","AF CONSTRUCTECNIA S.A.C.",20460366624,"LARA","AV. SEVILLA 230","PUEBLO LIBRE","LIMA","LIMA","MULTIFAMILIAR","EDIFICIO 1",26,26,"AV. DEFENSORES DEL MORRO 1395","CESAR ALEJANDRO DEXTRE CHACON",275199.14,8665021.1300000008," 29-PRE-2025","AGOSTO"]
[" 30-PRE-2025","DESARROLLADORA VISTA NEVADO S.A.C.",20602442439,"CASAPARQ – CERRO COLORADO TORRES F, G y E","PAGO CHALLAPAMPA MZ. A LOTE 01 FUNDO LA MANRIQUE","CERRO COLORADO","AREQUIPA","AREQUIPA","TORRES","TORRES F,G y E",284,154,"AV. LA ENCALADA N°1010 - SANTIAGO DE SURCO-LIMA-LIMA","JULIO CESAR DIAZ COSTA",227180.34,8188126.1600000001," 30-PRE-2025","AGOSTO"]
["31-PRE-2025","INMOBILIARIA AGUARICO S.A.C.",20604507911,"CONJUNTO RESIDENCIAL DEL PARQUE CENTRO TORRE C","JR. LORETO ESQUINA CON JR. DEAN VALDIVIA N° 1608-1610 URB. SAN GREGORIO","BREÑA","LIMA","LIMA","MULTIFAMILIAR","TORRE C",119,119,"AV. LA ENCALADA MZ12 LTE 23 URB. C.C. MONTERRICO SANTIAGO DE SURCO, LIMA, LIMA","JULIO CESAR DIAZ COSTA",276408.44400000002,8665523.4169999994,"31-PRE-2025","AGOSTO"]
["33-PRE-2025","VIVA NEGOCIO INMOBILIARIO S.A.C.",20493040643,"LOS PARQUES DE BREÑA","JR. CHAMAYA - JR MANOA N°280 -N°305 URB. CHACRA COLORADA","BREÑA","LIMA","LIMA","MULTIFAMILIAR","ETAPA 01 / ETAPA 02 / ETAPA 03 / ETAPA 04 / ETAPA 05",552,552,"AV. PETIT THOUARS N°4957 MIRAFLORES, LIMA, LIMA","GALLUCCIO GALLARDO THERESA",276481.94,8666923.5700000003,"33-PRE-2025","AGOSTO"]
["34-PRE-2025","JMS PROYECTOS S.A.C.",20609824418,"EDIFICIO MULTIFAMILIAR MARABIERTO","AV COSTANERA N°2790 URB. MIRAMAR","SAN MIGUEL","LIMA","LIMA","MULTIFAMILIAR","ETAPA 01",220,207,"CALLE BOLOGNESI N°180 (OF. 701)  MIRAFLORES, LIMA, LIMA","ALVARO RICARDO,PUGA SANCHEZ/ PAOLO ANTONIO, VELASQUEZ OLIVARES",270479.35999999999,8663717.5500000007,"34-PRE-2025","AGOSTO"]
["35-PRE-2025","CASAIDEAL PROYECTO 23 S.A.C.",20612934402,"MULTIFAMILIAR LINK","AV. B  (LOS FAISANES), MZ. K, LOTE 14-B, URB. LA CAMPIÑA ","CHORILLOS","LIMA","LIMA","MULTIFAMILIAR","TORRE A / TORRE B",317,317,"AV. EL POLO N°670 SANTIAGO DE SURCO, LIMA, LIMA","CARLOS ALFREDO NOVOA AREVALO",282418.91320000001,8653066.9245999996,"35-PRE-2025","AGOSTO"]
["36-PRE-2025","CALICANTO ASESORIA SAC",20603314361,"MULTIFAMILIAR DEL HORNE","CA. ENRIQUE DEL HORNE N°137 MZ. 26, LOTE 260, URB. FUNDO TEJADA","BARRANCO","LIMA","LIMA","MULTIFAMILIAR","TORRE 1 - TORRE 2",67,43,"CALLE ENRIQUE DEL HORME N°137, URB. LA VIÑITA, BARRANCO, LIMA, LIMA","ERNESTO ADOLFO ROCA DAMMERT",280324.79830000002,8657353.9628999997,"36-PRE-2025","SETIEMBRE"]
["37-PRE-2025","INMOBILIARIA ACTUAL FAISANES III S.A.C.",20603605285,"PROYECTO MULTIFAMILIAR FAISANES III","AV. LOS FAISANES N° 348  URB. LA CAMPIÑA","CHORILLOS","LIMA","LIMA","EDIFICIOS","EDIFICIO ÚNICO",288,267,"AV. JAVIER PRADO OESTE N° 757- MAGDALENA DEL MAR-LIMA","GUSTAVO ADOLFO EHNI ALIAGA",282401.27100000001,8652946.5030000005,"37-PRE-2025","AGOSTO"]
["38-PRE-2025","ALBA 37 S.A.C.",20611734213,"EDIFICIO MULTIFAMILIAR PASEO PAZ","AV. CUBA / JR. FRANCISCO DE LA ZELA N° 500-516-520-524 Y 986 - 990","JESUS MARIA","LIMA","LIMA","H.U. / MULTIFAMILIAR","EDIFICIO 1",107,79,"CALLE ENRIQUE PALACIOS 335 MIRAFLORES, LIMA, LIMA","CARLOS EDUARDO HIDALGO PEREZ",277851.97100000002,8664338.4649999999,"38-PRE-2025","AGOSTO"]
["39-PRE-2025","VIVIENDAS DEL PERÚ SAC",20512691529,"ATIVO","AV. BOLIVIA N°538 - 544 URB. DEL FUNDO COLORADO","BREÑA","LIMA","LIMA","MULTIFAMILIAR","ETAPA 1",192,192,"AV. JAVIER PRADO ESTE N° 488 SAN ISIDRO, LIMA, LIMA","JAIME ALBERTO PAREDES SANCHEZ",277606.03200000001,8666426.9787000008,"39-PRE-2025","SETIEMBRE"]
["32-PRE-2025","DESARROLLO LINCE S.A.C.",20605662529,"EDIFICIO MULTIFAMILIAR BOSQO","JIRON LANCEROS 132-142 MZ. A LOTE 13-14 ","SANTIAGO DE SURCO","LIMA","LIMA","MULTIFAMILIAR","EDIFICIO 1",139,80,"AV. REPÚBLICA DE COLOMBIA NRO. 791 INT. 3","ERICK JARA PALOMINO",284479.48,8663384.4399999995,"32-PRE-2025","AGOSTO"]
["40-PRE-2025","JPS TRES INMOBILIARIA S.A.C.",20612843628,"EDIFICIO MULTIFAMILIAR LAMBAYEQUE 197","CALLE LAMBAYEQUE N° 197, URB. CAPEBCO","SAN MIGUEL","LIMA","LIMA","MULTIFAMILIAR","EDIFICIO 1",52,52,"CALLE DOS DE MAYO N° 238, MIRAFLORES, LIMA, LIMA","JOSE EMILIO PEZO BARRIO",271168.42,8664534.4179999996,"40-PRE-2025","SETIEMBRE"]
["41-PRE-2025","LA TORRE SERVICIOS INMOBILIARIOS S.A.C.",20603799942,"PARQUE CHIMÚ","PASAJE CHAQUIRA N°152 URB. SALAMANCA","ATE","LIMA","LIMA","H.U. / MULTIFAMILIAR","EDIFICIO ÚNICO",9,8,"CALLE SAN MARCOS N°236 PUEBLO LIBRE, LIMA, LIMA","JOSUE MAURICIO LA TORRE OROZCO",-76.989199999999997,-12.0749,"41-PRE-2025","SETIEMBRE"]
["42-PRE-2025","INMOBILIARIA CESAR LOPEZ S.A.C.",20612595047,"EDIFICIO RESIDENCIAL MADISON PARK","JIRON CESAR LOPEZ ROJAS N° 201","SAN MIGUEL","LIMA","LIMA","H.U. / MULTIFAMILIAR","EDIFICIO 1",289,287,"AV. REPUBLICA DE PANAMA NRO. 3531 INT. 702 URB. LIMATAMBO, SAN ISIDRO, LIMA, LIMA","MIGUEL SEGUNDO DEUSTUA TAPIA",272492.48,8664301.0999999996,"42-PRE-2025","SETIEMBRE"]
["43-PRE-2025","MG PROYECTO 22 S.A.C.",20610893679,"DULANTO","AV. MANUEL CIPRIANO DULANTO 209, 209-A, 211 , 211-A","PUEBLO LIBRE","LIMA","LIMA","MULTIFAMILIAR","EDIFICIO ÚNICO",241,241,"AV. JAVIER PRADO ESTE 1540-1542, SAN ISIDRO, LIMA, LIMA","VICTOR MAX GUEVARA OTINIANO",275798,8663626,"43-PRE-2025","SETIEMBRE"]
["44-PRE-2025","ALBIR INVERSIONES S.A.C",20606866179,"SUKHA","AVENIDA TOMÁS MARSANO CON CALLE CUATRO N°2293, URB. LOS SAUCES","SURQUILLO","LIMA","LIMA","MULTIFAMILIAR","TORRE 1",76,24,"CALLE JUAN DE LA FUENTE N° 378 URB. PROLONGACIÓN BENAVIDES, MIRAFLORES, LIMA,LIMA","LUIS ENRIQUE ARIAS CASTILLO",760500,8526300,"44-PRE-2025","SETIEMBRE"]
["45-PRE-2025","VIVIENDAS DEL PERÚ SAC",20512691529,"BILANCIA","JIRON INCLÁN N° 202-206-212 URB. FUNDO ORBEA","MAGDALENA","LIMA","LIMA","MULTIFAMILIAR","EDIFICIO 1",144,85,"AV. JAVIER PRADO ESTE N° 488 SAN ISIDRO, LIMA, LIMA","JAIME ALBERTO PAREDES SANCHEZ",277606.03200000001,8666426.9787000008,"45-PRE-2025","SETIEMBRE"]
["46-PRE-2025","MG PROYECTO 23 S.A.C.",20611409614,"CENTRICO","JR. SUB- TENIENTE ALEJANDRO TIRADO N°635-655 URB. SANTA BEATRIZ","LIMA","LIMA","LIMA","MULTIFAMILIAR","EDIFICIOS",212,212,"AV. JAVIER PRADO ESTE 1540-1542, SAN ISIDRO, LIMA, LIMA","VICTOR MAX GUEVARA OTINIANO",275798,8663626,"46-PRE-2025","SETIEMBRE"]
["47-PRE-2025","INVERSIONES CESIA S.A.C.",20522872602,"EDIFICIO MULTIFAMILIAR RESIDENCIAL RECUAY","JIRÓN RECUAY N° 273-279-277 URB. CHACRA COLORADA","BREÑA ","LIMA","LIMA","MULTIFAMILIAR","TORRE A Y B",84,84,"JR. HUARAZ N°951  BREÑA, LIMA, LIMA","OBED ISAI LANDA VENTURA",277037.315,8666434.1720000003,"47-PRE-2025","SETIEMBRE"]
["48-PRE-2025","MILLENNIUM MAGDALENA S.A.C.",20613998226,"MILLENNIUM","JR JUNIN -ESQ. JR LEONCIO PRADO N°580-582-592-594 /N° 1102-1106-1108-1110","MAGDALENA DEL MAR","LIMA","LIMA","ETAPAS","EDIFICIO 1",74,74,"AV. ANGAMOS ESTE NRO. 1555 INT. 2 URB. CASA HUERTA (AL COSTADO DEL C.C. PLAZA HOGAR), SURQUILLO, LIMA, LIMA","JAIME EDUARDO TERRONES LEON",275823,8663426,"48-PRE-2025","SETIEMBRE"]
["49-PRE-2025","ANTARES CONTRATISTAS S.A",20143382339,"EDIFICIO MULTIFAMILIAR SAUCES","VÍA COLECTORA NORTE MZ. A, LOTE 12, URB. LOS PARQUE DEL CHIPE","VEINTISEIS DE OCTUBRE","PIURA","PIURA","H.U / MULTIFAMILIAR","EDIFICIO 1",103,103,"JR. MONTE ROSA NRO. 255 INTR. 1002 URB. CHACARILLA DEL ESTANQUE (WONG DE CHACARILLA), SANTIAGO DE SURCO, LIMA, LIMA","CARLOS MIGUEL SALINAS ROJAS",536804.505,9428305.4910000004,"49-PRE-2025","OCTUBRE"]
["50-PRE-2025","CORPORACIÓN INMOBILIARIA SAN JOSE S.A.C.",20611517549,"CANNELLE","AVENIDA DE LA POLICIA  N° 603, MZ. B, LOTE 9","JESUS MARIA","LIMA","LIMA","ETAPAS","ETAPA ÚNICA",83,19,"CALLE TENIENTE ENRIQUE PALACIOS N°360 N°INTERIOR 105, MIRAFLORES, LIMA, LIMA","AMELY BALBINA TIMANA VARGAS",276078.40000000002,8662881.6500000004,"50-PRE-2025","OCTUBRE"]
["51-PRE-2025","BESCO S.A.C.",20416162299,"ALAMEDA CENTRAL 2 (ANTES COLONIAL C)","AV. COLONIAL, ANTES AV. OSCAR BENAVIDES N°1140","LIMA","LIMA","LIMA","H.U. / MULTIFAMILIAR","TORRE 1 / TORRE 2 / TORRE 3 / TORRE 4","168 / 168 / 192 / 240","168 / 168 / 192 / 240","AV. PASEO DE LA REPUBLICA N°3245 N°INTER.1101 SAN ISIDRO, LIMA, LIMA","ELISA PIEDAD RIOS NORIEGA",8667431.0260000005,"51-PRE-2025","51-PRE-2025","NOVIEMBRE"]
["52-PRE-2025","MONACO PROYECTOS S.A.C.",20612749044,"EDIFICIO MULTIFAMILIAR ASTRE","AV. GENERAL ARENALES N° 688-698","JESÚS MARÍA","LIMA","LIMA","MULTIFAMILIAR","TORRE 1",84,53,"CAL.JUAN DE LA FUENTE NRO. 378 URB. SAN ANTONIO, MIRAFLORES, LIMA,LIMA","LUIS ENRIQUE ARIAS CASTILLO",277402.40000000002,8662352.7100000009,"52-PRE-2025","OCTUBRE"]
["53-PRE-2025","PROYEC PROYECTO 02 SAC",20612811530,"EDIFICIO MULTIFAMILIAR CAPRI","PASAJE CAPRI  N° 120-130, URB. PALOMAR NORTE","LA VICTORIA ","LIMA","LIMA","MULTIFAMILIAR","ETAPA 1",120,118,"CAL.LOS ANTARES NRO. 320 INT. 602A URB. LA ALBORADA, SANTIAGO DE SURCO, LIMA,LIMA","JORGE ENRIQUE OTINIANO CABRERA",280780.27799999999,8662887.1009999998,"53-PRE-2025","OCTUBRE"]
["54-PRE-2025","GRUPO INMOBILIARIO FNV 1 SAC",20611738430,"MATCH","AVENIDA LOS PATRIOTAS  N° 206-208-210-212 URB. MARANGA 2DA ETAPA","SAN MIGUEL","LIMA","LIMA","MULTIFAMILIAR","TORRE 1",131,131,"CALLE ENRIQUE PALACIOS N° 335 N° INTERNO 101 MIRAFLORES, LIMA, LIMA","CARLOS EDUARDO HIDALGO PEREZ",278314,8665755,"54-PRE-2025","OCTUBRE"]
["55-PRE-2025","ALBA 39 SAC",20611720077,"RE+","AVENIDA COLONIAL N° 1740 URB. HUERTA LAZO","LIMA","LIMA","LIMA","H.U / MULTIFAMILIAR","TORRE 1",244,244,"CALLE ENRIQUE PALACIOS N° 335 N° INTERNO 101 MIRAFLORES, LIMA, LIMA","CARLOS EDUARDO HIDALGO PEREZ",268000,8657000,"55-PRE-2025","OCTUBRE"]
["56-PRE-2025","VAL D1 S.A.C.",20613244965,"CONJUNTO RESIDENCIAL BONAVISTA","CALLE GENERAL ORBEGOZO MZ. P, LOTE 9-10-11-12-13, URB. SAN LUIA GONZAGA -II ETAPA","BREÑA","LIMA","LIMA","SECTORES","BLOQUE A Y BLOQUE B",178,111,"AV. CAMINO REAL NRO. 390 DPTO. 1401 INT. A URB. CENTRO COMERCIAL CAMINO REAL (EDIFICIO TORRE CENTRAL), SAN ISIDRO, LIMA, LIMA","FREDDY SANTIAGO SALCEDO  CASASOLA",276454,8665674,"56-PRE-2025","OCTUBRE"]
["57-PRE-2025","URSA CONSTRUCTORA S.A.C.",20602099416,"EDIFICIO FENIX","AV. AFRANIO DE MELIO FRANCO N°365,369,371,375M379 URB. DEL FUNDO JESUS MARIA","JESÚS MARIA","LIMA","LIMA","MULTIFAMILIAR","EDIFICIO ÚNICO",83,61,"CALLE CANTUARIAS N°160 URB. TELLO, MIRAFLORES, LIMA, LIMA","PAULO ALFONSO HIGUERAS SUAREZ",276815.24,8664229.2100000009,"57-PRE-2025","OCTUBRE"]
["58-PRE-2025","CONSTRUCTORA GALILEA SAC",20521119943,"VALLE ALTO","PREDIO ARENA VERDE SAC, VALLE MEDIO PIURA, SUBLOTE 1, URB. SECTOR EJIDOS DEL NORTE","PIURA","PIURA","PIURA","H.U. / UNIFAMILIAR","ETAPAS 1 AL 17",507,507,"AV. PRIMAVERA NRO. 1796 INT. 601 URB. MONTERRICO (ESQUINA JR. TOMASAL MZ.P2 LOTE 25), SANTIAGO DE SURCO, LIMA, LIMA","RENATO RIVA CANESSA",540864.29220000003,9430549.8602000009,"58-PRE-2025","OCTUBRE"]
["59-PRE-2025","SAN MIGUEL 14 S.A.C.",20613357557,"VIVUM","JIRÓN GENERAL JUAN JOSÉ SALAS N° 291.289","SAN MIGUEL","LIMA","LIMA","TORRES","TORRE 1",34,26,"CALLE CORONEL ANDRES REYES N°550, SAN ISIDRO, LIMA, LIMA","MARCELO MARTIN QUISPE REYNA",279000,1338000,"59-PRE-2025","OCTUBRE"]
["60-PRE-2025","DESARROLLO BELLAVISTA SAC",20612673862,"CONJUNTO RESIDENCIAL PAZEA","AV. OSCAR R. BENAVIDES N°3866-4070, SUB LOTE B","BELLAVISTA ","CALLAO","CALLAO","MULTIFAMILIAR","EDIFICIO 1 / EDIFICIO 2 / EDIFICIO 3 / EDIFICIO 4 / EDIFICIO 5 / EDIFICIO 6 / EDIFICIO 7",816,816,"AV. REPUBLICA DE COLOMBIA NRO. 791 URB. CHACARILLA DE SANTA CRUZ , SAN ISIDRO, LIMA, LIMA","ANA MARIA QUIJANO DOIG",271381.27,8666355.0600000005,"60-PRE-2025","OCTUBRE"]
["61-PRE-2025","MATIER S.A.C.",20392737058,"CONJUNTO RESIDENCIAL GREEN LIFE","AVENIDA LOS GORRIONES / JIRON PERSEO N° 490, MZ. G, LOTE 1, URB. LA CAMPIÑA","CHORRILLOS","LIMA","LIMA","TORRES","TORRE A, TORRE B y TORRE C",187,186,"AV. EMILIO CAVENECIA N°225 URB. ORRANTIA DEL MAR, SAN ISIDRO, LIMA, LIMA","VICTORIA PILAR AYSANOA LOPEZ DE RAMOS ",281905.65299999999,8653054.2440000009,"61-PRE-2025","OCTUBRE"]
["62-PRE-2025","ECOMARINA DESARROLLOS S.A.C.",20608895796,"EDIFICIO MULTIFMALIAR VIVAPARK","CALLE ALFREDO ICAZA N°185 URB. MARANGA","SAN MIGUEL","LIMA","LIMA","H.U / MULTIFAMILIAR","TORRE ",24,22,"CAL.JUAN FANNING NRO. 561 URB. ARMENDARIZ, MIRAFLORES, LIMA, LIMA","ALFONSO SERRANO ANSELMO",271852.80800000002,8664341.1400000006,"62-PRE-2025","NOVIEMBRE"]
["63-PRE-2025","FREAK CONSTRUCTORES Y\nCONSULTORES S.R.L.",20450515010,"RESIDENCIAL GRECEL","CALLE LOS GERANIOS LOTE D5-4-5 URB. INGENIEROS LARAPA GRANDE","SAN JERÓNIMO","CUSCO","CUSCO","MULTIFAMILIAR","TORRE 1",41,34,"AV. REPUBLICA DE PANAMA NRO. 3420 INT. 301 URB. LIMATAMBO, SAN ISIDRO, LIMA, LIMA","DUSHIAN ENRIQUE ROSA CRUZ",185778,8501985,"63-PRE-2025","NOVIEMBRE"]
["64-PRE-2025","CONSTRUCTORA CUMBRES MONUMENTAL S.A.C.",20607279161,"CONJUNTO RESIDENCIAL \" VILLA MONUMENTAL\" - CONDOMINIO 1","AV. ARGENTINA N° 1784-1846-1882","CALLAO","CALLAO","CALLAO","MULTIFAMILIAR","EDIFICIO 1 / EDIFICIO 2 / EDIFICIO 3 / EDIFICIO 4",512,512,"CAL.ALFONSO COBIAN NRO. 179 URB. BARRANCO (ESPALDA DE PLAZA VEA EL CORTIJO),  BARRANCO, LIMA, LIMA","ENRIQUE MARTIN HERRERA MARTINEZ",268805.56929999997,8666884.0075000003,"64-PRE-2025","NOVIEMBRE"]
["65-PRE-2025","ASTER COSTANERA 1010 S.A.C.",20614462842,"EDIFICIO MULTIFAMILIAR COSTANERA","AV. COSTANERA N°1010, LOTE NRO. 4","SAN MIGUEL","LIMA","LIMA","H.U / MULTIFAMILIAR","EDIFICIO ÚNICO",214,122,"AV. SANTA CRUZ EL ALAMO NRO. 381 INT. 10 URB. CHACARILLA, SAN BORJA, LIMA, LIMA","GIANCARLO CARBAJAL GALARZA",272200.61,8662969,"65-PRE-2025","NOVIEMBRE"]
["66-PRE-2025","MILAN PROYECTOS S.A.C.",20611644052,"AURORA 4","AV. SERGIO BERNALES  N°258, MZ. W,URB. DEL BARRIO MEDICA Y DE LA CLINICA PROPIA","SURQUILLO ","LIMA","LIMA","MULTIFAMILIAR","TORRE 1",74,43,"CAL.JUAN DE LA FUENTE NRO. 378, MIRAFLORES, LIMA,LIMA","LUIS ENRIQUE ARIAS CASTILLO",280263,8659836,"66-PRE-2025","NOVIEMBRE"]
["67-PRE-2025","SAN JOSE INMOBILIARIA PERÚ S.A.C",20509534838,"ALTAVISTA CONDOMINIO","AV. VENEZUELA, N° 2695","BELLAVISTA ","CALLAO","CALLAO","ETAPAS","ETAPA 1 HASTA LA ETAPA 10",1056,1056,"AV. SANTA CRUZ N° 120, INT. 402, URB. CHACARILLA SANTA CRUZ EL ÁLAMO, SAN ISIDRO - LIMA","JUAN ANTONIO ACEDO LOPEZ",272169.84749999997,8665825.9398999996,"67-PRE-2025","NOVIEMBRE"]
["68-PRE-2025","INMOBILIARIA 23 S.A.C.",20609436850,"OCEANIKA","AV. JUAN BERTOLOTTO NEGRO N°570, URB. FUNDO SAN MIGUEL.","SAN MIGUEL","LIMA","LIMA","TORRES","TORRE ÚNICA",206,173,"AV. JUAN DE ALIAGA INT 810 N° 425, MAGDALENA DEL MAR, LIMA","ROMMEL EDWIN VASQUEZ SILVA",273475,8662387,"68-PRE-2025","NOVIEMBRE"]
["69-PRE-2025","ECO 564 S.A.C.",20612060691,"ECOAMIRA","AV. LOS PATRIOTAS MZ. H-M LT. 11 URB. MARANGA 3RA ETAPA.","SAN MIGUEL","LIMA","LIMA","EDIFICIOS","EDIFICIO ÚNICO",91,91,"CAL. JUANA FANING N°561 URB. ALMENDARIZ - MIRAFLORES","ALFONSO SERRANO ANSELMO",271272.53159999999,8664259.7347999997,"69-PRE-2025","NOVIEMBRE"]
["70-PRE-2025","INMOBILIARIA LOS ALERCES S.A.C.",20600517571,"EDIFICIO MULTIFAMILIAR NARA","AV. AREQUIPA N° 2364 - 2370","LINCE","LIMA","LIMA","EDIFICIOS","EDIFICIO 1",128,74,"CAL. GERMAN SCHEREIBER N° 276, URB. SANTA ANA, SAN ISIDRO-LIMA","IAN KUNIJI KISHIMOTO RAMIREZ",278581.2,8662919.2799999993,"70-PRE-2025","NOVIEMBRE"]
["71-PRE-2025","INMOBILIARIA SAN MARTIN DE TOURS S.A.C.",20512781196,"TORRE MARSANO 28","AV. ANGAMOS ESTE ESQUINA CON AVENIDA TOMAS MARSANO N° 1795, MZ B, LOTE 8-9-10, URB. EL CONDOR.","SURQUILLO ","LIMA","LIMA","EDIFICIOS","EDIFICIO ÚNICO",348,348,"AV. ARAMBURU N° 965, DPT. 202, DISTRITO DE SAN ISIDRO, LIMA","GONZALO ENRIQUE SUITO SÁNCHEZ AIZCORBE",280923.745,8660220.8120000008,"71-PRE-2025","NOVIEMBRE"]
["72-PRE-2025","CORPORACIÓN INMOBILIARIA FERMONT S.A.C.",20600245504,"AVELLANA","Av. Brasil / Av. Borgoño, N° 1350-1354 / 147-149\n151-153-155-157-159-161, Urb. Desamparados","PUEBLO LIBRE","LIMA","LIMA","TORRES","TORRE A Y B",656,560,"CALLE ENRIQUE PALACIOS N°360 N°INTERIOR 105, MIRAFLORES, LIMA, LIMA","AMELY BALBINA TIMANA VARGAS",276638.55,8664609.0099999998,"72-PRE-2025","DICIEMBRE"]
["73-PRE-2025","INMOBILIARIA LA VID S.A.C",20613240021,"SAUCE ZEN","Calle Carlos Gonzales Candamo / Pje. Martin \nMurua N°218-222-224-202-206, Mz B, Lote 4-5 , \nUrbanización. Centro comercial septima etapa.","SAN MIGUEL","LIMA","LIMA","ETAPAS","ETAPA UNICA",263,263,"CAL.MAMA OCLLO NRO. 2647 URB. RISSO (CRUCE CON JR LUIS PASTEUR) LIMA - LIMA - LINCE"," FERNANDO FELIX  TORATTO FERNANDEZ",272425.18,8664262,"73-PRE-2025","DICIEMBRE"]
["74-PRE-2025","INVERSIONES INMOBILIARIAS DE SAN MIGUEL S.A.C.",20613545230,"NOVA COLONIAL"," Av. Oscar Benavides N° 2078-2082, Mz A, Lote 18, \nUrb. la Trinidad. ","LIMA","LIMA","LIMA","TORRES","TORRE UNICA",199,199,"Av. EL DERBY N° 254 DPTO. 803","FREDY MARTIN LOPEZ PROANO",274809.32400000002,8667219.8310000002,"74-PRE-2025","DICIEMBRE"]
["75-PRE-2025","MIRADOR DEL MAR S.A.C.",20611734183,"MIRAMAR","AV. GUARDIA PERUANA N°295, URB. PARCELA SEMI RUSTICA.","CHORRILLOS","LIMA","LIMA","TORRES","TORRE 1",107,87,"Av. EL DERBY N° 254 DPTO. 202 URB EL DERBY DE MONTERRICO SURCO-LIMA-LIMA","JOSE MARTIN JIMENEZ LLOSA",283023.39899999998,8652545.3629999999,"75-PRE-2025","DICIEMBRE"]
["76-PRE-2025","GRUPO BINOMIO S.A.C",20536803646,"RESIDENCIAL DELFINA","CALLE GERMÁN AMEZAGA N° 815-817, MZ V1, LOTE 12, URB. SAN JUAN.","SAN JUAN DE MIRAFLORES","LIMA","LIMA","TORRES","TORRE 1",29,27,"AV. NICOLAS ARRIOLA N°314 OFICINA D-1101 URB SANTA CATALINA VICTORIA-LIMA-LIMA","ANGELA MARIA URBANO PINTO",85803.326000000001,54260.076000000001,"76-PRE-2025","DICIEMBRE"]

{"sheet":"Propuesta de Certificados","index":4,"n_rows":721,"n_cols":12,"rows_kept":721,"cut":false,"hidden":true,"merged":[]}
["N° Certificado","Promotor","Nombre del proyecto","N° Etapa","Cantidad de Viviendas con Bono","Grado de Bono al que postula","RUC","motivo de reitro",null,null,null,"Cantidad de Viviendas Totales"]
["AE.RE-092-2020","Madrid Ingenieros","Sol de Santa Clara",1,279,"3+",20508967226,null,"ATE","LIMA","LIMA",279]
["301/15-0502.02","CORPORACION INMOBILIARIA SUDAMERICANA SAC","Condominio Paseo Colonial",1,262,null,20506908061,null,"LIMA","LIMA","LIMA",262]
["AE.RE-053-2020","REDBAY DEL PERU SAC","Alameda las Gaviotas","Etapa 3 - Torre A y B",144,"3+",20500523540,null,"CHORRILLOS","LIMA","LIMA",358]
["AE-RE-007-2020","VIVA GYM S.A.","Los Parques de Comas, Los Girasoles",4,256,"3+",20493040643,null,"COMAS","LIMA","LIMA",384]
["AE.RE.001.2020","VIVA GYM S.A.","Los Parques de Comas, Los Nogales",1,192,"3+",20493040643,null,"COMAS","LIMA","LIMA",576]
["AE-RE-008-2020","VIVA GYM S.A.","Los Parques de Comas, Los Molles",1,360,"3+",20493040643,null,"COMAS","LIMA","LIMA",720]
["AE-RE-009-2020","VIVA GYM S.A.","Los Parques de Comas, Los Girasoles",6,512,"3+",20493040643,null,"COMAS","LIMA","LIMA",512]
["AE-RE-013-2020","VIVA GYM S.A.","Los Parques del Callao","2,3 y 4",360,"3+",20493040643,null,"CALLAO","CALLAO","CALLAO",984]
["AE-RE-002-2020","BESCO S.A.C.","Altaluz Condominio ","Etapa 3 - Torre 3",308,"3+",20416162299,null,"CALLAO","CALLAO","CALLAO",338]
["AE.RE-016-2020","BESCO S.A.C.","Nuevo Nogales","Torres 10,11,12",480,"3+",20416162299,null,"EL AGUSTINO","LIMA","LIMA",2120]
["301/17-0314.07","Inmobiliaria Ruttini","Terrazas del Sol Condominio","1, 2,3 y 4",858,null,20518010329,null,"SAN JUAN DE LURIGANCHO","LIMA","LIMA",858]
["301/17-2529","BELGICA EDIFICACIONES S.A.","Precursores 4",1,6,null,20329728022,null,"SAN MIGUEL","LIMA","LIMA",57]
["AE.RE-077-2020","LIDER INGENIERIA Y CONSTRUCCIÓN SA","Conjunto Residencial Kampu","2 (Edif. 9,10,11); 3(Edif. 5,6); 4(Edif. 12,13); 5(Edif. 14,15); 6( Edif. ,16,17)",220,"3+",20519431395,null,"ATE","LIMA","LIMA",220]
["301/17-2180","WR S.A.","Buganvillas","Torre C y Torre D",140,null,20100048702,null,"COMAS","LIMA","LIMA",384]
["301/17-2528","D&D CONSTRUCTORES S.A.C.","Urbanizacion Los Huarangos",3,99,null,20494649161,null,"ICA","ICA","ICA",99]
["N° 001.2018","Inversiones Qualiving SAC /Zen Grupo Inmobiliairo","Edificio Multifamiliar Arnaldo Marquez","Torre unica",112,null,20601622581,null,"JESUS MARIA","LIMA","LIMA",132]
["N° 003.2018","AN Inmobiliaria","Ciudad Horcones",8,1025,null,20563652145,null,"JAYANCA","LAMBAYEQUE","LAMBAYEQUE",1025]
["N° 002.2018","Desarrollo Sucre 132 SAC /COSAPI","Edificio PRANA",1,73,null,20601803993,null,"PUEBLO LIBRE","LIMA","LIMA",79]
["AE.RE.023-2020","Inversiones Inmobiliarias del Indico S.A. (IMAGINA)","Alto Benavides","Todo el Proyecto",647,"3+",20514048071,null,"LIMA","LIMA","LIMA",647]
["N° 005.2018","Inversiones Inmobiliarias del Mantaro SA. (IMAGINA)","Alto Venezuela",3,447,"3+",20517503224,null,"SAN MIGUEL","LIMA","LIMA",687]
["AE.RE.028-2020","MEJ INMOBILIARIA SAC","Grand Central",1,148,"3+",20602151655,null,"BREÑA","LIMA","LIMA",148]
["N° 007.2018","CONSTRUCTORA INARCO PERU SAC","Condominio Paseo San Martin ","Torre 3",116,null,20519219922,null,"SAN MARTIN DE PORRES","LIMA","LIMA",456]
["AE.RE-159-2020","MY HOME Organización Inmobiliaria","Edificio Millenium",1,84,"2+",20509748633,null,"LA VICTORIA","LIMA","LIMA",84]
["N° 008.2018","COSAPI INMOBILIARIA & GRUPO LAR","Duplo","Torre A",147,null,20555934263,null,"BREÑA","LIMA","LIMA",177]
["N° 010.2018","INVERSIONES GRANADERO S.A.C.","Altus One","Torre A",112,null,20506916080,null,"SAN MIGUEL","LIMA","LIMA",112]
["N° 012.2018","TM GESTION INMOBILIARIA S.A.C.","Condominio Jardines de Santa Beatriz","1  (Torre C)",77,null,20549790373,null,"LIMA","LIMA","LIMA",77]
["AE.RE-089-2020","DESARROLLO INMOBILIARIO FT S.A.C.","Hara","Fase 1 y Fase 2",160,"3+",20601881749,null,"LA VICTORIA","LIMA","LIMA",170]
["N° 012B.2018","WESCON","Edificio Residencial Conecta",1,75,null,20509940666,null,"LIMA","LIMA","LIMA",75]
["AE.RE.019-2021","AMAUTA 2272 SAC  (antes WESCON)","Edificio Multifamiliar FESTIVA - Etapa 2( antes Edificio de Vivienda Multifamiliar Amauta)","Etapa 2",136,"3+",20557848411,null,"LIMA","LIMA","LIMA",140]
["N° 016.2018","PAZ CENTENARIO S.A.","Ciudad Verde 3","3 (Torre E y F)",45,null,20518023579,null,"PUENTE PIEDRA","LIMA","LIMA",144]
["N° 015.2018","PAZ CENTENARIO S.A.","Ciudad Nueva 3","3 (Torre E y F)",63,null,20518023579,null,"CALLAO","CALLAO","CALLAO",444]
["AE.RE-111-2020","PAZ CENTENARIO S.A.","Ciudad Nueva 5","5 (Torre I,J)",128,"3+",20518023579,null,"CALLAO","CALLAO","CALLAO",128]
["AE.RE-113-2020","PAZ CENTENARIO S.A.","Ciudad Nueva 4","4(Torre D)",27,null,20518023579,null,"CALLAO","CALLAO","CALLAO",27]
["AE.RE-114-2020","PAZ CENTENARIO S.A.","Proyectos Prados del Sol 4","4 (Torre J,K,L)",58,"3+",20518023579,null,"ATE","LIMA","LIMA",120]
["N° 018.2018","PAZ CENTENARIO S.A.","Ciudad Verde","4 (Torre G)",72,null,20518023579,null,"PUENTE PIEDRA","LIMA","LIMA",72]
["AE-RE-027-2020","DESARROLLO PLAZA GRAU SAC  (GRUPO LAR)","CONJUNTO RESIDENCIAL Y DE COMERCIO MIDLIMA (antes Midtown)","Torres 1,2,3,4,5,6,7,8,9,10,11,12,13",414,"3+",20563177323,null,"LIMA","LIMA","LIMA",414]
["AE-RE-052-2020","DESARROLLADORA VISTA NEVADO S.A.C.","CasaParq","Torres B",63,"3+",20602442439,null,"CERRO COLORADO","AREQUIPA","AREQUIPA",63]
["N° 020.2018","LIDER INVERSIONES AREQUIPA SA (Lider)","Almira Condominio","1 Etapa, 1 Edificio",63,null,20539613716,null,"JACOBO HUNTER","AREQUIPA","AREQUIPA",63]
["AE-RE-011-2020","VIVA GYM S.A.","Los Parques de Comas, Villa Jacaranda","6 Edificios, 1,2,3,4,5,6",720,"3+",20493040643,null,"COMAS","LIMA","LIMA",720]
["N° 025.2018","A-ZERO INMOBILIARIA S.A.C.","Buenavista","Torre unica",3,null,20451658337,null,"SANTIAGO DE SURCO","LIMA","LIMA",3]
["N° 026.2018","A-ZERO INMOBILIARIA S.A.C.","Multifamiliar Nature","Torre unica",8,null,20451658337,null,"LURIGANCHO","LIMA","LIMA",8]
["AE.RE.026-2020","DESARROLLO TANGUIS S.A.C. (antes GRUPO LAR DESARROLLOS INMOBILIARIOS S.A.C.)","Eres","Fase 1 Torre A, Fase 2 Torre B, Fase 3 Torre C",365,"3+",20551609538,null,"SURQUILLO","LIMA","LIMA",599]
["AE-RE-021-2020","DESARROLLO PASEO DE LA REPUBLICA S.A.C.  (Anteriormente GRUPO LAR DESARROLLOS INMOBILIARIOS SAC)","Elant","Fase 1 Torre A, Fase 2 Torre B, Fase 3 Torre C",447,"3+",20601832098,null,"LA VICTORIA","LIMA","LIMA",448]
["N° 029.2018","INMOBILIARIA VALLE LUZ S.A.C. (CANTABRIA)","Edificio Motion San Miguel","Torre Unica",54,null,20492434052,null,"SAN MIGUEL","LIMA","LIMA",138]
["N° 030.2018","INMOBILIARIA NUESTRA SEÑORA DE COPACABANA SAC (Magbis)","Residencial Nuevo Lurin","Torre unica",68,null,20549933409,null,"LURIN","LIMA","LIMA",68]
["AE.RE-115-2020","PAZ CENTENARIO S.A.","Proyectos Prados del Sol 5","5 (Torre H,I)",40,"3+",20518023579,null,"ATE","LIMA","LIMA",60]
["AE.RE-116-2020","PAZ CENTENARIO S.A.","Proyectos Prados del Sol 3","3 (Torre M,N,O)",70,"3+",20518023579,null,"ATE","LIMA","LIMA",100]
["AE-RE-074-2020","ALBAURBE PROMOTORA INMOBILIARIA SAC (ALBAMAR)","POINT PUEBLO LIBRE (antes EDIFICIO BOLIVAR POINT)","Torre unica (del piso 5° al piso 20°)",55,"3+",20601552249,null,"PUEBLO LIBRE","LIMA","LIMA",166]
["AE.RE.004.2020","VIVA GYM S.A.","Los Parques de Comas, Los Laureles",1,640,"3+",20493040643,null,"COMAS","LIMA","LIMA",640]
["AE-RE-012-2020","VIVA GYM S.A.","Los Parques de Comas, Los Laureles",2,640,"3+",20493040643,null,"COMAS","LIMA","LIMA",640]
["AE-RE-014-2020","VIVA GYM S.A.","Los Parques de Comas, Los Laureles",3,640,"3+",20493040643,null,"COMAS","LIMA","LIMA",640]
["AE-RE-015-2020","VIVA GYM S.A.","Los Parques de Comas, Los Laureles",4,640,"3+",20493040643,null,"COMAS","LIMA","LIMA",640]
["N° 036.2018","VIVA GYM S.A.","Los Parques de Comas, Girasoles 5",5,384,null,20493040643,null,"COMAS","LIMA","LIMA",384]
["AE-RE-010-2020","VIVA GYM S.A.","Los Parques de Comas, Las Magnolias","Torres 1,2,3,4,5,6",768,"3+",20493040643,null,"COMAS","LIMA","LIMA",768]
["AE.RE-034-2020","VIVA GYM S.A.","Los Parques de Piura 2","ETAPA 2",240,"3+",20493040643,null,"PIURA","PIURA","PIURA",336]
["N° 040.2018","NEOVIDA CONSTRUCCIONES SAC","Residencial Santa elena","Torre unica",11,null,20524115213,null,"MAGDALENA DEL MAR","LIMA","LIMA",31]
["AE.RE-160-2020","VIVA GYM S.A.","Parques del Mar","Torre A y Torre B",248,"2+",20493040643,null,"SAN MIGUEL","LIMA","LIMA",248]
["AE.RE-105-2020 / AE.RE 95-2020.","CONSORCIO DH MONT & CG&M S.A.C.","Ciudad Sol de Collique","Manzana E (todos los blocks) y Manzana G Lote 4 (Block N° 9 y 18) y Lote 5 (Block N° 7 y 8)",2906,"3+",20502574109,null,"COMAS","LIMA","LIMA",4260]
["AE.RE.096-2020","CONSORCIO DH MONT & CG&M S.A.C.","Oasis de Piura","1,2,3,4",2352,"3+",20502574109,null,"PIURA","PIURA","PIURA",2352]
["AE.RE.022-2020","INVERSIONES INMOBILIARIAS DE LA ATLANTIDA S.A.","Conjunto residencial SMART","Torre A y Torre B",178,"3+",20515544187,null,"SURQUILLO","LIMA","LIMA",306]
["N° 045.2018","PAZ CENTENARIO S.A.","Vista Azul Etapa 1","Torre A",123,null,20518023579,null,"SAN MIGUEL","LIMA","LIMA",123]
["N° 046.2018","PAZ CENTENARIO S.A.","Icono","Torre unica",75,null,20518023579,null,"BREÑA","LIMA","LIMA",255]
["AE.RE-055-2020","CONSORCIO CISSAC SCANDER S.A.C. (CISSAC)","Del Parque","Edificio 1-Modulo 2",120,"3+",20601676622,null,"PIMENTEL","CHICLAYO","LAMBAYEQUE",120]
["N° 048.2018","PAZ CENTENARIO S.A.","Villa Club Ica Sub Etapa 2",2,31,null,20518023579,null,"LA TINGUIÑA","ICA","ICA",59]
["N° 049.2018 ","PAZ CENTENARIO S.A.","Villa Club Ica Sub Etapa 3",3,68,null,20518023579,null,"LA TINGUIÑA","ICA","ICA",68]
["N° 050.2018","CONSTRUCTORA E INMOBILIARIA  PALCER SAC","Condominio Residencial Los Huertos","II-2",70,null,20505196865,null,"SAN MARTIN DE PORRES","LIMA","LIMA",70]
["AE.RE-059-2020","BUENAS INVERSIONES SAC (Senda)","Vivienda - Comercio MET","Torre unica",256,"3+",20600930258,null,"LA VICTORIA","LIMA","LIMA",381]
["N° 052.2018","LAPSA ORGANIZACIÓN INMOBILIARIA SA","Santa Sofia","Torre A,B y C",99,null,20507908943,null,"CHORRILLOS","LIMA","LIMA",116]
["AE.RE.030-2020","DESARROLLO OLGUIN S.A.C.","Epiqe",3,143,"3+",20603106521,null,"SANTIAGO DE SURCO","LIMA","LIMA",204]
["AE.RE-090-2020","SAN JOSE INMOBILIARIA PERU SAC","Nuevavista Condominio","Edificio 2,3,4, 5, 6, 7, 8, 9, 10",1032,"3+",20509534838,null,"BELLAVISTA","CALLAO","CALLAO",1104]
["AE.RE-016-2021","A&A GRUPO INMOBILIARIO SAC (antes INVERSIONES CH & M SAC)","Prados del Este","1 y 2",199,"1+",20603898126,null,"SUBTANJALLA","ICA","ICA",322]
["AE.RE-038-2020","CONSTRUCTORA CUMBRES VILLANOVA S.A.C.","Conjunto Residencial Villanova 2","Etapa  2",96,"3+",20602704891,null,"CALLAO","CALLAO","CALLAO",538]
["AE.RE-102-2020","INSURCO PROYECTOS SAC (INVENT)","Invent San Felipe","Torre 1",38,"2+",20602544461,null,"JESUS MARIA","LIMA","LIMA",72]
["AE-RE-018-2020","BESCO S.A.C.","Las Palmas (Ex Proyecto Chorrillos)","Edif. A, B, C, D, E",313,"3+",20416162299,null,"CHORRILLOS","LIMA","LIMA",313]
["N° 059.2018","VILLA CLUB S.A.C.","Proyecto Villa Club Carabayllo -etapa 4",4,58,null,20492390098,null,"CARABAYLLO","LIMA","LIMA",600]
["N° 060.2018","VILLA CLUB S.A.C.","Proyecto Villa Club Carabayllo -etapa 5",5,68,null,20492390098,null,"CARABAYLLO","LIMA","LIMA",655]
["AE.RE.043.2020","AIP 15 SAC (Arteco)","Depa+Club Lince","Etapa 1 y 2, Torre única",172,"3+",20600327411,null,"LINCE","LIMA","LIMA",177]
["N° 062.2018","CORPORACION INMOBILIARIA NERIDA MARIA SAC (Abril Inmobiliaria)","Edificio Los Robles","Torres A, B, C",282,null,20518128249,null,"SURQUILLO","LIMA","LIMA",301]
["N° 063.2018","GRECO INMOBILIARIA SAC","Edificio Ficus","Torre 1",264,null,20552897863,null,"JESUS MARIA","LIMA","LIMA",264]
["N° 064.2018","AMAUTA 2272 SAC  (antes WESCON)","Edificio Amauta - Etapa 1","Etapa 1",36,null,20557848411,null,"LIMA","LIMA","LIMA",36]
["AE.RE-071-2020","INMOBILIARIA CAPIENTE SAC (URBANA)","Tempo Etapa 1 Etapa 2","2 Sectores/ Etapa 1",320,"3+",20602336850,null,"LA VICTORIA","LIMA","LIMA",396]
["AE.RE-049-2020","QUATRO PROYECTOS SAC","FAMILY TOWER","Torre unica",172,"2+",20555726075,null,"BREÑA","LIMA","LIMA",173]
["N° 067.2018","MY HOME Organización Inmobiliaria","Edificio Voce","Torre 1",19,null,20509748633,null,"LA VICTORIA","LIMA","LIMA",39]
["N° 068.2018","BARQUEROS GRUPO CONSTRUCTOR SAC","Residencial Medis",1,36,null,20601148481,null,"PUEBLO LIBRE","LIMA","LIMA",63]
["N° 069.2018","ZyV INVERSIONES SAC","Ingarden",1,32,null,20537924137,null,"EL TAMBO","HUANCAYO","JUNIN",32]
["N° 070.2018","LA VENTUROSA S.A.","Condominio Bella Flora",3,133,null,20383731705,null,"SANTIAGO DE SURCO","LIMA","LIMA",215]
["N° 071.2018","URBANIZACION LOS JARDINES DEL EDEN S.A.C.","Los Jardines del Eden Etapa 2",2,178,null,20602187145,null,"ICA","ICA","ICA",178]
["N° 072.2018","P&G GROUP SAC","Residencial las Orquideas II","Torre Interior y exterior",60,null,20482628487,null,"TRUJILLO","TRUJILLO","LA LIBERTAD",60]
["N° 073.2018","CIUDARIS CONSULTORES INMOBILIARIOS SAC","Residencial Shine",1,100,null,20432280056,null,"SAN MIGUEL","LIMA","LIMA",139]
["N° 074.2018","A-ZERO INMOBILIARIA S.A.C.","Edificio Multifamiliar Golf de Huampani","Torre unica",8,null,20451658337,null,"SAN JUAN DE LURIGANCHO","LIMA","LIMA",8]
["N° 075.2018","CONSTRUCTORA E INMOBILIARIA OHOSO SAC (ARMAS DOOMO)","Alto Lima",1,280,null,20548363331,null,"LA VICTORIA","LIMA","LIMA",444]
["AE.RE.031.2020 ","AIP 14 SAC (Arteco)","Depas+Club La Breña",1,119,"3+",20556280925,null,"BREÑA","LIMA","LIMA",119]
["AE.RE.020-2020","INVERSIONES INMOBILIARIAS DE LAS CONDES S.A. (Imagina)","Proyecto Concepto \"Magic Ocean\"","1 y 2",136,"3+",20537745631,null,"SAN MIGUEL","LIMA","LIMA",368]
["N° 078.2018","VIVIENDAS DEL PERÚ S.A.C.","Bonavi 2","Proyecto Integral",56,null,20512691529,null,"PUEBLO LIBRE","LIMA","LIMA",75]
["N° 079.2018","PROEDCO SAC","Edificio Yanacoto",1,16,null,20602414630,null,"SAN MIGUEL","LIMA","LIMA",16]
["AE.RE-060-2020","INMOBILIARIA NARANJUELO S.A.C.","Condominio Paseo La Arboleda","Edificios D, E, F, G, H, I, J, K, L, M, N,O",480,"3+",20537115026,null,"SANTIAGO DE SURCO","LIMA","LIMA",480]
["AE.RE-107-2020 (anterior 081-2018)","VIVIENDAS DEL PERÚ S.A.C.","Allegro","Torre A y B (4 Y 5)",132,"2+",20512691529,null,"SAN MIGUEL","LIMA","LIMA",180]
["N° 082.2018","PC SANTA CLARA SRL (Caral)","Conjunto Residencial La Ribera de Santa Clara","Torres 1,2,3,4,5,6,7,8,9,12",684,null,20544419081,null,"ATE","LIMA","LIMA",812]
["N° 083.2018","INMOBILIARIA SUANCES SAC (Cantabria)","Edificio Look Lince","Torre unica",89,null,20601101221,null,"LINCE","LIMA","LIMA",147]
["N° 084.2018","INMOBILIARIA Y EDIFICACIONES DOMUS SAC","Residencial Madalengoitia","Torre unica",27,null,20602501028,null,"CHORRILLOS","LIMA","LIMA",27]
["N° 085.2018","INVERSIONES ESTRATEGICAS INTEGRALES SAC","Residencial del Carmen","Torre unica",43,null,20503680174,null,"TRUJILLO","TRUJILLO","LA LIBERTAD",43]
["AE.RE-086-2020","CONSTRUCTORA GALILEA S.A.C.","Sol de Pimentel","De la etapa 20 a la etapa 36, etapa 44 (lote 11), etapa 45 (lote 3) y etapa 46 ",429,"3+",20521119943,null,"PIMENTEL","CHICLAYO","LAMBAYEQUE",1139]
["N° 087.2018","GERENCIA Y CONSTRUCCION EDIFICA SAC ","Garden 360","Torres 1,2,3,4,5,6,7,8",145,null,20521800748,null,"PIURA","PIURA","PIURA",360]
["AE.RE-142-2020","CIUDARIS CONSULTORES INMOBILIARIOS SAC","Residencial Serk Barranco Club 2 - 2da etapa",2,127,"3+",20432280056,null,"BARRANCO","LIMA","LIMA",329]
["N° 089.2018","DHMONT SAC CONTRATISTAS GENERALES","TORRE LOS CIPRESES","Torre unica",26,null,20108664640,null,"LIMA","LIMA","LIMA",88]
["N° 091.2018","MG HOGAR SAC","Edificio Multifamiliar Aranibar","Torre unica",54,null,20601420121,null,"LIMA","LIMA","LIMA",54]
["AE.RE-084-2020","CONSTRUCTORA GALILEA S.A.C.","Vista Alegre","9 hasta la 31",741,"3+",20521119943,null,"CHICLAYO","CHICLAYO","LAMBAYEQUE",1029]
["AE.RE-036-2020","COSAPI INMOBILIARIA & GRUPO LAR","SENTE (antes Centenario)",2,192,"3+",20555934263,null,"BREÑA","LIMA","LIMA",204]
["AE.RE.035.2020","AIP 10 SAC (Arteco)","Paseo la Campiña V","Torre C",32,"3+",20548906301,null,"CHORRILLOS","LIMA","LIMA",185]
["AE.RE-073-2020","LOS PORTALES CONSTRUYE SAC","Conjunto Residencial Mirador del Golf I","Torres 1,2,3,4 y 5",127,"3+",20553346178,null,"LURIGANCHO","LIMA","LIMA",320]
["N° 096-2018","LOS PORTALES CONSTRUYE SAC","Edificio Multifamiliar y comercial Gran Colonial","Torre A y B",95,null,20553346178,null,"LIMA","LIMA","LIMA",210]
["N° 097-2018","BESCO S.A.C.","Alameda Santa Ana I - 2° Etapa","Edificio 2 y Edificio 4",144,null,20416162299,null,"PIURA","PIURA","PIURA",144]
["AE.RE.006-2022","PC COSTANERA SAN MIGUEL SRL (Caral)","CONJUNTO RESIDENCIAL VERAH","TORRE 4,5,6,7,8,9,10,11",288,"3+",20600610652,null,"SANTIAGO DE SURCO","LIMA","LIMA",288]
["AE.RE-143-2020","PORTAL SANTA CLARA (Caral)","Uptown 2",2,127,"2+",20544155831,null,"SAN MIGUEL","LIMA","LIMA",287]
["N° 100-2019","INMOBILIARIA CONSTRUCTORA WASI SAC","Condominio Club San Pedro de Latarce","Torre B1a, B2a, B1b, B2b",200,null,20532672032,null,"TACNA","TACNA","TACNA",200]
["AE.RE-054-2020","CORPORACION INMOBILIARIA SUDAMERICANA SELVA SAC (CISSAC)","Condominio Del Parque Tarapoto",1,100,"3+",20602187889,null,"LA BANDA DE SHILCAYO","SAN MARTIN","SAN MARTIN",140]
["AE.RE.024-2020","INVERSIONES INMOBILIARIAS DEL MOCHE S.A. (Imagina)","Conjunto Residencial Urban (Etapa II)",2,18,"3+",20519159920,null,"LINCE","LIMA","LIMA",111]
["AE.RE-041-2020","CONSTRUCTORA CUMBRES VILLANOVA S.A.C.","Conjunto Residencial \" Condominio Villanova 3\"",3,484,"3+",20602704891,null,"CALLAO","CALLAO","CALLAO",484]
["AE.RE-123-2020","DHMONT SAC CONTRATISTAS GENERALES","Jockey Residencial ","Lote 3 Block A-B-C-D-D'; Lote 10 Block AB-AC-AD-AE-AF",240,"3+",20108664640,null,"LA VICTORIA","CHICLAYO","LAMBAYEQUE",240]
["AE.RE-163-2020","TER EDIFICACIONES S.A.C.","Marsano 2175","Torre unica",68,"3+",20602491511,null,"SURQUILLO","LIMA","LIMA",114]
["AE.RE-056-2020","INVERSIONES INMOBILIARIAS CUBA SAC (Senda)","Side",1,176,"3+",20603012110,null,"JESUS MARIA","LIMA","LIMA",176]
["AE.RE-101-2020","INJAVIER PRADO PROYECTOS SAC (INVENT)","Invent Javier Prado","Torre 1",17,"2+",20602909965,null,"MAGDALENA DEL MAR","LIMA","LIMA",53]
["N° 108-2018","D&D CONSTRUCTORES S.A.C.","Urbanizacion Los Huarangos 4 Etapa","4 ( Mzs L,M,N,O,P,Q,R,S,T)",159,null,20494649161,null,"ICA","ICA","ICA",159]
["N° 109-2018","INVERSIONES NUEVO PACIFICO S.A.C.","Multifamiliar Liverpool","Dos unicas torres ( del piso 1° al 8°)",64,"1+",20481775575,null,"TRUJILLO","TRUJILLO","LA LIBERTAD",64]
["N° 110-2018","CONSORCIO DH MONT & CG&M S.A.C.","Ciudad Sol de Collique","Manzana G, Lote 5 (Block N° 6), Lote 6 (Block N° 4 y 5), Lote 7 (Block N° 3,19 y 20)",127,null,20502574109,null,"COMAS","LIMA","LIMA",690]
["AE.RE.125-2020","CONSORCIO DH MONT & CG&M S.A.C.","SAN ANDRES HOUSE","3 Etapas (IA, IB,IC, ID)",92,"3+",20502574109,null,"SAN ANDRES","PISCO","ICA",114]
["AE.RE.033.2020","AIP 5 SAC (Arteco)","Depas y Club Huachipa","Etapa 1, torres (A,B,G,H,J,K,L), Etapa 2, torres (C,D,E,F,I,M,N,O)",61,"3+",20537263998,null,"ATE","LIMA","LIMA",396]
["N° 113-2018","CONSTRUCTORA GALILEA S.A.C.","Torres de Quevedo","Torre 13 y 14",40,null,20521119943,null,"TRUJILLO","TRUJILLO","LA LIBERTAD",280]
["AE.RE-087-2020","CONSTRUCTORA GALILEA S.A.C.","Alto Chimbote","Etapa 6 (2 lotes), 3, 4, 5, 7",121,"3+",20521119943,null,"CHIMBOTE","SANTA","ANCASH",560]
["N° 115-2018","DESARROLLOS INMOBILIARIOS COMAR S.A.C.","Edificio Multifamiliar Centric","torre unica",80,null,20537802457,null,"LINCE","LIMA","LIMA",80]
["AE.RE-058-2020","PROMSAL S.A.C.","Hey Catalina","torre unica",92,"3+",20515876937,null,"LA VICTORIA","LIMA","LIMA",112]
["AE.RE-108-2020","INVERSIONES ROCAZUL SAC","Vista Mar","Torre A",80,"3+",20507322311,null,"SAN MIGUEL","LIMA","LIMA",80]
["N° 118-2018","CONSTRUCTORA E INMOBILIARIA OPTIMUS S.A.C.","Edificio Lugo","Torre unica",36,null,20547778333,null,"MAGDALENA DEL MAR","LIMA","LIMA",38]
["AE.RE-122-2020","PI JORGE CHAVEZ S.A.C. (Flesan)","BUENAVISTA",1,5,"2+",20600833317,null,"LIMA","LIMA","LIMA",49]
["AE.RE-121-2020","PI PRADO 1 S.A.C. (Flesan)","VITTORIA",1,54,"2+",20603240163,null,"LINCE","LIMA","LIMA",128]
["N° 121-2018","PROMORE INMOBILIARIA S.A.C.","Edificio Victoria","Torre unica",20,null,20524800862,null,"HUACHO","HUAURA","LIMA",20]
["N° 123-2018","EDIFICACIONES INMOBILIARIAS SAC","Edificio Multifamiliar Avida","Etapa 2 (Torre A y B)",127,"2+",20511988757,null,"SAN MIGUEL","LIMA","LIMA",166]
["AE.RE-098-2020","CONSTRUCTORA CUMBRES CHALLPAMPA S.A.C.","Conjunto Residencial “Condominio Villa Verde 2”","C Y D",160,"3+",20602699537,null,"CERRO COLORADO","AREQUIPA","AREQUIPA",288]
["AE.RE-097.2020","CONSTRUCTORA CUMBRES CHALLPAMPA S.A.C.","Conjunto Residencial \" Condominio Valle Blanco Reserva\"",4,160,"3+",20602699537,null,"CERRO COLORADO","AREQUIPA","AREQUIPA",640]
["N° 122-2018","GRUPO ARIATZA S.A.C.","Mirador Palatino Casa Club","Torre unica",55,null,20600134729,null,"MAGDALENA DEL MAR","LIMA","LIMA",97]
["AE.RE.029-2020","DESARROLLO SALAVERRY 475 SAC (Cosapi)","Nesta","Fase 3, 4 Y 5",115,"3+",20566143381,null,"JESUS MARIA","LIMA","LIMA",290]
["N° 001-2019","PROYEC CONTRATISTAS GENERALES S.A.","Varela 2","torre unica",58,null,20333686237,null,"BREÑA","LIMA","LIMA",58]
["N° 002-2019","PROYEC CONTRATISTAS GENERALES S.A.","Varela 879","torre unica",23,null,20333686237,null,"BREÑA","LIMA","LIMA",23]
["N° 003-2019","EMPRESA PROMOTORA BRAVO DE RUEDA (MAGVIS)","Los Jardines del Rimac II","Torre unica",17,null,20602081797,null,"RIMAC","LIMA","LIMA",23]
["N° 004-2019","NEOVIDA CONSTRUCCIONES SAC","Edificio Multifamiliar \" Residencial El Rio\"",1,25,null,20524115213,null,"PUEBLO LIBRE","LIMA","LIMA",30]
["N° 005-2019","A&C CONSTRUCTORA E INMOBILIARIA S.A.C.","Edificio Santa Rosa",1,20,null,20486530147,null,"HUANCAYO","HUANCAYO","JUNIN",20]
["AE.RE.103.2020","ALEMAN CONSTRUCTORES CO SAC ","Las Cumbres del Mirador","Etapa 1 (Torres I, II), Etapa 2 (Torres III, IV)",116,"3+",20566072182,null,"CERRO COLORADO","AREQUIPA","AREQUIPA",116]
["AE.RE-076-2020","INVERSIONES INMOBILIARIAS MAGDALENA S.A.C.","Juan de Aliaga","1 y 2 ",175,"3+",20547173261,null,"MAGDALENA DEL MAR","LIMA","LIMA",297]
["N° 014-2019","MINISTERIO DE TRANSPORTES Y COMUNICACIONES (BESCO, BESALCO)","Condominio Villa Atletas","Torres 1,2,3,4,5,6 y 7",1096,null,20131379944,null,"VILLA EL SALVADOR","LIMA","LIMA",1096]
["N° 009-2019","ANTARES CONTRATISTAS S.A.","Edificio Multifamiliar I Los Parques del Chipe",2,60,null,20143382339,null,"VEINTISEIS DE OCTUBRE","PIURA","PIURA",60]
["AE.RE-078-2020","GLJ CONSTRUCTORES E INMOBILIARIOS SAC","La Gloria IV",1,41,"3+",20547261551,null,"MAGDALENA DEL MAR","LIMA","LIMA",48]
["N° 010-2019","IMMO NAUTIC SAC (Nuvo)","Smart San Felipe","Torre unica",98,null,20553227080,null,"JESUS MARIA","LIMA","LIMA",138]
["AE-RE-006-2020","MIRANDA CONSTRUCTORES S.A.","Praderas del Rimac","Condominio del 1 al 6 ( 3 torres c/u)",2880,"3+",20392504894,null,"RIMAC","LIMA","LIMA",2880]
["AE-RE-005-2020","MIRANDA CONSTRUCTORES S.A.","Altos del Rimac","Condominios:  1 (3 torres), 2 (3 torres),3(3 torres),4 (3 torres), 5 (4 torres)",2304,"3+",20392504894,null,"RIMAC","LIMA","LIMA",2304]
["N° 015-2019","REPRESENTACIONES DACA S.A.C.","Residencial Los Jazmines",1,17,null,20477373977,null,"TRUJILLO","TRUJILLO","LA LIBERTAD",18]
["AE.RE-080-2020","QUATRO PROYECTOS SAC","Urban Tower 2",1,98,"3+",20602816851,null,"LIMA","LIMA","LIMA",98]
["AE.RE-047-2020","INVERSIONES INMOBILIARIAS VERANO S.A.C.","Edificio Multifamiliar CYPRES",1,72,"3+",20553608041,null,"SURQUILLO","LIMA","LIMA",72]
["AE.RE-154-2020","MENORCA INVERSIONES S.A.C.","Proyecto Villa SARAJA",1,50,"2+",20173223626,null,"ICA","ICA","ICA",147]
["AE.RE-106-2020","GRUPO ORE PARIONA S.A.C.","Proyecto Camino Real - 1era Etapa",1,51,"2+",20502668421,null,"ICA","ICA","ICA",51]
["AE.RE-136-2020","BUEN VIVIR S.A.C.","Proyecto Edificio Libertad","Torre unica",23,"2+",20554638911,null,"SAN MIGUEL","LIMA","LIMA",23]
["N° 021-2019","LINEA 21 S.A.C.","Edificio Multifamiliar Los Andes",1,29,null,20563050331,null,"MAGDALENA DEL MAR","LIMA","LIMA",29]
["N° 022-2019","CONSTRUCTORA BETANIA S.A.C.","PASEO CASTILLA (antes Edificio Multifamiliar Alameda)","Torre A",94,null,20503685567,null,"SAN MIGUEL","LIMA","LIMA",94]
["N° 023-2019","CONSTRUCTORA BETANIA S.A.C.","Edificio Multifamiliar Aereo Home","Torre A",60,null,20503685567,null,"BREÑA","LIMA","LIMA",60]
["AE-RE-003-2020","BESCO S.A.C.","Proyecto Centrika Condominio ","Edificios 1,2 y 3",436,"3+",20416162299,null,"PIURA","PIURA","PIURA",436]
["N° 025-2019","GRUPO DU BOIS S.A.C.","Proyecto Residencial DUBOIS III","TORRE UNICA",26,null,20546518567,null,"SURQUILLO","LIMA","LIMA",26]
["AE.RE-093-2020","INMOBILIARIA RUTURI S.A.C. (ALTOZANO)","Solar de la Alameda - Prime Torre A y B","Torre A y Torre B",149,"2+",20551234542,null,"MIRAFLORES","AREQUIPA","AREQUIPA",149]
["N° 026-2019","BECA INVERSIONES Y PROYECTOS S.A.C.","Edificio Granada 274","Torre única",11,null,20603503326,null,"PUEBLO LIBRE","LIMA","LIMA",18]
["N° 027-2019","INVERSIONES TIERRA BLANCA S.A.C.","Edificio Granada 135","Torre unica",12,null,20518883322,null,"PUEBLO LIBRE","LIMA","LIMA",18]
["AE.RE-127-2020","CASAIDEAL PROYECTO BRASIL 3 SAC","Edificio Multifamiliar NOU","Torre unica",137,"2+",20602736483,null,"PUEBLO LIBRE","LIMA","LIMA",137]
["N° 029-2019","LIMACOR INMOBILIARIA S.A.C. ","Residencial Castilla II – Eco House","Torre A y B",84,null,20563374404,null,"MAGDALENA DEL MAR","LIMA","LIMA",84]
["AE.RE-088-2020","CONSTRUCTORA GALILEA S.A.C.","Conjunto Habitacional Monte Verde II - Etapa 8 - Etapa 29","Etapa 8 - etapa 29",688,"3+",20521119943,null,"CASTILLA","PIURA","PIURA",886]
["N° 031-2019","J & F PERU GROUP S.A.C.","Residencial Primavera","Torre unica",16,null,20539995490,null,"TRUJILLO","TRUJILLO","LA LIBERTAD",20]
["AE.RE-129-2020","MATIER SAC","Gorriones","Torre unica",167,"2+",20392737058,null,"CHORRILLOS","LIMA","LIMA",167]
["AE.RE-016-2020","BESCO S.A.C.","Nuevo Nogales Condominio Club Torre 13 y 14","Torre 13 y 14",400,"3+",20416162299,null,"EL AGUSTINO","LIMA","LIMA",4240]
["AE.RE-057-2020","BELGICA EDIFICACIONES S.A.","Precursores 5","Torre unica",56,"3+",20329728022,null,"SAN MIGUEL","LIMA","LIMA",56]
["AE.RE.015-2021","INMOBILIARIA IPR SAC (antes VERTICALIA S.A.C. (Nuvo))","Conjunto Residencial Vive 500","Torres 1,2 y 3",240,"2+",20603264208,null,"CERRO COLORADO","AREQUIPA","AREQUIPA",240]
["N° 037-2019","CONSTRUCTORA E INMOBILIARIA EL REFUGIO S.A.C.","Parque de La Justicia","Torre unica",9,null,20536777891,null,"LOS OLIVOS","LIMA","LIMA",11]
["N° 038-2019","SERCON CONSTRUCTORA SAC","C 943",1,41,null,20538605671,null,"JESUS MARIA","LIMA","LIMA",77]
["AE.RE-133-2020","ACTIVA MARIATEGUI SAC (Antes ORION INMOBILIARIA E INVERSIONES SAC)","Conjunto Residencial Mariategui","Torre 01",27,"2+",20606580551,null,"JESUS MARIA","LIMA","LIMA",92]
["N° 040-2019","SER CASA S.A.C.","Edificio La Peña","Torre 1 y 2 ",10,null,20603670362,null,"SACHACA","AREQUIPA","AREQUIPA",10]
["AE.RE.010.2021","S&P DESARROLLADORES INMOBILIARIOS S.A.C","Gorriones 4","Torres A,B y C",131,"2+",20600690028,null,"CHORRILLOS","LIMA","LIMA",132]
["AE.RE-048-2020","CORPORACION INMOBILIARIA FERMONT  S.A.C. (Abril grupo Inmobiliario)","Abedul","Torre 1",59,"3+",20600245504,null,"MAGDALENA DEL MAR","LIMA","LIMA",228]
["N° 044-2019","LIDER INVERSIONES AREQUIPA SA (Lider)","Condominio A_Etapa 2","Etapa 02 (Torre 01)",150,null,20539613716,null,"JOSE LUIS BUSTAMANTE Y RIVERO","AREQUIPA","AREQUIPA",150]
["N° 045-2019","CONSTRUCTORA E INMOBILIARIA CDR S.A.C.","Edificio Multifamiliar Vista Club Callao","Torre A y B",247,null,20509746428,null,"BELLAVISTA","CALLAO","CALLAO",247]
["N° 046-2019","GRINSA S.A.C.","Urbanizacion Residencial Valle Hermoso","1,2 y 3",136,null,20440209123,null,"LA VICTORIA","CHICLAYO","LAMBAYEQUE",384]
[" N° 047-2019","GRINSA S.A.C.","Los Rosales de Miraflores","1,2 y 3",126,null,20440209123,null,"CASTILLA","PIURA","PIURA",178]
["AE.RE-120-2020","LA PAZ DESARROLLO INMOBILIARIO S.A.C.","AMARI ( antes Ambar)","Torre unica",99,"3+",20556482471,null,"SAN MIGUEL","LIMA","LIMA",99]
["AE.RE-138-2020","PROYECTOS Y CONSTRUCCIONES LUGANO S.A.C.","Green Park","Torre unica",17,"2+",20507028986,null,"JESUS MARIA","LIMA","LIMA",151]
["AE.RE-135-2020","BUEN VIVIR S.A.C.","Universitaria",1,104,"2+",20554638911,null,"SAN MIGUEL","LIMA","LIMA",104]
["AE.RE-100-2020","GRUPO D Y M CONSTRUCTORA E INMOBILIARIA S.A.C.","Residencial Prado",1,21,"2+",20550506352,null,"ATE","LIMA","LIMA",24]
["N° 051-2019","LUIS FERNANDO LINARES MORANTE","Eco Residencial TAHUAYCANI","Torre A",4,null,10292204774,null,"SACHACA","AREQUIPA","AREQUIPA",4]
["N° 052-2019","INMOBILIARIA EUROEDIFICACIONES S.A.C.","Condominio Parque San Antonio","Torre 01 y 02",183,null,20486852420,null,"HUANCAYO","HUANCAYO","JUNIN",188]
["N° 053-2019","INMOBILIARIA LOPEZ S.A.C.","Proyecto Edificio START","Torre unica",12,null,20505927231,null,"SURQUILLO","LIMA","LIMA",43]
["N° 054-2019","REAL EDIFICACIONES S.A.C.","TORRE REAL 6",1,45,null,20562827936,null,"SURQUILLO","LIMA","LIMA",59]
["AE.RE-072-2020","PROYECTOS GCF SAC","VILLA DULANTO (antes Cipriano Dulanto)",1,80,"3+",20603961715,null,"PUEBLO LIBRE","LIMA","LIMA",102]
["AE.RE.006.2021","TOLEMAN SAC (Altozano)","La Arboleda","Etapa 1 ( Edificios 1,2,3 y 4)",528,"2+",20603841086,null,"CERRO COLORADO","AREQUIPA","AREQUIPA",528]
["N° 057-2019","CONSTRUCTORES INTERAMERICANOS SAC","Condominio de Viviendas Andalucia",3,80,null,20305146618,null,"HUANCHACO","TRUJILLO","LA LIBERTAD",840]
["AE.RE.166-2020","BERTOLOTTO INVESTMENTS SAC","PACIFIK OCEAN TOWER","Torre A",76,"2+",20601935458,null,"SAN MIGUEL","LIMA","LIMA",190]
["AE.RE-091-2020","ALTOZANO DESARROLLO Y CONSTRUCCION SAC","Lomas de La Alameda - 1ra Etapa","Modulo 5 ( Etapa 1)",165,"2+",20507251111,null,"MIRAFLORES","AREQUIPA","AREQUIPA",165]
["AE.RE-039-2020","CONSTRUCTORA CUMBRES VILLANOVA S.A.C.","Condominio Residencial Villanova 02 - Edificio 3","Etapa 2 , Edif 3",44,"3+",20602704891,null,"CALLAO","CALLAO","CALLAO",538]
["AE.RE-045-2020","CORPORACIÓN KAOBA S.A.C.","Cerezos","Torre 1",46,"3+",20602580149,null,"JESUS MARIA","LIMA","LIMA",98]
["AE.RE-050-2020","INVERSIONES MAPLE S.A.C.","Almendra","Torre 1",117,"3+",20602127118,null,"JESUS MARIA","LIMA","LIMA",193]
["AE.RE-099-2020","JGH INMOBILIARIA S.A.C. (PMS)","PLUS JESUS MARIA (antes Edificio Multifamiliar Huiracocha)",1,13,"2+",20603567804,null,"JESUS MARIA","LIMA","LIMA",54]
["AE.RE-117-2020","CHECOR TEODORO CÁRDENAS SAC","LAS CAMELIAS (antes EDIFICIO MULTIFAMILIAR TEODORO CARDENAS)",1,56,"2+",20604088187,null,"LIMA","LIMA","LIMA",57]
["AE.RE-085-2020","CONSTRUCTORA GALILEA S.A.C.","Sol de Lambayeque","De la Etapa 1 a la etapa 6",221,"3+",20521119943,null,"LAMBAYEQUE","LAMBAYEQUE","LAMBAYEQUE",221]
["AE.RE-126-2020","JC CARAL MAGDALENA SAC.","Edificio Multifamiliar Villa Convivium","Etapa 1,2,3 (E1-75, E2-64, E3-69)",208,"2+",20602691170,null,"MAGDALENA DEL MAR","LIMA","LIMA",326]
["AE.RE-094-2020","ALTOZANO DESARROLLO Y CONSTRUCCION SAC","Paseo de la Alameda - 4ta etapa","4ta Etapa, BLOQUES 17, 18 y 19",120,"2+",20507251111,null,"CORONEL GREGORIO ALBARRACIN LANCHIPA","TACNA","TACNA",120]
["N° 068-2019","JJM GROUP SAC","Eco House Santa Maria","1ra Etapa",24,null,20543948706,null,"SANTA MARIA","HUAURA","LIMA",24]
["AE.RE.152-2020","CONSTRUCTORA INARCO PERU SAC","Paseo San Martin","Etapa IV y V (Torre 4 y 5)",180,"2+",20519219922,null,"SAN MARTIN DE PORRES","LIMA","LIMA",456]
["N° 070-2019","4F PROYECTOS INTEGRALES S.A.C.","Edificio Multifamiliar Vigo","Torre unica",5,null,20600851790,null,"ATE","LIMA","LIMA",8]
["AE.RE-124-2020","CLASEM S.A.C.","CONDOMINIO PARQUE SANTA MARGARITA","Etapa 2, Torres 3 y 4",72,"2+",20516390060,null,"VEINTISEIS DE OCTUBRE","PIURA","PIURA",272]
["AE.RE.153-2020","NOVALAND S.A.C.","Villa Campiña","Torre 1",113,"2+",20555122480,null,"CHORRILLOS","LIMA","LIMA",113]
["AE.RE.013.2022 (antes  AE.RE.147.2020)","CONSTRUCTORA E INMOBILIARIA LMR SAC (antes 1060 DOS DE MAYO S.A.C)"," EDIFICIO VARELA ( antes EDIFICIO MULTIFAMILIAR ESMERALDA\nTorre A)","Torre A",45,"2+",20609781506,null,"BREÑA","LIMA","LIMA",51]
["AE.RE-128-2020","CASAIDEAL PROYECTOS PT S.A.C.","Edificio Multifamiliar Town","Torre unica",64,"2+",20603800576,null,"LIMA","LIMA","LIMA",64]
["AE.RE-130-2020","GRECO INMOBILIARIA SAC","Edificio Los Ceibos","Torre unica",57,"3+",20552897863,null,"LINCE","LIMA","LIMA",139]
["AE.RE-042-2020","INMOBILIARIA ACTUAL BRASIL SAC","Multifamiliar Brasil","Torre unica",88,"3+",20603605773,null,"JESUS MARIA","LIMA","LIMA",172]
["N° 077-2019","CCGIL S.R.L.","Residencial San Lorenzo","Torre A",28,null,20537655306,null,"LA PERLA","CALLAO","CALLAO",28]
["N° 078-2019","A-ZERO INMOBILIARIA S.A.C.","Multifamiliar Los Olivos","Torre unica",12,null,20451658337,null,"LOS OLIVOS","LIMA","LIMA",12]
["AE.RE.012-2021","T&C HOLDING S.A.C.","Bertolotto Etapa I","Torre unica",91,"2+",20392638408,null,"SAN MIGUEL","LIMA","LIMA",115]
["AE.RE.014.2021","BRASIL 657 S.A.C.","Catalino","Torre unica",146,"2+",20601159245,null,"BARRANCO","LIMA","LIMA",75]
["AE.RE.025-2020","INMOBILIARIA SAN MARTÍN TOURS S.A.C.","Edificio Multifamiliar Plaza Cuba","Torre Principal",45,"3+",20512781196,null,"JESUS MARIA","LIMA","LIMA",76]
["AE.RE-068-2020","LYNX CONSTRUCTORA S.A.C.","Edificio Santa Cruz Infinite","Torre Principal",91,"3+",20602062318,null,"JESUS MARIA","LIMA","LIMA",98]
["AE.RE-150-2020","LOS PORTALES S.A.","Praderas del Sol Etapas II y III","2 y 3",182,"2+",20301837896,null,"ICA","ICA","ICA",182]
["AE.RE-165-2020","INMOBILIARIA LA PACIFICA SAC (Armas Doomo)","SIMPLICITY (antes Supra)","Etapas 1,2,3",156,"2+",20545094488,null,"SANTIAGO DE SURCO","LIMA","LIMA",398]
["AE.RE-141-2020","MENORCA INVERSIONES S.A.C.","Villa San Antonio de Chiclayo","Etapa 1 , Etapa 2 , Etapa 3 ",171,"2+",20173223626,null,"MONSEFU","CHICLAYO","LAMBAYEQUE",171]
["N° 087-2019","VIENNA CONSTRUCTORES SA","Residencial Nueva Aurora 2 (antes Sergio Bernales)","Torre unica",15,null,20555073098,null,"SURQUILLO","LIMA","LIMA",51]
["AE.RE.032-2020","INMOBILIARIA NUEVO UNIVERSO II SAC (Arquimia)","Conjunto Residencial Mivivienda Nuevo Universo","9 fases (4 torres)",1356,"3+",20491915961,null,"SAN MARTIN DE PORRES","LIMA","LIMA",1356]
["N° 090-2019","YS EMPRESAS S.A.C.","Alameda del Sur","Torre unica",14,null,20512432264,null,"CHORRILLOS","LIMA","LIMA",158]
["AE.RE-075-2020","VIVIENDAS DEL PERÚ S.A.C.","Edificio Switch",1,92,"3+",20512691529,null,"SURQUILLO","LIMA","LIMA",169]
["N° 093-2019","CORPORACION INMOBILIARIA AUSANGATE SAC","Residencial San Sebastian","Torre unica",20,null,20603296762,null,"PUEBLO LIBRE","LIMA","LIMA",20]
["AE.RE.008-2021","GRUPO MAJIEL SAC","Edificio Merino","Torre unica",59,"2+",20513862050,null,"LINCE","LIMA","LIMA",59]
["N° 088-2019","CONSTRUCTORA RFG S.A.C.","Centrica VIP","Torre A",19,null,20550363811,null,"JESUS MARIA","LIMA","LIMA",78]
["AE.RE.013.2021","VYV PROYECTO 56 SAC","Edificio Multifamiliar El Sol","Torre unica",92,"2+",20602907156,null,"BARRANCO","LIMA","LIMA",182]
["AE.RE-079-2020","QUATRO ALFA S.A.C.","Edificio Multifamiliar Dual Tower","Torre unica",110,"3+",20603540744,null,"PUEBLO LIBRE","LIMA","LIMA",125]
["N° 097-2019","GAMMA URBANA SAC","Habilitacion Urbana y Construccion Simultanea las Villas de Chosica III Etapa","3 Etapa",34,null,20602257194,null,"LA VICTORIA","CHICLAYO","LAMBAYEQUE",69]
["N° 098-2019","PROYECTOS Y CONSTRUCCIONES LUGANO S.A.C.","Liberty","Torre A",20,null,20507028986,null,"PUEBLO LIBRE","LIMA","LIMA",67]
["AE.RE-164-2020","CONSTRUCTORA E INMOBILIARIA EMBLEMA TRES S.A.C.","HOMIE (antes Conjunto Residencial Rio Grande)","Torre A y B",178,"2+",20600212223,null,"PUEBLO LIBRE","LIMA","LIMA",217]
["N° 100-2019","MOGADOR TRADING S.A.C.","Echenique 932",4,31,null,20600040198,null,"MAGDALENA DEL MAR","LIMA","LIMA",31]
["N° 101-2019","FORCE HOUSE PROMOTORES INMOBILIARIOS SAC","Residencial Oceanica",1,54,null,20601584868,null,"SAN MIGUEL","LIMA","LIMA",68]
["N° 102-2019","DECAL PROPERTIES SAC","Monterosso","Torre 1",51,null,20522875024,null,"BREÑA","LIMA","LIMA",51]
["N° 105-2019","YOPLAC ASOCIADOS SAC","Residencial Limatambo II de Pueblo Libre","Torre unica",33,null,20516014912,null,"PUEBLO LIBRE","LIMA","LIMA",34]
["AE.RE-146-2020","LOS PORTALES S.A.","Villa de La Rinconada","Etapas A,B y C",315,"2+",20301837896,null,"VEINTISEIS DE OCTUBRE","PIURA","PIURA",315]
["AE.RE-158-2020","INGENIERIA DE LA CONSTRUCCION SAC","Edificio Residencial Brasil 14","Torre unica",12,"2+",20101330258,null,"JESUS MARIA","LIMA","LIMA",87]
["016_C-2021","AZUL GRUPO INMOBILIARIO S.A.C.","Edificio Multifamiliar SOCIAL TREE","Torre unica",95,"3+",20552898835,null,"JESUS MARIA","LIMA","LIMA",233]
["AE.RE046-2020","CORPORACION OLMO S.A.C. ","Edificio Multifamiliar Damasco","Torre unica",93,"3+",20602579906,null,"JESUS MARIA","LIMA","LIMA",155]
["AE.RE-065-2020","WR S.A.","Conjunto Residencial Condominio Unno","Etapas 1 y 2- Torres Ay B (Todo el condominio Unno)",285,"3+",20100048702,null,"COMAS","LIMA","LIMA",285]
["AE.RE-064-2020","WR S.A.","Conjunto Residencial Condominio Doss","Etapas 1 y 2- Torres A, B y C (Todo el condominio Doss)",316,"3+",20100048702,null,"COMAS","LIMA","LIMA",316]
["AE.RE-063-2020","WR S.A.","Conjunto Residencial Condominio Tress","Etapas 1 y 2- Torres A, B, C (departamentos) y Bloques D,E y F (casas). Todo El condominio Tress.",253,"3+",20100048702,null,"COMAS","LIMA","LIMA",253]
["AE.RE-083-2020","CONSTRUCTORA GALILEA S.A.C.","Sol de Huanchaco","Etapas 1 y 2",221,"3+",20521119943,null,"HUANCHACO","TRUJILLO","LA LIBERTAD",223]
["AE.RE.011.2021","PROYECTO CANTABRIA 01 S.A.C.","Edificio Brissa 4112","Torre unica",113,"3+",20602847943,null,"MAGDALENA DEL MAR","LIMA","LIMA",136]
["AE.RE-148-2020","INVERSIONES 4X S.A.C.","Edificio Multifamiliar Tamayo","Torre 1",75,"3+",20600594207,null,"BARRANCO","LIMA","LIMA",90]
["AE.RE-016-2020","BESCO S.A.C.","Nuevo Nogales Condominio Club","Torre 7,8,15,16,17,18",1080,"3+",20416162299,null,"EL AGUSTINO","LIMA","LIMA",1080]
["N° 115-2019","GRUPO DIMENSIONA S.A.C.","Sky Up",1,22,null,20540037061,null,"TRUJILLO","TRUJILLO","LA LIBERTAD",22]
["AE.RE-051-2020","KUADRAT S.A.C.","SQ Concept","Torre unica",111,"3+",20549184376,null,"SURQUILLO","LIMA","LIMA",111]
["N° 120-2019","CONSTRUCTORA E INMOBILIARIA CONSORCIO UGARTE S.A.C.","Boulevard San Juan",1,23,null,20603885440,null,"SAN JUAN DE MIRAFLORES","LIMA","LIMA",23]
["N° 121-2019","PROMOTORA COLINA VERDE S.A.C.","Conjunto Residencial Arborea","Torres : 1A, 1B, 2, 3, 4 y 5",240,null,20603693354,null,"PACHACAMAC","LIMA","LIMA",240]
["AE.RE.019-2020","INVERSIONES INMOBILIARIAS DE PACASMAYO S.A.","Edificio Multifamiliar Urban Park",2,149,"3+",20519161746,null,"LIMA","LIMA","LIMA",291]
["N° 123-2019","MENORCA INVERSIONES S.A.C.","San Antonio de Mala 3",1,302,null,20173223626,null,"MALA","CAÑETE","LIMA",302]
["N° 124-2019","GRUPO ROSALES Y ALFARO S.A.C. - GRUPO ROYAL S.A.C.","Edificio Multifamiliar Residencial Violeta",1,28,null,20601302111,null,"SAN JUAN DE MIRAFLORES","LIMA","LIMA",28]
["N° 126-2019","PROMOTORA LOPEZ S.A.C","NITOA 3",1,25,null,20604471878,null,"SURQUILLO","LIMA","LIMA",31]
["N° 127-2019","PROMOTORA LOPEZ S.A.C","NITOA 2","1ra Etapa",18,null,20603954557,null,"SURQUILLO","LIMA","LIMA",31]
["N° 128-2019","CONCYSSA PROMOTORA INMOBILIARIA SAC","Conjunto Residencial Barcelona","Torre unica",36,null,20600882890,null,"PUEBLO LIBRE","LIMA","LIMA",65]
["AE.RE.044.2020","AIP 8 S.A.C. (Arteco)","Depas y Club Las Quintanas","2da Etapa: Torre A",38,"3+",20548435936,null,"TRUJILLO","TRUJILLO","LA LIBERTAD",559]
["N° 133-2019","INVERSIONES POZO Y ASOCIADOS S.A.C"," Residencial Los Abetos de los Recaudadores",1,8,null,20536221272,null,"ATE","LIMA","LIMA",15]
["AE.RE-162-2020","PROYECTO CANTABRIA 02 SAC","Edificio Reserva 748",1,98,"2+",20602838405,null,"LIMA","LIMA","LIMA",102]
["AE.RE.156-2020","LA MURALLA INVERSIONES INMOBILIARIAS S.A.C.","Edificio Multifamiliar Roomie","Torre unica",25,"2+",20516726319,null,"BARRANCO","LIMA","LIMA",82]
["N° 132-2019","CONSORCIO JERGO CONTRATISTAS Y CONSULTORES S.A.C.","Multifamiliar Torres del Sol 2","Torres A y B",67,null,20527026238,null,"SAN JERONIMO","CUSCO","CUSCO",77]
["AE.RE-061-2020","KUADRAT S.A.C.","On Apartments Etapa 1 Y 2","2 Etapas Etapa 1 - 215 viv./ Etapa 2 - 108 viv.",323,"3+",20549184376,null,"LA VICTORIA","LIMA","LIMA",323]
["N° 131-2019","GRINSA S.A.C.","Las Margaritas","Torres A y B",12,null,20440209123,null,"LA VICTORIA","CHICLAYO","LAMBAYEQUE",18]
["N° 136-2019","GRINSA S.A.C.","Las Flores de Picsi","Etapa I y II",81,null,20440209123,null,"PICSI","CHICLAYO","LAMBAYEQUE",157]
["AE.RE-134-2020","INVERSIONES DOLLY S.A.C. ","CENTRAL PARK AQUARIUS (antes Proyecto de Viviendas de Interes Social D.S. 012-2019-VIVIENDA)","Torre 1",48,"2+",20117788360,null,"SANTIAGO DE SURCO","LIMA","LIMA",64]
["AE.RE-069-2020","INMOBILIARIA ACTUAL FAISANES S.A.C.","Multifamiliar Faisanes","Torre A y B",245,"3+",20604775800,null,"CHORRILLOS","LIMA","LIMA",249]
["AE-RE-052-2020","DESARROLLADORA VISTA NEVADO S.A.C.","Casaparq","Torre A",54,"3+",20602442439,null,"CERRO COLORADO","AREQUIPA","AREQUIPA",54]
["AE.RE-082-2020","PROMOTORA ALBAMAR MARSANO S.A.C.","Edificio Cuore",1,122,"3+",20602700161,null,"LINCE","LIMA","LIMA",166]
["AE.RE-081-2020","PROMOTORA ALBAGEIN S.A.C. ","Edificio Santa Beatriz Point",1,156,"3+",20603691173,null,"LIMA","LIMA","LIMA",159]
["AE.RE-123-2020","CLASEM S.A.C.","Condominio Club El Rosedal","Torres 4, 5, 6, 7, 8 y 9",120,"2+",20516390060,null,"EL TAMBO","HUANCAYO","JUNIN",120]
["N° 143-2019","INMOBILIARIA  JVG S.A.C.","EDIFICIO MULTIFAMILIAR SARAY 2","Torre unica",67,null,20548893993,null,"MAGDALENA DEL MAR","LIMA","LIMA",67]
["AE.RE-037-2020","DESARROLLO INMOBILIARIO FT S.A.C.","Hara Torre B1 y B2/ FASES 3 y 4","Fase 3: (Torre B1)                      Fase 4: (Torre B2)",171,"3+",20601881749,null,"LA VICTORIA","LIMA","LIMA",185]
["AE.RE-119-2020","ARQUIA INVESTMENTS S.A.C.","GRAND CENTRAL PUEBLO LIBRE","Torre unica",127,"2+",20604370150,null,"PUEBLO LIBRE","LIMA","LIMA",127]
["AE.RE-001-2022","NEGOCIOS CORPORATIVOS EL NOGAL S.A.C.","EDIFICIO MULTIFAMILIAR EL NOGAL","Torre unica",32,"2+",20515602306,null,"LINCE","LIMA","LIMA",39]
["N° 147-2019","HSC OVERSEAS GROUP S.A.C.","EDIFICIO ALPAMAYO","Torre unica",32,null,20544436504,null,"ATE","LIMA","LIMA",32]
["AE.RE-132-2020","CORPORACION LUXOR INMOBILIARIA S.A.C. ","EDIFICIO MULTIFAMILIAR GERANIO (antes JOSE LEAL)","Torre unica",53,"3+",20605489231,null,"LINCE","LIMA","LIMA",56]
["AE.RE-067-2020","BESCO S.A.C.","TORREMAR COSTANERA","Torre 1",114,"3+",20416162299,null,"LA PERLA","CALLAO","CALLAO",114]
["N° 150-2019","J&S PERUANA STAR S.A.C.","LAS VILLAS DE BOUGANVILLE",null,194,null,20549423389,null,"REQUE","CHICLAYO","LAMBAYEQUE",194]
["N° 151-2019","ESPACIOS Y ESTRUCTURAS INMOBILIARIA S.A.C.","EDIFICIO MULTIFMAILIAR INSIGNE (antes Edificio Multifamiliar La Marina)","Torre unica",19,null,20552655932,null,"PUEBLO LIBRE","LIMA","LIMA",32]
["N° 152-2019","AMESUR INMOBILIARIA S.A.C.","Residencial LAS PALOMAS 160","Torre unica",34,null,20603546521,null,"SURQUILLO","LIMA","LIMA",35]
["AE.RE-040-2020","CONSTRUCTORA CUMBRES VILLANOVA S.A.C.","CONJUNTO RESIDENCIAL CONDOMINIO VILLANOVA 04","Etapa 4",484,"3+",20602704891,null,"CALLAO","CALLAO","CALLAO",484]
["AE.RE-066-2020","URSA CONSTRUCTORA S.A.C.","CUBA CONNECT 486","Torre principal",33,"3+",20602099416,null,"JESUS MARIA","LIMA","LIMA",116]
["AE.RE-149-2020","LOS PORTALES S.A.","Villas de La Alameda Sur","Etapas I, II y III",324,"2+",20301837896,null,"CHILCA","CAÑETE","LIMA",324]
["AE.RE-112-2020","CONSTRUCTORA CUMBRES CHALLPAMPA S.A.C.","CONJUNTO RESIDENCIAL VALLE BLANCO PREMIUM","Etapa 1 ( Edificios 1,2 y 5); Etapa 2(Edificios 3 y 4)",360,"3+",20602699537,null,"CERRO COLORADO","AREQUIPA","AREQUIPA",360]
["AE.RE-062-2020","INVERSIONES INMOBILIARIAS SEIS S.A.C. ","EDIFICIO MULTIFAMILIAR AUDACITY","Torre unica",275,"3+",20603903693,null,"LA VICTORIA","LIMA","LIMA",342]
["N° 156-2019","ESPACIOS Y ESTRUCTURAS INMOBILIARIA S.A.C.","EDIFICIO QIU ( antes EDIFICIO MULTIFAMILIAR ZAMORA)","Torre 1",33,null,20552655932,null,"SANTIAGO DE SURCO","LIMA","LIMA",51]
["AE.RE-137-2020","INVERSION RENTABLE 1 S.A.C.","RESIDENCIAL LIENZO","Torre unica",47,"3+",20605293388,null,"JESUS MARIA","LIMA","LIMA",74]
["N° 158-2019","EVERGRAN GRUPO INMOBILIARIO S.A.C.","CONDOMINIO ALIAGA GARDEN","Torres 1, 2 y 3",96,null,20604416206,null,"MAGDALENA DEL MAR","LIMA","LIMA",370]
["N° 160-2019","CONSTRUCTORA E INMOBILIARIA RAMVAL S.A.C.","TERRA","Torre unica",34,null,20477648232,null,"TRUJILLO","TRUJILLO","LA LIBERTAD",35]
["AE.RE-070-2020","METROPOLI GRUPO INMOBILIARIO S.A.C.","NATALIO SANCHEZ 287","Torre unica",53,"3+",20603578211,null,"JESUS MARIA","LIMA","LIMA",55]
["AE.RE.004-2021","ANDIAMO INVESTMENTS S.A.C.","CONJUNTO RESIDENCIAL ALAMEDA LOS HORIZONTES (SANTORINI)","Torre unica",69,"2+",20492803601,null,"CHORRILLOS","LIMA","LIMA",76]
["AE.RE.004-2022","PORTAL SANTA CLARA (Caral)","VALENTE 2","TORRE UNICA",172,"3+",20544155831,null,"SAN MIGUEL","LIMA","LIMA",174]
["N° 174-2019","A-ZERO INMOBILIARIA S.A.C.","EDIFICIO MULTIFAMILIAR LA MOLINA","Torre unica",5,null,20451658337,null,"LA MOLINA","LIMA","LIMA",5]
["N° 176-2019","ESENCIA INMOBILIARIA S.A.C. ","LIFE 1239 (antes MULTIFAMILIAR CORONEL LEON VELARDE)","Torre unica",9,null,20602634150,null,"LINCE","LIMA","LIMA",26]
["N° 177-2019","AF CONSTRUCTENIA S.A.C.","AIRES DE SEVILLA","Torre unica",17,null,20460366624,null,"PUEBLO LIBRE","LIMA","LIMA",17]
["AE.RE.003.2021","INMOBILIARIA 21 SAC (antes EDIFICACIONES JK  S.A.C.)","JOIN","Torre unica",61,"2+",20602478905,null,"JESUS MARIA","LIMA","LIMA",96]
["AE.RE.002.2021","INMOBILIARIA 21 SAC (antes EDIFICACIONES JK  S.A.C.)","WE LIVE","Torre principal",95,"2+",20602478905,null,"MAGDALENA DEL MAR","LIMA","LIMA",192]
["N° 175-2019","INMOBILIARIA &CONSTRUCTORA WORLD S.A.C. ","EDIFICIO MULTIFAMILIAR NEW BLAS","Torre unica",23,null,20600025873,null,"SURQUILLO","LIMA","LIMA",23]
[" AE N° 180-2019","URBANIZACION LOS JARDINES DEL EDEN S.A.C.","CONJUNTO RESIDENCIAL JARDINES DEL EDEN ","Etapa 1",7,null,20602187145,null,"ICA","ICA","ICA",107]
["AE.RE-118-2020","GRUPO D Y M CONSTRUCTORA E INMOBILIARIA S.A.C.","RESIDENCIAL ALTO MONTERRICO","Torre unica",32,"2+",20550506352,null,"ATE","LIMA","LIMA",38]
["AE.RE.007.2021","LOS PORTALES CONSTRUYE SAC","GRAN PARQUE ROMA","Torre unica",218,"3+",20553346178,null,"LIMA","LIMA","LIMA",220]
["AE.RE-151-2020","D&D CONSTRUCTORES S.A.C.","URBANIZACION LOS HUARANGOS 5ta ETAPA","Etapa 5, Manzanas A,B,C,D,E,F,G,H,I,J",234,"2+",20494649161,null,"ICA","ICA","ICA",234]
["007C_2020","PAZ CENTENARIO S.A.","PIAZZA","TORRE UNICA",216,"3+",20518023579,null,"PUEBLO LIBRE","LIMA","LIMA",220]
["N° 183-2019","AGUITEL S.A.C. ","RESIDENCIAL LA FONTANA","ETAPA 1",30,"1+",20481407266,null,"VICTOR LARCO HERRERA","TRUJILLO","LA LIBERTAD",30]
["005C_2020","ESPACIOS Y ESTRUCTURAS INMOBILIARIA S.A.C.","EDIFICIO MULTIFAMILIAR ALCAZAR 255","TORRE 1",14,"1+",20552655932,null,"SANTIAGO DE SURCO","LIMA","LIMA",23]
["AE.RE-155-2020","ESPARTA CONSTRUCTORES S.A.","AMBAR","TORRE PRINCIPAL",72,"2+",20551106897,null,"JESUS MARIA","LIMA","LIMA",91]
["AE.RE.001.2021","LA VENTUROSA S.A.","CONJUNTO RESIDENCIAL ESENCIAL","MZ C TORRE A",42,"2+",20383731705,null,"SANTIAGO DE SURCO","LIMA","LIMA",501]
["AE.RE-157-2020","INMOBILIARIA CARLOS GONZALES S.A.C.","LEVEL ONE","TORRE A",103,"2+",20369059565,null,"SAN MIGUEL","LIMA","LIMA",103]
["014C_2020","LA MURALLA INVERSIONES INMOBILIARIAS S.A.C.","EDIFICIO MULTIFAMILIAR NOMADE","TORRE UNICA",66,"2+",20516726319,null,"CHORRILLOS","LIMA","LIMA",134]
["AE.012_C-2020","C&V INVERSIONES INMOBILIARIAS SA","LOS CIPRESES","BLOQUES A,B,C",240,"1+",20339469882,null,"SAN JUAN DE LURIGANCHO","LIMA","LIMA",240]
["AE.013C_2020","INMOBILIARIA LOS ALERCES S.A.","DREAMS","TORRE UNICA",46,"2+",20600517571,null,"MAGDALENA DEL MAR","LIMA","LIMA",76]
["AE.016C_2020","PI PRADO 2 SAC","EMERALD","TORRE A, B",178,"2+",20604419329,null,"PUEBLO LIBRE","LIMA","LIMA",222]
["AE.RE.009-2021","DESARROLLO LINCE SAC","MUVIN","UNICA ETAPA",146,"3+",20605662529,null,"LINCE","LIMA","LIMA",172]
["AE.010_C-2020","INVENT LUXURY SAC","INVENT BARRANCO","TORRE 1",17,"1+",20604930317,null,"BARRANCO","LIMA","LIMA",49]
["017C_2020","PAZ CENTENARIO S.A.","VILLA CLUB ICA SUB ETAPA 4","SUB ETAPA 4",95,"1+",20518023579,null,"LA TINGUIÑA","ICA","ICA",95]
["019C_2020","PAZ CENTENARIO S.A.","VILLA CLUB ICA SUB ETAPA 5","SUB ETAPA 5",94,"1+",20518023579,null,"LA TINGUIÑA","ICA","ICA",94]
["018_C-2020","INVERSIONES DKASA SAC","FERRARA","TORRE UNICA",59,"2+",20514294608,null,"MAGDALENA DEL MAR","LIMA","LIMA",62]
["AE.020_C-2020","HECTOR MORAN NEGOCIOS INMOBILIARIOS SAC","RESIDENCIAL VILLA OBSTETRA","ETAPA 1",49,"1+",20603893183,null,"TACNA","TACNA","TACNA",50]
["008_C-2020","LA VENTUROSA S.A.","FELIZIA CONDOMINIO (Antes Los Faisanes)","ETAPA 1- 5 TORRES (TORRE A, B, C, D, E)",186,"2+",20383731705,null,"CHORRILLOS","LIMA","LIMA",219]
["AE.006C_2020","INMOBILIARIA LOS ALERCES S.A.","EDIFICIO MULTIFAMILIAR ESENCIAL","TORRE UNICA",70,"2+",20600517571,null,"LINCE","LIMA","LIMA",121]
["021_C-2020","CONSTRUCCIONES CAMALI S.A.C.","RESIDENCIAL TARICA","TORRE UNICA",20,"2+",20512156305,null,"LOS OLIVOS","LIMA","LIMA",21]
["022C_2020","PAZ CENTENARIO S.A.","VILLA CLUB CARABAYLLO","ETAPA 6",130,"1+",20518023579,null,"CARABAYLLO","LIMA","LIMA",130]
["023C_2020","PAZ CENTENARIO S.A.","VILLA CLUB CARABAYLLO","ETAPA 7",121,"1+",20518023579,null,"CARABAYLLO","LIMA","LIMA",121]
["024C_2020","PAZ CENTENARIO S.A.","VILLA CLUB CARABAYLLO","ETAPA 8",126,"1+",20518023579,null,"CARABAYLLO","LIMA","LIMA",126]
["025C_2020","PAZ CENTENARIO S.A.","LIMA UNO","TORRE UNICA",126,"3+",20518023579,null,"LIMA","LIMA","LIMA",145]
["026C_2020","PAZ CENTENARIO S.A.","PERGOLA","TORRE UNICA",130,"3+",20518023579,null,"JESUS MARIA","LIMA","LIMA",184]
["AE.RE.005.2021","GCK AVIACION SAC","EDIFICIO MULTIFAMILIAR VILLAMAR 131","ETAPA 1",174,"3+",20605294627,null,"SAN MIGUEL","LIMA","LIMA",174]
["AE.029C_2020","SESHAT INMOBILIARIA SAC","MULTIFAMILIAR LOS LAURELES","ETAPA 1 (TORRE A), ETAPA 2 (TORRE B Y C)",286,"2+",20604826854,null,"JESUS MARIA","LIMA","LIMA",368]
["AE.027_C-2020","ECOHABITAT DESARROLLO INMOBILIARIO S.A.C.","RESIDENCIAL ALMUDENA","TORRE UNICA",63,"2+",20604223980,null,"SAN MIGUEL","LIMA","LIMA",63]
["AE.028_C-2020","ECOHABITAT DESARROLLO INMOBILIARIO S.A.C.","RESIDENCIAL PUCALA","TORRE UNICA",23,"2+",20604223980,null,"SAN MIGUEL","LIMA","LIMA",23]
["AE.003C_2020","GPR-AQP SAC","LOMAS DE YURA","1,2,3,4",693,"2+",20602780229,null,"YURA","AREQUIPA","AREQUIPA",1179]
["AE.031C_2020","TRIADA PROYECTO 01 SAC","PACHACUTEC 936","TORRE A",49,"2+",20604455082,null,"JESUS MARIA","LIMA","LIMA",69]
["001-C-2021","COPROIN CONTRATISTAS GENERALES SAC","LA CASONA DEL BEATERIO","BLOQUES A,B,C",36,"2+",20516264358,null,"AREQUIPA","AREQUIPA","AREQUIPA",36]
["AE.009_C-2020","CASAIDEAL PROYECTO 17 SAC","EDIFICIO MULTIFAMILIAR TREND","TORRE UNICA",84,"2+",20604235996,null,"LIMA","LIMA","LIMA",84]
["AE_015C_2020","MURALLA VERDE SAC","EDIFICIO MULTIFAMILIAR CARDINAL","TORRE UNICA",49,"2+",20603785925,null,"CHORRILLOS","LIMA","LIMA",89]
["002-C-2021","QUATRO BETA SAC","EDIFICIO MULTIFAMILIAR LIVING TOWER","TORRE UNICA",59,"2+",20603740123,null,"LIMA","LIMA","LIMA",65]
["003-C-2021","V&V PROYECTO 60 SAC","ARAMBURU 836","TORRE UNICA",85,"3+",20603663986,null,"SURQUILLO","LIMA","LIMA",134]
["AE.RE.001-2021","LA VENTUROSA S.A.","CONJUNTO RESIDENCIAL ESENCIAL","MZ C TORRE B",127,"2+",20383731705,null,"SANTIAGO DE SURCO","LIMA","LIMA",501]
["010-C-2021","MENORCA INVERSIONES S.A.C.","VILLA SARAJA II","ETAPA 1 (41 unid.); ETAPA 2 (40 unid.)",81,"2+",20173223626,null,"ICA","ICA","ICA",81]
["008-C-2021","BECTEK CONTRATISTAS SAC","URB RESIDENCIAL MONTEMAR","LOTES 1 AL 28",28,"2+",20430578805,null,"MOCHE","TRUJILLO","LA LIBERTAD",28]
["009-C-2021","LIDER INGENIERIA Y CONSTRUCCIÓN SA","FLOW LIVING APARTMENTS","TORRE UNICA",176,"2+",20519431395,null,"SURQUILLO","LIMA","LIMA",176]
["006-C-2021","ARCH PARTNERS INVERSIONES INMOBILIARIAS S.A.C.","EDIFICIO MULTIFAMILIAR TEJADA ARCH ONE","TORRE PRINCIPAL",48,"2+",20605798145,null,"BARRANCO","LIMA","LIMA",53]
["011-C-2021","PROEDCO SAC","EDIFICIO RUNTER","TORRE UNICA",17,"2+",20602414630,null,"SAN MIGUEL","LIMA","LIMA",19]
["013-C-2021","CLASEM S.A.C. ","PASEO DE LA  ALAMEDA 5 ETAPA","ETAPA 5 (BLOQUE 20,21, 22)",120,"2+",20516390060,null,"CORONEL GREGORIO ALBARRACIN LANCHIPA","TACNA","TACNA",120]
["012-C-2021","INMOBILIARIA FORTEM DOS SAC","EDIFICIO MULTIFAMILIAR LOS NEGOCIOS MATCH","TORRE UNICA",75,"2+",20602250751,null,"SURQUILLO","LIMA","LIMA",88]
["014-C-2021","INMOBILIARIA AGUARICO SAC","CONJUNTO RESIDENCIAL DEL PARQUE CENTRO ETAPA 1","ETAPA 1 (TORRE 1)",115,"3+",20604507911,null,"BREÑA","LIMA","LIMA",115]
["015-C-2021","GRINSA S.A.C.","VILLA SILVESTRE","A,B,C,D",50,"2+",20440209123,null,"MOCHE","TRUJILLO","LA LIBERTAD",50]
["018-C-2021","HM INVERSIONISTAS SAC","JOCKEY RESIDENCIAL","LOTE 11,12,13,14,15 Y 16",832,"2+",20108664640,null,"LA VICTORIA","CHICLAYO","LAMBAYEQUE",832]
["016- C-2021","CONSORCIO DH MONT & CG&M S.A.C.","CIUDAD SOL DE COLLIQUE","MANZANAS C, D Y H",8760,"2+",20502574109,null,"COMAS","LIMA","LIMA",8760]
["017-C-2021","CONSORCIO DH MONT & CG&M S.A.C.","LOS JARDINES DE SAN ANDRES","MANZANAS K, L, M, N, Ñ, O, P, Q, R, S y T ",774,"2+",20502574109,null,"SAN ANDRES","PISCO","ICA",774]
["021-C-2021","KNCM INMOBILIARIA SAC","EDIFICIO MULTIFAMILIAR MORE JESUS MARIA","TORRE UNICA",31,"2+",20605908455,null,"JESUS MARIA","LIMA","LIMA",50]
["023-C-2021","CLASEM S.A.C.","CONDOMINIO EL MIRADOR DEL GOLF – TORRE II","ETAPA 2 - TORRE 2",91,"2+",20516390060,null,"VICTOR LARCO HERRERA","TRUJILLO","LA LIBERTAD",99]
["019-C-2021","GRINSA S.A.C.","VALLE HERMOSO II","UNA SOLA ETAPA",45,"1+",20440209123,null,"LA VICTORIA","CHICLAYO","LAMBAYEQUE",49]
["022-C-2021","GRINSA S.A.C.","HABILITACION URBANA CON CONSTRUCCION SIMULTANEA JARDINES DE CHOSICA","UNA SOLA ETAPA",49,"1+",20440209123,null,"LA VICTORIA","CHICLAYO","LAMBAYEQUE",91]
["023-C-2021","PROMOTORA INMOBILIARIA JYM SA","LOS JACARANDAS","BLOQUES A,B",18,"2+",20605192557,null,"CERRO COLORADO","AREQUIPA","AREQUIPA",18]
["024-C-2021","URBANIZA PERU S.A.C.","LOS PARQUES DE HUACACHINA","MANZANAS A, B, C, D, E, F",96,"2+",20604867046,null,"ICA","ICA","ICA",96]
["025-C-2021","PROYEC CONTRATISTAS GENERALES S.A.","EDIFICIO MULTIFAMILIAR LIBERI","TORRE UNICA",41,"2+",20333686237,null,"PUEBLO LIBRE","LIMA","LIMA",68]
["020-C-2021","FREAK CONSTRUCTORES Y CONSULTORES SRL","VENECIA","TORRE UNICA",64,"1+",20450515010,null,"SAN JERONIMO","CUSCO","CUSCO",64]
["AE.RE.007-2022","INJUANDEALIAGA PROYECTOS SAC","RESIDENCIAL JOSE OLAYA ","TORRE 1",154,"3+",20603374844,null,"CHORRILLOS","LIMA","LIMA",187]
["027-C-2021","CONSTRUCTORA E INMOBILIARIA EL REFUGIO S.A.C.","EDIFICIO LOS NOGALES","TORRE UNICA",23,"2+",20536777891,null,"LOS OLIVOS","LIMA","LIMA",23]
["030-C-2021","INMOBILIARIA 21 SAC (antes EDIFICACIONES JK  S.A.C.)","EDIFICIO MULTIFAMILIAR UP LIVING","TORRE UNICA",125,"2+",20602478905,null,"PUEBLO LIBRE","LIMA","LIMA",125]
["031-C-2021","GRUPO D Y M CONSTRUCTORA E INMOBILIARIA S.A.C.","EDIFICIO MULTIFAMILIAR VIDAMOR","TORRE UNICA",67,"2+",20550506352,null,"ATE","LIMA","LIMA",72]
["028-C-2021","TRIADA PROYECTO 02 ","RESIDENCIAL SAN FELIPE 270","TORRE A",48,"2+",20605037462,null,"JESUS MARIA","LIMA","LIMA",91]
["033-C-2021","EV INMOBILIARIA BRASIL SAC","EDIFICIO MULTIFAMILIAR BRASIL 3395","TORRE UNICA",87,"2+",20606819341,null,"MAGDALENA DEL MAR","LIMA","LIMA",130]
["034-C-2021","FLAT AREQUIPA SAC","MULTIFAMILIAR SKY 4","TORRE UNICA",77,"2+",20555016451,null,"LINCE","LIMA","LIMA",115]
["034-C-2021","DESARROLLO INMOBILIARIO FG S.A.C.","MULTIFAMILIAR QANAI FASE 1 Y 2","FASE 1 Y 2",200,"3+",20603735651,null,"LA VICTORIA","LIMA","LIMA",314]
["038_C-2021","J & M INVERSIONES INMOBILIARIAS SAC","MULTIFAMILIAR COSTANERA 29","TORRE UNICA",50,"2+",20548182973,null,"SAN MIGUEL","LIMA","LIMA",62]
["039_C-2021","LOS PORTALES CONSTRUYE SAC","CONJUNTO RESIDENCIAL EL MIRADOR DEL GOLF II","TORRE A, TORRE B, TORRE C, TORRE D",268,"2+",20553346178,null,"LURIGANCHO","LIMA","LIMA",268]
["040_C-2021","INMOBILIARIA CENTRIC ARENALES SAC","EDIFICIO BARRIO 2 DE MAYO","TORRE UNICA",94,"3+",20605316116,null,"LINCE","LIMA","LIMA",112]
["037_C-2021","VYV PROYECTO 54 SAC","AREQUIPA 2655","TORRE UNICA",114,"3+",20601984394,null,"SAN ISIDRO","LIMA","LIMA",190]
["041_C-2021","INMOBILIARIA 21 SAC (antes EDIFICACIONES JK  S.A.C.)","CONJUNTO RESIDENCIAL ONE PARK (OUR PARK)","TORRE UNICA",36,"2+",20602478905,null,"MAGDALENA DEL MAR","LIMA","LIMA",57]
["040_C-2021","CORPORACION INMOBILIARIA NERMAR SAC (Abril Inmobiliaria)","EDIFICIO MULTIFAMILIAR LAVANDA","TORRE UNICA",95,"2+",20600245393,null,"LINCE","LIMA","LIMA",155]
["042_C-2021","INVENT PACIFIC SAC","EDIFICIO RESIDENCIAL ALIAGA","EDIFICIO 1",98,"2+",20604933634,null,"MAGDALENA DEL MAR","LIMA","LIMA",164]
["043_C-2021","INBOULEVARD PROYECTOS SAC","EDIFICIO RESIDENCIAL JESUS MARIA","TORRE UNICA",78,"3+",20604707332,null,"JESUS MARIA","LIMA","LIMA",96]
["044_C-2021","CASAIDEAL PROYECTO 18 SAC","EDIFICIO MULTIFAMILIAR MIDWAY","TODO EL PROYECTO",114,"3+",20605145249,null,"MAGDALENA DEL MAR","LIMA","LIMA",118]
["045_C-2021","MEGADREU SAC","PARQUES BARRIO MEDICO","TORRE UNICA",28,"2+",20493103157,null,"SURQUILLO","LIMA","LIMA",35]
["050_C-2021","CORPORACION INMOBILIARIA HUANDOY SAC","RESIDENCIAL VIA NOVA","TORRE UNICA",36,"2+",20604490759,null,"MAGDALENA DEL MAR","LIMA","LIMA",36]
["AE.RE.017-2021","VIVA NEGOCIO INMOBILIARIO S.A.C.","CEREZOS CLUB RESIDENCIAL (Antes LOS CONDORES CLUB RESIDENCIAL)","EDIFICIOS 1,2,3,4,5,6",852,"3+",20493040643,null,"COMAS","LIMA","LIMA",852]
["046_C-2021","PROMSAL S.A.C.","HOLA CATALINA 966","TORRE UNICA",19,"2+",20515876937,null,"LA VICTORIA","LIMA","LIMA",42]
["048_C-2021","GRUPO ROSALES Y ALFARO S.A.C. - GRUPO ROYAL S.A.C.","EDIFICIO MULTIFAMILIAR RESIDENCIAL AURORA","TORRE UNICA",27,"1+",20601302111,null,"SAN JUAN DE MIRAFLORES","LIMA","LIMA",27]
["047_C-2021","RESIDENCIAL NATIVO SAC","RESIDENCIAL NATIVO","TORRE UNICA",93,"2+",20606586133,null,"LINCE","LIMA","LIMA",93]
["051_C-2021","VYV PROYECTO 62 SAC","CARRIQUIRY 894","TORRE UNICA",104,"3+",20604706301,null,"SAN ISIDRO","LIMA","LIMA",207]
["052_C-2021","PROYECTOS INMOBILIARIOS STELLA SAC","QUPULA 28","TORRE UNICA",39,"1+",20552613342,null,"MAGDALENA DEL MAR","LIMA","LIMA",39]
["053_C-2021","HOUZEN INMOBILIARIA SAC","RESIDENCIAL DOMUS SMART","TORRE UNICA",38,"2+",20605480986,null,"BREÑA","LIMA","LIMA",39]
["AE.RE.018-2021","BESCO S.A.C.","LAS PALMAS 2","TORRE UNICA",154,"3+",20416162299,null,"CHORRILLOS","LIMA","LIMA",154]
["058_C-2021","INVERSIONES ALKO SAC","SAGITARIO I","TORRE UNICA",88,"2+",20109391787,null,"SANTIAGO DE SURCO","LIMA","LIMA",89]
["054_C-2021","CATANIA INMOBILIARIA SAC","EDIFICIO MULTIFAMILIAR AQUILARIA","TORRE UNICA",214,"2+",20605891714,null,"SAN ISIDRO","LIMA","LIMA",352]
["055_C-2021","AGUITEL S.A.C. ","EDIFICIO MULTIFAMILIAR LOS COLIBRIES","TORRE UNICA",42,"2+",20481407266,null,"TRUJILLO","TRUJILLO","LA LIBERTAD",42]
["059_C-2021","LASIC COMPANY SAC","EDIFICIO MULTIFAMILIAR MALVA","TORRE UNICA",73,"2+",20600221770,null,"JESUS MARIA","LIMA","LIMA",152]
["001_C-2020","SALFCORP PERU SA","TORRE SUMO","TORRE UNICA",42,"1+",20551332552,null,"PUEBLO LIBRE","LIMA","LIMA",42]
["063_C-2021","GRINSA S.A.C.","SAN SEBASTIAN","2 ETAPAS",288,"1+",20440209123,null,"LA VICTORIA","CHICLAYO","LAMBAYEQUE",310]
["061_C-2021","INMOBILIARIA VALLE LUZ S.A.C. (CANTABRIA)","LATIR 490","TORRE UNICA",62,"2+",20492434052,null,"SAN MIGUEL","LIMA","LIMA",78]
["060_C-2021","FUTURA SOLUCIONES INMOBILIARIAS SAC","LAGUNAS DEL CHIPE CLUB HOUSE","8 TORRES (A,B,C,D,E,F,G,H)",155,"1+",20553958459,null,"PIURA","PIURA","PIURA",155]
["064_C-2021","VYV PROYECTO 68 SAC","REPUBLICA 498","TORRE UNICA",153,"3+",20605651560,null,"JESUS MARIA","LIMA","LIMA",259]
["066_C-2021","VYV PROYECTO 66 SAC","ROMA 498","EDIFICIO UNICO",43,"3+",20605597301,null,"SAN ISIDRO","LIMA","LIMA",151]
["065_C-2021","CORPORACIOON EDIFICA SAC","LAS PONCIANAS DEL CHIPE","ETAPA 1",36,"1+",20492197336,null,"PIURA","PIURA","PIURA",53]
["062_C-2021","INVERSIONES SALETTI SAC","PROYECTO HELIO","TORRE UNICA",90,"2+",20604452440,null,"LIMA","LIMA","LIMA",92]
["067_C-2021","INVERSIONES CESIA SAC","EDIFICIO MULTIFAMILIAR HUARAZ 951","TORRE UNICA",50,"2+",20522872602,null,"BREÑA","LIMA","LIMA",51]
["073_C-2021","CORPORACION INMOBILIARIA SUDAMERICANA SAC","CASAPARQ MONTERRICO","ETAPA 1",125,"1+",20506908061,null,"SANTIAGO DE SURCO","LIMA","LIMA",220]
["070_C-2021","CONSTRUCTORA GALILEA S.A.C.","PUERTAS DEL SOL II","ETAPAS 1 AL 17",582,"1+",2052119943,null,"LA VICTORIA","CHICLAYO","LAMBAYEQUE",582]
["AE.RE.002-2022","INMOBILIARIA TETUAN SAC","ETREA","TORRE UNICA",86,"3+",20601857511,null,"JESUS MARIA","LIMA","LIMA",172]
["069_C-2021","PROHABIT E INMOBILIARIA SAC","PERLAS DEL ALTIPLANO","ETAPA 1",1021,"2+",20447637295,null,"JULIACA","SAN ROMAN","PUNO",1021]
["072_C-2021","CLASEM S.A.C.","CONDOMINIO LOS PARQUES DE SAN GABRIEL","ETAPAS 6B, 6C",240,"2+",20516390060,null,"CHICLAYO","CHICLAYO","LAMBAYEQUE",240]
["076_C-2021","INMOBILIARIA LA CHALACA SAC","TERRAZAS DE BELLAVISTA","TORRE UNICA",140,"2+",20604496463,null,"BELLAVISTA","CALLAO","CALLAO",140]
["074_C-2021","REDBAY DEL PERU SAC","EDIFICIO RESIDENCIAL LIBERTY - EL POLO","1 EDIFICIO",55,"1+",20500523540,null,"SANTIAGO DE SURCO","LIMA","LIMA",115]
["075_C-2021","CONSTRUCTORA INMOBILIARIA VILLAREAL SAC","CONDOMINIO VILLAMAR","TORRE UNICA",47,"1+",20492391574,null,"MAGDALENA DEL MAR","LIMA","LIMA",47]
["002_C-2022","PROHABIT E INMOBILIARIA SAC","CONJUNTO RESIDENCIAL ECOLOGICO LAS TORRES DE ANTA - CUSCO","BLOQUES DEL A AL R",756,"2+",20447637295,null,"ANTA","ANTA","CUSCO",756]
["003_C-2022","CONSTRUCTORA E INMOBILIARIA OPTIMUS S.A.C.","EDIFICIO LIBERTY 760","TORRE UNICA",17,"2+",20547778333,null,"MAGDALENA DEL MAR","LIMA","LIMA",27]
["001_C-2022","HISPANO PERUANA DE CONSTRUCCION 2011 SAC","EDIFICIO MULTIFAMILIAR ZOE URBAN APARTMENTS","ETAPA 1 (111 unid), ETAPA 2 (127 unid)",210,"3+",20545927790,null,"BARRANCO","LIMA","LIMA",239]
["005_C-2022","CONSTRUCTORA E INMOBILIARIA PIETRA SAC","EDIFICIO MULTIFAMILIAR PIETRA DI SOLE","TORRE UNICA",70,"2+",20607732818,null,"JESUS MARIA","LIMA","LIMA",84]
["004_C-2022","GRUPO D Y M CONSTRUCTORA E INMOBILIARIA S.A.C.","EDIFICIO MULTIFAMILIAR ELENOR","TORRE UNICA",37,"2+",20550506352,null,"MAGDALENA DEL MAR","LIMA","LIMA",39]
["006_C-2022","INMOBILIARIA EUREKA SAC","PARK LIVING","TORRE UNICA",73,"2+",20508000163,null,"LIMA","LIMA","LIMA",83]
["007_C-2022","CLASEM S.A.C.","CONDOMINIO PARQUE SANTA MARGARITA","ETAPA 3 (TORRE 5 Y TORRE 6) – ETAPA 4 (TORRE 7 Y TORRE 8)",160,"2+",20516390060,null,"VEINTISEIS DE OCTUBRE","PIURA","PIURA",160]
["032_C-2021","CASAIDEAL PROYECTO 20 SAC ","EDIFICIO MULTIFAMILIAR UNITY","TODO EL PROYECTO",92,"3+",20605631291,null,"LIMA","LIMA","LIMA",96]
["036_C-2021","BUEN VIVIR S.A.C.","ION 160","TORRE UNICA",76,"2+",20554638911,null,"PUEBLO LIBRE","LIMA","LIMA",76]
["071_C-2021","BIABO PERU SA","SKYNA","TORRE UNICA",139,"3+",20503925461,null,"LIMA","LIMA","LIMA",139]
["008_C-2022","MG VILLA SAC","ALBORADA","TORRE A, TORRE B",243,"3+",20606189282,null,"SAN MIGUEL","LIMA","LIMA",243]
["009_C-2022","LA VENTUROSA S.A.","CONDOMINIO ESENCIAL","MZ C TORRE C",123,"2+",20383731705,null,"SANTIAGO DE SURCO","LIMA","LIMA",242]
["010_C-2022","QUATRO PROYECTOS SAC","EDIFICIO MULTIFAMILIAR FAMILY TOWER 2","TORRE UNICA",136,"2+",20602816851,null,"BREÑA","LIMA","LIMA",136]
["011_C-2022","GRINSA S.A.C.","SANTA JULIA","A,B,C,D,E,F,G,H,I,J,K",152,"2+",20440209123,null,"HUANCHACO","TRUJILLO","LA LIBERTAD",152]
["AE.RE.005.2022","VIVA NEGOCIO INMOBILIARIO S.A.C.","ACACIAS VILLA RESIDENCIAL","8 EDIFICIOS (EDIFICIOS 1, 2, 3, 4, 5, 6, 7, 8)",1312,"3+",20493040643,null,"COMAS","LIMA","LIMA",1312]
["014_C-2022","VENECIA PROYECTOS SA","MULTIFAMILIAR VERT","TORRE A",74,"3+",20606071842,null,"LIMA","LIMA","LIMA",74]
["015_C-2022","NEOGAR SAC","VIA FERNANDINI","TORRE A, TORRE B",95,"3+",20605645098,null,"PUEBLO LIBRE","LIMA","LIMA",95]
["016_C-2022","ANTARES CONTRATISTAS S.A.","MULTIFAMILIAR JAVIER PRADO","TORRE UNICA",77,"1+",20143382339,null,"SAN BORJA","LIMA","LIMA",116]
["017_C-2022","INMOBILIARIA FORTEM VII SAC","EDIFICIO MULTIFAMILIAR FILIN","TORRE UNICA",53,"2+",20603448252,null,"SANTIAGO DE SURCO","LIMA","LIMA",82]
["018_C-2022","CLASEM S.A.C.","CONDOMINIO CLUB EL ROSEDAL","FASE 1,3: TORRES 7, 8 Y 9",120,"2+",20516390060,null,"EL TAMBO","HUANCAYO","JUNIN",120]
["019_C-2022","MARINA PARK INMOBILIARIA S.A.C.","ECOPARK RESIDENCIAL","TORRE UNICA",73,"2+",20602979297,null,"SAN MIGUEL","LIMA","LIMA",75]
["021_C-2022","WR S.A.","CONJUNTO RESIDENCIAL CONDOMINIO CUATTRO","TORRES A,B y C (Etapas 1 y 2) TODOS LOS DEPARTAMENTOS EXCEPTO EL 1301, 1302, 1303, 1304, 1505, 1506, 1507 y 1508 de Torre B.",346,"2+",20100048702,null,"COMAS","LIMA","LIMA",354]
["020_C-2022","CORPORACION INMOBILIARIA FERMONT  S.A.C. (Abril grupo Inmobiliario)","EDIFICIO MULTIFAMILIAR AMARELO","TORRE UNICA",255,"3+",20600245504,null,"JESUS MARIA","LIMA","LIMA",311]
["022_C-2022","VIVA NEGOCIO INMOBILIARIO S.A.C.","LOS GERANIOS CONJUNTO RESIDENCIAL (antes H1 CONJUNTO RESIDENCIAL)","2 EDIFICIOS (EDIFICIOS 1,2)",384,"2+",20493040643,null,"COMAS","LIMA","LIMA",384]
["024_C-2022","PROMSAL S.A.C.","LASSO 467","EDIFICIO UNICO",50,"2+",20515876937,null,"SAN LUIS","LIMA","LIMA",82]
["023_C-2022","PLM INVERSIONES INMOBILIARIAS SAC","EDIFICIO MULTIFAMILIAR SAN FELIPE TOWERS","ETAPAS 1,2,3",115,"3+",20601668913,null,"JESUS MARIA","LIMA","LIMA",315]
["025_C-2022","LOS PORTALES S.A.","EL REMANSO DE LA FLORIDA","ETAPA ÚNICA",128,"1+",20301837896,null,"SUBTANJALLA","ICA","ICA",128]
["026_C-2022","ANTARES CONTRATISTAS S.A.","EDIFICIO MULTIFAMILIAR II DEL CONDOMINIO CLUB PARQUES DEL CHIPE","TORRE A, TORRE B",64,"1+",20143382339,null,"VEINTISEIS DE OCTUBRE","PIURA","PIURA",64]
["027_C-2022","IN ESMERALDA SAC","EDIFICIO RESIDENCIAL CUBA","EDIFICIO 1",76,"2+",20607494658,null,"JESUS MARIA","LIMA","LIMA",138]
["028_C-2022","IN AGATA SAC","EDIFICIO INVENT ALEJANDRO TIRADO","EDIFICIO 1",97,"2+",20607521663,null,"LIMA","LIMA","LIMA",156]
["029_C-2022","LAS BRISAS DE SANTA CLARA SAC","LAS BRISAS DE SANTA CLARA MZ N","TODO EL PROYECTO",32,"1+",20607553476,null,"HUANCHACO","TRUJILLO","LA LIBERTAD",32]
["AE.RE.008.2022","BESCO S.A.C.","ALAMEDA CENTRAL (Antes COLONIAL)","TORRE 1, TORRE 2, TORRE 3 , TORRE 4, TORRE 5, TORRE 6, TORRE 7, TORRE 8, TORRE 9",1760,"3+",20416162299,null,"LIMA","LIMA","LIMA",1760]
["031_C-2022","CARLAMONICA SAC","EDIFICIO MULTIFAMILIAR NOBEL","TORRE UNICA",162,"3+",20101947093,null,"MAGDALENA DEL MAR","LIMA","LIMA",271]
["032_C-2022","PAZ CENTENARIO S.A.","ESCALA","TORRE UNICA",175,"3+",20518023579,null,"LA VICTORIA","LIMA","LIMA",276]
["033_C-2022","LOS PORTALES CONSTRUYE SAC","GRAN CENTRAL COLONIAL","TORRE UNICA",195,"3+",20553346178,null,"LIMA","LIMA","LIMA",196]
["035_C-2022","GLJ CONSTRUCTORES E INMOBILIARIOS SAC","EDIFICIO MULTIFAMILIAR SOIL","1 ETAPA, 1 TORRE",115,"3+",20547261551,null,"PUEBLO LIBRE","LIMA","LIMA",133]
["034_C-2022","INVERSIONES LA GLORIA SAC","EDIFICIO MULTIFAMILAR SEED ","ETAPA 1, TORRE 1",20,"3+",20600760298,null,"SANTIAGO DE SURCO","LIMA","LIMA",91]
["036_C-2022","WORLD LINE SAC","VIZUALE ECO SMART","1 ETAPA, 1 EDIFICIO",94,"2+",20468536014,null,"LINCE","LIMA","LIMA",116]
["037_C-2022","REDBAY DEL PERU SAC"," HANAN","EDIFICIO UNICO",114,"3+",20500523540,null,"LIMA","LIMA","LIMA",114]
["039_C-2022","CONSTRUCTORA CAPON SAC","MULTIFAMILIAR BALBOA","1 ETAPA, 1 TORRE",42,"2+",20414689559,null,"SANTIAGO DE SURCO","LIMA","LIMA",42]
["040_C-2022","SIENTE SOCIEDAD ANONIMA CERRADA SIENTE SAC","PROYECTO GRANADA","TORRE UNICA",20,"2+",20605456287,null,"PUEBLO LIBRE","LIMA","LIMA",22]
["041_C-2022","MENORCA INVERSIONES S.A.C.","VILLA KILLARI","ETAPA UNICA",130,"2+",20173223626,null,"ICA","ICA","ICA",130]
["042_C-2022","LD GESTORA SAC","RESIDENCIAL CASTILLA","BLOQUES A,B,C",241,"2+",20606167149,null,"AREQUIPA","AREQUIPA","AREQUIPA",241]
["043_C-2022","ELEVA PERU SAC","EDIFICIO MULTIFAMILIAR PLAZA ALDANA","TORRE UNICA",24,"2+",20516277336,"Nulidad de Licencia","SAN ISIDRO","LIMA","LIMA",36]
["045_C-2022","LOS PORTALES CONSTRUYE SAC","GRAN TOMAS VALLE","1 ETAPA",139,"3+",20553346178,null,"SAN MARTIN DE PORRES","LIMA","LIMA",148]
["044_C-2022","PAZ CENTENARIO S.A.","MAGNOLIA","1 EDIFICIO",75,"3+",20518023579,null,"PUEBLO LIBRE","LIMA","LIMA",214]
["047_C-2022","DESARROLLADORA VALERIA SAC","EDIFICIO RESIDENCIAL CUBA","1 TORRE",86,"2+",20551526918,null,"JESUS MARIA","LIMA","LIMA",107]
["046_C-2022","EV INMOBILIARIA BARRENECHEA SAC","EDIFICIO MULTIFAMILIAR ROOF GARDEN BARRENECHEA","TORRE UNICA",80,"3+",20606992131,null,"SAN BORJA","LIMA","LIMA",311]
["048_C-2022","PAZ CENTENARIO S.A.","SAVIA","1 EDIFICIO",29,"3+",20518023579,null,"PUEBLO LIBRE","LIMA","LIMA",213]
["AE.RE.002.2025\nantes (049_C-2022)","DESARROLLO INMOBILIARIO DERBY SAC","ATIVA","TORRES A,B,C",176,"3+",20606679671,"Subsanado","SANTIAGO DE SURCO","LIMA","LIMA",308]
["050_C-2022","CHECOR PETIT THOUARS SAC","MULTIFAMILIAR LAS MAGNOLIAS","ETAPA 1, TORRE 1",77,"2+",20606671700,null,"LIMA","LIMA","LIMA",80]
["038_C-2022","URBANIZA PERU S.A.C.","LOS PARQUES DE HUACACHINA II Y III ETAPA","MZ A,B,C,D,E,F,G,H,I,J,K,L,M,N",193,"2+",20604867046,null,"ICA","ICA","ICA",193]
["051_C-2022","VYV PROYECTO 74 SAC","ROOSEVELT 5591","EDIFICIO UNICO",60,"3+",20603652291,"Subsanado e incorporado el 24.07.24","MIRAFLORES","LIMA","LIMA",155]
["052_C-2022","DIEGAL SAC","EDIFICIO IMULTIFAMILIAR CATARI CONCEPT","TORRE UNICA",18,"2+",20102067313,null,"SAN MIGUEL","LIMA","LIMA",22]
["AE.RE.010.2022","LA VENTUROSA S.A.","CONDOMINIO ESENCIAL","MZ C TORRE D",102,"2+",20383731705,null,"SANTIAGO DE SURCO","LIMA","LIMA",502]
["053_C-2022","INMOBILIARIA AMA SAC","GARZON","1 ETAPA (1 TORRE)",21,"2+",20606969032,null,"JESUS MARIA","LIMA","LIMA",110]
["054_C-2022","FLORENCIA INMOBILIARIA SAC","EDIFICIO MULTIFAMILIAR GARDENIA","TORRE A, B",346,"3+",20607005550,null,"LINCE","LIMA","LIMA",346]
["055_C-2022","GRUPO POZO S.A.C.","RESIDENCIAL SAN SEBASTIAN","TORRE UNICA",21,"2+",20512957227,null,"LOS OLIVOS","LIMA","LIMA",21]
["057_C-2022","CONSORCIO CISSAC SCANDER S.A.C. (CISSAC)","CONJUNTO RESIDENCIAL LOS CIRUELOS ETAPA 2","1 EDIFICIO",120,"3+",20601676622,null,"PIMENTEL","CHICLAYO","LAMBAYEQUE",120]
["056_C-2022","INMOBILIARIA LA RECOLETA SAC","RESIDENCIAL LA RECOLETA","TORRE A, TORRE B, TORRE C, TORRE D, TORRE E",187,"2+",20606710501,"Proyecto Paralizado","AREQUIPA","AREQUIPA","AREQUIPA",187]
["058_C-2022","PAZ CENTENARIO S.A.","AMALFI","1 EDIFICIO",101,"3+",20518023579,null,"SAN MIGUEL","LIMA","LIMA",279]
["059_C-2022","HPC SERVICIOS INMOBILIARIOS SAC","EDIFICIO MULTIFAMILIAR FRIENDZ","BLOQUES 1,2,3",156,"3+",20608936450,null,"CHORRILLOS","LIMA","LIMA",156]
["062_C-2022","IN ESPINELA SAC","CONJUNTO RESIDENCIAL PATRIA","TORRE A, TORRE B",72,"2+",20607772054,null,"BARRANCO","LIMA","LIMA",116]
["060_C-2022","MAAS MARIANO SANTOS SAC","EDIFICIO GRAY SAN ISIDRO","TORRE A, TORRE B",19,"2+",20606977639,null,"SAN ISIDRO","LIMA","LIMA",42]
["061_C-2022","REAL EDIFICACIONES S.A.C.","TORRE REAL 9","TORRE UNICA",75,"2+",20562827936,null,"SURQUILLO","LIMA","LIMA",112]
["001_C-2023","DESARROLLO INMOBILIARIO FT S.A.C.","EDIFICIO MULTIFAMILIAR HARA FASE 5 Y 6","FASE 5 Y 6",272,"3+",20601881749,null,"LA VICTORIA","LIMA","LIMA",286]
["002_C-2023","FLAT AREQUIPA SAC","EDIFICIO MULTIFAMILIAR MAMA OCLLO","TORRE UNICA",70,"2+",20555016451,null,"LINCE","LIMA","LIMA",102]
["003_C-2023","INMOBILIARIA PUCLLANA SAC","EDIFICIO MULTIFAMILIAR LIKE ONE","TORRE UNICA",85,"2+",20607800597,null,"SAN MIGUEL","LIMA","LIMA",85]
["004_C-2023","PAZ REAL ESTATE S.A.C","REAL","ETAPA 1, ETAPA 2",261,"3+",20605346716,null,"LA VICTORIA","LIMA","LIMA",320]
["005_C-2023","GRUPO POZO S.A.C.","RESIDENCIAL LA HUACA","TORRE UNICA",22,"2+",20512957227,null,"LOS OLIVOS","LIMA","LIMA",22]
["006_C-2023","LA VENTUROSA S.A.","EDIFICIO ALTAURORA","1 ETAPA",97,"2+",20383731705,null,"SURQUILLO","LIMA","LIMA",103]
["007_C-2023","TIKI TREE SAC","SAGITARIO II","TORRE UNICA",38,"2+",20344873080,null,"SANTIAGO DE SURCO","LIMA","LIMA",62]
["008_C-2023","VENECIA PROYECTOS SA","MULTIFAMILIAR PRIVIA","TORRE A",73,"3+",20606071842,null,"JESUS MARIA","LIMA","LIMA",73]
["009_C-2023","THE PISONAY COMPANY SAC","EDIFICIO STRONG","TORRE UNICA",53,"2+",20601192404,null,"LA VICTORIA","LIMA","LIMA",76]
["010_C-2023","INVERSIONES DON ALBERTO SAC","SAGITARIO IV","1 ETAPA, 1 TORRE",80,"2+",20154543776,null,"SANTIAGO DE SURCO","LIMA","LIMA",81]
["(011_C-2023)\nanterior\nAE.RE.004.2023","PROYECTO CANTABRIA 03 S.A.C.","DUETTO 846 - BERTELLO","TORRE A, TORRE B",199,"3+",20602848265,null,"LIMA","LIMA","LIMA",209]
["012_C-2023","ESPACIOS Y ESTRUCTURAS INMOBILIARIA S.A.C.","MULTIFAMILIAR PUEBLO LIBRE","1 ETAPA, 1 TORRE",32,"2+",20552655932,null,"PUEBLO LIBRE","LIMA","LIMA",32]
["013_C-2023","CONSTRUCTORA INARCO PERU SAC","CONJUNTO RESIDENCIAL MAZ","TORRE A, TORRE B",274,"2+",20519219922,null,"BREÑA","LIMA","LIMA",274]
["(014_C-2023)\nanterior\nAE.RE.003.2023\n","TRIANA EDIFICACIONES SAC","BE","TORRE UNICA",87,"3+",20609352214,null,"MAGDALENA DEL MAR","LIMA","LIMA",111]
["015_C-2023","PROEDCO SAC","EDIFICIO MULTIFAMILIAR RUNTER II","TORRE UNICA",19,"2+",20602414630,null,"SAN MIGUEL","LIMA","LIMA",23]
["016_C-2023","LIMAHOGAR INMOBILIARIA SAC","TRIVENTO","TORRE UNICA",60,"2+",20602916732,null,"PUEBLO LIBRE","LIMA","LIMA",61]
["017_C-2023","CORPORACIÓN EDIFICA SAC","LOS CEIBOS DEL CHIPE","TORRE UNICA",47,"1+",20492197336,null,"PIURA","PIURA","PIURA",51]
["018-C-2023","MUREL DOMUM INVERSIONES S.A.C.","EDIFICIO MULTIFAMILIAR ALMARE","TORRE UNICA",84,"3+",20601377633,null,"CHORRILLOS","LIMA","LIMA",85]
["AE.RE.001.2023\nantes (019-C-2023)","GC LEON VELARDE S.A.C.","EDIFICIO MULTIFAMILIAR VILLA VELARDE","EDIFICIO 1",95,"3+",20606065796,null,"LINCE","LIMA","LIMA",109]
["020-C-2023","TWO DESARROLLOS INMOBILIARIOS S.A.C.","NUEVOS AIRES DE VENTANILLA","TORRE B1 Y TORRE B2/  13 TORRES",544,"2+",20606098261,null,"VENTANILLA","CALLAO","CALLAO",544]
["(021-C-2023)\nantes\nAE.RE.003.2024 ","INMOBILIARIA PARQUE CENTRAL S.A.C.","EDIFICIO MULTIFAMILIAR CENTRAL PARK","TORRE 1 Y TORRE 2",227,"3+",20608972979,null,"LIMA","LIMA","LIMA",232]
["022-C-2023","MUREL DOMUM INVERSIONES S.A.C.","EDIFICIO MULTIFAMILIAR FLORECE","TORRE UNICA",231,"3+",20601377633,null,"CHORRILLOS","LIMA","LIMA",231]
["023-C-2023","INMOBILIARIA TREVISO S.A.C.","TREVISO","TORRE UNICA",29,"2+",20608891341,null,"SAN MIGUEL","LIMA","LIMA",34]
["024-C-2023","MENORCA INVERSIONES S.A.C.","VILLA POSADA DEL SOL DE CHICLAYO","ETAPA ÚNICA",161,"2+",20173223626,null,"CHICLAYO","CHICLAYO","LAMBAYEQUE",161]
["(025-C-2023)\n","CONSTRUCTORA CUMBRES VILLANOVA S.A.C.","CONJUNTO RESIDENCIAL “CONDOMINIO VILLANOVA 5”","EDIFICIO 1,3,4,6",420,"2+",20602704891,null,"CALLAO","CALLAO","CALLAO",660]
["026-C-2023","INGENIEROS Y CONSULTORES ASOCIADOS KAMEN S.A.C","EDIFICIO MULTIFAMILIAR PIETRA DI MARE","TORRE UNICA",29,"2+",20607596761,null,"JESUS MARIA","LIMA","LIMA",55]
["027-C-2023","GDC PROYECTOS PERU A S.A.C.","PARK SAN MIGUEL","TORRE A,B,C,D Y E",66,"2+",20605597204,null,"SAN MIGUEL","LIMA","LIMA",81]
["028-C-2023","LAS BRISAS DE SANTA CLARA SAC","LAS BRISAS DE SANTA CLARA Mz Ñ","TODO EL PROYECTO",38,"1+",20607553476,null,"HUANCHACO","TRUJILLO","LA LIBERTAD",38]
["029-C-2023","INMOBILIARIA TRIESTE S.A.C.","TRIESTE","TORRE UNICA",29,"2+",20607004367,null,"SAN MIGUEL","LIMA","LIMA",60]
["030-C-2023","BESCO S.A.C.","CENTRIKA 2","EDIFICIO 1",220,"2+",20416162299,null,"PIURA","PIURA","PIURA",220]
["031-C-2023","INMOBILIARIA CAMINOS DEL INCA 508 S.A.C","EDIFICIO MULTIFAMILIAR HIGH LINE","TORRE UNICA",131,"2+",20609741849,null,"SANTIAGO DE SURCO","LIMA","LIMA",226]
["032-C-2023","INMOBILIARIA HEIMDALL S.A.C","EDIFICIO MULTIFAMILIAR ALICIA","TORRE UNICA",22,"2+",20609575981,null,"LA VICTORIA","LIMA","LIMA",25]
["033-C-2023","CONSTRUCTORA MORENO LINCH S.A.C.","CONJUNTO RESIDENCIAL CONDOMINIO BICENTENARIO ETAPA C Y D","ETAPAS C Y D",125,"2+",20440492283,null,"TRUJILLO","TRUJILLO","LA LIBERTAD",250]
["034-C-2023","INVERSIONES LOTUS S.A.C.","EDIFICIO MULTIFAMILIAR LE ROSIER","TORRE UNICA",165,"3+",20602434452,null,"MIRAFLORES","LIMA","LIMA",256]
["035-C-2023","VIVIENDAS DEL PERÚ S.A.C.","S14","PROYECTO INTEGRAL",72,"2+",20512691529,null,"LIMA","LIMA","LIMA",153]
["036-C-2023","PROYEC CONTRATISTAS GENERALES S.A.","EDIFICIO MULTIFAMILIAR OLMEDO","TORRE A Y B",74,"2+",20333686237,null,"BREÑA","LIMA","LIMA",76]
["037-C-2023","VIVIENDAS DEL PERÚ S.A.C.","HOPE","PROYECTO INTEGRAL",88,"2+",20512691529,null,"LA VICTORIA","LIMA","LIMA",95]
["038-C-2023","CONSTRUCTORA CYGNUS S.A.C.","MARIATEGUI","TORRE UNICA",31,"2+",20600597966,null,"JESUS MARIA","LIMA","LIMA",60]
["039-C-2023","CONSTRUCTORA GALILEA S.A.C.","SOL DE CHAN CHAN II","ETAPA 1 A LA ETAPA 4",108,"2+",20521119943,null,"HUANCHACO","TRUJILLO","LA LIBERTAD",368]
["040-C-2023","PROMOTORA INDEPENDENCIA S.A.C.","EDIFICIO MULTIFAMILIAR IN DEPENDENCIA","TORRE UNICA",363,"3+",20607683884,null,"INDEPENDENCIA","LIMA","LIMA",363]
["041-C-2023","STEIN CONSTRUCTORA S.A.C","EDIFICIO MULTIFAMILIAR PIETRA DI PRADO","TORRE UNICA",116,"3+",20608060741,null,"LA VICTORIA","LIMA","LIMA",203]
["042-C-2023","PI PRADO 3 S.A.C.","VANGUARDIA","1 ETAPA",74,"2+",20606425288,null,"MAGDALENA DEL MAR","LIMA","LIMA",112]
["043-C-2023","LM DESARROLLO INMOBILIARIO SAC","LA PAZ 2173","TORRE UNICA",44,"2+",20608807463,null,"SAN MIGUEL","LIMA","LIMA",44]
["044-C-2023","NEOGAR SAC","VÍA FERNANDINI","TORRE A Y B",57,"3+",20605645098,null,"PUEBLO LIBRE","LIMA","LIMA",95]
["045-C-2023","NEO INVERSIONES INMOBILIARIAS S.A.C.","EDIFICIO MULTIFAMILIAR SAUCO","TORRE A Y B",564,"3+",20601678579,null,"LA VICTORIA","LIMA","LIMA",628]
["046-C-2023","INMOBILIRIA AGUARICO S.A.C.","DEL PARQUE CENTRO","ETAPA 2 (TORRE 2)",132,"3+",20604507911,null,"BREÑA","LIMA","LIMA",136]
["047-C-2023","HPC DESARROLLOS INMOBILIARIOS SAC","SQ WORK & LIVING APARTMENS","TORRE UNICA",132,"3+",20608933434,null,"SURQUILLO","LIMA","LIMA",144]
["(048-C-2023)\nanterior\nAE.RE.001.2024","INMOBILIARIA 22 S.A.C.","BOTANIKA","TORRE UNICA",80,"3+",20609368307,null,"JESUS MARIA","LIMA","LIMA",101]
["AE.RE.002.2023","BESCO S.A.C.","CENTRIKA 2","EDIFICIO 1",220,"3+",20416162299,null,"PIURA","PIURA","PIURA",220]
["049-C-2023","CONSTRUCTORA GALILEA S.A.C.","SOL DE CHAN CHAN II","ETAPA 5 A LA ETAPA 15",260,"2+",20521119943,null,"HUANCHACO","TRUJILLO","LA LIBERTAD",368]
["050-C-2023","URBANIZA PERU S.A.C.","PARQUES DE HUACACHINA\n4TA - 5TA - 6TA ETAPA","ETAPA 4 A LA ETAPA 6",300,"2+",20604867046,null,"ICA","ICA","ICA",300]
["051-C-2023","CONSTRUCTORA GALILEA S.A.C.","SOL DE PIMENTEL II","ETAPA 1 A LA ETAPA 28",910,"2+",20521119943,null,"PIMENTEL","CHICLAYO","LAMBAYEQUE",910]
["052-C-2023","CORPORACIÓN KAOBA S.A.C.","EDIFICIO MULTIFAMILIAR ARÁNDANOS","Torre A y B",417,"3+",20602580149,null,"SURQUILLO","LIMA","LIMA",466]
["053-C-2023","KALLPA INHOUSE S.A.C.","TOP 818","TORRE UNICA",65,"1+",20603124716,null,"SURQUILLO","LIMA","LIMA",82]
["054-C-2023","SAN MIGUEL DESARROLLO INMOBILIARIO S.A.C.","INFINITY PARK","EDIFICIO",15,"2+",20607214841,null,"SAN MIGUEL","LIMA","LIMA",17]
["055-C-2023","NOVO ARTE SOLUCIONES S.A.C.","MILLER 1050","1 ETAPA (EDIFICIO COMPLETO)",49,"2+",20543722724,null,"JESUS MARIA","LIMA","LIMA",49]
["056-C-2023","INMOBILIARIA ALBACRUZ S.A.C.","EDIFICIO RESIDENCIAL SCALA","TORRE UNICA",58,"3+",20607721611,null,"LINCE","LIMA","LIMA",84]
["057-C-2023","PROMOTORA ALBANORTE S.A.C.","EDIFICIO RESIDENCIAL PARQUE HABICH","TORRE UNICA",48,"3+",20609450071,null,"JESUS MARIA","LIMA","LIMA",112]
["058-C-2023","PROMOTORA ALBAESTE S.A.C.","EDIFICIO RESIDENCIAL VIEW 411","TORRE UNICA",31,"3+",20609590743,null,"JESUS MARIA","LIMA","LIMA",84]
["059-C-2023","INVERSIONES MAPLE S.A.C.","EDIFICIO MULTIFAMILIAR LA FORET","TORRE A Y TORRE B",401,"3+",20602127118,null,"JESUS MARIA","LIMA","LIMA",533]
["060-C-2023","LOS PORTALES DEPARTAMENTOS S.A.C.","GRAN PLAZA LORETO","TORRE UNICA",155,"3+",20553346178,null,"BREÑA","LIMA","LIMA",206]
["061-C-2023","INMOBILIARIA VERNAZZA S.A.C.","VERNAZZA","TORRE UNICA",31,"2+",20609052261,null,"SAN MIGUEL","LIMA","LIMA",67]
["062-C-2023","BINDA INGENIEROS S.A.","VERONA - SBS 586","TORRE 1",48,"2+",20252109308,null,"SAN BORJA","LIMA","LIMA",79]
["063-C-2023","PF - NO INSCRITO EN LA SMV, DIRIGIDO A INVERSIONISTAS INSTITUCIONALES - PROYECTO GRAN OLIVO","CONJUNTO RESIDENCIAL “GRAN OLIVO – I ETAPA”","TORRE A, ETAPA 1",23,"2+",20610338403,null,"LOS OLIVOS","LIMA","LIMA",180]
["064-C-2023","REAL EDIFICACIONES S.A.C.","TORRE REAL 11","TORRE UNICA",76,"2+",20562827936,null,"SURQUILLO","LIMA","LIMA",106]
["065-C-2023 \nantes \nAE.RE.008.2024","DESARROLLO INMOBILIARIO FG S.A.C.","EDIFICIO MULTIFAMILIAR ORUM TORRE D (Antes Orum Fase 4)","FASE 4",124,"3+",20603735651,null,"LA VICTORIA","LIMA","LIMA",156]
["066-C-2023","VYV PROYECTO 71 S.A.C.","CARLOS GONZÁLES 239","EDIFICIO ÚNICO",101,"3+",20607181625,null,"SAN MIGUEL","LIMA","LIMA",159]
["067-C-2023","LIMA MODERNA INMOBILIARIA S.A.C.","EDIFICIO MULTIFAMILIAR MORE+ JESUS MARIA","TORRE 1",37,"1+",20609789698,null,"JESUS MARIA","LIMA","LIMA",66]
["068-C-2023","ARCH PARTNERS INVERSIONES INMOBILIARIAS S.A.C.","EDIFICIO MULTIFAMILIAR ARCH TWO","TORRE PRINCIPAL",47,"2+",20605798145,null,"BARRANCO","LIMA","LIMA",51]
["AE.RE.005.2023","IN ESPINELA SAC","CONJUNTO RESIDENCIAL PATRIA","EDIFICIO 1 ",72,"3+",20607772054,null,"BARRANCO","LIMA","LIMA",116]
["069-C-2023","HL.SI S.A.C.","FAMILY APARTMENTS","ETAPA 1 A LA ETAPA 4",724,"2+",20521119943,null,"LA VICTORIA","LIMA","LIMA",724]
["070-C-2023","CONSTRUCTORA GALILEA S.A.C.","SOL DE LAMBAYEQUE II","ETAPA 1 A LA ETAPA 22",724,"2+",20521119943,null,"LAMBAYEQUE","LAMBAYEQUE","LAMBAYEQUE",724]
["071-C-2023","INMOBILIARIA DEL NORTE NEWCO S.A.C","SIMÓN","TORRE ÚNICA",55,"2+",20608408054,null,"PUEBLO LIBRE","LIMA","LIMA",65]
["072-C-2023","INMOBILIARIA DEL ESTE NEWCO S.A.C","INIZZIO","TORRE UNICA",26,"2+",20607250406,null,"SANTIAGO DE SURCO","LIMA","LIMA",90]
["073-C-2023","TER EDIFICACIONES S.A.C.","MORAR","TORRE UNICA",90,"3+",20602491511,null,"SURQUILLO","LIMA","LIMA",160]
["074-C-2023","INMOBILIARIA DEL OESTE NEWCO S.A.C","VELERO","TORRE UNICA",7,"2+",20609446561,null,"SANTIAGO DE SURCO","LIMA","LIMA",16]
["075-C-2023","PROYECTOS CONSTRUCTIVOS \nSTELLA S.AC.","ALTO GAVIOTAS","TORRE 1 Y 2 ",104,"3+",20606415797,null,"CHORRILLOS","LIMA","LIMA",104]
["076-C-2023","T&C HOLDING S.A.C.","EDIFICIO MULTIFAMILIAR BERTOLOTTO ETAPA 2, 3 Y 4","ETAPA 2, 3 Y 4 ",378,"2+",20392638408,null,"SAN MIGUEL","LIMA","LIMA",415]
["077-C-2023","CORPORACION ALKAMAT EIRL","EDIFICIO MODERNA","TORRE 1 ",16,"1+",20610203613,null,"PUEBLO LIBRE","LIMA","LIMA",16]
["078-C-2023","GRUPO DYM CONSTRUCTORA E INMOBILIARIA S.A.C.","EDIFICIO PALMER","TORRE UNICA",102,"2+",20550506352,null,"BREÑA","LIMA","LIMA",102]
["079-C-2023","GENOVA PROYECTOS S.A","MULTIFAMILIAR NUEVA AURORA 3","TORRE A",23,"3+",20606066083,null,"SURQUILLO","LIMA","LIMA",70]
["080-C-2023","VIVIENDAS DEL PERÚ S.A.C.","HIT","PROYECTO INTEGRAL",80,"2+",20512691529,null,"SAN BORJA","LIMA","LIMA",96]
["081-C-2023","INVERSIONES INMOBILIARIAS DEL SUDOESTE S.A","ALTO BELLAVISTA","TORRE A,B,C,D,E Y F",864,"3+",20508650613,null,"BELLAVISTA","CALLAO","CALLAO",864]
["082-C-2023","PAZ CENTENARIO S.A.","CIUDAD VERDE ETAPA 5 Y 6","ETAPA 5 (TORRE C, TORRE D) ETAPA 6 (TORRE A, TORRE B)",252,"1+",20518023579,null,"PUENTE PIEDRA","LIMA","LIMA",252]
["083-C-2023","INMOBILIARIA MARIELLE S.A.C.","RESIDENCIAL LOS LAURELES","TORRE ÚNICA",7,"1+",20601557321,null,"CHORRILLOS","LIMA","LIMA",8]
["084-C-2023","EDIFICACIONES INCA S.A.C","EDIFICIO STAMPA","TORRE 1 ",33,"1+",20533211195,null,"TACNA","TACNA","TACNA",33]
["(085-C-2023)\nantes\nAE.RE.004.2024","CHECOR INVERSIONES S.A.C.","EDIFICIO MULTIFAMILIAR LAS DALIAS","ETAPA 1( EDIFICIO 1)",43,"3+",20608438701,null,"LIMA","LIMA","LIMA",56]
["086-C-2023","GRUPO POZO S.A.C.","RESIDENCIAL LA FLORESTA","TORRE ÚNICA",18,"2+",20512957227,null,"LOS OLIVOS","LIMA","LIMA",18]
["087-C-2023","COLONIA GRUPO INMOBILIARIA SAC.","MULTIFAMILIAR LA PERLAMAR TORRE","TORRE ÚNICA",39,"1+",20536959069,null,"LA PERLA","CALLAO","CALLAO",39]
["088-C-2023","INVERSIONES INMOBILIARIAS DEL IGUAZU S.A","ALTO ALBORADA","TORRE A, B Y C",644,"3+",20517504620,null,"LIMA","LIMA","LIMA",644]
["089-C-2023","INMOBILIARIA ACTUAL FAISANES 343 S.A.C.","MULTIFAMILIAR FAISANES 343","TORRE A Y B ",244,"3+",20607539040,null,"CHORRILLOS","LIMA","LIMA",244]
["090-C-2023","INVERSIONES INMOBILIARIAS DE LA HISPANIA S.A.","ALTO LIMA PARK  (antes Conjunto Residencial Alto Benavides 2)","TORRE A, B , C, D Y E",848,"3+",20517001636,null,"LIMA","LIMA","LIMA",848]
["091-C-2023","QUATRO LAMBDA S.A.C.","EDIFICIO MULTIFAMILIAR COR TOWER","TORRE ÚNICA",111,"2+",20607761702,null,"LA VICTORIA","LIMA","LIMA",127]
["092-C-2023","INVERSIONES NUEVO PACIFICO S.A.C.","RESIDENCIAL EL CARMEN","TORRE ÚNICA",30,"2+",20481775575,null,"TRUJILLO","TRUJILLO","LA LIBERTAD",30]
["093-C-2023","LOS PORTALES S.A.","VILLA SAN CARLOS","MANZANA A,C,D y E",58,"3+",20301837896,null,"ICA","ICA","ICA",58]
["094-C-2023","ECO STYLE SAC","EDIFICIO MULTIFAMILIAR ECO STYLE ","EDIFICIO 1 Y EDIFICIO 2 ",153,"1+",20603849923,null,"MAGDALENA DEL MAR","LIMA","LIMA",249]
["095-C-2023","VIVIENDAS DEL PERÚ S.A.C.","ABSTRACT","PROYECTO INTEGRAL",75,"2+",20512691529,null,"MIRAFLORES","LIMA","LIMA",113]
["096-C-2023","VIVIENDAS DEL PERÚ S.A.C.","LUXO","TORRE ÚNICA",83,"2+",20512691529,null,"SAN ISIDRO","LIMA","LIMA",113]
["097-C-2023","GRUPO POZO S.A.C.","ALASKA 24","TORRE ÚNICA",16,"2+",20512957227,null,"ATE","LIMA","LIMA",16]
["098-C-2023","VIVIENDAS DEL PERÚ S.A.C.","PREMINENZA","PROYECTO INTEGRAL",124,"2+",20512691529,null,"SAN ISIDRO","LIMA","LIMA",195]
["(001-C-2024)\nanterior\nAE.RE.002.2024","CONSTRUCTORA E INMOBILIARIA BRAZIL SAC","EDIFICIO MULTIFAMILIAR SANTORINI","TORRE ÚNICA",266,"3+",20543566501,null,"LIMA","LIMA","LIMA",327]
["002-C-2024","CLASEM S.A.C.","CONDOMINIO CLUB EL ROSEDAL","ETAPA 2 (TORRE 10,11,12,13,14,15) ETAPA 3 (TORRE 16,17,18,19,20 Y 21)",480,"2+",20516390060,null,"EL TAMBO","HUANCAYO","JUNIN",480]
["003-C-2024","VYVE Y VMP S.A.C.","VYVE PIURA","ETAPA 1: MANZANA B, MANZANA C,\nMANZANA D, MANZANA E, MANZANA F,\nMANZANA G, MANZANA H, MANZANA I,\nMANZANA K",212,"3+",20523155572,null,"CASTILLA","PIURA","PIURA",212]
["004-C-2024","BESCO S.A.C."," LOS PARQUES DE SAN JUAN CONDOMINIO ECOAMIGABLE \n","TORRE 1- TORRE 2, TORRE 3, TORRE 4, TORRE 5, TORRE 6, TORRE 7 Y TORRE 8. ",1276,"3+",20416162299,null,"SAN JUAN DE LURIGANCHO","LIMA","LIMA",1308]
["005-C-2024","GCC VIVIENDAS SAC","EDIFICIO MULTIFAMILIAR NEREA","1 EDIFICIO",56,"3+",20603964099,null,"PUEBLO LIBRE","LIMA","LIMA",108]
["006-C-2024","H.L. DESARROLLOS INMOBILIARIOS S.A.C","FRIENDZ 2","BLOQUE B Y BLOQUE A ",170,"3+",20608933434,null,"CHORRILLOS","LIMA","LIMA",170]
["007-C-2024","CLASEM S.A.C.","CONDOMINIO MIRADOR DEL GOLF ETAPA 3, 4 Y 5","ETAPAS 3,4 Y 5",297,"2+",20516390060,null,"VICTOR LARCO HERRERA","TRUJILLO","LA LIBERTAD",297]
["(008-C-2024)\nanterior\nAE.RE.006.2024","IN ONIX SAC","CONJUNTO RESIDENCIAL SAN FELIPE","EDIFICIO 1 Y 2",268,"3+",20607766542,null,"JESUS MARIA","LIMA","LIMA",398]
["009-C-2024","CASAIDEAL PROYECTO 21 SAC","CONJUNTO MULTIFAMILIAR PRINT","BLOQUE A,B Y C",124,"3+",20605903976,null,"CHORRILLOS","LIMA","LIMA",124]
["010-C-2024","MG HABITAT SAC","ALBORADA II","TORRE A",254,"3+",20608254421,null,"SAN MIGUEL","LIMA","LIMA",254]
["011-C-2024","INVERSIONES INMOBILIARIAS Z&Z S.A.C","CONJUNTO RESIDENCIAL MULTIFAMILIAR LAS TORRES DE CARABAYLLO","MANZANA 8: TORRE A, TORRE B, TORRE C, TORRE D Y TORRE E ",320,"2+",20518426428,null,"CARABAYLLO","LIMA","LIMA",320]
["012-C-2024","DESARROLLADORA VISTA NEVADO S.A.C.","CASAPARQ- CERRO COLORADO","TORRE C",76,"3+",20602442439,null,"CERRO COLORADO","AREQUIPA","AREQUIPA",84]
["013-C-2024","LOS PORTALES S.A.","VILLA DE LA ALAMEDA SUR II","MANZANA A,B,C,D,E,F,G,H",201,"3+",20301837896,null,"CHILCA","CAÑETE","LIMA",201]
["014-C-2024","RESIDENCIAL MIRADOR COSTA SUR S.A.C.","EDIFICIO MULTIFAMILIAR CASTILLA","ETAPA ÚNICA",137,"2+",20609717131,null,"SANTIAGO DE SURCO","LIMA","LIMA",234]
["015-C-2024","GRUPO D Y M CONSTRUCTORA E INMOBILIARIA S.A.C.","VITTORIE","TORRE ÚNICA",56,"2+",20550506352,null,"SURQUILLO","LIMA","LIMA",57]
["016-C-2024","INVERSIONES ZJME S.A.C.","EDIFICIO MULTIFAMILIAR THE PARK","TORRE ÚNICA",39,"2+",20605500235,null,"LINCE","LIMA","LIMA",62]
["017-C-2024","INMOBILIARIA 06 DE AGOSTO S.A.C","EDIFICIO MULTIFAMILIAR NEW ONE","TORRE ÚNICA",52,"2+",2610707182,null,"JESUS MARIA","LIMA","LIMA",63]
["(018-C-2024) \nanterior\nAE.RE.005.2024","LOS PORTALES DEPARTAMENTOS S.A.C.","GRAN GUARDIA PERUANA \n","ETAPA 1 Y 2",386,"3+",20553346178,null,"CHORRILLOS","LIMA","LIMA",386]
["019-C-2024","CAPITAL CONSTRUCCION E INFRAESTRUCTURA S.A.C","CONDOMINIO LUZZO \n","TORRE 1",88,"1+",20603433077,null,"CERRO COLORADO","AREQUIPA","AREQUIPA",97]
["020-C-2024","EDIFICIO PIANA S.A.C.","EDIFICIO MULTIFAMILIAR PIANA","TORRE 1",104,"2+",20611398175,null,"PUEBLO LIBRE","LIMA","LIMA",104]
["021-C-2024","PROMOTORA ALBASUR S.A.C.","EDIFICIO MULTIFAMILIAR ARENALES","TORRE ÚNICA",78,"3+",20609683946,null,"LIMA","LIMA","LIMA",126]
["022-C-2024","PROMOTORA ALBAOESTE S.A.C.","EDIFICIO MULTIFAMILIAR PETIT THOUARS","TORRE ÚNICA",55,"3+",20609645351,null,"LINCE","LIMA","LIMA",96]
["023-C-2024","GDC PROYECTOS PERU D S.A.C.","CASA BARRANCO 695","TORRE ÚNICA",22,"2+",20610161872,null,"BARRANCO","LIMA","LIMA",26]
["024-C-2024","GDC PROYECTOS PERU B S.A.C.","VIVIENDA MULTIFAMILIAR PARK PRADO","TORRE 1",194,"3+",20606959118,null,"LA VICTORIA","LIMA","LIMA",384]
["025-C-2024","INMOBILIARIA BASILEA S.A.C","LUXURY TOWER","TORRE NORTE Y SUR",256,"2+",20609114518,null,"CERRO COLORADO","AREQUIPA","AREQUIPA",310]
["026-C-2024","H.L. DESARROLLOS INMOBILIARIOS S.A.C","MF WORK & LIVING APARTMENTS","TORRE ÚNICA",177,"3+",20608933434,null,"MIRAFLORES","LIMA","LIMA",177]
["027-C-2024","TM GESTION INMOBILIARIA S.A.C.","RESIDENCIAL JARDINES DE SANTA BEATRIZ-ETAPA II","ETAPA II - TORRE B",52,"2+",20549790373,null,"LIMA","LIMA","LIMA",58]
["028-C-2024","CASALUX S.A.C.","LA MARINA BY BENGALA","TORRE 1",169,"3+",20609819651,null,"SAN MIGUEL","LIMA","LIMA",169]
["029-C-2024","CERVANTES CONSTRUCTORES S.A.C.","RESIDENCIAL CERVANTES","BLOQUE 1 Y 2",74,"2+",20610835571,null,"AREQUIPA","AREQUIPA","AREQUIPA",74]
["030-C-2024","INMOBILIARIA CLASS PERÚ SAC","EDIFICIO MULTIFAMILIAR RESIDENCIAL LOS LAURELES","TORRE ÚNICA",22,"1+",20609512076,null,"SAN JUAN DE MIRAFLORES","LIMA","LIMA",22]
["031-C-2024","INVERSIONES PSL S.A.C.","TORRE LUCAS","TORRE ÚNICA",34,"2+",20505945213,null,"SAN MIGUEL","LIMA","LIMA",34]
["032-C-2024","PAZ REAL ESTATE S.A.C.","FLORENCIA","TORRE ÚNICA",146,"3+",20605346716,null,"PUEBLO LIBRE","LIMA","LIMA",238]
["033-C-2024","INMOBILIARIA DACITY S.A.C.","ALIAGA 750","TORRE ÚNICA",109,"3+",20601558352,null,"MAGDALENA DEL MAR","LIMA","LIMA",237]
["034-C-2024","CORPORACIÓN INMOBILIARIA SANTO CRISTO S.A.C.","EDIFICIO MULTIFAMILIAR ASTROMELIA","TORRE ÚNICA",161,"3+",20609501503,null,"JESUS MARIA","LIMA","LIMA",244]
["035-C-2024","WR S.A.","CONJUNTO RESIDENCIAL “CONDOMINIO CINNCO”","TORRES A, B Y C (ETAPAS 1,2 Y3)",420,"3+",20100048702,null,"COMAS","LIMA","LIMA",420]
["036-C-2024","LOS PORTALES DEPARTAMENTOS S.A.C.","GRAN CENTRAL COLONIAL 2","ETAPA 1 Y 2",447,"3+",20553346178,null,"LIMA","LIMA","LIMA",447]
["(037-C-2024)\nanterior\nAE.RE.007.2024","BESCO S.A.C.","CENTRIQO CLUB CONDOMINIO ECOAMIGABLE","TORRES 1,2,3,4,5,6,7,8",1260,"3+",20416162299,null,"LIMA","LIMA","LIMA",1260]
["038-C-2024","LYNX CONSTRUCTORA S.A.C.","TIZON Y BUENO APARTAMENTOS","TORRE 1",99,"3+",20602062318,null,"JESUS MARIA","LIMA","LIMA",114]
["(039-C-2024)\nanterior\nAE.RE.001.2025","DESARROLLO AGUARICO S.A.C.","MOMEN","ETAPA ÚNICA",848,"3+",20610182730,null,"BREÑA","LIMA","LIMA",848]
["(040-C-2024) anterior AE.RE.012.2024","PROMSAL S.A.C.","ENTRENOS","EDIFICIO ÚNICO",52,"3+",20515876937,null,"MAGDALENA DEL MAR","LIMA","LIMA",58]
["041-C-2024","BALANCE BETA S.A.C.","HERCELLES","EDIFICIO ÚNICO",51,"2+",20602712851,null,"LA VICTORIA","LIMA","LIMA",71]
["(042-C-2024)\nanterior\nAE.RE.009.2024","MIRANDA CONSTRUCTORES S.A.","LAS LOMAS RESIDENCIAL ECOAMIGABLE","EDIFICIO 1",144,"3+",20392504894,null,"RIMAC","LIMA","LIMA",144]
["043-C-2024","CONSTRUCTORA MARTE S.A","EDIFICIO AMATISTA","TORRE 1",264,"3+",2508833611,null,"LIMA","LIMA","LIMA",266]
["(044-C-2024)\nanterior\nAE.RE.010.2024","DESARROLLADORA VISTA NEVADO S.A.C.","CASAPARQ- CERRO COLORADO TORRE D","TORRE D",60,"3+",20602442439,null,"CERRO COLORADO","AREQUIPA","AREQUIPA",60]
["045-C-2024","LOS PORTALES S.A.","VILLA DEL VALLE ETAPAS 1, 2 Y 3","ETAPAS 1, 2 Y 3",212,"3+",20301837896,null,"ICA","ICA","ICA",212]
["047-C-2024","GDC PROYECTOS PERU E S.A.C.","CASA BARRANCO 195","TORRE ÚNICA",13,"2+",20610568271,null,"BARRANCO","LIMA","LIMA",26]
["046-C-2024","CONSTRUCTORA E INMOBILIARIA OPTIMUS S.A.C.","EDIFICIO OMBÚ","TORRE ÚNICA",9,"1+",20547778333,null,"PUEBLO LIBRE","LIMA","LIMA",17]
["048-C-2024","LOS PORTALES DEPARTAMENTOS S.A.C.","EDIFICIO MULTIFAMILIAR GRAN JARDÍN TICINO","5 EDIFICIOS",280,"3+",20553346178,null,"SANTA ANITA","LIMA","LIMA",280]
["049-C-2024","LARES INMOBILIARIA S.A.C","EDIFICIO MULTIFAMILIAR AMARANTA","TORRE ÚNICA",311,"3+",20610463780,null,"PUEBLO LIBRE","LIMA","LIMA",320]
["050-C-2024","S&P DESARROLLADORES INMOBILIARIOS S.A.C","CONJUNTO RESIDENCIAL LOS GORRIONES 5","EDIFICIO ÚNICO",142,"2+",20600690028,null,"CHORRILLOS","LIMA","LIMA",144]
["051-C-2024","INVERSIONES INMOBILIARIAS ÁRTICO S.A.C","EDIFICIO MULTIFAMILIAR ENEL","TORRE ÚNICA",235,"3+",20610776702,null,"SAN MIGUEL","LIMA","LIMA",235]
["052-C-2024","MARINA CITY CENTER SOCIEDAD ANÓNIMA CERRADA","MARINA CITY CENTER – TORRE 1","TORRE 1",115,"2+",20610141898,null,"SAN MIGUEL","LIMA","LIMA",169]
["053-C-2024","RESIDENCIAL ARAMBURU S.A.C.","TORRE PAINO","ETAPA ÚNICA",132,"3+",20610294953,null,"SURQUILLO","LIMA","LIMA",230]
["054-C-2024","CONSTRUCTORES & ASOCIADOS  HASA SOCIEDAD ANONIMA CERRADA","EDIFICIO MULTIFAMILIAR D´AVANTI","TORRE ÚNICA",158,"3+",20610479066,null,"SAN MIGUEL","LIMA","LIMA",158]
["055-C-2024","GRUPO POZO S.A.C.","SAN IGNACIO DE CHACLACAYO","TORRE 1, TORRE 2, TORRE 3 , TORRE 4, TORRE 5",348,"3+",20512957227,null,"CHACLACAYO","LIMA","LIMA",348]
["056-C-2024","ECO VITAL INMOBILIARIA SOCIEDAD ANONIMA CERRADA","CAMELIA","TORRE ÚNICA",238,"3+",20609696258,null,"JESUS MARIA","LIMA","LIMA",240]
["057-C-2024","V&V PROYECTO 75 SAC","SALAVERRY 2431","EDIFICIO ÚNICO",187,"2+",20609787041,null,"SAN ISIDRO","LIMA","LIMA",297]
["(025-C-2023)\nantes\nAE.RE.011.2024 ","CONSTRUCTORA CUMBRES VILLANOVA S.A.C.","CONJUNTO RESIDENCIAL “CONDOMINIO VILLANOVA 5” ETAPA B-240","TORRE 2 Y TORRE 5",240,"3+",20602704891,"Primero certifico al grado 2+, con 660 con viviendas con Bono. ","CALLAO","CALLAO","CALLAO",660]
["058-C-2024","CLASEM SOCIEDAD ANONIMA CERRADA","RESIDENCIAL LA ARBOLEDA-CERRO COLORADO 1ERA ETAPA \"FASE II\"","1 ERA ETAPA \"FASE II\"",120,"2+",20516390060,null,"CERRO COLORADO","AREQUIPA","AREQUIPA",120]
["059-C-2024","INVERSIONES TIERRA BLANCA S.A.C.","EDIFICIO RESIDENCIAL GALA","TORRE ÚNICA ",51,"1+",20518883322,null,"BREÑA","LIMA","LIMA",53]
["060-C-2024","PROYEC PROYECTO 01SAC","EDIFICIO MULTIFAMILIAR PATRIOTAS","TORRE ÚNICA ",78,"2+",20611306386,null,"SAN MIGUEL","LIMA","LIMA",78]
["061-C-2024","MIXXO S.A.C","MIXXO","TORRE A Y B",126,"2+",20611153903,null,"CHORRILLOS","LIMA","LIMA",126]
["062-C-2024","CHECOR PROYECTO 12 S.A.C.","EDIFICIO MULTIFAMILIAR LOS LIRIOS","TORRE ÚNICA ",79,"2+",20611249072,null,"LINCE","LIMA","LIMA",82]
["063-C-2024","GDC PROYECTOS PERÚ F. S.A.C","VIVIENDA MULTIFMAILIAR UNICO MAGDALENA","TORRE ÚNICA ",98,"2+",20610817808,null,"MAGDALENA DEL MAR","LIMA","LIMA",151]
["064-C-2024","DESARROLLO PLAZA GRAU S.A.C","EDIFICIO MULTIFAMILIAR QANTUA (MIDLIMA)","PROYECTO INTEGRAL - ETAPA 1 A LA ETAPA 4 (11TORRES)",254,"2+",20563177323,null,"LIMA","LIMA","LIMA",506]
["065-C-2024","ENFOCA REAL STATE S.A.C","BROADWAY RESIDENCIAL","TORRE ÚNICA ",128,"2+",20611199768,null,"LIMA","LIMA","LIMA",129]
["066-C-2024","AGUITEL S.A.C. ","CONJUNTO RESIDENCIAL LOS SAUCES 2DA ","ETAPA 2 ",192,"2+",20481407266,null,"VICTOR LARCO HERRERA","TRUJILLO","LA LIBERTAD",192]
["067-C-2024","PROMOTORA DICON S.A.C","EDIFICIO MULTIFAMILIAR SUMA","TORRE ÚNICA ",52,"2+",20604700125,null,"LINCE","LIMA","LIMA",82]
["068-C-2024","VIVIENDAS DEL PERÚ S.A.C.","BELALBA","TORRE ÚNICA ",121,"2+",20512691529,null,"PUEBLO LIBRE","LIMA","LIMA",202]
["069-C-2024","LA VENTUROSA S.A.","CONDOMINIO VILLALEGRE","BLOQUE A,B Y C",368,"2+",20383731705,null,"SANTIAGO DE SURCO","LIMA","LIMA",376]
["001-C-2025","VIVA NEGOCIO INMOBILIARIO S.A.C.","LAS PARQUES DEL CALLAO - CONDOMINIO RESIDENCIAL ","TORRE 1,2,3",450,"2+",20493040643,null,"CALLAO","CALLAO","CALLAO",450]
["002-C-2025","CORPORACION OLMO S.A.C.","EDIFICIO MULTIFAMILIAR GIRASOL","TORRE ÚNICA ",184,"2+",20602579906,null,"JESUS MARIA","LIMA","LIMA",194]
["003-C-2025","PAZ CENTENARIO S.A.","PATIO LA PAZ","TORRE ÚNICA ",245,"3+",20518023579,null,"SAN MIGUEL","LIMA","LIMA",277]
["004-C-2025","CORPORACION INMOBILIARIA SANTA LEONOR S.A.C","EDIFICIO MULTIFAMILIAR ORQUIDEA","TORRE ÚNICA ",94,"3+",20609866854,null,"LINCE","LIMA","LIMA",165]
["005-C-2025","FLAT AREQUIPA SAC","EDIFICIO MULTIFAMILIAR CAMPO MARTE","TORRE ÚNICA ",96,"2+",20555016451,null,"JESUS MARIA","LIMA","LIMA",128]
["006-C-2025","INVERSIONES FIDENZA S.A.C","HELIO SANTA BEATRIZ","TORRE ÚNICA ",366,"2+",20553417709,null,"LIMA","LIMA","LIMA",366]
["007-C-2025","V Y V PROYECTO 64 S.A.C","SAN FELIPE 1190","TORRE ÚNICA ",87,"2+",20606327821,null,"JESUS MARIA","LIMA","LIMA",158]
["008-C-2025","BESCO S.A.C","COLONIAL C","TORRE 1,2,3,4",768,"2+",20416162299,null,"LIMA","LIMA","LIMA",768]
["(009-C-2025) anterior AE.RE.004.2025","BESCO S.A.C","NUEVO INDEPENDENCIA CONDOMINIO ECOAMIGABLE ","TORRE 1,2",480,"3+",20416162299,null,"INDEPENDENCIA","LIMA","LIMA",527]
["010-C-2025","INVERSIONES PROPCO UNO S.A.C","VALLEJO LIVING","TORRE ÚNICA ",72,"2+",20601142075,null,"LINCE","LIMA","LIMA",165]
["011-C-2025","ESPARQ INVERSIONES S.A","EDIFICIO MULTIFAMILIAR BLUE","TORRE ÚNICA ",150,"2+",20109474488,null,"SAN ISIDRO","LIMA","LIMA",260]
["012-C-2025","LOS PORTALES DEPARTAMENTOS S.A.C.","GRAN PARQUE LAS FLORES","ETAPA 1 (TORRE A), ETAPA 2 (TORRE B)",278,"3+",20553346178,null,"SAN JUAN DE LURIGANCHO","LIMA","LIMA",278]
["013-C-2025","CONSTRUCTORA GALILEA S.A.C.","MONTEVERDE III","SECTOR 1:MZ B, MZ C, MZ D (LOTE 1 AL 4,  LOTES 12 AL 17),MZ.E (LOTES 1 AL 4, LOTES 21 AL 23); SECTOR 2: MZ.D( LOTES 5 AL 11),  MZ. E(LOTES 5 AL11, LOTES 13 AL 20)",50,"2+",20521119943,null,"CASTILLA","PIURA","PIURA",50]
["014-C-2025","LIDER INGENIERIA Y CONSTRUCCIÓN SA","CONJUNTO RESIDENCIAL KAMPU","TORRE 18 ",120,"1+",20519431395,null,"ATE","LIMA","LIMA",120]
["015-C-2025","CORPORACION INMOBILIARIA MONTEBLANCO","EDIFICIO MULTIFAMILIAR TULIPAN","TORRE ÚNICA ",261,"3+",20609620791,null,"LIMA","LIMA","LIMA",436]
["016-C-2025","PROYECTOS Y CONSTRUCCIONES LUGANO S.A.C","ARBORA","TORRE ÚNICA ",108,"3+",20507028986,null,"MAGDALENA DEL MAR","LIMA","LIMA",126]
["017-C-2025","CONSTRUCTORA GALILEA S.A.C.","SOL DE HUANCHACO II CASAS","ETAPA 1 (MZ. B-3,B-4,B-5), ETAPA 2 (MZ. B-1,B-5), ETAPA 3 (E-1,E-2), ETAPA 4 (MZ. E-2,E-3,E-4), ETAPA 5 (MZ.(E-1,E-4), ETAPA 6 (MZ. C-4,C-5), ETAPA 7 MZ. (C-2,C-3), ETAPA 8 (MZ. C-1,C-5), ETAPA 9 (MZ. D-2), ETAPA 10 (MZ. D-1), ETAPA 11 (MZ. D-3, D-4), ETAPA 12 (MZ. A-4), ETAPA 13 (MZ. A-6,A-7), ETAPA 14 (MZ.A-3), ETAPA 15 (MZ. A-5,A-7,A-2)",428,"2+",20521119943,null,null,"TRUJILLO","LA LIBERTAD",788]
["018-C-2025","CONSTRUCTORA GALILEA S.A.C.","SOL DE HUANCHACO II DEPARTAMENTOS","ETAPA 16 (MZ. B-1,B-2), ETAPA 17 (MZ. A-1,A-2)",360,"2+",20521119943,null,"HUANCHACO","TRUJILLO","LA LIBERTAD",788]
["019-C-2025","CONSTRUCTORA E INMOBILIARIA 10 DE ABRIL S.A.C","EDIFICIO ALICANTO","TORRE ÚNICA ",86,"3+",20604774510,null,"JESUS MARIA","LIMA","LIMA",86]
["020-C-2025","FREAK CONSTRUCTORES Y CONSULTORES SRL","VILLA CLUB CARABAYLLO V","ETAPA 8 (MZ. K,LM,N)",71,"1+",20450515010,null,"CARABAYLLO","LIMA","LIMA",71]
["021-C-2025","CONSTRUYE E INNOVA VARGAS S.A","EDIFICIO INDEPENDENCIA 351","TORRE ÚNICA ",9,"1+",20545053021,null,"SAN MIGUEL","LIMA","LIMA",11]
["022-C-2025","CAMPITELLI INMOBILIARIA S.A.C","KAURI","TORRE ÚNICA ",230,"3+",20610710248,null,"PUEBLO LIBRE","LIMA","LIMA",250]
["023-C-2025","CONSTRUCTORA GALILEA","SOL DE LAS LOMAS","ETAPA 1 ( MZ. A-1, B-1,B-5, E-1); ETAPA 2 (MZ. B-2, B-5); ETAPA 3 (MZ. A-3, B-3, B-4); ETAPA 4 (MZ. A-4, B-3, B-4); ETAPA 5 (MZ. A-5, B-3, B-4); ETAPA 6 (MZ. A-6, B-3, B-4); ETAPA 7 (MZ C-3); ETAPA 8 (MZ.C-4, C-5); ETAPA 9 (MZ. D-1, D-3); ETAPA 10 ( MZ. C-6, D-2, D-3); ETAPA 11 (MZ. C-7); ETAPA 12 (MZ. D-2, D-3, H-3); ETAPA 13 (MZ. C-8, H-2); ETAPA 14 (MZ. A-2); ETAPA 15 (MZ. A-2); ETAPA 16 (MZ. E-2, E-3); ETAPA 17 (MZ. E-2, E-4); ETAPA 18 (MZ. C-1); ETAPA 19 (MZ F-1, F-2); ETAPA 20 (MZ. G-1, G-2); ETAPA 21 (MZ.C-2, H-2); ETAPA 22 (MZ. F-6); ETAPA 23 (MZ. F-6, H-1); ETAPA 24 (MZ. F-3, F-4); ETAPA 25 (MZ. G-1, G-3); ETAPA 26 (MZ. G-1, G-3); ETAPA 27 (MZ. F-5, G-4, H-1)",998,"2+",20521119943,null,"CHICLAYO","CHICLAYO","LAMBAYEQUE",998]
["024-C-2025","VYV PROYECTO 76 S.A.C","DERBY 182","TORRE ÚNICA ",103,"2+",20609796350,null,"SANTIAGO DE SURCO","LIMA","LIMA",176]
["025-C-2025","EV INMOBILIARIA ANGAMOS S.A.C","ROOF GARDEN ANGAMOS","TORRE 1 y 2",15,"3+",20607001813,null,"SAN BORJA","LIMA","LIMA",274]
["026-C-2025","CONSTRUCTORA GALILEA","SOL DE LA CAMPIÑA"," ETAPA 1 (MZ.A); ETAPA 2 (MZ. B, F); ETAPA 3 (MZ. E, F); ETAPA 4 (MZ. C, D); ETAPA 5 (MZ. J, K); ETAPA 6 (MZ. I, J, K, L); ETAPA 7 (MZ. I, L); ETAPA 8 (MZ. F, G, H)",267,"2+",20521119943,null,"CHIMBOTE","SANTA","ANCASH",267]
["027-C-2025","INMOBILIARIA LAS LILAS SOCIEDAD ANONIMA CERRADA ","EDIFICIO MULTIFAMILIAR CROSS","TORRE ÚNICA ",91,"2+",20611751126,null,"LINCE","LIMA","LIMA",105]
["028-C-2025","BECA INGENIERIA CONSTRUCCION Y GESTION S.A.C","EDIFICIO MULTIFAMILIAR LANDART","TORRE UNICA",49,"2+",20611699434,null,"MAGDALENA DEL MAR","LIMA","LIMA",52]
["029-C-2025","LOS PORTALES S.A","ALAMEDA VISTA VERDE ETAPA 1, 2, 3 y 4"," ETAPA 1 (MZ. A, B, C); ETAPA 2 (MZ. D, E, F); ETAPA 3 (MZ. I, J, K, L); ETAPA 4 (MZ. G, H, M)",232,"3+",20301837896,null,"CHILCA","CAÑETE","LIMA",232]
["030-C-2025","DESARROLLO LINCES S.A.C.","EDIFICIO MULTIFAMILIAR MIDGO","ÚNICA ETAPA",144,"3+",20605662529,null,"LINCE","LIMA","LIMA",188]
["031-C-2025","MULTIURBE S.A.C","QUIÑONES PARK","EDIFICIO 1",8,"1+",20609643278,null,"SAN MIGUEL","LIMA","LIMA",33]
["032-C-2025","PROYECTO INMOBILIARIO M01 S.A.C.","EDIFICIO MULTIFAMILIAR ASCENZA","TORRE UNICA",52,"3+",20609004411,null,"PUEBLO LIBRE","LIMA","LIMA",104]
["033-C-2025","PF - NO INSCRITO EN LA SMV, DIRIGIDO A INVERSIONISTAS INSTITUCIONALES - PROYECTO GRAN OLIVO","CONJUNTO RESIDENCIAL “GRAN OLIVO – TORRE B” ","TORRE B",199,"1+",20610338403,null,"LOS OLIVOS","LIMA","LIMA",218]
["034-C-2025","BALANCE INVERSIONES S.A.C","CONJUNTO RESIDENCIAL ALMIRANTE GUISSE","TORRE A y B",64,"2+",20602593810,null,"JESUS MARIA","LIMA","LIMA",86]
["035-C-2025","QUATRO OMICRON S.A.C","URBAN TOWER 3","TORRE UNICA",88,"2+",20607610143,null,"LIMA","LIMA","LIMA",98]
["036-C-2025","HL DESARROLLOS INMOBILIARIOS S.A.C","SCHELL WORKS& LIVING","TORRE ÚNICA",105,"3+",20608933434,null,"MIRAFLORES","LIMA","LIMA",105]
["037-C-2025","GRINSA SAC","VILLA SILVESTRE II","MANZANA A Y B",49,"2+",20440209123,null,"MOCHE","TRUJILLO","LA LIBERTAD",49]
["038-C-2025","FRONTERA OLAYA S.A.C","OLAYA 535","TORRE UNICA",125,"2+",20610641564,null,"CHORRILLOS","LIMA","LIMA",129]
["039-C-2025","QUATRO EPSILON S.A.C.","EDIFICIO MULTIFAMILIAR SUPRATOWER","TORRE UNICA",186,"2+",20562769987,null,"SAN MIGUEL","LIMA","LIMA",188]
["AE.RE.003.2025","DESARROLLO PLAZA GRAU S.A.C","EDIFICIO MULTIFAMILIAR QANTUA (MIDLIMA)","ETAPA 1",74,"3+",20563177323,null,"LIMA","LIMA","LIMA",139]
["040-C-2025","LOS PORTALES S.A","VILLA RINCONADA II","ETAPA 1, 93; ETAPA 2, 77",170,"3+",20301837896,null,"VEINTISEIS DE OCTUBRE","PIURA","PIURA",170]
["041-C-2025","ABITARE JESUS MARIA 1 SOCIEDAD ANONIMA CERRADA","EDIFICIO MULTIFAMILIAR BRASIL 1079","TORRE UNICA",59,"2+",20611688645,null,"JESUS MARIA","LIMA","LIMA",78]
["042-C-2025","MG PROYECTO 22 SAC","ALBORADA III","TORRE A, TORRE B, TORRE C",244,"3+",20610893679,null,"SAN MIGUEL","LIMA","LIMA",244]
["043-C-2025","PROMSAL S.A.C","COOL LIVING","TORRE UNICA",87,"3+",20515876937,null,"LIMA","LIMA","LIMA",171]
["044-C-2025","INMOBILIARIA MAZAL S.A.C.","ALEJANDRÍA","2 TORRES",49,"2+",20451455061,null,"LINCE","LIMA","LIMA",87]
["045-C-2025","CLASEM SAC","CONJUNTO RESIDENCIAL LOMAS DE LA ALAMEDA - ETAPA 2","ETAPA 2",90,"2+",20516390060,null,"MIRAFLORES","AREQUIPA","AREQUIPA",90]
["046-C-2025","LOS PORTALES S.A","VILLA DE LA ALAMEDA SUR","ETAPA ÚNICA (MZ. A,MZ. B,MZ. C,MZ. D,MZ. E,MZ. F)",89,"3+",20301837896,null,"CHILCA","CAÑETE","LIMA",89]
["047-C-2025","URSA CONSTRUCTORA S.A.C","EDIFICIO SIALIA","TORRE 1",111,"3+",20602099416,null,"JESUS MARIA","LIMA","LIMA",129]
["048-C-2025","LIVENZA PROMOTORA INMOBILIARIA S.A.C","TORRICO 708","TORRE A (14,14)",14,"1+",20605509593,null,"SAN JUAN DE MIRAFLORES","LIMA","LIMA",14]
["049-C-2025","PEDRA CONSTRUCTORA E INMOBILIARIA S.A.C.","PIETRA  CENTRALE","EDIFICIO 1",105,"2+",20608033859,null,"LIMA","LIMA","LIMA",126]
["050-C-2025","GRUPO ICONO INMOBILIARIA E INVERSIONES SAC","ICONO TOWERS"," 3 TORRES",122,"1+",20522830438,null,"SAN MIGUEL","LIMA","LIMA",122]
["051-C-2025","ANDEN CONSTRUCCIONES S.A.C","QUINTA AMELIA","ETAPA ÚNICA",133,"2+",20606998652,null,"CATACAOS","PIURA","PIURA",133]
["054-C-2025","PROYECTOS INMOBILIARIOS LM S.A.C","EDIFICIO RESIDENCIAL PLAZA 57","EDIFICIO ÚNICO",42,"2+",20609196051,null,"MAGDALENA DEL MAR","LIMA","LIMA",47]
["052-C-2025","SALERNO INMOBILIARIA SOCIEDAD ANONIMA CERRADA","CEDRO 33","EDICIO ÚNICO, TORRE A Y TORRE B",599,"3+",20611820691,null,"LIMA","LIMA","LIMA",599]
["053-C-2025","INMOBILIARIA EUREKA SAC","EDIFICIO MULTIFAMILIAR VIRIDIAN","EDIFICIO ÚNICO",42,"2+",20508000163,null,"LINCE","LIMA","LIMA",108]
["055-C-2025","\nVIVA NEGOCIO INMOBILIARIO S.A.C.","\nLOS GERANIOS 2","EDIFICIO 3, EDIFICIO 4, EDIFICIO 5, EDIFICIO 6, EDIFICIO 7",814,"3+",20493040643,null,"COMAS","LIMA","LIMA",814]
["056-C-2025","INMOBILIARIA AGUARICO S.A.C.","CONJUNTO RESIDENCIAL PARQUE CENTRO","TORRE C",119,"3+",20604507911,null,"BREÑA","LIMA","LIMA",119]
["057-C-2025","INMOBILIARIA CANEVARO S.A.C.","RESIDENCIAL SOFIA","EDIFICIO ÚNICO",18,"1+",20610130608,null,"SAN JUAN DE MIRAFLORES","LIMA","LIMA",18]
["058-C-2025","LOS PORTALES DEPARTAMENTOS S.A.C.","GRAN JARDIN TICINO","ETAPA 1 Y 2",594,"3+",20553346178,null,"SANTA ANITA","LIMA","LIMA",594]
["059-C-2025","GRUPO DESARROLLADORA S.A.C.","PARQUE LOS ROSALES","EDIFICIO ÚNICO",40,"1+",20612981036,null,"SANTIAGO DE SURCO","LIMA","LIMA",40]
["060-C-2025","DESARROLLADORA VISTA NEVADO S.A.C.","CASAPARQ - CERRO COLORADO","TORRES F,G ,E",272,"1+",20602442439,null,"CERRO COLORADO","AREQUIPA","AREQUIPA",284]
["061-C-2025","MASIASS S.A.C","EDIFICIO MASIAS","TORRE UNICA",110,"2+",20611448664,null,"LINCE","LIMA","LIMA",172]
["062-C-2025","THE PISONAY COMPANY SAC","EDIFICIO EVOLUTION","TORRE UNICA",98,"2+",20601192404,null,"LIMA","LIMA","LIMA",130]
["063-C-2025","VIVA NEGOCIO INMOBILIARIO S.A.C.","LOS PARQUES DE BREÑA","ETAPAS 1, 2, 3, 4, 5 Y 6",552,"3+",20493040643,null,"BREÑA","LIMA","LIMA",552]
["064-C-2025","CONSTRUCTORA CONCEPCION S.A.C.","HABILITACIÓN URBANA LAS VILLAS DE BOUGANVILLE - ICA","ETAPA UNICA",232,"2+",20109116051,null,"ICA","ICA","ICA",232]
["065-C-2025","INMOBILIARIA LOS ARCES DE CAYMA","RESIDENCIAL ACCES","ETAPA 1",144,"2+",20610947558,null,"CAYMA","AREQUIPA","AREQUIPA",167]
["066-C-2025","INMOBILIARIA DARALE S.A.C.","VIDA VARELA","EDIFICIO ÚNICO",42,"2+",20609614723,null,"BREÑA","LIMA","LIMA",42]
["AE.RE.005.2025","DESARROLLADORA VISTA NEVADO S.A.C.","CASAPARQ - CERRO COLORADO","TORRES F,G ,E",272,"2+",20602442439,null,"CERRO COLORADO","AREQUIPA","AREQUIPA",284]
["067-C-2025","DESARROLLO LINCE S.A.C.","EDIFICIO MULTIFAMILIAR BOSQO","EDIFICIO 1",82,"3+",20605662529,null,"SANTIAGO DE SURCO","LIMA","LIMA",139]
["068-C-2025","MCR PROYECTO 11 S.A.C.","AKO RESIDENCIAL","EDIFICIO",61,"2+",20610460993,null,"SAN MIGUEL","LIMA","LIMA",88]
["069-C-2025","URSA CONSTRUCTORA S.A.C","EDIFICIO FENIX","TORRE ÚNICA",61,"2+",20602099416,null,"JESUS MARIA","LIMA","LIMA",83]
["070 -C-2025","CONSTRUCTORA GALILEA S.A.C.","VALLE ALTO","ETAPA 1 A LA ETAPA 17",507,"2+",20521119943,null,"PIURA","PIURA","PIURA",507]
["071 -C-2025","BARRIONUEVO INMOBILIARIA S.A.C.","KURA DEL BARRIO","EDIFICIO UNICO",41,"1+",20612302481,null,"BREÑA","LIMA","LIMA",42]

{"sheet":"Formato 1","index":5,"n_rows":62,"n_cols":14,"rows_kept":62,"cut":false,"hidden":false,"merged":[[13,0,13,11],[9,0,9,2],[58,1,58,7],[59,0,59,11],[60,0,60,1],[60,2,60,6],[60,8,60,11],[23,0,23,7],[23,8,23,11],[24,0,24,7],[24,8,24,11],[30,0,30,1],[30,8,30,9],[30,10,30,11],[26,4,26,6],[33,9,33,10],[31,0,31,1],[31,8,31,9],[31,10,31,11],[36,0,36,11],[37,0,37,11],[38,0,38,1],[38,2,38,3],[38,5,38,6],[54,2,54,6],[55,0,55,1],[2,0,2,11],[3,0,3,1],[20,0,20,11],[3,9,3,11],[10,0,10,2],[12,0,12,2],[9,6,9,8],[10,6,10,8],[12,6,12,8],[9,3,9,5],[3,2,3,5],[3,6,3,8],[14,0,14,2],[15,0,15,2],[18,0,18,2],[19,0,19,2],[14,3,14,6],[15,3,15,6],[19,3,19,6],[4,0,4,11],[5,9,5,11],[6,9,6,11],[52,0,52,1],[52,2,52,6],[53,0,53,1],[53,2,53,6],[52,8,52,11],[53,8,53,11],[35,8,35,11],[32,0,32,1],[32,2,32,5],[32,9,32,10],[33,0,33,1],[33,2,33,5],[34,4,34,6],[34,8,34,11],[35,0,35,1],[35,2,35,3],[35,4,35,6],[5,0,5,5],[5,6,5,8],[50,0,50,1],[49,8,49,11],[50,8,50,11],[51,8,51,11],[6,0,7,5],[7,9,7,11],[6,6,6,7],[7,6,7,7],[45,5,45,6],[45,7,45,8],[45,9,45,11],[43,0,43,1],[43,2,43,3],[43,5,43,6],[43,10,43,11],[40,0,40,1],[40,2,40,3],[38,10,38,11],[34,0,34,1],[34,2,34,3],[40,5,40,6],[40,10,40,11],[8,0,8,5],[8,6,8,11],[21,4,21,6],[14,8,14,9],[15,8,15,9],[19,8,19,9],[14,10,14,11],[15,10,15,11],[19,10,19,11],[16,0,16,2],[16,3,16,6],[16,8,16,9],[10,3,10,5],[12,3,12,5],[9,9,9,11],[10,9,10,11],[12,9,12,11],[11,0,11,2],[11,3,11,5],[11,6,11,8],[11,9,11,11],[21,0,21,3],[21,8,21,9],[21,10,21,11],[16,10,16,11],[17,0,17,2],[17,3,17,6],[17,8,17,9],[17,10,17,11],[18,3,18,11],[28,0,28,7],[28,8,28,11],[25,0,25,11],[26,0,26,3],[26,8,26,9],[26,10,26,11],[27,0,27,3],[27,4,27,6],[27,8,27,9],[27,10,27,11],[20,16,20,18],[54,8,54,11],[55,8,55,11],[56,8,56,11],[39,0,39,1],[39,2,39,3],[39,5,39,6],[39,10,39,11],[42,0,42,1],[42,2,42,3],[42,5,42,6],[42,10,42,11],[41,0,41,1],[41,2,41,3],[41,5,41,6],[41,10,41,11],[30,4,30,5],[31,4,31,5],[22,0,22,3],[22,4,22,6],[22,8,22,9],[22,10,22,11],[54,0,54,1],[55,2,55,6],[2,13,5,13],[61,0,64,6],[61,7,64,11],[29,0,29,7],[29,8,29,11],[47,0,47,11],[46,0,46,1],[46,2,46,3],[46,5,46,6],[46,7,46,8],[46,9,46,11],[44,0,44,11],[45,0,45,1],[45,2,45,3],[50,2,50,6],[51,0,51,1],[51,2,51,6],[48,0,48,6],[49,0,49,1],[49,2,49,6],[48,7,48,11],[56,0,56,1],[56,2,56,6],[57,0,57,11]]}
["Formato N°1: “Solicitud de verificación de proyecto” (Declaración Jurada)"]
["Código: F1282/PR-N3-3-2-6"]
["APLICAR AL TIPO DE CERTIFICADO  (marcar con X)",null,null,null,null,null,null,null,null,null,null,null,null,{"$f":"IF(AND(C4=\"\",J4=\"\"),\"FALTA LLENAR EL TIPO DE CERTIFICADO AL CUAL SE POSTULA\",IF(AND(C4<>\"\",J4<>\"\"),\"NO PUEDE LLENAR LAS DOS TIPOS DE CERTIFICADOS\",\" \"))","v":" "}]
["MiVivienda Verde",null,"I+ TRADICIONAL",null,null,null,"MiVivienda Verde Internacional"]
["DATOS DEL PROYECTO"]
["Nombre del Proyecto",null,null,null,null,null,"Numeración de proyecto",null,null,"Grado"]
[{"$f":"IFERROR(VLOOKUP(I8,'Propuesta de Certificados'!$A$2:$G$1025,3,FALSE),\"\")","v":""},null,null,null,null,null,"Certificado inicial del proyecto",null,null,{"$f":"IFERROR(VLOOKUP(I7,'Propuesta de Certificados'!$A$2:$G$1025,6,FALSE),\"\")","v":""}]
[null,null,null,null,null,null,"Recertificado del proyecto",null,null,{"$f":"IFERROR(VLOOKUP(I8,'Propuesta de Certificados'!$A$2:$G$1025,6,FALSE),\"\")","v":""}]
["Dirección completa",null,null,null,null,null,{"$f":"_xlfn.CONCAT(IFERROR(VLOOKUP(I8,'Propuesta de Certificados'!$A$2:$K$1025,9,FALSE),\"\"),\" / \",IFERROR(VLOOKUP(I8,'Propuesta de Certificados'!$A$2:$K$1025,10,FALSE),\"\"),\" / \",IFERROR(VLOOKUP(I8,'Propuesta de Certificados'!$A$2:$K$1025,11,FALSE),\"\"))","v":" /  / "}]
["Tipo de vivienda (unifamiliar/ multifamiliar)",null,null,null,null,null,"Unidades Inmobiliarias (U.I.)",null,null,{"$f":"IFERROR(VLOOKUP(I8,'Propuesta de Certificados'!A2:L1025,12,FALSE),\"\")","v":""}]
["Cantidad de Torres/ Etapas",null,null,null,null,null,"U.I. afectas al Bono Verde",null,null,{"$f":"IFERROR(VLOOKUP(I8,'Propuesta de Certificados'!A2:L1025,5,FALSE),\"\")","v":""}]
["Cantidad de áreas comunes",null,null,null,null,null,"U.I. afectas vendidas"]
["Edificios/ Etapas del proyecto pendientes de verificación",null,null,null,null,null,"Porcentaje de U.I. afectas vendidas verificables (10%)",null,null,{"$f":"J12*0.1","v":0}]
["ACTUALIZACIONES AL PROYECTO Y/O SUBSANACIÓN DE CARTAS DE COMPROMISO (de aplicar)"]
["N° de expediente",null,null,"Requisito Original",null,null,null,"Ambiente (área común/ área exclusiva)","Requisito actualizado",null,"Ambiente (área común/ área exclusiva)"]
[]
[]
[]
["N° de expediente",null,null,"Otros (detallar)"]
[]
["DATOS DE LA EMPRESA INMOBILIARIA"]
["Nombre de la Empresa (según ficha Ruc)",null,null,null,"RUC",null,null,"Número de partida SUNARP","Oficina Registral SUNARP",null,"Fecha de creación SUNARP"]
[]
["Nombre comercial",null,null,null,null,null,null,null,"Número Autogenerado FMV"]
[]
["DATOS DE LA EMPRESA CONSTRUCTORA"]
["Nombre de la Empresa (según ficha Ruc)",null,null,null,"RUC",null,null,"Número de partida SUNARP","Oficina Registral SUNARP",null,"Fecha de creación SUNARP"]
[]
["Nombre comercial",null,null,null,null,null,null,null,"Número Autogenerado FMV"]
[]
["Avenida / Calle / Jirón / Pasaje Empresa",null,"Manzana","Lote","Numeración",null,"Interior ","Región","Provincia",null,"Distrito"]
[]
["Apellidos Representante Legal",null,"Nombres Representante Legal",null,null,null,"Tipo doc.","Número de documento","Número de Partida (Poder)","Oficina Registral SUNARP (Poder)",null,"Fecha de emisión (Poder)"]
[]
["Condición del Domicilio Fiscal Empresa",null,"Estado del contribuyente",null,"Correo electrónico 1 \n(Ficha RUC)",null,null,"Teléfono móvil 1 \n(Ficha RUC)","Actividad Económica Principal"]
[]
["Accionistas, Socios o Asociados"]
["Accionistas, Socios o Asociados, Representantes Legales que tengan directa o indirectamente más del 25% del capital social, aporte o participación de la persona jurídica:"]
["Apellidos",null,"Nombres completos",null,"Tipo  Doc.","Número",null,"Cargo","%","Teléfono de contacto","Correo Electrónico"]
[]
[]
[]
[]
[]
["Coordinador / Tramitador de la Certificación"]
["Apellidos",null,"Nombres completos",null,"Tipo  Doc.","Número",null,"Correo Electrónico",null,"Teléfonos de contacto"]
[]
["DATOS DE LA LICENCIA / CONFORMIDAD DE OBRA"]
["Datos administrativos de la Licencia de obra",null,null,null,null,null,null,"Datos administrativos de la conformidad de obra"]
["Anteproyecto o Licencia de edificación:",null,null,null,null,null,null,"Anteproyecto o Licencia de edificación:"]
["Emitida en la jurisdicción de ",null,null,null,null,null,null,"Emitida en la jurisdicción de "]
["Gerencia",null,null,null,null,null,null,"Gerencia"]
["Subgerencia",null,null,null,null,null,null,"Subgerencia"]
["Notificación de autorización:",null,null,null,null,null,null,"Notificación de autorización:"]
["Número de expediente",null,null,null,null,null,null,"Número de expediente"]
["Número de acta",null,null,null,null,null,null,"Número de acta"]
["Fecha de emisión",null,null,null,null,null,null,"Fecha de emisión"]
["Responsable  de obra"]
["Nombre ",null,null,null,null,null,null,null,"Teléfono ",null,"CAP/CIP"]
["Datos de obra"]
["Fecha de inicio de obra",null,null,null,null,null,null,"Fecha de fin de obra"]
["Observaciones:",null,null,null,null,null,null,"Firma de representante legal:"]

{"sheet":"Formato 2","index":6,"n_rows":57,"n_cols":14,"rows_kept":57,"cut":false,"hidden":false,"merged":[[6,10,6,11],[5,4,5,6],[4,0,4,11],[2,0,2,11],[3,0,3,1],[3,2,3,6],[3,7,3,8],[3,9,3,11],[13,0,13,11],[10,0,10,5],[10,6,10,8],[10,9,10,11],[12,9,12,11],[43,0,43,11],[35,0,41,6],[35,7,41,11],[17,10,17,11],[15,0,15,11],[16,0,16,1],[16,10,16,11],[20,2,20,8],[20,10,20,11],[28,0,34,6],[28,7,34,11],[16,8,16,9],[16,2,16,7],[42,0,42,11],[56,0,56,2],[56,3,56,5],[50,3,50,5],[51,0,51,2],[51,3,51,5],[52,0,52,2],[52,3,52,5],[53,0,53,2],[53,3,53,5],[50,0,50,2],[55,0,55,2],[55,3,55,5],[54,0,54,2],[54,3,54,5],[44,0,45,2],[44,3,44,7],[44,8,44,10],[44,11,45,11],[45,3,45,5],[46,0,46,2],[46,3,46,5],[46,11,55,11],[47,0,47,2],[47,3,47,5],[48,0,48,2],[48,3,48,5],[49,0,49,2],[49,3,49,5],[14,0,14,1],[21,7,27,11],[21,0,27,6],[20,0,20,1],[19,0,19,11],[17,0,17,1],[18,0,18,1],[18,10,18,11],[17,8,17,9],[18,8,18,9],[17,2,17,7],[18,2,18,7],[14,2,14,11],[2,13,5,13],[11,0,12,5],[11,6,11,7],[11,9,11,11],[12,6,12,7],[9,0,9,11],[7,0,7,7],[7,8,7,11],[8,0,8,7],[8,8,8,11],[5,0,5,3],[5,8,5,9],[5,10,5,11],[6,0,6,3],[6,4,6,6],[6,8,6,9]]}
["Formato N° 2: “Residuos sólidos de la construcción y demolición” (Declaración Jurada)"]
["Código: F1283/ PR-N3-3-2-6"]
["APLICAR AL TIPO DE CERTIFICADO  (marcar con X)",null,null,null,null,null,null,null,null,null,null,null,null,{"$f":"IF(AND(C4=\"\",J4=\"\"),\"FALTA LLENAR EL TIPO DE CERTIFICADO AL CUAL SE POSTULA\",IF(AND(C4<>\"\",J4<>\"\"),\"NO PUEDE LLENAR LAS DOS TIPOS DE CERTIFICADOS\",\" \"))","v":" "}]
["MiVivienda Verde",null,{"$f":"IF('Formato 1'!C4=\"\",\"\",'Formato 1'!C4)","v":"I+ TRADICIONAL"},null,null,null,null,"MiVivienda Verde Internacional",null,{"$f":"IF('Formato 1'!J4=\"\",\"\",'Formato 1'!J4)","v":""}]
["DATOS DE LA EMPRESA INMOBILIARIA"]
["Nombre de la Empresa (según ficha Ruc)",null,null,null,"RUC",null,null,"Número de partida SUNARP","Oficina Registral SUNARP",null,"Fecha de creación SUNARP"]
[{"$f":"IF('Formato 1'!A23=\"\",\"\",'Formato 1'!A23)","v":""},null,null,null,{"$f":"IF('Formato 1'!E23=\"\",\"\",'Formato 1'!E23)","v":""},null,null,{"$f":"IF('Formato 1'!H23=\"\",\"\",'Formato 1'!H23)","v":""},null,null,{"$f":"IF('Formato 1'!K23=\"\",\"\",'Formato 1'!K23)","v":""}]
["Nombre comercial",null,null,null,null,null,null,null,"Número Autogenerado FMV"]
[{"$f":"IF('Formato 1'!A25=\"\",\"\",'Formato 1'!A25)","v":""},null,null,null,null,null,null,null,{"$f":"IF('Formato 1'!I23=\"\",\"\",'Formato 1'!I23)","v":""}]
["DATOS DEL PROYECTO"]
["Nombre del Proyecto",null,null,null,null,null,"Numeración de proyecto",null,null,"Grado"]
[{"$f":"IF('Formato 1'!A7=\"\",\"\",'Formato 1'!A7)","v":""},null,null,null,null,null,"Certificado inicial del proyecto",null,{"$f":"IF('Formato 1'!I7=\"\",\"\",'Formato 1'!I7)","v":""},{"$f":"IF('Formato 1'!J7=\"\",\"\",'Formato 1'!J7)","v":""}]
[null,null,null,null,null,null,"Recertificado del proyecto",null,{"$f":"IF('Formato 1'!I8=\"\",\"\",'Formato 1'!I8)","v":""},{"$f":"IF('Formato 1'!J8=\"\",\"\",'Formato 1'!J8)","v":""}]
["TRATAMIENTO DE LOS RESIDUOS SÓLIDOS DE LA CONSTRUCCIÓN Y DEMOLICIÓN"]
["Empresa o persona natural que realizó el Plan de Minimización de RRSS-CD"]
["EORRSS - CD  (En caso de haber 2, llenar el segundo o siguientes)"]
["Empresa Operadora de RRSS-CD",null,null,null,null,null,null,null,"Número de Registro Autoritario"]
["Empresa Operadora de RRSS-CD",null,null,null,null,null,null,null,"Número de Registro Autoritario"]
["Empresa Operadora de RRSS-CD",null,null,null,null,null,null,null,"Número de Registro Autoritario"]
["Declaración anual de manejo residuos"]
["Declaración anual de manejo residuos - Número documento ",null,null,null,null,null,null,null,null,"Fecha"]
["Imágenes de la obra (áreas de almacenamiento)",null,null,null,null,null,null,"Imágenes de la obra (áreas de almacenamiento)"]
[]
[]
[]
[]
[]
[]
["Imágenes de la obra (Rutas de acceso)",null,null,null,null,null,null,"Imágenes de la obra (Rutas de acceso)"]
[]
[]
[]
[]
[]
[]
["Imágenes de la obra (Rutas de acceso)",null,null,null,null,null,null,"Imágenes de la obra (Rutas de acceso)"]
[]
[]
[]
[]
[]
[]
["DISMINUCIÓN DE EMISIONES DE GEI POR TRATAMIENTO DE RESIDUOS SÓLIDOS DE LA CONSTRUCCIÓN "]
["Llenado con sustento en los reportes y por tanto lo que se subió o subirá al SIGERSOL"]
["Concepto",null,null,"m3",null,null,null,null,"Tn",null,null,"% \nMinimización"]
[null,null,null,"Aprovechados",null,null,"Dispuestos relleno Sanitario","Volumen ","Aprovechados","Dispuestos relleno Sanitario","Masa"]
["RCD: Naturaleza pétrea",null,null,{"$f":"F48","v":0},null,null,{"$f":"G48","v":97},{"$f":"D47+G47","v":97},{"$f":"I48","v":125.73},{"$f":"J48","v":49.07},{"$f":"I47+J47","v":174.8},{"$f":"IF(K57=0,\"\",(I47+I49+I55)/K57)","v":0.68510204081632653}]
["RCD de Naturaleza Pétrea (Grava, arena, arcillas, tierras vegetales, piedras, restos de hormigón, restos de mescla, restos de cerámicos, porcelanato, yesos, restos de ladrillos).",null,null,248.5,null,null,97,{"$f":"F48+G48","v":97},125.73,49.07,174.8]
["RCD: Naturaleza no pétrea",null,null,{"$f":"F50+F51+F52+F53+F54","v":0},null,null,{"$f":"G50+G51+G52+G53+G54","v":14.600000000000001},{"$f":"D49+G49","v":14.600000000000001},{"$f":"I50+I51+I52+I53+I54","v":8.5500000000000007},{"$f":"J50+J51+J52+J53+J54","v":5.75},14.3]
["Madera",null,null,3.6,null,null,0.9,{"$f":"F50+G50","v":0.9},1.44,0.36,1.7999999999999998]
["Metales Ferrosos y No Ferrosos",null,null,1.2,null,null,0,{"$f":"F51+G51","v":0},0.54,0,0.54]
["Plástico (PET, PEAD, PEBD, PP, PS)",null,null,3.7,null,null,1.2,{"$f":"F52+G52","v":1.2},1.21,0.39,1.6]
["Papel y Cartón",null,null,7.8,null,null,3.6,{"$f":"F53+G53","v":3.6},2.63,1.27,3.9]
["Otros (PVC, Mangueras, Suelas de Zapatos, bolsas, film)",null,null,7.3,null,null,8.9,{"$f":"F54+G54","v":8.9},2.73,3.73,6.46]
["RCD: Otros",null,null,{"$f":"F56","v":0},null,null,{"$f":"G56","v":24.3},{"$f":"D55+G55","v":24.3},{"$f":"I56","v":0},{"$f":"J56","v":6.9},6.9]
["Basuras (Tecnopor, telas, restos orgánicos, envolturas, etc.).",null,null,0,null,null,24.3,24.3,0,6.9,6.9]
["TOTAL",null,null,{"$f":"D47+D49+D55","v":0},null,null,{"$f":"G47+G49+G55","v":135.9},{"$f":"D57+G57","v":135.9},{"$f":"I47+I49+I55","v":134.28},{"$f":"J47+J49+J55","v":61.72},196]

{"sheet":"Formato 3","index":7,"n_rows":24,"n_cols":14,"rows_kept":24,"cut":false,"hidden":false,"merged":[[2,0,2,11],[3,0,3,1],[3,2,3,6],[3,7,3,8],[3,9,3,11],[4,0,4,11],[16,0,16,11],[23,0,23,11],[10,0,10,5],[10,6,10,8],[10,9,10,11],[5,0,5,3],[5,8,5,9],[5,10,5,11],[6,0,6,3],[6,4,6,6],[5,4,5,6],[6,8,6,9],[6,10,6,11],[7,0,7,7],[7,8,7,11],[9,0,9,11],[18,10,18,11],[18,0,18,4],[18,5,18,6],[12,9,12,11],[13,0,13,11],[17,0,17,11],[14,7,14,8],[14,9,14,11],[14,5,14,6],[15,5,15,11],[15,0,15,4],[14,0,14,4],[21,0,21,4],[21,5,21,6],[21,7,21,9],[22,0,22,4],[22,5,22,11],[21,10,21,11],[2,13,5,13],[19,5,19,6],[20,7,20,9],[19,7,19,9],[18,7,18,9],[11,0,12,5],[11,6,11,7],[11,9,11,11],[19,10,19,11],[19,0,19,4],[12,6,12,7],[20,10,20,11],[20,0,20,4],[20,5,20,6],[8,0,8,7],[8,8,8,11]]}
["Formato N° 3: “Ciclo de Vida ETAPA A4 y A5” (Declaración Jurada) (Solo para proyectos certificados a partir del Procedimiento XI)"]
["Código: F1284/ PR-N3-3-2-6"]
["APLICAR AL TIPO DE CERTIFICADO  (marcar con X)",null,null,null,null,null,null,null,null,null,null,null,null,{"$f":"IF(AND(C4=\"\",J4=\"\"),\"FALTA LLENAR EL TIPO DE CERTIFICADO AL CUAL SE POSTULA\",IF(AND(C4<>\"\",J4<>\"\"),\"NO PUEDE LLENAR LAS DOS TIPOS DE CERTIFICADOS\",\" \"))","v":" "}]
["MiVivienda Verde",null,{"$f":"IF('Formato 1'!C4=\"\",\"\",'Formato 1'!C4)","v":"I+ TRADICIONAL"},null,null,null,null,"MiVivienda Verde Internacional",null,{"$f":"IF('Formato 1'!J4=\"\",\"\",'Formato 1'!J4)","v":""}]
["DATOS DE LA EMPRESA INMOBILIARIA"]
["Nombre de la Empresa (según ficha Ruc)",null,null,null,"RUC",null,null,"Número de partida SUNARP","Oficina Registral SUNARP",null,"Fecha de creación SUNARP"]
[{"$f":"IF('Formato 1'!A23=\"\",\"\",'Formato 1'!A23)","v":""},null,null,null,{"$f":"IF('Formato 1'!E23=\"\",\"\",'Formato 1'!E23)","v":""},null,null,{"$f":"IF('Formato 1'!H23=\"\",\"\",'Formato 1'!H23)","v":""},null,null,{"$f":"IF('Formato 1'!K23=\"\",\"\",'Formato 1'!K23)","v":""}]
["Nombre Comercial",null,null,null,null,null,null,null,"Número Autogenerado FMV"]
[{"$f":"IF('Formato 1'!A25=\"\",\"\",'Formato 1'!A25)","v":""},null,null,null,null,null,null,null,{"$f":"IF('Formato 1'!I23=\"\",\"\",'Formato 1'!I23)","v":""}]
["DATOS DEL PROYECTO"]
["Nombre del Proyecto",null,null,null,null,null,"Numeración de proyecto",null,null,"Grado"]
[{"$f":"IF('Formato 1'!A7=\"\",\"\",'Formato 1'!A7)","v":""},null,null,null,null,null,"Certificado inicial del proyecto",null,{"$f":"IF('Formato 1'!I7=\"\",\"\",'Formato 1'!I7)","v":""},{"$f":"IF('Formato 1'!J7=\"\",\"\",'Formato 1'!J7)","v":""}]
[null,null,null,null,null,null,"Recertificado del proyecto",null,{"$f":"IF('Formato 1'!I8=\"\",\"\",'Formato 1'!I8)","v":""},{"$f":"IF('Formato 1'!J8=\"\",\"\",'Formato 1'!J8)","v":""}]
["CICLO DE VIDA DEL EDIFICIO - CONSTRUCCIÓN - ETAPA A4 Transporte al sitio"]
["Cantidad de viajes promedio para llevar los materiales a la obra",null,null,null,null,null,null,"Recorrido distancia promedio de kms"]
["Entrega información de  sustento"]
["Resumir el sustento (agregar  el estudio):"]
["CICLO DE VIDA DEL EDIFICIO - CONSTRUCCIÓN - ETAPA A5 Construcción e instalación"]
["Cantidad de galones de combustible usado en la maquinaria (Petroleo)",null,null,null,null,null,null,"Cantidad de galones de combustible usado en la maquinaria (Gasolina)"]
["Cantidad de m3 de combustible usado en la maquinaria (GN)",null,null,null,null,null,null,"Cantidad de galones de combustible usado en la maquinaria (GLP)"]
["Cantidad de kWh (1)",null,null,null,null,null,null,"Cantidad de kWh (2)"]
["N° Suministro electrico (1)",null,null,null,null,null,null,"N° Suministro electrico (2)"]
["Entrega información de  sustento de todos los consumos"]
["Resumir el sustento (agregar  el estudio):"]

{"sheet":"Formato 4","index":8,"n_rows":107,"n_cols":17,"rows_kept":107,"cut":false,"hidden":false,"merged":[[25,10,25,11],[26,10,26,11],[24,10,24,11],[8,10,8,11],[9,10,9,11],[10,10,10,11],[11,10,11,11],[12,10,12,11],[19,10,19,11],[20,10,20,11],[21,10,21,11],[22,10,22,11],[23,10,23,11],[18,10,18,11],[15,10,15,11],[16,10,16,11],[2,0,2,16],[3,0,3,2],[4,0,4,2],[4,3,4,4],[17,10,17,11],[13,10,13,11],[3,3,3,4],[6,10,6,11],[7,10,7,11],[4,14,4,15],[3,14,3,15],[5,0,5,16],[14,10,14,11],[32,10,32,11],[33,10,33,11],[34,10,34,11],[35,10,35,11],[36,10,36,11],[27,10,27,11],[28,10,28,11],[29,10,29,11],[30,10,30,11],[31,10,31,11],[42,10,42,11],[43,10,43,11],[44,10,44,11],[45,10,45,11],[46,10,46,11],[37,10,37,11],[38,10,38,11],[39,10,39,11],[40,10,40,11],[41,10,41,11],[52,10,52,11],[53,10,53,11],[54,10,54,11],[55,10,55,11],[56,10,56,11],[47,10,47,11],[48,10,48,11],[49,10,49,11],[50,10,50,11],[51,10,51,11],[62,10,62,11],[63,10,63,11],[64,10,64,11],[65,10,65,11],[66,10,66,11],[57,10,57,11],[58,10,58,11],[59,10,59,11],[60,10,60,11],[61,10,61,11],[72,10,72,11],[73,10,73,11],[74,10,74,11],[75,10,75,11],[76,10,76,11],[67,10,67,11],[68,10,68,11],[69,10,69,11],[70,10,70,11],[71,10,71,11],[82,10,82,11],[83,10,83,11],[84,10,84,11],[85,10,85,11],[86,10,86,11],[77,10,77,11],[78,10,78,11],[79,10,79,11],[80,10,80,11],[81,10,81,11],[92,10,92,11],[93,10,93,11],[94,10,94,11],[95,10,95,11],[96,10,96,11],[87,10,87,11],[88,10,88,11],[89,10,89,11],[90,10,90,11],[91,10,91,11],[102,10,102,11],[103,10,103,11],[104,10,104,11],[105,10,105,11],[106,10,106,11],[97,10,97,11],[98,10,98,11],[99,10,99,11],[100,10,100,11],[101,10,101,11]]}
["Formato N° 4: “Identificación de las Unidades de vivienda para el Monitoreo de Consumos” (Declaración Jurada)"]
["Código: F1285/PR-N3-3-2-6"]
["DATOS DEL PROYECTO"]
["Nombre del Proyecto",null,null,"Numeración de proyecto (Recertificado)",null,"Grado del BBP Verde","Área Total del proyecto (m2)","Tipo de MIVIVIENDA VERDE","Partida Registral del Edificio ","Oficina Registral SUNARP","Empresa de agua","Número de suministro de agua (General)","Empresa de energía eléctrica","Número de suministro de energía eléctrica (Áreas comunes)","Empresa de distribución de gas",null,"Número de suministro de distribución de GAS NATURAL (General)"]
[{"$f":"IF('Formato 1'!A7=\"\",\"\",'Formato 1'!A7)","v":""},null,null,{"$f":"IF('Formato 1'!I8=\"\",\"\",'Formato 1'!I8)","v":""},null,{"$f":"IF('Formato 1'!C4<>\"\",'Formato 1'!C4,'Formato 1'!J4)","v":"I+ TRADICIONAL"},null,{"$f":"IFERROR(VLOOKUP(F5,T!D3:E8,2,FALSE),\"\")","v":"TRADICIONAL"}]
["IDENTIFICACIÓN DE LAS UNIDADES DE VIVIENDA PARA EL MONITOREO DE CONSUMOS"]
["Correlativo","Torre/ Etapa","Unidad de vivienda","Cantidad de dormitorios","Área de departamento","Partida Registral","Numeración FMV","Tipo de Documento-Número","Apellido Paterno","Apellido Materno","Nombres completos",null,"Teléfono","Correo electrónico","Fecha de capacitación a charla de sensibilización (con Acta y/o medio probatorio)","Número de suministro de empresa de energía eléctrica","Número de suministro de distribución de GAS NATURAL "]
[1]
[2]
[3]
[4]
[5]
[6]
[7]
[8]
[9]
[10]
[11]
[12]
[13]
[14]
[15]
[16]
[17]
[18]
[19]
[20]
[21]
[22]
[23]
[24]
[25]
[26]
[27]
[28]
[29]
[30]
[31]
[32]
[33]
[34]
[35]
[36]
[37]
[38]
[39]
[40]
[41]
[42]
[43]
[44]
[45]
[46]
[47]
[48]
[49]
[50]
[51]
[52]
[53]
[54]
[55]
[56]
[57]
[58]
[59]
[60]
[61]
[62]
[63]
[64]
[65]
[66]
[67]
[68]
[69]
[70]
[71]
[72]
[73]
[74]
[75]
[76]
[77]
[78]
[79]
[80]
[81]
[82]
[83]
[84]
[85]
[86]
[87]
[88]
[89]
[90]
[91]
[92]
[93]
[94]
[95]
[96]
[97]
[98]
[99]
[100]

{"sheet":"Formato 5","index":9,"n_rows":68,"n_cols":18,"rows_kept":68,"cut":false,"hidden":false,"merged":[[4,0,4,2],[4,3,4,4],[2,0,2,9],[2,10,2,17],[5,0,5,17],[3,0,3,2],[3,3,3,4]]}
["Formato N° 5: “Monitoreo de consumo de eléctrico” (Declaración Jurada)"]
["Código: F1286/PR-N3-3-2-6"]
["DATOS DEL PROYECTO",null,null,null,null,null,null,null,null,null,"CONSUMO DE ENERGÍA ELÉCTRICA DE ÁREAS COMUNES"]
["Nombre del Proyecto",null,null,"Numeración de proyecto (Recertificado)",null,"Grado del BBP Verde","Área Total del proyecto","Tipo de MIVIVIENDA VERDE","Partida Registral del Edificio ","Oficina Registral SUNARP","Empresa de energía eléctrica","Número de suministro de energía eléctrica (Áreas comunes)","MES 01","MES 02","MES 03","MES 04","MES 05","MES 06"]
[{"$f":"IF('Formato 1'!A7=\"\",\"\",'Formato 1'!A7)","v":""},null,null,{"$f":"IF('Formato 1'!I8=\"\",\"\",'Formato 1'!I8)","v":""},null,{"$f":"'Formato 4'!F5","v":"I+ TRADICIONAL"},{"$f":"IF('Formato 4'!G5=\"\",\"\",'Formato 4'!G5)","v":""},{"$f":"IF('Formato 4'!H5=\"\",\"\",'Formato 4'!H5)","v":"TRADICIONAL"},{"$f":"IF('Formato 4'!I5=\"\",\"\",'Formato 4'!I5)","v":""},{"$f":"IF('Formato 4'!J5=\"\",\"\",'Formato 4'!J5)","v":""}]
["MONITOREO DE CONSUMO ELÉCTRICO"]
["Correlativo","Torre/ Etapa","Unidad de vivienda","Cantidad de dormitorios","Área de departamento","Partida Registral","Numeración FMV","Número de suministro de energía eléctrica de la unidad inmobiliaria","MES 01","MES 02","MES 03","MES 04","MES 05","MES 06","MES 07","MES 08","MES 09","MES 10"]
[1,{"$f":"IF('Formato 4'!B8=\"\",\"\",'Formato 4'!B8)","v":""},{"$f":"IF('Formato 4'!C8=\"\",\"\",'Formato 4'!C8)","v":""},{"$f":"IF('Formato 4'!D8=\"\",\"\",'Formato 4'!D8)","v":""},{"$f":"IF('Formato 4'!E8=\"\",\"\",'Formato 4'!E8)","v":""},{"$f":"IF('Formato 4'!F8=\"\",\"\",'Formato 4'!F8)","v":""},{"$f":"IF('Formato 4'!G8=\"\",\"\",'Formato 4'!G8)","v":""}]
[2,{"$f":"IF('Formato 4'!B9=\"\",\"\",'Formato 4'!B9)","v":""},{"$f":"IF('Formato 4'!C9=\"\",\"\",'Formato 4'!C9)","v":""},{"$f":"IF('Formato 4'!D9=\"\",\"\",'Formato 4'!D9)","v":""},{"$f":"IF('Formato 4'!E9=\"\",\"\",'Formato 4'!E9)","v":""},{"$f":"IF('Formato 4'!F9=\"\",\"\",'Formato 4'!F9)","v":""},{"$f":"IF('Formato 4'!G9=\"\",\"\",'Formato 4'!G9)","v":""}]
[3,{"$f":"IF('Formato 4'!B10=\"\",\"\",'Formato 4'!B10)","v":""},{"$f":"IF('Formato 4'!C10=\"\",\"\",'Formato 4'!C10)","v":""},{"$f":"IF('Formato 4'!D10=\"\",\"\",'Formato 4'!D10)","v":""},{"$f":"IF('Formato 4'!E10=\"\",\"\",'Formato 4'!E10)","v":""},{"$f":"IF('Formato 4'!F10=\"\",\"\",'Formato 4'!F10)","v":""},{"$f":"IF('Formato 4'!G10=\"\",\"\",'Formato 4'!G10)","v":""}]
[4,{"$f":"IF('Formato 4'!B11=\"\",\"\",'Formato 4'!B11)","v":""},{"$f":"IF('Formato 4'!C11=\"\",\"\",'Formato 4'!C11)","v":""},{"$f":"IF('Formato 4'!D11=\"\",\"\",'Formato 4'!D11)","v":""},{"$f":"IF('Formato 4'!E11=\"\",\"\",'Formato 4'!E11)","v":""},{"$f":"IF('Formato 4'!F11=\"\",\"\",'Formato 4'!F11)","v":""},{"$f":"IF('Formato 4'!G11=\"\",\"\",'Formato 4'!G11)","v":""}]
[5,{"$f":"IF('Formato 4'!B12=\"\",\"\",'Formato 4'!B12)","v":""},{"$f":"IF('Formato 4'!C12=\"\",\"\",'Formato 4'!C12)","v":""},{"$f":"IF('Formato 4'!D12=\"\",\"\",'Formato 4'!D12)","v":""},{"$f":"IF('Formato 4'!E12=\"\",\"\",'Formato 4'!E12)","v":""},{"$f":"IF('Formato 4'!F12=\"\",\"\",'Formato 4'!F12)","v":""},{"$f":"IF('Formato 4'!G12=\"\",\"\",'Formato 4'!G12)","v":""}]
[6,{"$f":"IF('Formato 4'!B13=\"\",\"\",'Formato 4'!B13)","v":""},{"$f":"IF('Formato 4'!C13=\"\",\"\",'Formato 4'!C13)","v":""},{"$f":"IF('Formato 4'!D13=\"\",\"\",'Formato 4'!D13)","v":""},{"$f":"IF('Formato 4'!E13=\"\",\"\",'Formato 4'!E13)","v":""},{"$f":"IF('Formato 4'!F13=\"\",\"\",'Formato 4'!F13)","v":""},{"$f":"IF('Formato 4'!G13=\"\",\"\",'Formato 4'!G13)","v":""}]
[7,{"$f":"IF('Formato 4'!B14=\"\",\"\",'Formato 4'!B14)","v":""},{"$f":"IF('Formato 4'!C14=\"\",\"\",'Formato 4'!C14)","v":""},{"$f":"IF('Formato 4'!D14=\"\",\"\",'Formato 4'!D14)","v":""},{"$f":"IF('Formato 4'!E14=\"\",\"\",'Formato 4'!E14)","v":""},{"$f":"IF('Formato 4'!F14=\"\",\"\",'Formato 4'!F14)","v":""},{"$f":"IF('Formato 4'!G14=\"\",\"\",'Formato 4'!G14)","v":""}]
[8,{"$f":"IF('Formato 4'!B15=\"\",\"\",'Formato 4'!B15)","v":""},{"$f":"IF('Formato 4'!C15=\"\",\"\",'Formato 4'!C15)","v":""},{"$f":"IF('Formato 4'!D15=\"\",\"\",'Formato 4'!D15)","v":""},{"$f":"IF('Formato 4'!E15=\"\",\"\",'Formato 4'!E15)","v":""},{"$f":"IF('Formato 4'!F15=\"\",\"\",'Formato 4'!F15)","v":""},{"$f":"IF('Formato 4'!G15=\"\",\"\",'Formato 4'!G15)","v":""}]
[9,{"$f":"IF('Formato 4'!B16=\"\",\"\",'Formato 4'!B16)","v":""},{"$f":"IF('Formato 4'!C16=\"\",\"\",'Formato 4'!C16)","v":""},{"$f":"IF('Formato 4'!D16=\"\",\"\",'Formato 4'!D16)","v":""},{"$f":"IF('Formato 4'!E16=\"\",\"\",'Formato 4'!E16)","v":""},{"$f":"IF('Formato 4'!F16=\"\",\"\",'Formato 4'!F16)","v":""},{"$f":"IF('Formato 4'!G16=\"\",\"\",'Formato 4'!G16)","v":""}]
[10,{"$f":"IF('Formato 4'!B17=\"\",\"\",'Formato 4'!B17)","v":""},{"$f":"IF('Formato 4'!C17=\"\",\"\",'Formato 4'!C17)","v":""},{"$f":"IF('Formato 4'!D17=\"\",\"\",'Formato 4'!D17)","v":""},{"$f":"IF('Formato 4'!E17=\"\",\"\",'Formato 4'!E17)","v":""},{"$f":"IF('Formato 4'!F17=\"\",\"\",'Formato 4'!F17)","v":""},{"$f":"IF('Formato 4'!G17=\"\",\"\",'Formato 4'!G17)","v":""}]
[11,{"$f":"IF('Formato 4'!B18=\"\",\"\",'Formato 4'!B18)","v":""},{"$f":"IF('Formato 4'!C18=\"\",\"\",'Formato 4'!C18)","v":""},{"$f":"IF('Formato 4'!D18=\"\",\"\",'Formato 4'!D18)","v":""},{"$f":"IF('Formato 4'!E18=\"\",\"\",'Formato 4'!E18)","v":""},{"$f":"IF('Formato 4'!F18=\"\",\"\",'Formato 4'!F18)","v":""},{"$f":"IF('Formato 4'!G18=\"\",\"\",'Formato 4'!G18)","v":""}]
[12,{"$f":"IF('Formato 4'!B19=\"\",\"\",'Formato 4'!B19)","v":""},{"$f":"IF('Formato 4'!C19=\"\",\"\",'Formato 4'!C19)","v":""},{"$f":"IF('Formato 4'!D19=\"\",\"\",'Formato 4'!D19)","v":""},{"$f":"IF('Formato 4'!E19=\"\",\"\",'Formato 4'!E19)","v":""},{"$f":"IF('Formato 4'!F19=\"\",\"\",'Formato 4'!F19)","v":""},{"$f":"IF('Formato 4'!G19=\"\",\"\",'Formato 4'!G19)","v":""}]
[13,{"$f":"IF('Formato 4'!B20=\"\",\"\",'Formato 4'!B20)","v":""},{"$f":"IF('Formato 4'!C20=\"\",\"\",'Formato 4'!C20)","v":""},{"$f":"IF('Formato 4'!D20=\"\",\"\",'Formato 4'!D20)","v":""},{"$f":"IF('Formato 4'!E20=\"\",\"\",'Formato 4'!E20)","v":""},{"$f":"IF('Formato 4'!F20=\"\",\"\",'Formato 4'!F20)","v":""},{"$f":"IF('Formato 4'!G20=\"\",\"\",'Formato 4'!G20)","v":""}]
[14,{"$f":"IF('Formato 4'!B21=\"\",\"\",'Formato 4'!B21)","v":""},{"$f":"IF('Formato 4'!C21=\"\",\"\",'Formato 4'!C21)","v":""},{"$f":"IF('Formato 4'!D21=\"\",\"\",'Formato 4'!D21)","v":""},{"$f":"IF('Formato 4'!E21=\"\",\"\",'Formato 4'!E21)","v":""},{"$f":"IF('Formato 4'!F21=\"\",\"\",'Formato 4'!F21)","v":""},{"$f":"IF('Formato 4'!G21=\"\",\"\",'Formato 4'!G21)","v":""}]
[15,{"$f":"IF('Formato 4'!B22=\"\",\"\",'Formato 4'!B22)","v":""},{"$f":"IF('Formato 4'!C22=\"\",\"\",'Formato 4'!C22)","v":""},{"$f":"IF('Formato 4'!D22=\"\",\"\",'Formato 4'!D22)","v":""},{"$f":"IF('Formato 4'!E22=\"\",\"\",'Formato 4'!E22)","v":""},{"$f":"IF('Formato 4'!F22=\"\",\"\",'Formato 4'!F22)","v":""},{"$f":"IF('Formato 4'!G22=\"\",\"\",'Formato 4'!G22)","v":""}]
[16,{"$f":"IF('Formato 4'!B23=\"\",\"\",'Formato 4'!B23)","v":""},{"$f":"IF('Formato 4'!C23=\"\",\"\",'Formato 4'!C23)","v":""},{"$f":"IF('Formato 4'!D23=\"\",\"\",'Formato 4'!D23)","v":""},{"$f":"IF('Formato 4'!E23=\"\",\"\",'Formato 4'!E23)","v":""},{"$f":"IF('Formato 4'!F23=\"\",\"\",'Formato 4'!F23)","v":""},{"$f":"IF('Formato 4'!G23=\"\",\"\",'Formato 4'!G23)","v":""}]
[17,{"$f":"IF('Formato 4'!B24=\"\",\"\",'Formato 4'!B24)","v":""},{"$f":"IF('Formato 4'!C24=\"\",\"\",'Formato 4'!C24)","v":""},{"$f":"IF('Formato 4'!D24=\"\",\"\",'Formato 4'!D24)","v":""},{"$f":"IF('Formato 4'!E24=\"\",\"\",'Formato 4'!E24)","v":""},{"$f":"IF('Formato 4'!F24=\"\",\"\",'Formato 4'!F24)","v":""},{"$f":"IF('Formato 4'!G24=\"\",\"\",'Formato 4'!G24)","v":""}]
[18,{"$f":"IF('Formato 4'!B25=\"\",\"\",'Formato 4'!B25)","v":""},{"$f":"IF('Formato 4'!C25=\"\",\"\",'Formato 4'!C25)","v":""},{"$f":"IF('Formato 4'!D25=\"\",\"\",'Formato 4'!D25)","v":""},{"$f":"IF('Formato 4'!E25=\"\",\"\",'Formato 4'!E25)","v":""},{"$f":"IF('Formato 4'!F25=\"\",\"\",'Formato 4'!F25)","v":""},{"$f":"IF('Formato 4'!G25=\"\",\"\",'Formato 4'!G25)","v":""}]
[19,{"$f":"IF('Formato 4'!B26=\"\",\"\",'Formato 4'!B26)","v":""},{"$f":"IF('Formato 4'!C26=\"\",\"\",'Formato 4'!C26)","v":""},{"$f":"IF('Formato 4'!D26=\"\",\"\",'Formato 4'!D26)","v":""},{"$f":"IF('Formato 4'!E26=\"\",\"\",'Formato 4'!E26)","v":""},{"$f":"IF('Formato 4'!F26=\"\",\"\",'Formato 4'!F26)","v":""},{"$f":"IF('Formato 4'!G26=\"\",\"\",'Formato 4'!G26)","v":""}]
[20,{"$f":"IF('Formato 4'!B27=\"\",\"\",'Formato 4'!B27)","v":""},{"$f":"IF('Formato 4'!C27=\"\",\"\",'Formato 4'!C27)","v":""},{"$f":"IF('Formato 4'!D27=\"\",\"\",'Formato 4'!D27)","v":""},{"$f":"IF('Formato 4'!E27=\"\",\"\",'Formato 4'!E27)","v":""},{"$f":"IF('Formato 4'!F27=\"\",\"\",'Formato 4'!F27)","v":""},{"$f":"IF('Formato 4'!G27=\"\",\"\",'Formato 4'!G27)","v":""}]
[21,{"$f":"IF('Formato 4'!B28=\"\",\"\",'Formato 4'!B28)","v":""},{"$f":"IF('Formato 4'!C28=\"\",\"\",'Formato 4'!C28)","v":""},{"$f":"IF('Formato 4'!D28=\"\",\"\",'Formato 4'!D28)","v":""},{"$f":"IF('Formato 4'!E28=\"\",\"\",'Formato 4'!E28)","v":""},{"$f":"IF('Formato 4'!F28=\"\",\"\",'Formato 4'!F28)","v":""},{"$f":"IF('Formato 4'!G28=\"\",\"\",'Formato 4'!G28)","v":""}]
[22,{"$f":"IF('Formato 4'!B29=\"\",\"\",'Formato 4'!B29)","v":""},{"$f":"IF('Formato 4'!C29=\"\",\"\",'Formato 4'!C29)","v":""},{"$f":"IF('Formato 4'!D29=\"\",\"\",'Formato 4'!D29)","v":""},{"$f":"IF('Formato 4'!E29=\"\",\"\",'Formato 4'!E29)","v":""},{"$f":"IF('Formato 4'!F29=\"\",\"\",'Formato 4'!F29)","v":""},{"$f":"IF('Formato 4'!G29=\"\",\"\",'Formato 4'!G29)","v":""}]
[23,{"$f":"IF('Formato 4'!B30=\"\",\"\",'Formato 4'!B30)","v":""},{"$f":"IF('Formato 4'!C30=\"\",\"\",'Formato 4'!C30)","v":""},{"$f":"IF('Formato 4'!D30=\"\",\"\",'Formato 4'!D30)","v":""},{"$f":"IF('Formato 4'!E30=\"\",\"\",'Formato 4'!E30)","v":""},{"$f":"IF('Formato 4'!F30=\"\",\"\",'Formato 4'!F30)","v":""},{"$f":"IF('Formato 4'!G30=\"\",\"\",'Formato 4'!G30)","v":""}]
[24,{"$f":"IF('Formato 4'!B31=\"\",\"\",'Formato 4'!B31)","v":""},{"$f":"IF('Formato 4'!C31=\"\",\"\",'Formato 4'!C31)","v":""},{"$f":"IF('Formato 4'!D31=\"\",\"\",'Formato 4'!D31)","v":""},{"$f":"IF('Formato 4'!E31=\"\",\"\",'Formato 4'!E31)","v":""},{"$f":"IF('Formato 4'!F31=\"\",\"\",'Formato 4'!F31)","v":""},{"$f":"IF('Formato 4'!G31=\"\",\"\",'Formato 4'!G31)","v":""}]
[25,{"$f":"IF('Formato 4'!B32=\"\",\"\",'Formato 4'!B32)","v":""},{"$f":"IF('Formato 4'!C32=\"\",\"\",'Formato 4'!C32)","v":""},{"$f":"IF('Formato 4'!D32=\"\",\"\",'Formato 4'!D32)","v":""},{"$f":"IF('Formato 4'!E32=\"\",\"\",'Formato 4'!E32)","v":""},{"$f":"IF('Formato 4'!F32=\"\",\"\",'Formato 4'!F32)","v":""},{"$f":"IF('Formato 4'!G32=\"\",\"\",'Formato 4'!G32)","v":""}]
[26,{"$f":"IF('Formato 4'!B33=\"\",\"\",'Formato 4'!B33)","v":""},{"$f":"IF('Formato 4'!C33=\"\",\"\",'Formato 4'!C33)","v":""},{"$f":"IF('Formato 4'!D33=\"\",\"\",'Formato 4'!D33)","v":""},{"$f":"IF('Formato 4'!E33=\"\",\"\",'Formato 4'!E33)","v":""},{"$f":"IF('Formato 4'!F33=\"\",\"\",'Formato 4'!F33)","v":""},{"$f":"IF('Formato 4'!G33=\"\",\"\",'Formato 4'!G33)","v":""}]
[27,{"$f":"IF('Formato 4'!B34=\"\",\"\",'Formato 4'!B34)","v":""},{"$f":"IF('Formato 4'!C34=\"\",\"\",'Formato 4'!C34)","v":""},{"$f":"IF('Formato 4'!D34=\"\",\"\",'Formato 4'!D34)","v":""},{"$f":"IF('Formato 4'!E34=\"\",\"\",'Formato 4'!E34)","v":""},{"$f":"IF('Formato 4'!F34=\"\",\"\",'Formato 4'!F34)","v":""},{"$f":"IF('Formato 4'!G34=\"\",\"\",'Formato 4'!G34)","v":""}]
[28,{"$f":"IF('Formato 4'!B35=\"\",\"\",'Formato 4'!B35)","v":""},{"$f":"IF('Formato 4'!C35=\"\",\"\",'Formato 4'!C35)","v":""},{"$f":"IF('Formato 4'!D35=\"\",\"\",'Formato 4'!D35)","v":""},{"$f":"IF('Formato 4'!E35=\"\",\"\",'Formato 4'!E35)","v":""},{"$f":"IF('Formato 4'!F35=\"\",\"\",'Formato 4'!F35)","v":""},{"$f":"IF('Formato 4'!G35=\"\",\"\",'Formato 4'!G35)","v":""}]
[29,{"$f":"IF('Formato 4'!B36=\"\",\"\",'Formato 4'!B36)","v":""},{"$f":"IF('Formato 4'!C36=\"\",\"\",'Formato 4'!C36)","v":""},{"$f":"IF('Formato 4'!D36=\"\",\"\",'Formato 4'!D36)","v":""},{"$f":"IF('Formato 4'!E36=\"\",\"\",'Formato 4'!E36)","v":""},{"$f":"IF('Formato 4'!F36=\"\",\"\",'Formato 4'!F36)","v":""},{"$f":"IF('Formato 4'!G36=\"\",\"\",'Formato 4'!G36)","v":""}]
[30,{"$f":"IF('Formato 4'!B37=\"\",\"\",'Formato 4'!B37)","v":""},{"$f":"IF('Formato 4'!C37=\"\",\"\",'Formato 4'!C37)","v":""},{"$f":"IF('Formato 4'!D37=\"\",\"\",'Formato 4'!D37)","v":""},{"$f":"IF('Formato 4'!E37=\"\",\"\",'Formato 4'!E37)","v":""},{"$f":"IF('Formato 4'!F37=\"\",\"\",'Formato 4'!F37)","v":""},{"$f":"IF('Formato 4'!G37=\"\",\"\",'Formato 4'!G37)","v":""}]
[31,{"$f":"IF('Formato 4'!B38=\"\",\"\",'Formato 4'!B38)","v":""},{"$f":"IF('Formato 4'!C38=\"\",\"\",'Formato 4'!C38)","v":""},{"$f":"IF('Formato 4'!D38=\"\",\"\",'Formato 4'!D38)","v":""},{"$f":"IF('Formato 4'!E38=\"\",\"\",'Formato 4'!E38)","v":""},{"$f":"IF('Formato 4'!F38=\"\",\"\",'Formato 4'!F38)","v":""},{"$f":"IF('Formato 4'!G38=\"\",\"\",'Formato 4'!G38)","v":""}]
[32,{"$f":"IF('Formato 4'!B39=\"\",\"\",'Formato 4'!B39)","v":""},{"$f":"IF('Formato 4'!C39=\"\",\"\",'Formato 4'!C39)","v":""},{"$f":"IF('Formato 4'!D39=\"\",\"\",'Formato 4'!D39)","v":""},{"$f":"IF('Formato 4'!E39=\"\",\"\",'Formato 4'!E39)","v":""},{"$f":"IF('Formato 4'!F39=\"\",\"\",'Formato 4'!F39)","v":""},{"$f":"IF('Formato 4'!G39=\"\",\"\",'Formato 4'!G39)","v":""}]
[33,{"$f":"IF('Formato 4'!B40=\"\",\"\",'Formato 4'!B40)","v":""},{"$f":"IF('Formato 4'!C40=\"\",\"\",'Formato 4'!C40)","v":""},{"$f":"IF('Formato 4'!D40=\"\",\"\",'Formato 4'!D40)","v":""},{"$f":"IF('Formato 4'!E40=\"\",\"\",'Formato 4'!E40)","v":""},{"$f":"IF('Formato 4'!F40=\"\",\"\",'Formato 4'!F40)","v":""},{"$f":"IF('Formato 4'!G40=\"\",\"\",'Formato 4'!G40)","v":""}]
[34,{"$f":"IF('Formato 4'!B41=\"\",\"\",'Formato 4'!B41)","v":""},{"$f":"IF('Formato 4'!C41=\"\",\"\",'Formato 4'!C41)","v":""},{"$f":"IF('Formato 4'!D41=\"\",\"\",'Formato 4'!D41)","v":""},{"$f":"IF('Formato 4'!E41=\"\",\"\",'Formato 4'!E41)","v":""},{"$f":"IF('Formato 4'!F41=\"\",\"\",'Formato 4'!F41)","v":""},{"$f":"IF('Formato 4'!G41=\"\",\"\",'Formato 4'!G41)","v":""}]
[35,{"$f":"IF('Formato 4'!B42=\"\",\"\",'Formato 4'!B42)","v":""},{"$f":"IF('Formato 4'!C42=\"\",\"\",'Formato 4'!C42)","v":""},{"$f":"IF('Formato 4'!D42=\"\",\"\",'Formato 4'!D42)","v":""},{"$f":"IF('Formato 4'!E42=\"\",\"\",'Formato 4'!E42)","v":""},{"$f":"IF('Formato 4'!F42=\"\",\"\",'Formato 4'!F42)","v":""},{"$f":"IF('Formato 4'!G42=\"\",\"\",'Formato 4'!G42)","v":""}]
[36,{"$f":"IF('Formato 4'!B43=\"\",\"\",'Formato 4'!B43)","v":""},{"$f":"IF('Formato 4'!C43=\"\",\"\",'Formato 4'!C43)","v":""},{"$f":"IF('Formato 4'!D43=\"\",\"\",'Formato 4'!D43)","v":""},{"$f":"IF('Formato 4'!E43=\"\",\"\",'Formato 4'!E43)","v":""},{"$f":"IF('Formato 4'!F43=\"\",\"\",'Formato 4'!F43)","v":""},{"$f":"IF('Formato 4'!G43=\"\",\"\",'Formato 4'!G43)","v":""}]
[37,{"$f":"IF('Formato 4'!B44=\"\",\"\",'Formato 4'!B44)","v":""},{"$f":"IF('Formato 4'!C44=\"\",\"\",'Formato 4'!C44)","v":""},{"$f":"IF('Formato 4'!D44=\"\",\"\",'Formato 4'!D44)","v":""},{"$f":"IF('Formato 4'!E44=\"\",\"\",'Formato 4'!E44)","v":""},{"$f":"IF('Formato 4'!F44=\"\",\"\",'Formato 4'!F44)","v":""},{"$f":"IF('Formato 4'!G44=\"\",\"\",'Formato 4'!G44)","v":""}]
[38,{"$f":"IF('Formato 4'!B45=\"\",\"\",'Formato 4'!B45)","v":""},{"$f":"IF('Formato 4'!C45=\"\",\"\",'Formato 4'!C45)","v":""},{"$f":"IF('Formato 4'!D45=\"\",\"\",'Formato 4'!D45)","v":""},{"$f":"IF('Formato 4'!E45=\"\",\"\",'Formato 4'!E45)","v":""},{"$f":"IF('Formato 4'!F45=\"\",\"\",'Formato 4'!F45)","v":""},{"$f":"IF('Formato 4'!G45=\"\",\"\",'Formato 4'!G45)","v":""}]
[39,{"$f":"IF('Formato 4'!B46=\"\",\"\",'Formato 4'!B46)","v":""},{"$f":"IF('Formato 4'!C46=\"\",\"\",'Formato 4'!C46)","v":""},{"$f":"IF('Formato 4'!D46=\"\",\"\",'Formato 4'!D46)","v":""},{"$f":"IF('Formato 4'!E46=\"\",\"\",'Formato 4'!E46)","v":""},{"$f":"IF('Formato 4'!F46=\"\",\"\",'Formato 4'!F46)","v":""},{"$f":"IF('Formato 4'!G46=\"\",\"\",'Formato 4'!G46)","v":""}]
[40,{"$f":"IF('Formato 4'!B47=\"\",\"\",'Formato 4'!B47)","v":""},{"$f":"IF('Formato 4'!C47=\"\",\"\",'Formato 4'!C47)","v":""},{"$f":"IF('Formato 4'!D47=\"\",\"\",'Formato 4'!D47)","v":""},{"$f":"IF('Formato 4'!E47=\"\",\"\",'Formato 4'!E47)","v":""},{"$f":"IF('Formato 4'!F47=\"\",\"\",'Formato 4'!F47)","v":""},{"$f":"IF('Formato 4'!G47=\"\",\"\",'Formato 4'!G47)","v":""}]
[41,{"$f":"IF('Formato 4'!B48=\"\",\"\",'Formato 4'!B48)","v":""},{"$f":"IF('Formato 4'!C48=\"\",\"\",'Formato 4'!C48)","v":""},{"$f":"IF('Formato 4'!D48=\"\",\"\",'Formato 4'!D48)","v":""},{"$f":"IF('Formato 4'!E48=\"\",\"\",'Formato 4'!E48)","v":""},{"$f":"IF('Formato 4'!F48=\"\",\"\",'Formato 4'!F48)","v":""},{"$f":"IF('Formato 4'!G48=\"\",\"\",'Formato 4'!G48)","v":""}]
[42,{"$f":"IF('Formato 4'!B49=\"\",\"\",'Formato 4'!B49)","v":""},{"$f":"IF('Formato 4'!C49=\"\",\"\",'Formato 4'!C49)","v":""},{"$f":"IF('Formato 4'!D49=\"\",\"\",'Formato 4'!D49)","v":""},{"$f":"IF('Formato 4'!E49=\"\",\"\",'Formato 4'!E49)","v":""},{"$f":"IF('Formato 4'!F49=\"\",\"\",'Formato 4'!F49)","v":""},{"$f":"IF('Formato 4'!G49=\"\",\"\",'Formato 4'!G49)","v":""}]
[43,{"$f":"IF('Formato 4'!B50=\"\",\"\",'Formato 4'!B50)","v":""},{"$f":"IF('Formato 4'!C50=\"\",\"\",'Formato 4'!C50)","v":""},{"$f":"IF('Formato 4'!D50=\"\",\"\",'Formato 4'!D50)","v":""},{"$f":"IF('Formato 4'!E50=\"\",\"\",'Formato 4'!E50)","v":""},{"$f":"IF('Formato 4'!F50=\"\",\"\",'Formato 4'!F50)","v":""},{"$f":"IF('Formato 4'!G50=\"\",\"\",'Formato 4'!G50)","v":""}]
[44,{"$f":"IF('Formato 4'!B51=\"\",\"\",'Formato 4'!B51)","v":""},{"$f":"IF('Formato 4'!C51=\"\",\"\",'Formato 4'!C51)","v":""},{"$f":"IF('Formato 4'!D51=\"\",\"\",'Formato 4'!D51)","v":""},{"$f":"IF('Formato 4'!E51=\"\",\"\",'Formato 4'!E51)","v":""},{"$f":"IF('Formato 4'!F51=\"\",\"\",'Formato 4'!F51)","v":""},{"$f":"IF('Formato 4'!G51=\"\",\"\",'Formato 4'!G51)","v":""}]
[45,{"$f":"IF('Formato 4'!B52=\"\",\"\",'Formato 4'!B52)","v":""},{"$f":"IF('Formato 4'!C52=\"\",\"\",'Formato 4'!C52)","v":""},{"$f":"IF('Formato 4'!D52=\"\",\"\",'Formato 4'!D52)","v":""},{"$f":"IF('Formato 4'!E52=\"\",\"\",'Formato 4'!E52)","v":""},{"$f":"IF('Formato 4'!F52=\"\",\"\",'Formato 4'!F52)","v":""},{"$f":"IF('Formato 4'!G52=\"\",\"\",'Formato 4'!G52)","v":""}]
[46,{"$f":"IF('Formato 4'!B53=\"\",\"\",'Formato 4'!B53)","v":""},{"$f":"IF('Formato 4'!C53=\"\",\"\",'Formato 4'!C53)","v":""},{"$f":"IF('Formato 4'!D53=\"\",\"\",'Formato 4'!D53)","v":""},{"$f":"IF('Formato 4'!E53=\"\",\"\",'Formato 4'!E53)","v":""},{"$f":"IF('Formato 4'!F53=\"\",\"\",'Formato 4'!F53)","v":""},{"$f":"IF('Formato 4'!G53=\"\",\"\",'Formato 4'!G53)","v":""}]
[47,{"$f":"IF('Formato 4'!B54=\"\",\"\",'Formato 4'!B54)","v":""},{"$f":"IF('Formato 4'!C54=\"\",\"\",'Formato 4'!C54)","v":""},{"$f":"IF('Formato 4'!D54=\"\",\"\",'Formato 4'!D54)","v":""},{"$f":"IF('Formato 4'!E54=\"\",\"\",'Formato 4'!E54)","v":""},{"$f":"IF('Formato 4'!F54=\"\",\"\",'Formato 4'!F54)","v":""},{"$f":"IF('Formato 4'!G54=\"\",\"\",'Formato 4'!G54)","v":""}]
[48,{"$f":"IF('Formato 4'!B55=\"\",\"\",'Formato 4'!B55)","v":""},{"$f":"IF('Formato 4'!C55=\"\",\"\",'Formato 4'!C55)","v":""},{"$f":"IF('Formato 4'!D55=\"\",\"\",'Formato 4'!D55)","v":""},{"$f":"IF('Formato 4'!E55=\"\",\"\",'Formato 4'!E55)","v":""},{"$f":"IF('Formato 4'!F55=\"\",\"\",'Formato 4'!F55)","v":""},{"$f":"IF('Formato 4'!G55=\"\",\"\",'Formato 4'!G55)","v":""}]
[49,{"$f":"IF('Formato 4'!B56=\"\",\"\",'Formato 4'!B56)","v":""},{"$f":"IF('Formato 4'!C56=\"\",\"\",'Formato 4'!C56)","v":""},{"$f":"IF('Formato 4'!D56=\"\",\"\",'Formato 4'!D56)","v":""},{"$f":"IF('Formato 4'!E56=\"\",\"\",'Formato 4'!E56)","v":""},{"$f":"IF('Formato 4'!F56=\"\",\"\",'Formato 4'!F56)","v":""},{"$f":"IF('Formato 4'!G56=\"\",\"\",'Formato 4'!G56)","v":""}]
[50,{"$f":"IF('Formato 4'!B57=\"\",\"\",'Formato 4'!B57)","v":""},{"$f":"IF('Formato 4'!C57=\"\",\"\",'Formato 4'!C57)","v":""},{"$f":"IF('Formato 4'!D57=\"\",\"\",'Formato 4'!D57)","v":""},{"$f":"IF('Formato 4'!E57=\"\",\"\",'Formato 4'!E57)","v":""},{"$f":"IF('Formato 4'!F57=\"\",\"\",'Formato 4'!F57)","v":""},{"$f":"IF('Formato 4'!G57=\"\",\"\",'Formato 4'!G57)","v":""}]
[51,{"$f":"IF('Formato 4'!B58=\"\",\"\",'Formato 4'!B58)","v":""},{"$f":"IF('Formato 4'!C58=\"\",\"\",'Formato 4'!C58)","v":""},{"$f":"IF('Formato 4'!D58=\"\",\"\",'Formato 4'!D58)","v":""},{"$f":"IF('Formato 4'!E58=\"\",\"\",'Formato 4'!E58)","v":""},{"$f":"IF('Formato 4'!F58=\"\",\"\",'Formato 4'!F58)","v":""},{"$f":"IF('Formato 4'!G58=\"\",\"\",'Formato 4'!G58)","v":""}]
[52,{"$f":"IF('Formato 4'!B59=\"\",\"\",'Formato 4'!B59)","v":""},{"$f":"IF('Formato 4'!C59=\"\",\"\",'Formato 4'!C59)","v":""},{"$f":"IF('Formato 4'!D59=\"\",\"\",'Formato 4'!D59)","v":""},{"$f":"IF('Formato 4'!E59=\"\",\"\",'Formato 4'!E59)","v":""},{"$f":"IF('Formato 4'!F59=\"\",\"\",'Formato 4'!F59)","v":""},{"$f":"IF('Formato 4'!G59=\"\",\"\",'Formato 4'!G59)","v":""}]
[53,{"$f":"IF('Formato 4'!B60=\"\",\"\",'Formato 4'!B60)","v":""},{"$f":"IF('Formato 4'!C60=\"\",\"\",'Formato 4'!C60)","v":""},{"$f":"IF('Formato 4'!D60=\"\",\"\",'Formato 4'!D60)","v":""},{"$f":"IF('Formato 4'!E60=\"\",\"\",'Formato 4'!E60)","v":""},{"$f":"IF('Formato 4'!F60=\"\",\"\",'Formato 4'!F60)","v":""},{"$f":"IF('Formato 4'!G60=\"\",\"\",'Formato 4'!G60)","v":""}]
[54,{"$f":"IF('Formato 4'!B61=\"\",\"\",'Formato 4'!B61)","v":""},{"$f":"IF('Formato 4'!C61=\"\",\"\",'Formato 4'!C61)","v":""},{"$f":"IF('Formato 4'!D61=\"\",\"\",'Formato 4'!D61)","v":""},{"$f":"IF('Formato 4'!E61=\"\",\"\",'Formato 4'!E61)","v":""},{"$f":"IF('Formato 4'!F61=\"\",\"\",'Formato 4'!F61)","v":""},{"$f":"IF('Formato 4'!G61=\"\",\"\",'Formato 4'!G61)","v":""}]
[55,{"$f":"IF('Formato 4'!B62=\"\",\"\",'Formato 4'!B62)","v":""},{"$f":"IF('Formato 4'!C62=\"\",\"\",'Formato 4'!C62)","v":""},{"$f":"IF('Formato 4'!D62=\"\",\"\",'Formato 4'!D62)","v":""},{"$f":"IF('Formato 4'!E62=\"\",\"\",'Formato 4'!E62)","v":""},{"$f":"IF('Formato 4'!F62=\"\",\"\",'Formato 4'!F62)","v":""},{"$f":"IF('Formato 4'!G62=\"\",\"\",'Formato 4'!G62)","v":""}]
[56,{"$f":"IF('Formato 4'!B63=\"\",\"\",'Formato 4'!B63)","v":""},{"$f":"IF('Formato 4'!C63=\"\",\"\",'Formato 4'!C63)","v":""},{"$f":"IF('Formato 4'!D63=\"\",\"\",'Formato 4'!D63)","v":""},{"$f":"IF('Formato 4'!E63=\"\",\"\",'Formato 4'!E63)","v":""},{"$f":"IF('Formato 4'!F63=\"\",\"\",'Formato 4'!F63)","v":""},{"$f":"IF('Formato 4'!G63=\"\",\"\",'Formato 4'!G63)","v":""}]
[57,{"$f":"IF('Formato 4'!B64=\"\",\"\",'Formato 4'!B64)","v":""},{"$f":"IF('Formato 4'!C64=\"\",\"\",'Formato 4'!C64)","v":""},{"$f":"IF('Formato 4'!D64=\"\",\"\",'Formato 4'!D64)","v":""},{"$f":"IF('Formato 4'!E64=\"\",\"\",'Formato 4'!E64)","v":""},{"$f":"IF('Formato 4'!F64=\"\",\"\",'Formato 4'!F64)","v":""},{"$f":"IF('Formato 4'!G64=\"\",\"\",'Formato 4'!G64)","v":""}]
[58,{"$f":"IF('Formato 4'!B65=\"\",\"\",'Formato 4'!B65)","v":""},{"$f":"IF('Formato 4'!C65=\"\",\"\",'Formato 4'!C65)","v":""},{"$f":"IF('Formato 4'!D65=\"\",\"\",'Formato 4'!D65)","v":""},{"$f":"IF('Formato 4'!E65=\"\",\"\",'Formato 4'!E65)","v":""},{"$f":"IF('Formato 4'!F65=\"\",\"\",'Formato 4'!F65)","v":""},{"$f":"IF('Formato 4'!G65=\"\",\"\",'Formato 4'!G65)","v":""}]
[59,{"$f":"IF('Formato 4'!B66=\"\",\"\",'Formato 4'!B66)","v":""},{"$f":"IF('Formato 4'!C66=\"\",\"\",'Formato 4'!C66)","v":""},{"$f":"IF('Formato 4'!D66=\"\",\"\",'Formato 4'!D66)","v":""},{"$f":"IF('Formato 4'!E66=\"\",\"\",'Formato 4'!E66)","v":""},{"$f":"IF('Formato 4'!F66=\"\",\"\",'Formato 4'!F66)","v":""},{"$f":"IF('Formato 4'!G66=\"\",\"\",'Formato 4'!G66)","v":""}]
[60,{"$f":"IF('Formato 4'!B67=\"\",\"\",'Formato 4'!B67)","v":""},{"$f":"IF('Formato 4'!C67=\"\",\"\",'Formato 4'!C67)","v":""},{"$f":"IF('Formato 4'!D67=\"\",\"\",'Formato 4'!D67)","v":""},{"$f":"IF('Formato 4'!E67=\"\",\"\",'Formato 4'!E67)","v":""},{"$f":"IF('Formato 4'!F67=\"\",\"\",'Formato 4'!F67)","v":""},{"$f":"IF('Formato 4'!G67=\"\",\"\",'Formato 4'!G67)","v":""}]
["*Monitoreo de consumo eléctrico no menor a 06 meses. Unidad mensual kwh/m2*mes"]

{"sheet":"Formato 6","index":10,"n_rows":68,"n_cols":18,"rows_kept":68,"cut":false,"hidden":false,"merged":[[5,0,5,17],[2,0,2,9],[2,10,2,17],[3,0,3,2],[3,3,3,4],[4,0,4,2],[4,3,4,4]]}
["Formato N° 6: “Monitoreo de consumo de agua” (Declaración Jurada)"]
["Código: F1287/PR-N3-3-2-6"]
["DATOS DEL PROYECTO",null,null,null,null,null,null,null,null,null,"CONSUMO DE AGUA DEL EDIFICIO TOTAL - RECIBO"]
["Nombre del Proyecto",null,null,"Numeración de proyecto (Recertificado)",null,"Grado del BBP Verde","Área Total del proyecto","Tipo de MIVIVIENDA VERDE","Partida Registral del Edificio ","Oficina Registral SUNARP","Empresa de agua","Número de suministro de agua (General)","MES 01","MES 02","MES 03","MES 04","MES 05","MES 06"]
[{"$f":"IF('Formato 1'!A7=\"\",\"\",'Formato 1'!A7)","v":""},null,null,{"$f":"IF('Formato 1'!I8=\"\",\"\",'Formato 1'!I8)","v":""},null,{"$f":"'Formato 5'!F5","v":"I+ TRADICIONAL"},{"$f":"IF('Formato 4'!G5=\"\",\"\",'Formato 4'!G5)","v":""},{"$f":"IF('Formato 4'!H5=\"\",\"\",'Formato 4'!H5)","v":"TRADICIONAL"},{"$f":"IF('Formato 4'!I5=\"\",\"\",'Formato 4'!I5)","v":""},{"$f":"IF('Formato 4'!J5=\"\",\"\",'Formato 4'!J5)","v":""}]
["MONITOREO DE CONSUMO DE AGUA"]
["Correlativo","Torre/ Etapa","Unidad de vivienda","Cantidad de dormitorios","Área de departamento","Partida Registral","Numeración FMV","Número de suministro de MEDIDOR - JUNTA PROPIETARIOS","MES 01","MES 02","MES 03","MES 04","MES 05","MES 06","MES 07","MES 08","MES 09","MES 10"]
[1,{"$f":"IF('Formato 4'!B8=\"\",\"\",'Formato 4'!B8)","v":""},{"$f":"IF('Formato 4'!C8=\"\",\"\",'Formato 4'!C8)","v":""},{"$f":"IF('Formato 4'!D8=\"\",\"\",'Formato 4'!D8)","v":""},{"$f":"IF('Formato 4'!E8=\"\",\"\",'Formato 4'!E8)","v":""},{"$f":"IF('Formato 4'!F8=\"\",\"\",'Formato 4'!F8)","v":""},{"$f":"IF('Formato 4'!G8=\"\",\"\",'Formato 4'!G8)","v":""}]
[2,{"$f":"IF('Formato 4'!B9=\"\",\"\",'Formato 4'!B9)","v":""},{"$f":"IF('Formato 4'!C9=\"\",\"\",'Formato 4'!C9)","v":""},{"$f":"IF('Formato 4'!D9=\"\",\"\",'Formato 4'!D9)","v":""},{"$f":"IF('Formato 4'!E9=\"\",\"\",'Formato 4'!E9)","v":""},{"$f":"IF('Formato 4'!F9=\"\",\"\",'Formato 4'!F9)","v":""},{"$f":"IF('Formato 4'!G9=\"\",\"\",'Formato 4'!G9)","v":""}]
[3,{"$f":"IF('Formato 4'!B10=\"\",\"\",'Formato 4'!B10)","v":""},{"$f":"IF('Formato 4'!C10=\"\",\"\",'Formato 4'!C10)","v":""},{"$f":"IF('Formato 4'!D10=\"\",\"\",'Formato 4'!D10)","v":""},{"$f":"IF('Formato 4'!E10=\"\",\"\",'Formato 4'!E10)","v":""},{"$f":"IF('Formato 4'!F10=\"\",\"\",'Formato 4'!F10)","v":""},{"$f":"IF('Formato 4'!G10=\"\",\"\",'Formato 4'!G10)","v":""}]
[4,{"$f":"IF('Formato 4'!B11=\"\",\"\",'Formato 4'!B11)","v":""},{"$f":"IF('Formato 4'!C11=\"\",\"\",'Formato 4'!C11)","v":""},{"$f":"IF('Formato 4'!D11=\"\",\"\",'Formato 4'!D11)","v":""},{"$f":"IF('Formato 4'!E11=\"\",\"\",'Formato 4'!E11)","v":""},{"$f":"IF('Formato 4'!F11=\"\",\"\",'Formato 4'!F11)","v":""},{"$f":"IF('Formato 4'!G11=\"\",\"\",'Formato 4'!G11)","v":""}]
[5,{"$f":"IF('Formato 4'!B12=\"\",\"\",'Formato 4'!B12)","v":""},{"$f":"IF('Formato 4'!C12=\"\",\"\",'Formato 4'!C12)","v":""},{"$f":"IF('Formato 4'!D12=\"\",\"\",'Formato 4'!D12)","v":""},{"$f":"IF('Formato 4'!E12=\"\",\"\",'Formato 4'!E12)","v":""},{"$f":"IF('Formato 4'!F12=\"\",\"\",'Formato 4'!F12)","v":""},{"$f":"IF('Formato 4'!G12=\"\",\"\",'Formato 4'!G12)","v":""}]
[6,{"$f":"IF('Formato 4'!B13=\"\",\"\",'Formato 4'!B13)","v":""},{"$f":"IF('Formato 4'!C13=\"\",\"\",'Formato 4'!C13)","v":""},{"$f":"IF('Formato 4'!D13=\"\",\"\",'Formato 4'!D13)","v":""},{"$f":"IF('Formato 4'!E13=\"\",\"\",'Formato 4'!E13)","v":""},{"$f":"IF('Formato 4'!F13=\"\",\"\",'Formato 4'!F13)","v":""},{"$f":"IF('Formato 4'!G13=\"\",\"\",'Formato 4'!G13)","v":""}]
[7,{"$f":"IF('Formato 4'!B14=\"\",\"\",'Formato 4'!B14)","v":""},{"$f":"IF('Formato 4'!C14=\"\",\"\",'Formato 4'!C14)","v":""},{"$f":"IF('Formato 4'!D14=\"\",\"\",'Formato 4'!D14)","v":""},{"$f":"IF('Formato 4'!E14=\"\",\"\",'Formato 4'!E14)","v":""},{"$f":"IF('Formato 4'!F14=\"\",\"\",'Formato 4'!F14)","v":""},{"$f":"IF('Formato 4'!G14=\"\",\"\",'Formato 4'!G14)","v":""}]
[8,{"$f":"IF('Formato 4'!B15=\"\",\"\",'Formato 4'!B15)","v":""},{"$f":"IF('Formato 4'!C15=\"\",\"\",'Formato 4'!C15)","v":""},{"$f":"IF('Formato 4'!D15=\"\",\"\",'Formato 4'!D15)","v":""},{"$f":"IF('Formato 4'!E15=\"\",\"\",'Formato 4'!E15)","v":""},{"$f":"IF('Formato 4'!F15=\"\",\"\",'Formato 4'!F15)","v":""},{"$f":"IF('Formato 4'!G15=\"\",\"\",'Formato 4'!G15)","v":""}]
[9,{"$f":"IF('Formato 4'!B16=\"\",\"\",'Formato 4'!B16)","v":""},{"$f":"IF('Formato 4'!C16=\"\",\"\",'Formato 4'!C16)","v":""},{"$f":"IF('Formato 4'!D16=\"\",\"\",'Formato 4'!D16)","v":""},{"$f":"IF('Formato 4'!E16=\"\",\"\",'Formato 4'!E16)","v":""},{"$f":"IF('Formato 4'!F16=\"\",\"\",'Formato 4'!F16)","v":""},{"$f":"IF('Formato 4'!G16=\"\",\"\",'Formato 4'!G16)","v":""}]
[10,{"$f":"IF('Formato 4'!B17=\"\",\"\",'Formato 4'!B17)","v":""},{"$f":"IF('Formato 4'!C17=\"\",\"\",'Formato 4'!C17)","v":""},{"$f":"IF('Formato 4'!D17=\"\",\"\",'Formato 4'!D17)","v":""},{"$f":"IF('Formato 4'!E17=\"\",\"\",'Formato 4'!E17)","v":""},{"$f":"IF('Formato 4'!F17=\"\",\"\",'Formato 4'!F17)","v":""},{"$f":"IF('Formato 4'!G17=\"\",\"\",'Formato 4'!G17)","v":""}]
[11,{"$f":"IF('Formato 4'!B18=\"\",\"\",'Formato 4'!B18)","v":""},{"$f":"IF('Formato 4'!C18=\"\",\"\",'Formato 4'!C18)","v":""},{"$f":"IF('Formato 4'!D18=\"\",\"\",'Formato 4'!D18)","v":""},{"$f":"IF('Formato 4'!E18=\"\",\"\",'Formato 4'!E18)","v":""},{"$f":"IF('Formato 4'!F18=\"\",\"\",'Formato 4'!F18)","v":""},{"$f":"IF('Formato 4'!G18=\"\",\"\",'Formato 4'!G18)","v":""}]
[12,{"$f":"IF('Formato 4'!B19=\"\",\"\",'Formato 4'!B19)","v":""},{"$f":"IF('Formato 4'!C19=\"\",\"\",'Formato 4'!C19)","v":""},{"$f":"IF('Formato 4'!D19=\"\",\"\",'Formato 4'!D19)","v":""},{"$f":"IF('Formato 4'!E19=\"\",\"\",'Formato 4'!E19)","v":""},{"$f":"IF('Formato 4'!F19=\"\",\"\",'Formato 4'!F19)","v":""},{"$f":"IF('Formato 4'!G19=\"\",\"\",'Formato 4'!G19)","v":""}]
[13,{"$f":"IF('Formato 4'!B20=\"\",\"\",'Formato 4'!B20)","v":""},{"$f":"IF('Formato 4'!C20=\"\",\"\",'Formato 4'!C20)","v":""},{"$f":"IF('Formato 4'!D20=\"\",\"\",'Formato 4'!D20)","v":""},{"$f":"IF('Formato 4'!E20=\"\",\"\",'Formato 4'!E20)","v":""},{"$f":"IF('Formato 4'!F20=\"\",\"\",'Formato 4'!F20)","v":""},{"$f":"IF('Formato 4'!G20=\"\",\"\",'Formato 4'!G20)","v":""}]
[14,{"$f":"IF('Formato 4'!B21=\"\",\"\",'Formato 4'!B21)","v":""},{"$f":"IF('Formato 4'!C21=\"\",\"\",'Formato 4'!C21)","v":""},{"$f":"IF('Formato 4'!D21=\"\",\"\",'Formato 4'!D21)","v":""},{"$f":"IF('Formato 4'!E21=\"\",\"\",'Formato 4'!E21)","v":""},{"$f":"IF('Formato 4'!F21=\"\",\"\",'Formato 4'!F21)","v":""},{"$f":"IF('Formato 4'!G21=\"\",\"\",'Formato 4'!G21)","v":""}]
[15,{"$f":"IF('Formato 4'!B22=\"\",\"\",'Formato 4'!B22)","v":""},{"$f":"IF('Formato 4'!C22=\"\",\"\",'Formato 4'!C22)","v":""},{"$f":"IF('Formato 4'!D22=\"\",\"\",'Formato 4'!D22)","v":""},{"$f":"IF('Formato 4'!E22=\"\",\"\",'Formato 4'!E22)","v":""},{"$f":"IF('Formato 4'!F22=\"\",\"\",'Formato 4'!F22)","v":""},{"$f":"IF('Formato 4'!G22=\"\",\"\",'Formato 4'!G22)","v":""}]
[16,{"$f":"IF('Formato 4'!B23=\"\",\"\",'Formato 4'!B23)","v":""},{"$f":"IF('Formato 4'!C23=\"\",\"\",'Formato 4'!C23)","v":""},{"$f":"IF('Formato 4'!D23=\"\",\"\",'Formato 4'!D23)","v":""},{"$f":"IF('Formato 4'!E23=\"\",\"\",'Formato 4'!E23)","v":""},{"$f":"IF('Formato 4'!F23=\"\",\"\",'Formato 4'!F23)","v":""},{"$f":"IF('Formato 4'!G23=\"\",\"\",'Formato 4'!G23)","v":""}]
[17,{"$f":"IF('Formato 4'!B24=\"\",\"\",'Formato 4'!B24)","v":""},{"$f":"IF('Formato 4'!C24=\"\",\"\",'Formato 4'!C24)","v":""},{"$f":"IF('Formato 4'!D24=\"\",\"\",'Formato 4'!D24)","v":""},{"$f":"IF('Formato 4'!E24=\"\",\"\",'Formato 4'!E24)","v":""},{"$f":"IF('Formato 4'!F24=\"\",\"\",'Formato 4'!F24)","v":""},{"$f":"IF('Formato 4'!G24=\"\",\"\",'Formato 4'!G24)","v":""}]
[18,{"$f":"IF('Formato 4'!B25=\"\",\"\",'Formato 4'!B25)","v":""},{"$f":"IF('Formato 4'!C25=\"\",\"\",'Formato 4'!C25)","v":""},{"$f":"IF('Formato 4'!D25=\"\",\"\",'Formato 4'!D25)","v":""},{"$f":"IF('Formato 4'!E25=\"\",\"\",'Formato 4'!E25)","v":""},{"$f":"IF('Formato 4'!F25=\"\",\"\",'Formato 4'!F25)","v":""},{"$f":"IF('Formato 4'!G25=\"\",\"\",'Formato 4'!G25)","v":""}]
[19,{"$f":"IF('Formato 4'!B26=\"\",\"\",'Formato 4'!B26)","v":""},{"$f":"IF('Formato 4'!C26=\"\",\"\",'Formato 4'!C26)","v":""},{"$f":"IF('Formato 4'!D26=\"\",\"\",'Formato 4'!D26)","v":""},{"$f":"IF('Formato 4'!E26=\"\",\"\",'Formato 4'!E26)","v":""},{"$f":"IF('Formato 4'!F26=\"\",\"\",'Formato 4'!F26)","v":""},{"$f":"IF('Formato 4'!G26=\"\",\"\",'Formato 4'!G26)","v":""}]
[20,{"$f":"IF('Formato 4'!B27=\"\",\"\",'Formato 4'!B27)","v":""},{"$f":"IF('Formato 4'!C27=\"\",\"\",'Formato 4'!C27)","v":""},{"$f":"IF('Formato 4'!D27=\"\",\"\",'Formato 4'!D27)","v":""},{"$f":"IF('Formato 4'!E27=\"\",\"\",'Formato 4'!E27)","v":""},{"$f":"IF('Formato 4'!F27=\"\",\"\",'Formato 4'!F27)","v":""},{"$f":"IF('Formato 4'!G27=\"\",\"\",'Formato 4'!G27)","v":""}]
[21,{"$f":"IF('Formato 4'!B28=\"\",\"\",'Formato 4'!B28)","v":""},{"$f":"IF('Formato 4'!C28=\"\",\"\",'Formato 4'!C28)","v":""},{"$f":"IF('Formato 4'!D28=\"\",\"\",'Formato 4'!D28)","v":""},{"$f":"IF('Formato 4'!E28=\"\",\"\",'Formato 4'!E28)","v":""},{"$f":"IF('Formato 4'!F28=\"\",\"\",'Formato 4'!F28)","v":""},{"$f":"IF('Formato 4'!G28=\"\",\"\",'Formato 4'!G28)","v":""}]
[22,{"$f":"IF('Formato 4'!B29=\"\",\"\",'Formato 4'!B29)","v":""},{"$f":"IF('Formato 4'!C29=\"\",\"\",'Formato 4'!C29)","v":""},{"$f":"IF('Formato 4'!D29=\"\",\"\",'Formato 4'!D29)","v":""},{"$f":"IF('Formato 4'!E29=\"\",\"\",'Formato 4'!E29)","v":""},{"$f":"IF('Formato 4'!F29=\"\",\"\",'Formato 4'!F29)","v":""},{"$f":"IF('Formato 4'!G29=\"\",\"\",'Formato 4'!G29)","v":""}]
[23,{"$f":"IF('Formato 4'!B30=\"\",\"\",'Formato 4'!B30)","v":""},{"$f":"IF('Formato 4'!C30=\"\",\"\",'Formato 4'!C30)","v":""},{"$f":"IF('Formato 4'!D30=\"\",\"\",'Formato 4'!D30)","v":""},{"$f":"IF('Formato 4'!E30=\"\",\"\",'Formato 4'!E30)","v":""},{"$f":"IF('Formato 4'!F30=\"\",\"\",'Formato 4'!F30)","v":""},{"$f":"IF('Formato 4'!G30=\"\",\"\",'Formato 4'!G30)","v":""}]
[24,{"$f":"IF('Formato 4'!B31=\"\",\"\",'Formato 4'!B31)","v":""},{"$f":"IF('Formato 4'!C31=\"\",\"\",'Formato 4'!C31)","v":""},{"$f":"IF('Formato 4'!D31=\"\",\"\",'Formato 4'!D31)","v":""},{"$f":"IF('Formato 4'!E31=\"\",\"\",'Formato 4'!E31)","v":""},{"$f":"IF('Formato 4'!F31=\"\",\"\",'Formato 4'!F31)","v":""},{"$f":"IF('Formato 4'!G31=\"\",\"\",'Formato 4'!G31)","v":""}]
[25,{"$f":"IF('Formato 4'!B32=\"\",\"\",'Formato 4'!B32)","v":""},{"$f":"IF('Formato 4'!C32=\"\",\"\",'Formato 4'!C32)","v":""},{"$f":"IF('Formato 4'!D32=\"\",\"\",'Formato 4'!D32)","v":""},{"$f":"IF('Formato 4'!E32=\"\",\"\",'Formato 4'!E32)","v":""},{"$f":"IF('Formato 4'!F32=\"\",\"\",'Formato 4'!F32)","v":""},{"$f":"IF('Formato 4'!G32=\"\",\"\",'Formato 4'!G32)","v":""}]
[26,{"$f":"IF('Formato 4'!B33=\"\",\"\",'Formato 4'!B33)","v":""},{"$f":"IF('Formato 4'!C33=\"\",\"\",'Formato 4'!C33)","v":""},{"$f":"IF('Formato 4'!D33=\"\",\"\",'Formato 4'!D33)","v":""},{"$f":"IF('Formato 4'!E33=\"\",\"\",'Formato 4'!E33)","v":""},{"$f":"IF('Formato 4'!F33=\"\",\"\",'Formato 4'!F33)","v":""},{"$f":"IF('Formato 4'!G33=\"\",\"\",'Formato 4'!G33)","v":""}]
[27,{"$f":"IF('Formato 4'!B34=\"\",\"\",'Formato 4'!B34)","v":""},{"$f":"IF('Formato 4'!C34=\"\",\"\",'Formato 4'!C34)","v":""},{"$f":"IF('Formato 4'!D34=\"\",\"\",'Formato 4'!D34)","v":""},{"$f":"IF('Formato 4'!E34=\"\",\"\",'Formato 4'!E34)","v":""},{"$f":"IF('Formato 4'!F34=\"\",\"\",'Formato 4'!F34)","v":""},{"$f":"IF('Formato 4'!G34=\"\",\"\",'Formato 4'!G34)","v":""}]
[28,{"$f":"IF('Formato 4'!B35=\"\",\"\",'Formato 4'!B35)","v":""},{"$f":"IF('Formato 4'!C35=\"\",\"\",'Formato 4'!C35)","v":""},{"$f":"IF('Formato 4'!D35=\"\",\"\",'Formato 4'!D35)","v":""},{"$f":"IF('Formato 4'!E35=\"\",\"\",'Formato 4'!E35)","v":""},{"$f":"IF('Formato 4'!F35=\"\",\"\",'Formato 4'!F35)","v":""},{"$f":"IF('Formato 4'!G35=\"\",\"\",'Formato 4'!G35)","v":""}]
[29,{"$f":"IF('Formato 4'!B36=\"\",\"\",'Formato 4'!B36)","v":""},{"$f":"IF('Formato 4'!C36=\"\",\"\",'Formato 4'!C36)","v":""},{"$f":"IF('Formato 4'!D36=\"\",\"\",'Formato 4'!D36)","v":""},{"$f":"IF('Formato 4'!E36=\"\",\"\",'Formato 4'!E36)","v":""},{"$f":"IF('Formato 4'!F36=\"\",\"\",'Formato 4'!F36)","v":""},{"$f":"IF('Formato 4'!G36=\"\",\"\",'Formato 4'!G36)","v":""}]
[30,{"$f":"IF('Formato 4'!B37=\"\",\"\",'Formato 4'!B37)","v":""},{"$f":"IF('Formato 4'!C37=\"\",\"\",'Formato 4'!C37)","v":""},{"$f":"IF('Formato 4'!D37=\"\",\"\",'Formato 4'!D37)","v":""},{"$f":"IF('Formato 4'!E37=\"\",\"\",'Formato 4'!E37)","v":""},{"$f":"IF('Formato 4'!F37=\"\",\"\",'Formato 4'!F37)","v":""},{"$f":"IF('Formato 4'!G37=\"\",\"\",'Formato 4'!G37)","v":""}]
[31,{"$f":"IF('Formato 4'!B38=\"\",\"\",'Formato 4'!B38)","v":""},{"$f":"IF('Formato 4'!C38=\"\",\"\",'Formato 4'!C38)","v":""},{"$f":"IF('Formato 4'!D38=\"\",\"\",'Formato 4'!D38)","v":""},{"$f":"IF('Formato 4'!E38=\"\",\"\",'Formato 4'!E38)","v":""},{"$f":"IF('Formato 4'!F38=\"\",\"\",'Formato 4'!F38)","v":""},{"$f":"IF('Formato 4'!G38=\"\",\"\",'Formato 4'!G38)","v":""}]
[32,{"$f":"IF('Formato 4'!B39=\"\",\"\",'Formato 4'!B39)","v":""},{"$f":"IF('Formato 4'!C39=\"\",\"\",'Formato 4'!C39)","v":""},{"$f":"IF('Formato 4'!D39=\"\",\"\",'Formato 4'!D39)","v":""},{"$f":"IF('Formato 4'!E39=\"\",\"\",'Formato 4'!E39)","v":""},{"$f":"IF('Formato 4'!F39=\"\",\"\",'Formato 4'!F39)","v":""},{"$f":"IF('Formato 4'!G39=\"\",\"\",'Formato 4'!G39)","v":""}]
[33,{"$f":"IF('Formato 4'!B40=\"\",\"\",'Formato 4'!B40)","v":""},{"$f":"IF('Formato 4'!C40=\"\",\"\",'Formato 4'!C40)","v":""},{"$f":"IF('Formato 4'!D40=\"\",\"\",'Formato 4'!D40)","v":""},{"$f":"IF('Formato 4'!E40=\"\",\"\",'Formato 4'!E40)","v":""},{"$f":"IF('Formato 4'!F40=\"\",\"\",'Formato 4'!F40)","v":""},{"$f":"IF('Formato 4'!G40=\"\",\"\",'Formato 4'!G40)","v":""}]
[34,{"$f":"IF('Formato 4'!B41=\"\",\"\",'Formato 4'!B41)","v":""},{"$f":"IF('Formato 4'!C41=\"\",\"\",'Formato 4'!C41)","v":""},{"$f":"IF('Formato 4'!D41=\"\",\"\",'Formato 4'!D41)","v":""},{"$f":"IF('Formato 4'!E41=\"\",\"\",'Formato 4'!E41)","v":""},{"$f":"IF('Formato 4'!F41=\"\",\"\",'Formato 4'!F41)","v":""},{"$f":"IF('Formato 4'!G41=\"\",\"\",'Formato 4'!G41)","v":""}]
[35,{"$f":"IF('Formato 4'!B42=\"\",\"\",'Formato 4'!B42)","v":""},{"$f":"IF('Formato 4'!C42=\"\",\"\",'Formato 4'!C42)","v":""},{"$f":"IF('Formato 4'!D42=\"\",\"\",'Formato 4'!D42)","v":""},{"$f":"IF('Formato 4'!E42=\"\",\"\",'Formato 4'!E42)","v":""},{"$f":"IF('Formato 4'!F42=\"\",\"\",'Formato 4'!F42)","v":""},{"$f":"IF('Formato 4'!G42=\"\",\"\",'Formato 4'!G42)","v":""}]
[36,{"$f":"IF('Formato 4'!B43=\"\",\"\",'Formato 4'!B43)","v":""},{"$f":"IF('Formato 4'!C43=\"\",\"\",'Formato 4'!C43)","v":""},{"$f":"IF('Formato 4'!D43=\"\",\"\",'Formato 4'!D43)","v":""},{"$f":"IF('Formato 4'!E43=\"\",\"\",'Formato 4'!E43)","v":""},{"$f":"IF('Formato 4'!F43=\"\",\"\",'Formato 4'!F43)","v":""},{"$f":"IF('Formato 4'!G43=\"\",\"\",'Formato 4'!G43)","v":""}]
[37,{"$f":"IF('Formato 4'!B44=\"\",\"\",'Formato 4'!B44)","v":""},{"$f":"IF('Formato 4'!C44=\"\",\"\",'Formato 4'!C44)","v":""},{"$f":"IF('Formato 4'!D44=\"\",\"\",'Formato 4'!D44)","v":""},{"$f":"IF('Formato 4'!E44=\"\",\"\",'Formato 4'!E44)","v":""},{"$f":"IF('Formato 4'!F44=\"\",\"\",'Formato 4'!F44)","v":""},{"$f":"IF('Formato 4'!G44=\"\",\"\",'Formato 4'!G44)","v":""}]
[38,{"$f":"IF('Formato 4'!B45=\"\",\"\",'Formato 4'!B45)","v":""},{"$f":"IF('Formato 4'!C45=\"\",\"\",'Formato 4'!C45)","v":""},{"$f":"IF('Formato 4'!D45=\"\",\"\",'Formato 4'!D45)","v":""},{"$f":"IF('Formato 4'!E45=\"\",\"\",'Formato 4'!E45)","v":""},{"$f":"IF('Formato 4'!F45=\"\",\"\",'Formato 4'!F45)","v":""},{"$f":"IF('Formato 4'!G45=\"\",\"\",'Formato 4'!G45)","v":""}]
[39,{"$f":"IF('Formato 4'!B46=\"\",\"\",'Formato 4'!B46)","v":""},{"$f":"IF('Formato 4'!C46=\"\",\"\",'Formato 4'!C46)","v":""},{"$f":"IF('Formato 4'!D46=\"\",\"\",'Formato 4'!D46)","v":""},{"$f":"IF('Formato 4'!E46=\"\",\"\",'Formato 4'!E46)","v":""},{"$f":"IF('Formato 4'!F46=\"\",\"\",'Formato 4'!F46)","v":""},{"$f":"IF('Formato 4'!G46=\"\",\"\",'Formato 4'!G46)","v":""}]
[40,{"$f":"IF('Formato 4'!B47=\"\",\"\",'Formato 4'!B47)","v":""},{"$f":"IF('Formato 4'!C47=\"\",\"\",'Formato 4'!C47)","v":""},{"$f":"IF('Formato 4'!D47=\"\",\"\",'Formato 4'!D47)","v":""},{"$f":"IF('Formato 4'!E47=\"\",\"\",'Formato 4'!E47)","v":""},{"$f":"IF('Formato 4'!F47=\"\",\"\",'Formato 4'!F47)","v":""},{"$f":"IF('Formato 4'!G47=\"\",\"\",'Formato 4'!G47)","v":""}]
[41,{"$f":"IF('Formato 4'!B48=\"\",\"\",'Formato 4'!B48)","v":""},{"$f":"IF('Formato 4'!C48=\"\",\"\",'Formato 4'!C48)","v":""},{"$f":"IF('Formato 4'!D48=\"\",\"\",'Formato 4'!D48)","v":""},{"$f":"IF('Formato 4'!E48=\"\",\"\",'Formato 4'!E48)","v":""},{"$f":"IF('Formato 4'!F48=\"\",\"\",'Formato 4'!F48)","v":""},{"$f":"IF('Formato 4'!G48=\"\",\"\",'Formato 4'!G48)","v":""}]
[42,{"$f":"IF('Formato 4'!B49=\"\",\"\",'Formato 4'!B49)","v":""},{"$f":"IF('Formato 4'!C49=\"\",\"\",'Formato 4'!C49)","v":""},{"$f":"IF('Formato 4'!D49=\"\",\"\",'Formato 4'!D49)","v":""},{"$f":"IF('Formato 4'!E49=\"\",\"\",'Formato 4'!E49)","v":""},{"$f":"IF('Formato 4'!F49=\"\",\"\",'Formato 4'!F49)","v":""},{"$f":"IF('Formato 4'!G49=\"\",\"\",'Formato 4'!G49)","v":""}]
[43,{"$f":"IF('Formato 4'!B50=\"\",\"\",'Formato 4'!B50)","v":""},{"$f":"IF('Formato 4'!C50=\"\",\"\",'Formato 4'!C50)","v":""},{"$f":"IF('Formato 4'!D50=\"\",\"\",'Formato 4'!D50)","v":""},{"$f":"IF('Formato 4'!E50=\"\",\"\",'Formato 4'!E50)","v":""},{"$f":"IF('Formato 4'!F50=\"\",\"\",'Formato 4'!F50)","v":""},{"$f":"IF('Formato 4'!G50=\"\",\"\",'Formato 4'!G50)","v":""}]
[44,{"$f":"IF('Formato 4'!B51=\"\",\"\",'Formato 4'!B51)","v":""},{"$f":"IF('Formato 4'!C51=\"\",\"\",'Formato 4'!C51)","v":""},{"$f":"IF('Formato 4'!D51=\"\",\"\",'Formato 4'!D51)","v":""},{"$f":"IF('Formato 4'!E51=\"\",\"\",'Formato 4'!E51)","v":""},{"$f":"IF('Formato 4'!F51=\"\",\"\",'Formato 4'!F51)","v":""},{"$f":"IF('Formato 4'!G51=\"\",\"\",'Formato 4'!G51)","v":""}]
[45,{"$f":"IF('Formato 4'!B52=\"\",\"\",'Formato 4'!B52)","v":""},{"$f":"IF('Formato 4'!C52=\"\",\"\",'Formato 4'!C52)","v":""},{"$f":"IF('Formato 4'!D52=\"\",\"\",'Formato 4'!D52)","v":""},{"$f":"IF('Formato 4'!E52=\"\",\"\",'Formato 4'!E52)","v":""},{"$f":"IF('Formato 4'!F52=\"\",\"\",'Formato 4'!F52)","v":""},{"$f":"IF('Formato 4'!G52=\"\",\"\",'Formato 4'!G52)","v":""}]
[46,{"$f":"IF('Formato 4'!B53=\"\",\"\",'Formato 4'!B53)","v":""},{"$f":"IF('Formato 4'!C53=\"\",\"\",'Formato 4'!C53)","v":""},{"$f":"IF('Formato 4'!D53=\"\",\"\",'Formato 4'!D53)","v":""},{"$f":"IF('Formato 4'!E53=\"\",\"\",'Formato 4'!E53)","v":""},{"$f":"IF('Formato 4'!F53=\"\",\"\",'Formato 4'!F53)","v":""},{"$f":"IF('Formato 4'!G53=\"\",\"\",'Formato 4'!G53)","v":""}]
[47,{"$f":"IF('Formato 4'!B54=\"\",\"\",'Formato 4'!B54)","v":""},{"$f":"IF('Formato 4'!C54=\"\",\"\",'Formato 4'!C54)","v":""},{"$f":"IF('Formato 4'!D54=\"\",\"\",'Formato 4'!D54)","v":""},{"$f":"IF('Formato 4'!E54=\"\",\"\",'Formato 4'!E54)","v":""},{"$f":"IF('Formato 4'!F54=\"\",\"\",'Formato 4'!F54)","v":""},{"$f":"IF('Formato 4'!G54=\"\",\"\",'Formato 4'!G54)","v":""}]
[48,{"$f":"IF('Formato 4'!B55=\"\",\"\",'Formato 4'!B55)","v":""},{"$f":"IF('Formato 4'!C55=\"\",\"\",'Formato 4'!C55)","v":""},{"$f":"IF('Formato 4'!D55=\"\",\"\",'Formato 4'!D55)","v":""},{"$f":"IF('Formato 4'!E55=\"\",\"\",'Formato 4'!E55)","v":""},{"$f":"IF('Formato 4'!F55=\"\",\"\",'Formato 4'!F55)","v":""},{"$f":"IF('Formato 4'!G55=\"\",\"\",'Formato 4'!G55)","v":""}]
[49,{"$f":"IF('Formato 4'!B56=\"\",\"\",'Formato 4'!B56)","v":""},{"$f":"IF('Formato 4'!C56=\"\",\"\",'Formato 4'!C56)","v":""},{"$f":"IF('Formato 4'!D56=\"\",\"\",'Formato 4'!D56)","v":""},{"$f":"IF('Formato 4'!E56=\"\",\"\",'Formato 4'!E56)","v":""},{"$f":"IF('Formato 4'!F56=\"\",\"\",'Formato 4'!F56)","v":""},{"$f":"IF('Formato 4'!G56=\"\",\"\",'Formato 4'!G56)","v":""}]
[50,{"$f":"IF('Formato 4'!B57=\"\",\"\",'Formato 4'!B57)","v":""},{"$f":"IF('Formato 4'!C57=\"\",\"\",'Formato 4'!C57)","v":""},{"$f":"IF('Formato 4'!D57=\"\",\"\",'Formato 4'!D57)","v":""},{"$f":"IF('Formato 4'!E57=\"\",\"\",'Formato 4'!E57)","v":""},{"$f":"IF('Formato 4'!F57=\"\",\"\",'Formato 4'!F57)","v":""},{"$f":"IF('Formato 4'!G57=\"\",\"\",'Formato 4'!G57)","v":""}]
[51,{"$f":"IF('Formato 4'!B58=\"\",\"\",'Formato 4'!B58)","v":""},{"$f":"IF('Formato 4'!C58=\"\",\"\",'Formato 4'!C58)","v":""},{"$f":"IF('Formato 4'!D58=\"\",\"\",'Formato 4'!D58)","v":""},{"$f":"IF('Formato 4'!E58=\"\",\"\",'Formato 4'!E58)","v":""},{"$f":"IF('Formato 4'!F58=\"\",\"\",'Formato 4'!F58)","v":""},{"$f":"IF('Formato 4'!G58=\"\",\"\",'Formato 4'!G58)","v":""}]
[52,{"$f":"IF('Formato 4'!B59=\"\",\"\",'Formato 4'!B59)","v":""},{"$f":"IF('Formato 4'!C59=\"\",\"\",'Formato 4'!C59)","v":""},{"$f":"IF('Formato 4'!D59=\"\",\"\",'Formato 4'!D59)","v":""},{"$f":"IF('Formato 4'!E59=\"\",\"\",'Formato 4'!E59)","v":""},{"$f":"IF('Formato 4'!F59=\"\",\"\",'Formato 4'!F59)","v":""},{"$f":"IF('Formato 4'!G59=\"\",\"\",'Formato 4'!G59)","v":""}]
[53,{"$f":"IF('Formato 4'!B60=\"\",\"\",'Formato 4'!B60)","v":""},{"$f":"IF('Formato 4'!C60=\"\",\"\",'Formato 4'!C60)","v":""},{"$f":"IF('Formato 4'!D60=\"\",\"\",'Formato 4'!D60)","v":""},{"$f":"IF('Formato 4'!E60=\"\",\"\",'Formato 4'!E60)","v":""},{"$f":"IF('Formato 4'!F60=\"\",\"\",'Formato 4'!F60)","v":""},{"$f":"IF('Formato 4'!G60=\"\",\"\",'Formato 4'!G60)","v":""}]
[54,{"$f":"IF('Formato 4'!B61=\"\",\"\",'Formato 4'!B61)","v":""},{"$f":"IF('Formato 4'!C61=\"\",\"\",'Formato 4'!C61)","v":""},{"$f":"IF('Formato 4'!D61=\"\",\"\",'Formato 4'!D61)","v":""},{"$f":"IF('Formato 4'!E61=\"\",\"\",'Formato 4'!E61)","v":""},{"$f":"IF('Formato 4'!F61=\"\",\"\",'Formato 4'!F61)","v":""},{"$f":"IF('Formato 4'!G61=\"\",\"\",'Formato 4'!G61)","v":""}]
[55,{"$f":"IF('Formato 4'!B62=\"\",\"\",'Formato 4'!B62)","v":""},{"$f":"IF('Formato 4'!C62=\"\",\"\",'Formato 4'!C62)","v":""},{"$f":"IF('Formato 4'!D62=\"\",\"\",'Formato 4'!D62)","v":""},{"$f":"IF('Formato 4'!E62=\"\",\"\",'Formato 4'!E62)","v":""},{"$f":"IF('Formato 4'!F62=\"\",\"\",'Formato 4'!F62)","v":""},{"$f":"IF('Formato 4'!G62=\"\",\"\",'Formato 4'!G62)","v":""}]
[56,{"$f":"IF('Formato 4'!B63=\"\",\"\",'Formato 4'!B63)","v":""},{"$f":"IF('Formato 4'!C63=\"\",\"\",'Formato 4'!C63)","v":""},{"$f":"IF('Formato 4'!D63=\"\",\"\",'Formato 4'!D63)","v":""},{"$f":"IF('Formato 4'!E63=\"\",\"\",'Formato 4'!E63)","v":""},{"$f":"IF('Formato 4'!F63=\"\",\"\",'Formato 4'!F63)","v":""},{"$f":"IF('Formato 4'!G63=\"\",\"\",'Formato 4'!G63)","v":""}]
[57,{"$f":"IF('Formato 4'!B64=\"\",\"\",'Formato 4'!B64)","v":""},{"$f":"IF('Formato 4'!C64=\"\",\"\",'Formato 4'!C64)","v":""},{"$f":"IF('Formato 4'!D64=\"\",\"\",'Formato 4'!D64)","v":""},{"$f":"IF('Formato 4'!E64=\"\",\"\",'Formato 4'!E64)","v":""},{"$f":"IF('Formato 4'!F64=\"\",\"\",'Formato 4'!F64)","v":""},{"$f":"IF('Formato 4'!G64=\"\",\"\",'Formato 4'!G64)","v":""}]
[58,{"$f":"IF('Formato 4'!B65=\"\",\"\",'Formato 4'!B65)","v":""},{"$f":"IF('Formato 4'!C65=\"\",\"\",'Formato 4'!C65)","v":""},{"$f":"IF('Formato 4'!D65=\"\",\"\",'Formato 4'!D65)","v":""},{"$f":"IF('Formato 4'!E65=\"\",\"\",'Formato 4'!E65)","v":""},{"$f":"IF('Formato 4'!F65=\"\",\"\",'Formato 4'!F65)","v":""},{"$f":"IF('Formato 4'!G65=\"\",\"\",'Formato 4'!G65)","v":""}]
[59,{"$f":"IF('Formato 4'!B66=\"\",\"\",'Formato 4'!B66)","v":""},{"$f":"IF('Formato 4'!C66=\"\",\"\",'Formato 4'!C66)","v":""},{"$f":"IF('Formato 4'!D66=\"\",\"\",'Formato 4'!D66)","v":""},{"$f":"IF('Formato 4'!E66=\"\",\"\",'Formato 4'!E66)","v":""},{"$f":"IF('Formato 4'!F66=\"\",\"\",'Formato 4'!F66)","v":""},{"$f":"IF('Formato 4'!G66=\"\",\"\",'Formato 4'!G66)","v":""}]
[60,{"$f":"IF('Formato 4'!B67=\"\",\"\",'Formato 4'!B67)","v":""},{"$f":"IF('Formato 4'!C67=\"\",\"\",'Formato 4'!C67)","v":""},{"$f":"IF('Formato 4'!D67=\"\",\"\",'Formato 4'!D67)","v":""},{"$f":"IF('Formato 4'!E67=\"\",\"\",'Formato 4'!E67)","v":""},{"$f":"IF('Formato 4'!F67=\"\",\"\",'Formato 4'!F67)","v":""},{"$f":"IF('Formato 4'!G67=\"\",\"\",'Formato 4'!G67)","v":""}]
["*Monitoreo de consumo de agua no menor a 06 meses. Unidad mensual m3/m2."]

{"sheet":"Formato 7","index":11,"n_rows":68,"n_cols":17,"rows_kept":68,"cut":false,"hidden":false,"merged":[[5,0,5,16],[3,15,3,16],[4,15,4,16],[3,5,3,6],[4,5,4,6],[3,13,3,14],[4,13,4,14],[2,0,2,16],[3,11,3,12],[4,11,4,12],[3,9,3,10],[4,9,4,10],[3,0,3,4],[4,0,4,4]]}
["Formato N° 7: “Monitoreo de consumo de GN - GLP” (Declaración Jurada)"]
["Código: F1288/PR-N3-3-2-6"]
["DATOS DEL PROYECTO"]
["Nombre del Proyecto",null,null,null,null,"Numeración de proyecto",null,"Grado del BBP Verde","Área Total del proyecto","Tipo de MIVIVIENDA VERDE",null,"Partida Registral del Edificio ",null,"Oficina Registral SUNARP",null,"Empresa de distribución de gas"]
[{"$f":"IF('Formato 1'!A7=\"\",\"\",'Formato 1'!A7)","v":""},null,null,null,null,{"$f":"IF('Formato 1'!I8=\"\",\"\",'Formato 1'!I8)","v":""},null,{"$f":"'Formato 6'!F5","v":"I+ TRADICIONAL"},{"$f":"IF('Formato 4'!G5=\"\",\"\",'Formato 4'!G5)","v":""},{"$f":"IF('Formato 4'!H5=\"\",\"\",'Formato 4'!H5)","v":"TRADICIONAL"},null,{"$f":"IF('Formato 4'!I5=\"\",\"\",'Formato 4'!I5)","v":""},null,{"$f":"IF('Formato 4'!J5=\"\",\"\",'Formato 4'!J5)","v":""}]
["MONITOREO DE CONSUMO DE GAS - GN"]
["Correlativo","Torre/ Etapa","Unidad de vivienda","Cantidad de dormitorios","Área de departamento","Partida Registral","Numeración FMV","Número de suministro de gas natural","MES 01","MES 02","MES 03","MES 04","MES 05","MES 06","MES 07","MES 08","MES 09"]
[1,{"$f":"IF('Formato 4'!B8=\"\",\"\",'Formato 4'!B8)","v":""},{"$f":"IF('Formato 4'!C8=\"\",\"\",'Formato 4'!C8)","v":""},{"$f":"IF('Formato 4'!D8=\"\",\"\",'Formato 4'!D8)","v":""},{"$f":"IF('Formato 4'!E8=\"\",\"\",'Formato 4'!E8)","v":""},{"$f":"IF('Formato 4'!F8=\"\",\"\",'Formato 4'!F8)","v":""},{"$f":"IF('Formato 4'!G8=\"\",\"\",'Formato 4'!G8)","v":""}]
[2,{"$f":"IF('Formato 4'!B9=\"\",\"\",'Formato 4'!B9)","v":""},{"$f":"IF('Formato 4'!C9=\"\",\"\",'Formato 4'!C9)","v":""},{"$f":"IF('Formato 4'!D9=\"\",\"\",'Formato 4'!D9)","v":""},{"$f":"IF('Formato 4'!E9=\"\",\"\",'Formato 4'!E9)","v":""},{"$f":"IF('Formato 4'!F9=\"\",\"\",'Formato 4'!F9)","v":""},{"$f":"IF('Formato 4'!G9=\"\",\"\",'Formato 4'!G9)","v":""}]
[3,{"$f":"IF('Formato 4'!B10=\"\",\"\",'Formato 4'!B10)","v":""},{"$f":"IF('Formato 4'!C10=\"\",\"\",'Formato 4'!C10)","v":""},{"$f":"IF('Formato 4'!D10=\"\",\"\",'Formato 4'!D10)","v":""},{"$f":"IF('Formato 4'!E10=\"\",\"\",'Formato 4'!E10)","v":""},{"$f":"IF('Formato 4'!F10=\"\",\"\",'Formato 4'!F10)","v":""},{"$f":"IF('Formato 4'!G10=\"\",\"\",'Formato 4'!G10)","v":""}]
[4,{"$f":"IF('Formato 4'!B11=\"\",\"\",'Formato 4'!B11)","v":""},{"$f":"IF('Formato 4'!C11=\"\",\"\",'Formato 4'!C11)","v":""},{"$f":"IF('Formato 4'!D11=\"\",\"\",'Formato 4'!D11)","v":""},{"$f":"IF('Formato 4'!E11=\"\",\"\",'Formato 4'!E11)","v":""},{"$f":"IF('Formato 4'!F11=\"\",\"\",'Formato 4'!F11)","v":""},{"$f":"IF('Formato 4'!G11=\"\",\"\",'Formato 4'!G11)","v":""}]
[5,{"$f":"IF('Formato 4'!B12=\"\",\"\",'Formato 4'!B12)","v":""},{"$f":"IF('Formato 4'!C12=\"\",\"\",'Formato 4'!C12)","v":""},{"$f":"IF('Formato 4'!D12=\"\",\"\",'Formato 4'!D12)","v":""},{"$f":"IF('Formato 4'!E12=\"\",\"\",'Formato 4'!E12)","v":""},{"$f":"IF('Formato 4'!F12=\"\",\"\",'Formato 4'!F12)","v":""},{"$f":"IF('Formato 4'!G12=\"\",\"\",'Formato 4'!G12)","v":""}]
[6,{"$f":"IF('Formato 4'!B13=\"\",\"\",'Formato 4'!B13)","v":""},{"$f":"IF('Formato 4'!C13=\"\",\"\",'Formato 4'!C13)","v":""},{"$f":"IF('Formato 4'!D13=\"\",\"\",'Formato 4'!D13)","v":""},{"$f":"IF('Formato 4'!E13=\"\",\"\",'Formato 4'!E13)","v":""},{"$f":"IF('Formato 4'!F13=\"\",\"\",'Formato 4'!F13)","v":""},{"$f":"IF('Formato 4'!G13=\"\",\"\",'Formato 4'!G13)","v":""}]
[7,{"$f":"IF('Formato 4'!B14=\"\",\"\",'Formato 4'!B14)","v":""},{"$f":"IF('Formato 4'!C14=\"\",\"\",'Formato 4'!C14)","v":""},{"$f":"IF('Formato 4'!D14=\"\",\"\",'Formato 4'!D14)","v":""},{"$f":"IF('Formato 4'!E14=\"\",\"\",'Formato 4'!E14)","v":""},{"$f":"IF('Formato 4'!F14=\"\",\"\",'Formato 4'!F14)","v":""},{"$f":"IF('Formato 4'!G14=\"\",\"\",'Formato 4'!G14)","v":""}]
[8,{"$f":"IF('Formato 4'!B15=\"\",\"\",'Formato 4'!B15)","v":""},{"$f":"IF('Formato 4'!C15=\"\",\"\",'Formato 4'!C15)","v":""},{"$f":"IF('Formato 4'!D15=\"\",\"\",'Formato 4'!D15)","v":""},{"$f":"IF('Formato 4'!E15=\"\",\"\",'Formato 4'!E15)","v":""},{"$f":"IF('Formato 4'!F15=\"\",\"\",'Formato 4'!F15)","v":""},{"$f":"IF('Formato 4'!G15=\"\",\"\",'Formato 4'!G15)","v":""}]
[9,{"$f":"IF('Formato 4'!B16=\"\",\"\",'Formato 4'!B16)","v":""},{"$f":"IF('Formato 4'!C16=\"\",\"\",'Formato 4'!C16)","v":""},{"$f":"IF('Formato 4'!D16=\"\",\"\",'Formato 4'!D16)","v":""},{"$f":"IF('Formato 4'!E16=\"\",\"\",'Formato 4'!E16)","v":""},{"$f":"IF('Formato 4'!F16=\"\",\"\",'Formato 4'!F16)","v":""},{"$f":"IF('Formato 4'!G16=\"\",\"\",'Formato 4'!G16)","v":""}]
[10,{"$f":"IF('Formato 4'!B17=\"\",\"\",'Formato 4'!B17)","v":""},{"$f":"IF('Formato 4'!C17=\"\",\"\",'Formato 4'!C17)","v":""},{"$f":"IF('Formato 4'!D17=\"\",\"\",'Formato 4'!D17)","v":""},{"$f":"IF('Formato 4'!E17=\"\",\"\",'Formato 4'!E17)","v":""},{"$f":"IF('Formato 4'!F17=\"\",\"\",'Formato 4'!F17)","v":""},{"$f":"IF('Formato 4'!G17=\"\",\"\",'Formato 4'!G17)","v":""}]
[11,{"$f":"IF('Formato 4'!B18=\"\",\"\",'Formato 4'!B18)","v":""},{"$f":"IF('Formato 4'!C18=\"\",\"\",'Formato 4'!C18)","v":""},{"$f":"IF('Formato 4'!D18=\"\",\"\",'Formato 4'!D18)","v":""},{"$f":"IF('Formato 4'!E18=\"\",\"\",'Formato 4'!E18)","v":""},{"$f":"IF('Formato 4'!F18=\"\",\"\",'Formato 4'!F18)","v":""},{"$f":"IF('Formato 4'!G18=\"\",\"\",'Formato 4'!G18)","v":""}]
[12,{"$f":"IF('Formato 4'!B19=\"\",\"\",'Formato 4'!B19)","v":""},{"$f":"IF('Formato 4'!C19=\"\",\"\",'Formato 4'!C19)","v":""},{"$f":"IF('Formato 4'!D19=\"\",\"\",'Formato 4'!D19)","v":""},{"$f":"IF('Formato 4'!E19=\"\",\"\",'Formato 4'!E19)","v":""},{"$f":"IF('Formato 4'!F19=\"\",\"\",'Formato 4'!F19)","v":""},{"$f":"IF('Formato 4'!G19=\"\",\"\",'Formato 4'!G19)","v":""}]
[13,{"$f":"IF('Formato 4'!B20=\"\",\"\",'Formato 4'!B20)","v":""},{"$f":"IF('Formato 4'!C20=\"\",\"\",'Formato 4'!C20)","v":""},{"$f":"IF('Formato 4'!D20=\"\",\"\",'Formato 4'!D20)","v":""},{"$f":"IF('Formato 4'!E20=\"\",\"\",'Formato 4'!E20)","v":""},{"$f":"IF('Formato 4'!F20=\"\",\"\",'Formato 4'!F20)","v":""},{"$f":"IF('Formato 4'!G20=\"\",\"\",'Formato 4'!G20)","v":""}]
[14,{"$f":"IF('Formato 4'!B21=\"\",\"\",'Formato 4'!B21)","v":""},{"$f":"IF('Formato 4'!C21=\"\",\"\",'Formato 4'!C21)","v":""},{"$f":"IF('Formato 4'!D21=\"\",\"\",'Formato 4'!D21)","v":""},{"$f":"IF('Formato 4'!E21=\"\",\"\",'Formato 4'!E21)","v":""},{"$f":"IF('Formato 4'!F21=\"\",\"\",'Formato 4'!F21)","v":""},{"$f":"IF('Formato 4'!G21=\"\",\"\",'Formato 4'!G21)","v":""}]
[15,{"$f":"IF('Formato 4'!B22=\"\",\"\",'Formato 4'!B22)","v":""},{"$f":"IF('Formato 4'!C22=\"\",\"\",'Formato 4'!C22)","v":""},{"$f":"IF('Formato 4'!D22=\"\",\"\",'Formato 4'!D22)","v":""},{"$f":"IF('Formato 4'!E22=\"\",\"\",'Formato 4'!E22)","v":""},{"$f":"IF('Formato 4'!F22=\"\",\"\",'Formato 4'!F22)","v":""},{"$f":"IF('Formato 4'!G22=\"\",\"\",'Formato 4'!G22)","v":""}]
[16,{"$f":"IF('Formato 4'!B23=\"\",\"\",'Formato 4'!B23)","v":""},{"$f":"IF('Formato 4'!C23=\"\",\"\",'Formato 4'!C23)","v":""},{"$f":"IF('Formato 4'!D23=\"\",\"\",'Formato 4'!D23)","v":""},{"$f":"IF('Formato 4'!E23=\"\",\"\",'Formato 4'!E23)","v":""},{"$f":"IF('Formato 4'!F23=\"\",\"\",'Formato 4'!F23)","v":""},{"$f":"IF('Formato 4'!G23=\"\",\"\",'Formato 4'!G23)","v":""}]
[17,{"$f":"IF('Formato 4'!B24=\"\",\"\",'Formato 4'!B24)","v":""},{"$f":"IF('Formato 4'!C24=\"\",\"\",'Formato 4'!C24)","v":""},{"$f":"IF('Formato 4'!D24=\"\",\"\",'Formato 4'!D24)","v":""},{"$f":"IF('Formato 4'!E24=\"\",\"\",'Formato 4'!E24)","v":""},{"$f":"IF('Formato 4'!F24=\"\",\"\",'Formato 4'!F24)","v":""},{"$f":"IF('Formato 4'!G24=\"\",\"\",'Formato 4'!G24)","v":""}]
[18,{"$f":"IF('Formato 4'!B25=\"\",\"\",'Formato 4'!B25)","v":""},{"$f":"IF('Formato 4'!C25=\"\",\"\",'Formato 4'!C25)","v":""},{"$f":"IF('Formato 4'!D25=\"\",\"\",'Formato 4'!D25)","v":""},{"$f":"IF('Formato 4'!E25=\"\",\"\",'Formato 4'!E25)","v":""},{"$f":"IF('Formato 4'!F25=\"\",\"\",'Formato 4'!F25)","v":""},{"$f":"IF('Formato 4'!G25=\"\",\"\",'Formato 4'!G25)","v":""}]
[19,{"$f":"IF('Formato 4'!B26=\"\",\"\",'Formato 4'!B26)","v":""},{"$f":"IF('Formato 4'!C26=\"\",\"\",'Formato 4'!C26)","v":""},{"$f":"IF('Formato 4'!D26=\"\",\"\",'Formato 4'!D26)","v":""},{"$f":"IF('Formato 4'!E26=\"\",\"\",'Formato 4'!E26)","v":""},{"$f":"IF('Formato 4'!F26=\"\",\"\",'Formato 4'!F26)","v":""},{"$f":"IF('Formato 4'!G26=\"\",\"\",'Formato 4'!G26)","v":""}]
[20,{"$f":"IF('Formato 4'!B27=\"\",\"\",'Formato 4'!B27)","v":""},{"$f":"IF('Formato 4'!C27=\"\",\"\",'Formato 4'!C27)","v":""},{"$f":"IF('Formato 4'!D27=\"\",\"\",'Formato 4'!D27)","v":""},{"$f":"IF('Formato 4'!E27=\"\",\"\",'Formato 4'!E27)","v":""},{"$f":"IF('Formato 4'!F27=\"\",\"\",'Formato 4'!F27)","v":""},{"$f":"IF('Formato 4'!G27=\"\",\"\",'Formato 4'!G27)","v":""}]
[21,{"$f":"IF('Formato 4'!B28=\"\",\"\",'Formato 4'!B28)","v":""},{"$f":"IF('Formato 4'!C28=\"\",\"\",'Formato 4'!C28)","v":""},{"$f":"IF('Formato 4'!D28=\"\",\"\",'Formato 4'!D28)","v":""},{"$f":"IF('Formato 4'!E28=\"\",\"\",'Formato 4'!E28)","v":""},{"$f":"IF('Formato 4'!F28=\"\",\"\",'Formato 4'!F28)","v":""},{"$f":"IF('Formato 4'!G28=\"\",\"\",'Formato 4'!G28)","v":""}]
[22,{"$f":"IF('Formato 4'!B29=\"\",\"\",'Formato 4'!B29)","v":""},{"$f":"IF('Formato 4'!C29=\"\",\"\",'Formato 4'!C29)","v":""},{"$f":"IF('Formato 4'!D29=\"\",\"\",'Formato 4'!D29)","v":""},{"$f":"IF('Formato 4'!E29=\"\",\"\",'Formato 4'!E29)","v":""},{"$f":"IF('Formato 4'!F29=\"\",\"\",'Formato 4'!F29)","v":""},{"$f":"IF('Formato 4'!G29=\"\",\"\",'Formato 4'!G29)","v":""}]
[23,{"$f":"IF('Formato 4'!B30=\"\",\"\",'Formato 4'!B30)","v":""},{"$f":"IF('Formato 4'!C30=\"\",\"\",'Formato 4'!C30)","v":""},{"$f":"IF('Formato 4'!D30=\"\",\"\",'Formato 4'!D30)","v":""},{"$f":"IF('Formato 4'!E30=\"\",\"\",'Formato 4'!E30)","v":""},{"$f":"IF('Formato 4'!F30=\"\",\"\",'Formato 4'!F30)","v":""},{"$f":"IF('Formato 4'!G30=\"\",\"\",'Formato 4'!G30)","v":""}]
[24,{"$f":"IF('Formato 4'!B31=\"\",\"\",'Formato 4'!B31)","v":""},{"$f":"IF('Formato 4'!C31=\"\",\"\",'Formato 4'!C31)","v":""},{"$f":"IF('Formato 4'!D31=\"\",\"\",'Formato 4'!D31)","v":""},{"$f":"IF('Formato 4'!E31=\"\",\"\",'Formato 4'!E31)","v":""},{"$f":"IF('Formato 4'!F31=\"\",\"\",'Formato 4'!F31)","v":""},{"$f":"IF('Formato 4'!G31=\"\",\"\",'Formato 4'!G31)","v":""}]
[25,{"$f":"IF('Formato 4'!B32=\"\",\"\",'Formato 4'!B32)","v":""},{"$f":"IF('Formato 4'!C32=\"\",\"\",'Formato 4'!C32)","v":""},{"$f":"IF('Formato 4'!D32=\"\",\"\",'Formato 4'!D32)","v":""},{"$f":"IF('Formato 4'!E32=\"\",\"\",'Formato 4'!E32)","v":""},{"$f":"IF('Formato 4'!F32=\"\",\"\",'Formato 4'!F32)","v":""},{"$f":"IF('Formato 4'!G32=\"\",\"\",'Formato 4'!G32)","v":""}]
[26,{"$f":"IF('Formato 4'!B33=\"\",\"\",'Formato 4'!B33)","v":""},{"$f":"IF('Formato 4'!C33=\"\",\"\",'Formato 4'!C33)","v":""},{"$f":"IF('Formato 4'!D33=\"\",\"\",'Formato 4'!D33)","v":""},{"$f":"IF('Formato 4'!E33=\"\",\"\",'Formato 4'!E33)","v":""},{"$f":"IF('Formato 4'!F33=\"\",\"\",'Formato 4'!F33)","v":""},{"$f":"IF('Formato 4'!G33=\"\",\"\",'Formato 4'!G33)","v":""}]
[27,{"$f":"IF('Formato 4'!B34=\"\",\"\",'Formato 4'!B34)","v":""},{"$f":"IF('Formato 4'!C34=\"\",\"\",'Formato 4'!C34)","v":""},{"$f":"IF('Formato 4'!D34=\"\",\"\",'Formato 4'!D34)","v":""},{"$f":"IF('Formato 4'!E34=\"\",\"\",'Formato 4'!E34)","v":""},{"$f":"IF('Formato 4'!F34=\"\",\"\",'Formato 4'!F34)","v":""},{"$f":"IF('Formato 4'!G34=\"\",\"\",'Formato 4'!G34)","v":""}]
[28,{"$f":"IF('Formato 4'!B35=\"\",\"\",'Formato 4'!B35)","v":""},{"$f":"IF('Formato 4'!C35=\"\",\"\",'Formato 4'!C35)","v":""},{"$f":"IF('Formato 4'!D35=\"\",\"\",'Formato 4'!D35)","v":""},{"$f":"IF('Formato 4'!E35=\"\",\"\",'Formato 4'!E35)","v":""},{"$f":"IF('Formato 4'!F35=\"\",\"\",'Formato 4'!F35)","v":""},{"$f":"IF('Formato 4'!G35=\"\",\"\",'Formato 4'!G35)","v":""}]
[29,{"$f":"IF('Formato 4'!B36=\"\",\"\",'Formato 4'!B36)","v":""},{"$f":"IF('Formato 4'!C36=\"\",\"\",'Formato 4'!C36)","v":""},{"$f":"IF('Formato 4'!D36=\"\",\"\",'Formato 4'!D36)","v":""},{"$f":"IF('Formato 4'!E36=\"\",\"\",'Formato 4'!E36)","v":""},{"$f":"IF('Formato 4'!F36=\"\",\"\",'Formato 4'!F36)","v":""},{"$f":"IF('Formato 4'!G36=\"\",\"\",'Formato 4'!G36)","v":""}]
[30,{"$f":"IF('Formato 4'!B37=\"\",\"\",'Formato 4'!B37)","v":""},{"$f":"IF('Formato 4'!C37=\"\",\"\",'Formato 4'!C37)","v":""},{"$f":"IF('Formato 4'!D37=\"\",\"\",'Formato 4'!D37)","v":""},{"$f":"IF('Formato 4'!E37=\"\",\"\",'Formato 4'!E37)","v":""},{"$f":"IF('Formato 4'!F37=\"\",\"\",'Formato 4'!F37)","v":""},{"$f":"IF('Formato 4'!G37=\"\",\"\",'Formato 4'!G37)","v":""}]
[31,{"$f":"IF('Formato 4'!B38=\"\",\"\",'Formato 4'!B38)","v":""},{"$f":"IF('Formato 4'!C38=\"\",\"\",'Formato 4'!C38)","v":""},{"$f":"IF('Formato 4'!D38=\"\",\"\",'Formato 4'!D38)","v":""},{"$f":"IF('Formato 4'!E38=\"\",\"\",'Formato 4'!E38)","v":""},{"$f":"IF('Formato 4'!F38=\"\",\"\",'Formato 4'!F38)","v":""},{"$f":"IF('Formato 4'!G38=\"\",\"\",'Formato 4'!G38)","v":""}]
[32,{"$f":"IF('Formato 4'!B39=\"\",\"\",'Formato 4'!B39)","v":""},{"$f":"IF('Formato 4'!C39=\"\",\"\",'Formato 4'!C39)","v":""},{"$f":"IF('Formato 4'!D39=\"\",\"\",'Formato 4'!D39)","v":""},{"$f":"IF('Formato 4'!E39=\"\",\"\",'Formato 4'!E39)","v":""},{"$f":"IF('Formato 4'!F39=\"\",\"\",'Formato 4'!F39)","v":""},{"$f":"IF('Formato 4'!G39=\"\",\"\",'Formato 4'!G39)","v":""}]
[33,{"$f":"IF('Formato 4'!B40=\"\",\"\",'Formato 4'!B40)","v":""},{"$f":"IF('Formato 4'!C40=\"\",\"\",'Formato 4'!C40)","v":""},{"$f":"IF('Formato 4'!D40=\"\",\"\",'Formato 4'!D40)","v":""},{"$f":"IF('Formato 4'!E40=\"\",\"\",'Formato 4'!E40)","v":""},{"$f":"IF('Formato 4'!F40=\"\",\"\",'Formato 4'!F40)","v":""},{"$f":"IF('Formato 4'!G40=\"\",\"\",'Formato 4'!G40)","v":""}]
[34,{"$f":"IF('Formato 4'!B41=\"\",\"\",'Formato 4'!B41)","v":""},{"$f":"IF('Formato 4'!C41=\"\",\"\",'Formato 4'!C41)","v":""},{"$f":"IF('Formato 4'!D41=\"\",\"\",'Formato 4'!D41)","v":""},{"$f":"IF('Formato 4'!E41=\"\",\"\",'Formato 4'!E41)","v":""},{"$f":"IF('Formato 4'!F41=\"\",\"\",'Formato 4'!F41)","v":""},{"$f":"IF('Formato 4'!G41=\"\",\"\",'Formato 4'!G41)","v":""}]
[35,{"$f":"IF('Formato 4'!B42=\"\",\"\",'Formato 4'!B42)","v":""},{"$f":"IF('Formato 4'!C42=\"\",\"\",'Formato 4'!C42)","v":""},{"$f":"IF('Formato 4'!D42=\"\",\"\",'Formato 4'!D42)","v":""},{"$f":"IF('Formato 4'!E42=\"\",\"\",'Formato 4'!E42)","v":""},{"$f":"IF('Formato 4'!F42=\"\",\"\",'Formato 4'!F42)","v":""},{"$f":"IF('Formato 4'!G42=\"\",\"\",'Formato 4'!G42)","v":""}]
[36,{"$f":"IF('Formato 4'!B43=\"\",\"\",'Formato 4'!B43)","v":""},{"$f":"IF('Formato 4'!C43=\"\",\"\",'Formato 4'!C43)","v":""},{"$f":"IF('Formato 4'!D43=\"\",\"\",'Formato 4'!D43)","v":""},{"$f":"IF('Formato 4'!E43=\"\",\"\",'Formato 4'!E43)","v":""},{"$f":"IF('Formato 4'!F43=\"\",\"\",'Formato 4'!F43)","v":""},{"$f":"IF('Formato 4'!G43=\"\",\"\",'Formato 4'!G43)","v":""}]
[37,{"$f":"IF('Formato 4'!B44=\"\",\"\",'Formato 4'!B44)","v":""},{"$f":"IF('Formato 4'!C44=\"\",\"\",'Formato 4'!C44)","v":""},{"$f":"IF('Formato 4'!D44=\"\",\"\",'Formato 4'!D44)","v":""},{"$f":"IF('Formato 4'!E44=\"\",\"\",'Formato 4'!E44)","v":""},{"$f":"IF('Formato 4'!F44=\"\",\"\",'Formato 4'!F44)","v":""},{"$f":"IF('Formato 4'!G44=\"\",\"\",'Formato 4'!G44)","v":""}]
[38,{"$f":"IF('Formato 4'!B45=\"\",\"\",'Formato 4'!B45)","v":""},{"$f":"IF('Formato 4'!C45=\"\",\"\",'Formato 4'!C45)","v":""},{"$f":"IF('Formato 4'!D45=\"\",\"\",'Formato 4'!D45)","v":""},{"$f":"IF('Formato 4'!E45=\"\",\"\",'Formato 4'!E45)","v":""},{"$f":"IF('Formato 4'!F45=\"\",\"\",'Formato 4'!F45)","v":""},{"$f":"IF('Formato 4'!G45=\"\",\"\",'Formato 4'!G45)","v":""}]
[39,{"$f":"IF('Formato 4'!B46=\"\",\"\",'Formato 4'!B46)","v":""},{"$f":"IF('Formato 4'!C46=\"\",\"\",'Formato 4'!C46)","v":""},{"$f":"IF('Formato 4'!D46=\"\",\"\",'Formato 4'!D46)","v":""},{"$f":"IF('Formato 4'!E46=\"\",\"\",'Formato 4'!E46)","v":""},{"$f":"IF('Formato 4'!F46=\"\",\"\",'Formato 4'!F46)","v":""},{"$f":"IF('Formato 4'!G46=\"\",\"\",'Formato 4'!G46)","v":""}]
[40,{"$f":"IF('Formato 4'!B47=\"\",\"\",'Formato 4'!B47)","v":""},{"$f":"IF('Formato 4'!C47=\"\",\"\",'Formato 4'!C47)","v":""},{"$f":"IF('Formato 4'!D47=\"\",\"\",'Formato 4'!D47)","v":""},{"$f":"IF('Formato 4'!E47=\"\",\"\",'Formato 4'!E47)","v":""},{"$f":"IF('Formato 4'!F47=\"\",\"\",'Formato 4'!F47)","v":""},{"$f":"IF('Formato 4'!G47=\"\",\"\",'Formato 4'!G47)","v":""}]
[41,{"$f":"IF('Formato 4'!B48=\"\",\"\",'Formato 4'!B48)","v":""},{"$f":"IF('Formato 4'!C48=\"\",\"\",'Formato 4'!C48)","v":""},{"$f":"IF('Formato 4'!D48=\"\",\"\",'Formato 4'!D48)","v":""},{"$f":"IF('Formato 4'!E48=\"\",\"\",'Formato 4'!E48)","v":""},{"$f":"IF('Formato 4'!F48=\"\",\"\",'Formato 4'!F48)","v":""},{"$f":"IF('Formato 4'!G48=\"\",\"\",'Formato 4'!G48)","v":""}]
[42,{"$f":"IF('Formato 4'!B49=\"\",\"\",'Formato 4'!B49)","v":""},{"$f":"IF('Formato 4'!C49=\"\",\"\",'Formato 4'!C49)","v":""},{"$f":"IF('Formato 4'!D49=\"\",\"\",'Formato 4'!D49)","v":""},{"$f":"IF('Formato 4'!E49=\"\",\"\",'Formato 4'!E49)","v":""},{"$f":"IF('Formato 4'!F49=\"\",\"\",'Formato 4'!F49)","v":""},{"$f":"IF('Formato 4'!G49=\"\",\"\",'Formato 4'!G49)","v":""}]
[43,{"$f":"IF('Formato 4'!B50=\"\",\"\",'Formato 4'!B50)","v":""},{"$f":"IF('Formato 4'!C50=\"\",\"\",'Formato 4'!C50)","v":""},{"$f":"IF('Formato 4'!D50=\"\",\"\",'Formato 4'!D50)","v":""},{"$f":"IF('Formato 4'!E50=\"\",\"\",'Formato 4'!E50)","v":""},{"$f":"IF('Formato 4'!F50=\"\",\"\",'Formato 4'!F50)","v":""},{"$f":"IF('Formato 4'!G50=\"\",\"\",'Formato 4'!G50)","v":""}]
[44,{"$f":"IF('Formato 4'!B51=\"\",\"\",'Formato 4'!B51)","v":""},{"$f":"IF('Formato 4'!C51=\"\",\"\",'Formato 4'!C51)","v":""},{"$f":"IF('Formato 4'!D51=\"\",\"\",'Formato 4'!D51)","v":""},{"$f":"IF('Formato 4'!E51=\"\",\"\",'Formato 4'!E51)","v":""},{"$f":"IF('Formato 4'!F51=\"\",\"\",'Formato 4'!F51)","v":""},{"$f":"IF('Formato 4'!G51=\"\",\"\",'Formato 4'!G51)","v":""}]
[45,{"$f":"IF('Formato 4'!B52=\"\",\"\",'Formato 4'!B52)","v":""},{"$f":"IF('Formato 4'!C52=\"\",\"\",'Formato 4'!C52)","v":""},{"$f":"IF('Formato 4'!D52=\"\",\"\",'Formato 4'!D52)","v":""},{"$f":"IF('Formato 4'!E52=\"\",\"\",'Formato 4'!E52)","v":""},{"$f":"IF('Formato 4'!F52=\"\",\"\",'Formato 4'!F52)","v":""},{"$f":"IF('Formato 4'!G52=\"\",\"\",'Formato 4'!G52)","v":""}]
[46,{"$f":"IF('Formato 4'!B53=\"\",\"\",'Formato 4'!B53)","v":""},{"$f":"IF('Formato 4'!C53=\"\",\"\",'Formato 4'!C53)","v":""},{"$f":"IF('Formato 4'!D53=\"\",\"\",'Formato 4'!D53)","v":""},{"$f":"IF('Formato 4'!E53=\"\",\"\",'Formato 4'!E53)","v":""},{"$f":"IF('Formato 4'!F53=\"\",\"\",'Formato 4'!F53)","v":""},{"$f":"IF('Formato 4'!G53=\"\",\"\",'Formato 4'!G53)","v":""}]
[47,{"$f":"IF('Formato 4'!B54=\"\",\"\",'Formato 4'!B54)","v":""},{"$f":"IF('Formato 4'!C54=\"\",\"\",'Formato 4'!C54)","v":""},{"$f":"IF('Formato 4'!D54=\"\",\"\",'Formato 4'!D54)","v":""},{"$f":"IF('Formato 4'!E54=\"\",\"\",'Formato 4'!E54)","v":""},{"$f":"IF('Formato 4'!F54=\"\",\"\",'Formato 4'!F54)","v":""},{"$f":"IF('Formato 4'!G54=\"\",\"\",'Formato 4'!G54)","v":""}]
[48,{"$f":"IF('Formato 4'!B55=\"\",\"\",'Formato 4'!B55)","v":""},{"$f":"IF('Formato 4'!C55=\"\",\"\",'Formato 4'!C55)","v":""},{"$f":"IF('Formato 4'!D55=\"\",\"\",'Formato 4'!D55)","v":""},{"$f":"IF('Formato 4'!E55=\"\",\"\",'Formato 4'!E55)","v":""},{"$f":"IF('Formato 4'!F55=\"\",\"\",'Formato 4'!F55)","v":""},{"$f":"IF('Formato 4'!G55=\"\",\"\",'Formato 4'!G55)","v":""}]
[49,{"$f":"IF('Formato 4'!B56=\"\",\"\",'Formato 4'!B56)","v":""},{"$f":"IF('Formato 4'!C56=\"\",\"\",'Formato 4'!C56)","v":""},{"$f":"IF('Formato 4'!D56=\"\",\"\",'Formato 4'!D56)","v":""},{"$f":"IF('Formato 4'!E56=\"\",\"\",'Formato 4'!E56)","v":""},{"$f":"IF('Formato 4'!F56=\"\",\"\",'Formato 4'!F56)","v":""},{"$f":"IF('Formato 4'!G56=\"\",\"\",'Formato 4'!G56)","v":""}]
[50,{"$f":"IF('Formato 4'!B57=\"\",\"\",'Formato 4'!B57)","v":""},{"$f":"IF('Formato 4'!C57=\"\",\"\",'Formato 4'!C57)","v":""},{"$f":"IF('Formato 4'!D57=\"\",\"\",'Formato 4'!D57)","v":""},{"$f":"IF('Formato 4'!E57=\"\",\"\",'Formato 4'!E57)","v":""},{"$f":"IF('Formato 4'!F57=\"\",\"\",'Formato 4'!F57)","v":""},{"$f":"IF('Formato 4'!G57=\"\",\"\",'Formato 4'!G57)","v":""}]
[51,{"$f":"IF('Formato 4'!B58=\"\",\"\",'Formato 4'!B58)","v":""},{"$f":"IF('Formato 4'!C58=\"\",\"\",'Formato 4'!C58)","v":""},{"$f":"IF('Formato 4'!D58=\"\",\"\",'Formato 4'!D58)","v":""},{"$f":"IF('Formato 4'!E58=\"\",\"\",'Formato 4'!E58)","v":""},{"$f":"IF('Formato 4'!F58=\"\",\"\",'Formato 4'!F58)","v":""},{"$f":"IF('Formato 4'!G58=\"\",\"\",'Formato 4'!G58)","v":""}]
[52,{"$f":"IF('Formato 4'!B59=\"\",\"\",'Formato 4'!B59)","v":""},{"$f":"IF('Formato 4'!C59=\"\",\"\",'Formato 4'!C59)","v":""},{"$f":"IF('Formato 4'!D59=\"\",\"\",'Formato 4'!D59)","v":""},{"$f":"IF('Formato 4'!E59=\"\",\"\",'Formato 4'!E59)","v":""},{"$f":"IF('Formato 4'!F59=\"\",\"\",'Formato 4'!F59)","v":""},{"$f":"IF('Formato 4'!G59=\"\",\"\",'Formato 4'!G59)","v":""}]
[53,{"$f":"IF('Formato 4'!B60=\"\",\"\",'Formato 4'!B60)","v":""},{"$f":"IF('Formato 4'!C60=\"\",\"\",'Formato 4'!C60)","v":""},{"$f":"IF('Formato 4'!D60=\"\",\"\",'Formato 4'!D60)","v":""},{"$f":"IF('Formato 4'!E60=\"\",\"\",'Formato 4'!E60)","v":""},{"$f":"IF('Formato 4'!F60=\"\",\"\",'Formato 4'!F60)","v":""},{"$f":"IF('Formato 4'!G60=\"\",\"\",'Formato 4'!G60)","v":""}]
[54,{"$f":"IF('Formato 4'!B61=\"\",\"\",'Formato 4'!B61)","v":""},{"$f":"IF('Formato 4'!C61=\"\",\"\",'Formato 4'!C61)","v":""},{"$f":"IF('Formato 4'!D61=\"\",\"\",'Formato 4'!D61)","v":""},{"$f":"IF('Formato 4'!E61=\"\",\"\",'Formato 4'!E61)","v":""},{"$f":"IF('Formato 4'!F61=\"\",\"\",'Formato 4'!F61)","v":""},{"$f":"IF('Formato 4'!G61=\"\",\"\",'Formato 4'!G61)","v":""}]
[55,{"$f":"IF('Formato 4'!B62=\"\",\"\",'Formato 4'!B62)","v":""},{"$f":"IF('Formato 4'!C62=\"\",\"\",'Formato 4'!C62)","v":""},{"$f":"IF('Formato 4'!D62=\"\",\"\",'Formato 4'!D62)","v":""},{"$f":"IF('Formato 4'!E62=\"\",\"\",'Formato 4'!E62)","v":""},{"$f":"IF('Formato 4'!F62=\"\",\"\",'Formato 4'!F62)","v":""},{"$f":"IF('Formato 4'!G62=\"\",\"\",'Formato 4'!G62)","v":""}]
[56,{"$f":"IF('Formato 4'!B63=\"\",\"\",'Formato 4'!B63)","v":""},{"$f":"IF('Formato 4'!C63=\"\",\"\",'Formato 4'!C63)","v":""},{"$f":"IF('Formato 4'!D63=\"\",\"\",'Formato 4'!D63)","v":""},{"$f":"IF('Formato 4'!E63=\"\",\"\",'Formato 4'!E63)","v":""},{"$f":"IF('Formato 4'!F63=\"\",\"\",'Formato 4'!F63)","v":""},{"$f":"IF('Formato 4'!G63=\"\",\"\",'Formato 4'!G63)","v":""}]
[57,{"$f":"IF('Formato 4'!B64=\"\",\"\",'Formato 4'!B64)","v":""},{"$f":"IF('Formato 4'!C64=\"\",\"\",'Formato 4'!C64)","v":""},{"$f":"IF('Formato 4'!D64=\"\",\"\",'Formato 4'!D64)","v":""},{"$f":"IF('Formato 4'!E64=\"\",\"\",'Formato 4'!E64)","v":""},{"$f":"IF('Formato 4'!F64=\"\",\"\",'Formato 4'!F64)","v":""},{"$f":"IF('Formato 4'!G64=\"\",\"\",'Formato 4'!G64)","v":""}]
[58,{"$f":"IF('Formato 4'!B65=\"\",\"\",'Formato 4'!B65)","v":""},{"$f":"IF('Formato 4'!C65=\"\",\"\",'Formato 4'!C65)","v":""},{"$f":"IF('Formato 4'!D65=\"\",\"\",'Formato 4'!D65)","v":""},{"$f":"IF('Formato 4'!E65=\"\",\"\",'Formato 4'!E65)","v":""},{"$f":"IF('Formato 4'!F65=\"\",\"\",'Formato 4'!F65)","v":""},{"$f":"IF('Formato 4'!G65=\"\",\"\",'Formato 4'!G65)","v":""}]
[59,{"$f":"IF('Formato 4'!B66=\"\",\"\",'Formato 4'!B66)","v":""},{"$f":"IF('Formato 4'!C66=\"\",\"\",'Formato 4'!C66)","v":""},{"$f":"IF('Formato 4'!D66=\"\",\"\",'Formato 4'!D66)","v":""},{"$f":"IF('Formato 4'!E66=\"\",\"\",'Formato 4'!E66)","v":""},{"$f":"IF('Formato 4'!F66=\"\",\"\",'Formato 4'!F66)","v":""},{"$f":"IF('Formato 4'!G66=\"\",\"\",'Formato 4'!G66)","v":""}]
[60,{"$f":"IF('Formato 4'!B67=\"\",\"\",'Formato 4'!B67)","v":""},{"$f":"IF('Formato 4'!C67=\"\",\"\",'Formato 4'!C67)","v":""},{"$f":"IF('Formato 4'!D67=\"\",\"\",'Formato 4'!D67)","v":""},{"$f":"IF('Formato 4'!E67=\"\",\"\",'Formato 4'!E67)","v":""},{"$f":"IF('Formato 4'!F67=\"\",\"\",'Formato 4'!F67)","v":""},{"$f":"IF('Formato 4'!G67=\"\",\"\",'Formato 4'!G67)","v":""}]
["*Monitoreo de consumo de GN no menor a 06 meses. Unidad mensual m3"]

{"sheet":"ESCOMBRERA","index":12,"n_rows":84,"n_cols":15,"rows_kept":84,"cut":false,"hidden":true,"merged":[[69,11,69,13],[70,11,70,13],[4,2,5,2],[4,3,4,5],[4,6,4,8],[4,9,5,9],[6,9,15,9],[12,11,12,13],[13,11,13,13]]}
[]
[]
[]
[]
[null,null,"Concepto","m3",null,null,"Tn",null,null,"% \nMinimización"]
[null,null,null,"Aprovechados","Dispuestos relleno Sanitario","Volumen ","Aprovechados","Dispuestos relleno Sanitario","Masa"]
[null,null,"RCD: Naturaleza pétrea",{"$f":"D8","v":248.5},{"$f":"E8","v":97},{"$f":"D7+E7","v":345.5},{"$f":"G8","v":125.73},{"$f":"H8","v":49.07},{"$f":"G7+H7","v":174.8},{"$f":"(G7+G9+G15)/I17","v":0.686152273888605}]
[null,null,"RCD de Naturaleza Pétrea (Grava, arena, arcillas, tierras vegetales, piedras, restos de hormigón, restos de mescla, restos de cerámicos, porcelanato, yesos, restos de ladrillos).",{"$f":"'Formato 2'!D48","v":248.5},{"$f":"'Formato 2'!G48","v":97},345.5,{"$f":"'Formato 2'!I48","v":125.73},{"$f":"'Formato 2'!J48","v":49.07},174.8]
[null,null,"RCD: Naturaleza no pétrea",{"$f":"D10+D11+D12+D13+D14","v":23.6},{"$f":"E10+E11+E12+E13+E14","v":14.600000000000001},38.200000000000003,8.5500000000000007,5.45,14]
[null,null,"Madera",{"$f":"'Formato 2'!D50","v":3.6},{"$f":"'Formato 2'!G50","v":0.9},4.5,{"$f":"'Formato 2'!G50","v":0.9},{"$f":"'Formato 2'!J50","v":0.36},1.26]
[null,null,"Metales Ferrosos y No Ferrosos",{"$f":"'Formato 2'!D51","v":1.2},{"$f":"'Formato 2'!G51","v":0},1.2,{"$f":"'Formato 2'!G51","v":0},{"$f":"'Formato 2'!J51","v":0},0]
[null,null,"Plástico (PET, PEAD, PEBD, PP, PS)",{"$f":"'Formato 2'!D52","v":3.7},{"$f":"'Formato 2'!G52","v":1.2},4.9000000000000004,{"$f":"'Formato 2'!G52","v":1.2},{"$f":"'Formato 2'!J52","v":0.39},1.5899999999999999]
[null,null,"Papel y Cartón",{"$f":"'Formato 2'!D53","v":7.8},{"$f":"'Formato 2'!G53","v":3.6},11.4,{"$f":"'Formato 2'!G53","v":3.6},{"$f":"'Formato 2'!J53","v":1.27},4.87,null,null,"Total reducciones kg CO2 eq",null,null,{"$f":"O70","v":8383.642527}]
[null,null,"Otros (PVC, Mangueras, Suelas de Zapatos, bolsas, film)",{"$f":"'Formato 2'!D54","v":7.3},{"$f":"'Formato 2'!G54","v":8.9},16.2,{"$f":"'Formato 2'!G54","v":8.9},{"$f":"'Formato 2'!J54","v":3.73},12.63,null,null,"Total reducciones ton CO2 eq",null,null,{"$f":"O13/1000","v":8.3836425269999992}]
[null,null,"RCD: Otros",{"$f":"D16","v":0},{"$f":"E16","v":24.3},24.3,{"$f":"G16","v":0},{"$f":"H16","v":6.9},6.9,null,null,null,null,"tCO2eq/t RCD",{"$f":"O72","v":4.2839256653040364E-2}]
[null,null,"Basuras (Tecnopor, telas, restos orgánicos, envolturas, etc.).",{"$f":"'Formato 2'!D56","v":0},{"$f":"'Formato 2'!G56","v":24.3},24.3,{"$f":"'Formato 2'!I56","v":0},{"$f":"'Formato 2'!J56","v":6.9},6.9]
[null,null,"TOTAL",{"$f":"D7+D9+D15","v":272.10000000000002},{"$f":"E7+E9+E15","v":135.9},408,{"$f":"G7+G9+G15","v":134.28},{"$f":"H7+H9+H15","v":61.42},195.7]
[]
[null,null,null,null,null,null,{"$f":"G16+G14+G8","v":134.63},{"$f":"H16+H14+H8","v":59.7},{"$f":"I16+I14+I8","v":194.33}]
[null,null,null,null,null,null,"% residuos con estimación GEI",{"$f":"+I11+I12+I13","v":6.46},"Masa"]
[null,null,null,null,null,null,null,{"$f":"+H20/I17","v":3.3009708737864081E-2},"Porcentaje sobre el total"]
[]
[null,null,"Elementos de incertidumbre"]
[null,1,"Condiciones de línea base de los materiales (ej. Madera de bosque primario deforestado o de bosques certificados, metal de producción local o importado, etc)"]
[null,2,"Tipo de valorización ( reuso directo, reciclaje, transporte, procesamiento, distribución, etc). "]
[null,3,"% de participación detallada por tipo de material (% po tipo de plástico, tipo de metal, etc)"]
[null,4,"Las reducciones de emisiones se hacen sobre bases comparadas y proyectadas de emisiones en línea base y con proyecto. Los factores utilizados deben ser en base a enfoques de ciclo de vida. La información nacional al respecto es limitada y se asumen las variaciones por la apliación de factores internacionales."]
[]
[null,null,"Supuestos Herramienta EPA https://www.epa.gov/warm/documentation-chapters-greenhouse-gas-emission-energy-and-economic-factors-used-waste"]
[null,1,"Emisiones evitadas por disposición en relleno sanitario, reciclaje y elimininación de materia prima, según permite la herramienta"]
[null,2,"Se aplica mix de elementos al no tener valores específicos (ej, mix de plásticos)."]
[null,3,"Para los elementos variados se le asigna al componente de \"Mixed MSW\", sin embargo, los RCD de naturaleza pétrea no se corresponden con la composición de los residuos sólidos (ver Infocarbono) y en la herramienta no se tiene la opcion de valorizardos, por tanto no se consideran en esta estimación."]
[null,4,"La herramienta indica sobre los resultados \"The GHG emissions results estimated in WARM indicate the full life-cycle benefits waste management alternatives. Due to the timing of the GHG emissions from the waste management pathways, (e.g., avoided landfilling and increased recycling), the actual GHG implications may accrue over the long-term. Therefore, one should not interpret the GHG emissions implications as occurring all in one year, but rather through time.\""]
[null,5,"Los catalogados como Mixed MSW, no permiten ser reciclados en el escenario con proyecto y por tanto no aportan en la variación de emisiones"]
[]
[null,null,"RCD: Naturaleza pétrea","Componente en la herramienta","LInea Base","Proyecto-aprovechado","Proyecto - relleno sanitario","Caracteristicas de distancia y condiciones de relleno sanitario y fuente"]
[null,null,"RCD de Naturaleza Pétrea (Grava, arena, arcillas, tierras vegetales, piedras, restos de hormigón, restos de mescla, restos de cerámicos, porcelanato, yesos, restos de ladrillos).","-","-","-","-","-"]
[null,null,"RCD: Naturaleza no pétrea"]
[null,null,"Madera","Wood Flooring","Relleno sanitario","Reducido en fuente","Relleno sanitario","Por defecto en la herramienta"]
[null,null,"Metales Ferrosos y No Ferrosos","Mixed Metals","Relleno sanitario","Reciclado ","Relleno sanitario","Por defecto en la herramienta"]
[null,null,"Plástico (PET, PEAD, PEBD, PP, PS)","Mixed Plastics","Relleno sanitario","Reciclado ","Relleno sanitario","Por defecto en la herramienta"]
[null,null,"Papel y Cartón","Mixed Paper (general)","Relleno sanitario","Reciclado ","Relleno sanitario","Por defecto en la herramienta"]
[null,null,"Otros (PVC, Mangueras, Suelas de Zapatos, bolsas, film)","Mixed MSW","Relleno sanitario","Relleno sanitario: la herramienta no permite opciones adicinoales","Relleno sanitario","Por defecto en la herramienta"]
[null,null,"RCD: Otros"]
[null,null,"Basuras (Tecnopor, telas, restos orgánicos, envolturas, etc.).","Mixed MSW","Relleno sanitario","Relleno sanitario: la herramienta no permite opciones adicinoales","Relleno sanitario","Por defecto en la herramienta"]
[]
[null,null,"Resultado: 17.61 toneladas CO2eq reducidas"]
[]
[]
[null,null,"Supuestos Herramienta UK https://www.gov.uk/government/publications/greenhouse-gas-reporting-conversion-factors-2021?msclkid=876e4ff4ce8b11eca8e90d9eda7879d2"]
[null,"1.","La herramienta estima emisiones en base a análisis de ciclo de via para inventarios corporativos, tanto para el uso de material valorizado en la construcción como para la gestión de los residuos. En este caso se aplica gestión de residuos."]
[null,"2.","Se aplica mix de elementos al no tener valores específicos (ej, mix de papel y cartón)."]
[null,"3.","Para los RCD de naturaleza pétrea, metales y madera se hace uso de los valores del rubro construcción, mientras que para el papel y cartón, y los plásticos, se hace uso de los factores de sus respectivas actividades. "]
[null,"4.","Para los RCD de naturaleza pétrea, por simplificación y ante la falta de % de composición se hace uso del valor referente a los agregados."]
[null,"5.","Para el caso de los residuos variados, de manera referencial se hace uso de los valores para residuos variados del sector comercial e industrial."]
[]
[]
[]
[null,null,"RCD: Naturaleza pétrea","Componente en la herramienta","LInea Base","FE (kg CO2e/ton)","Proyecto-aprovechado","FE (kg CO2e/ton)","Proyecto - relleno sanitario","FE (kg CO2e/ton)","Emisiones Línea base","Emisiones proyecto / aprovechado","Emisiones proyecto / relleno sanitario","Emisiones proyecto total","Reducciones de emisiones"]
[null,null,"RCD de Naturaleza Pétrea (Grava, arena, arcillas, tierras vegetales, piedras, restos de hormigón, restos de mescla, restos de cerámicos, porcelanato, yesos, restos de ladrillos).","Aggregates","Relleno sanitario",1.2390000000000001,"Open-loop",0.98909999999999998,"Relleno sanitario",1.2390000000000001,{"$f":"F60*I8","v":216.57720000000003},{"$f":"H60*G8","v":124.359543},{"$f":"J60*H8","v":60.797730000000008},{"$f":"L60+M60","v":185.157273},{"$f":"K60-N60","v":31.41992700000003}]
[null,null,"RCD: Naturaleza no pétrea"]
[null,null,"Madera","Wood","Relleno sanitario",828.03200000000004,"Closed-loop",21.294,"Relleno sanitario",828.03200000000004,{"$f":"F62*I10","v":1043.32032},{"$f":"H62*G10","v":19.1646},{"$f":"J62*H10","v":298.09152},{"$f":"L62+M62","v":317.25612000000001},{"$f":"K62-N62","v":726.06420000000003}]
[null,null,"Metales Ferrosos y No Ferrosos","Metals ","Relleno sanitario",1.264,"Closed-loop",0.98899999999999999,"Relleno sanitario",1.264,{"$f":"F63*I11","v":0},{"$f":"H63*G11","v":0},{"$f":"J63*H11","v":0},0,0]
[null,null,"Plástico (PET, PEAD, PEBD, PP, PS)","Plastics: average plastics","Relleno sanitario",8.9019999999999992,"Open-loop",21.294,"Relleno sanitario",8.9019999999999992,{"$f":"F64*I12","v":14.154179999999997},{"$f":"H64*G12","v":25.552800000000001},{"$f":"J64*H12","v":3.4717799999999999},29.02458,-14.870400000000004]
[null,null,"Papel y Cartón","Paper and board: mixed","Relleno sanitario",1041.8040000000001,"Closed-loop",21.294,"Relleno sanitario",1041.8040000000001,{"$f":"F65*I13","v":5073.5854800000006},{"$f":"H65*G13","v":76.6584},{"$f":"J65*H13","v":1323.0910800000001},1399.7494800000002,3673.8360000000002]
[null,null,"Otros (PVC, Mangueras, Suelas de Zapatos, bolsas, film)","Commercial and industrial waste","Relleno sanitario",467.04599999999999,"Closed-loop",21.294,"Relleno sanitario",467.04599999999999,{"$f":"F66*I14","v":5898.7909800000007},{"$f":"H66*G14","v":189.51660000000001},{"$f":"J66*H14","v":1742.08158},1931.59818,3967.1928000000007]
[null,null,"RCD: Otros"]
[null,null,"Basuras (Tecnopor, telas, restos orgánicos, envolturas, etc.).","Commercial and industrial waste","Relleno sanitario",467.04599999999999,"Closed-loop",21.294,"Relleno sanitario",467.04599999999999,{"$f":"F68*I16","v":3222.6174000000001},{"$f":"H68*G16","v":0},{"$f":"J68*H16","v":3222.6174000000001},{"$f":"L68+M68","v":3222.6174000000001},0]
[]
[null,null,null,null,null,null,null,null,null,null,null,"Total reducciones kg CO2 eq",null,null,{"$f":"SUM(O60:O68)","v":8383.642527}]
[null,null,null,null,null,null,null,null,null,null,null,"Total reducciones ton CO2 eq",null,null,{"$f":"O70/1000","v":8.3836425269999992}]
[null,null,null,null,null,null,null,null,null,null,null,null,null,"tCO2eq/t RCD",{"$f":"O71/I17","v":4.2839256653040364E-2}]
[]
[]
[]
[]
[]
[null,null,"UNFCC https://cdm.unfccc.int/methodologies/index.html?msclkid=d53ac000ce9311ec922f92674d698816"]
[null,null,"No se realizan estimaciones debido a limitaciones de información, pero se listan las ecuaciones requeridas de acuerdo a la metodología AMS-III.AJ. (ver hoja de cálculo \"Reciclaje UNFCCC\")"]
[]
[]
[]
[null,null,"Factor de emisión de la red electrica nacional "]
[null,null,"El factor al año 2020, aplicado para inventarios corporativos por uso de energía de la red es de: 0.155 t CO2 / MWh "]

{"sheet":"Etapa A4 A5","index":13,"n_rows":33,"n_cols":10,"rows_kept":33,"cut":false,"hidden":true,"merged":[[13,5,13,8],[24,5,24,8]]}
[]
[null,"Tipo de transporte","Unidad","Factor CO₂ (kg/ton-km)","Factor CH₄ (kg/ton-km)","Factor N₂O (kg/ton-km)","PCG CH₄","PCG N₂O","CO₂e total\n (kg/ton-km)"]
[null,"Camión ligero (diésel)","ton-km",0.1,2.0000000000000002E-5,1.0000000000000001E-5,28,265,{"$f":"D3 + E3*G3 + F3*H3","v":0.10321000000000001}]
[null,"Camión medio (diésel)","ton-km",0.12,3.0000000000000001E-5,1.5E-5,28,265,{"$f":"D4 + E4*G4 + F4*H4","v":0.124815}]
[null,"Camión pesado (diésel)","ton-km",0.13,4.0000000000000003E-5,2.0000000000000002E-5,28,265,{"$f":"D5 + E5*G5 + F5*H5","v":0.13642000000000001}]
[null,"Camión medio (gasolina)","ton-km",0.11,5.0000000000000002E-5,2.5000000000000001E-5,28,265,{"$f":"D6 + E6*G6 + F6*H6","v":0.118025}]
[]
[]
[null,"Cantidad de viajes promedio para llevar los materiales a la obra",{"$f":"'Formato 3'!F15","v":0}]
[null,"Recorrido distancia promedio de kms",{"$f":"'Formato 3'!J15","v":0}]
[null,"Factor de emisión promedio camión pesado diesel (kgCO₂eq/ton-km)",{"$f":"I5","v":0.13642000000000001}]
[null,"Carga promedio por viaje (toneladas)",10]
[]
[null,null,null,null,"ETAPA A4","Emisiones estimadas de CO₂ transporte (kgCO₂eq)",null,null,null,{"$f":"C9*C10*C12*C11","v":0}]
[]
[]
[null,"Fuente de energía","Cantidad","Unidad","Factor CO₂ (kg/unidad)","Factor CH₄ (kg/unidad)","Factor N₂O (kg/unidad)","PCG CH₄","PCG N₂O","kg CO₂e  "]
[null,"Cantidad de galones de combustible usado en la maquinaria (Petroleo)",{"$f":"'Formato 3'!F19","v":0},"galones",10,5.0000000000000001E-4,2.0000000000000001E-4,28,265,{"$f":"C18*E18 + C18*F18*H18 + C18*G18*I18","v":0}]
[null,"Cantidad de galones de combustible usado en la maquinaria (Gasolina)",{"$f":"'Formato 3'!K19","v":0},"galones",8.75,4.0000000000000002E-4,2.9999999999999997E-4,28,265,0]
[null,"Cantidad de m3 de combustible usado en la maquinaria (GN)",{"$f":"'Formato 3'!F20","v":0},"m3",1.8,2E-3,1E-4,28,265,0]
[null,"Cantidad de galones de combustible usado en la maquinaria (GLP)",{"$f":"'Formato 3'!K20","v":0},"galones",6,2.9999999999999997E-4,2.0000000000000001E-4,28,265,0]
[null,"Cantidad de kWh (1)",{"$f":"'Formato 3'!F21","v":0},"kWh",0.20200000000000001,1.0000000000000001E-5,5.0000000000000004E-6,28,265,0]
[null,"Cantidad de kWh (2)",{"$f":"'Formato 3'!K21","v":0},"kWh",0.20200000000000001,1.0000000000000001E-5,5.0000000000000004E-6,28,265,0]
[]
[null,null,null,null,"ETAPA A5","Emisiones totales CO₂ estimadas (kgCO₂eq)",null,null,null,{"$f":"SUM(J18:J23)","v":0}]
[]
[]
[null,"Etapa","Emisiones (kgCO₂eq)"]
[null,"A1-A3 Fabricación",9136604.5511196908]
[null,"A4 Transporte",{"$f":"'Etapa A4 A5'!J14","v":0}]
[null,"A5 Construcción",{"$f":"'Etapa A4 A5'!J25","v":0}]
[]
[null,"Total Emisiones",{"$f":"C29+C30+C31","v":9136604.5511196908}]